Workbook

Sheet egyptian women 2011
A1: البيانات الرئيسية | G1: بيانات منشيء المادة | J1: بيانات المادة | R1: الكلمات المفتاحية ( الأعلام ، الاحداث ، المفاهيم ) | U1: بيانات المحتوى | W1: بيانات المصدر | AC1: بيانات الوصول والاطلاع
A2: م | B2: السنة | C2: تاريخ النشر | D2: عنوان المادة | E2: رابط الإطلاع | F2: وسيلة الاطلاع على المادة | G2: اسم المُنشئ | H2: صفة المنشئ | I2: النوع الاجتماعي لمنشئ المادة | J2: نوع المادة | K2: تصنيف نوع المادة | L2: طريقة عرض المادة | M2: التصنيف الموضوعي للمادة | N2: زاوية تناول المحتوى | O2: التصنيف تبعا للحق | P2: الموضوعات الفرعية | Q2: درجة صلة المادة بالموضوع المستهدف | R2: الأعلام (الشخصيات، الأماكن، والجهات/المؤسسات) | S2: الأحداث (الأحداث التاريخية/السياسية/الاجتماعية، المؤتمرات، والفعاليات) | T2: المفاهيم (القضايا، المفاهيم الحقوقية/السياسية/القانونية/الاجتماعية، والموضوعات الرئيسية) | U2: اللغة | V2: نبذة عن المحتوى | W2: الناشر | X2: نوع الناشر | Y2: تصنيف نوع الناشر أو جهة النشر | Z2: جنسية الناشر أو جهة النشر | AA2: نطاق النشر | AB2: إطار عمل الناشر | AC2: مصادر أخرى للوصول لمحتوى المواد | AD2: تصنيف مصادر أخرى للوصول لمحتوى المواد | AE2: الصيغة الرقمية لعرض المحتوى | AF2: درجة الوصول للمعلومة من المصدر
A3: 1 | B3: 2011 | C3: 2011 | D3: برنامج التأهيل السياسي "المرأة والمشاركة السياسية": المستوى المتقدم | E3: http://elibrary.arabwomenorg.org/ContentDetails.aspx?ContentID=16888 | F3: ورقي | G3: علي الصاوي، هدى شعراوي، يمن حماقي | H3: باحث/ة | I3: مختلط/فريق بحث | J3: دليل تدريبي | K3: دليل تدريبي / إرشادي | L3: نص مقروء | M3: سياسي | N3: التمكين السياسي | O3: الحق في المشاركة السياسية وحرية الرأي والتعبير والتجمع | P3: المشاركة السياسية والتمثيل النيابي؛ الثورة والتحولات السياسية | Q3: مباشرة | R3: المجلس القومى للمرأة؛ هدى شعراوي | S3: الانتخابات؛ انتخابات | T3: المشاركة السياسية؛ التأهيل السياسي؛ بناء القدرات؛ السياسة؛ المرأة | U3: اللغة العربية | V3: يتناول الدليل التدريبي برنامج التأهيل السياسي للمرأة والمشاركة السياسية – المستوى المتقدم، ويهدف إلى تنمية معارف ومهارات المرأة في مجال المشاركة السياسية، مع التركيز على السياسة والانتخابات. ويأتي ضمن الأدلة التدريبية التي أعدها علي الصاوي وهدى شعراوي ويمن حماقي لدعم التأهيل السياسي للمرأة. | W3: المجلس القومي للمرأة | X3: هيئة حكومية متخصصة | Y3: جهة حكومية | Z3: مصر | AA3: وطني | AB3: حكومي | AC3: المكتبة الالكترونية للمرأة العربية | AD3: مأخوذ عن المصدر الأصلي للمحتوى | AE3: paper | AF3: يرجع إلى الأصل الورقي
A4: 2 | B4: 2011 | C4: 2011 | D4: برنامج التأهيل السياسي "المرأة والمشاركة السياسية": المستوى الثالث | E4: http://elibrary.arabwomenorg.org/ContentDetails.aspx?ContentID=16886 | F4: ورقي | G4: علي الصاوي، هدى شعراوي | H4: باحث/ة | I4: مختلط/فريق بحث | J4: دليل تدريبي | K4: دليل تدريبي / إرشادي | L4: نص مقروء | M4: سياسي | N4: التمكين السياسي | O4: الحق في المشاركة السياسية وحرية الرأي والتعبير والتجمع | P4: المشاركة السياسية والتمثيل النيابي | Q4: مباشرة | R4: المجلس القومى للمرأة؛ المجلس القومي للمرأة؛ الأحزاب | S4: الانتخابات؛ انتخابات | T4: المشاركة السياسية؛ التأهيل السياسي؛ بناء القدرات؛ الحياة السياسية | U4: اللغة العربية | V4: يتناول الدليل التدريبي برنامج التأهيل السياسي «المرأة والمشاركة السياسية» – المستوى الثالث، ويهدف إلى تطوير معارف ومهارات المرأة في مجال المشاركة السياسية، مع التركيز على السياسة والانتخابات والأحزاب. ويأتي ضمن برامج التأهيل السياسي التي أعدها المجلس القومي للمرأة لدعم مشاركة المرأة في الحياة السياسية. | W4: المجلس القومي للمرأة | X4: هيئة حكومية متخصصة | Y4: جهة حكومية | Z4: مصر | AA4: وطني | AB4: حكومي | AC4: المكتبة الالكترونية للمرأة العربية | AD4: مأخوذ عن المصدر الأصلي للمحتوى | AE4: paper | AF4: يرجع إلى الأصل الورقي
A5: 3 | B5: 2011 | C5: 2011 | D5: برنامج التأهيل السياسي "المرأة والمشاركة السياسية" | E5: http://elibrary.arabwomenorg.org/ContentDetails.aspx?ContentID=16887 | F5: ورقي | G5: علي الصاوي، يمن حماقي | H5: باحث/ة | I5: مختلط/فريق بحث | J5: دليل تدريبي | K5: دليل تدريبي / إرشادي | L5: نص مقروء | M5: سياسي | N5: التمكين السياسي | O5: الحق في المشاركة السياسية وحرية الرأي والتعبير والتجمع | P5: المشاركة السياسية والتمثيل النيابي | Q5: مباشرة | R5: المجلس القومى للمرأة؛ المجلس القومي للمرأة؛ البرلمان؛ برلمان | S5: غير محدد | T5: المشاركة السياسية؛ المرأة والبرلمان؛ التأهيل السياسي؛ بناء القدرات؛ الحياة السياسية | U5: اللغة العربية | V5: يتناول الدليل التدريبي برنامج التأهيل السياسي «المرأة والمشاركة السياسية»، ويهدف إلى دعم تأهيل المرأة للمشاركة في الحياة السياسية، مع التركيز على مفاهيم التأهيل السياسي، المشاركة السياسية، والمرأة والبرلمان. ويأتي ضمن الأدلة التدريبية التي أعدها المجلس القومي للمرأة لتعزيز الوعي والقدرات السياسية للمرأة. | W5: المجلس القومي للمرأة | X5: هيئة حكومية متخصصة | Y5: جهة حكومية | Z5: مصر | AA5: وطني | AB5: حكومي | AC5: المكتبة الالكترونية للمرأة العربية | AD5: مأخوذ عن المصدر الأصلي للمحتوى | AE5: paper | AF5: يرجع إلى الأصل الورقي
A6: 4 | B6: 2011 | C6: 2011 | D6: Decentralization and Women Leadership: A Comparative Study between Egypt and Poland 1988-2008 | E6: http://elibrary.arabwomenorg.org/ContentDetails.aspx?ContentID=16015 | F6: ورقي | G6: Naglaa Mohamed Eladly | H6: أكاديمي/ة | I6: أنثى | J6: رسالة ماجستير غير منشورة | K6: دراسة أكاديمية | L6: نص مقروء | M6: سياسي | N6: الدستور | O6: الحق في المشاركة السياسية وحرية الرأي والتعبير والتجمع | P6: الثورة والتحولات السياسية | Q6: مباشرة | R6: Economics and Political Science - جامعة القاهرة ؛ مصر | S6: غير محدد | T6: الديمقراطية، اللامركزية والقيادة النسائية، دراسة مقارنة، القيادة، الدستور، المرأة | U6: اللغة الإنجليزية | V6: تتناول الرسالة العلاقة بين اللامركزية والقيادة النسائية من خلال دراسة مقارنة بين مصر وبولندا خلال الفترة 1988–2008، مع التركيز على دور نظم الحكم والدستور والديمقراطية في إتاحة فرص القيادة والمشاركة للمرأة. وتهدف إلى تحليل العوامل المؤسسية والسياسية المؤثرة في وصول المرأة إلى مواقع القيادة في البلدين. | W6: Economics and Political Science - جامعة القاهرة | X6: جامعة | Y6: مؤسسة أكاديمية | Z6: مصر | AA6: وطني | AB6: حكومي | AC6: المكتبة الالكترونية للمرأة العربية | AD6: مأخوذ عن المصدر الأصلي للمحتوى | AE6: paper | AF6: يرجع إلى الأصل الورقي
A7: 5 | B7: 2011 | C7: 40544 | D7: القوى السياسية الرئيسية في مصر وقضايا حقوق الانسان | E7: https://books.google.com.eg/books?id=8_tNAQAAIAAJ&q=القوة+السياسية+الرئيسية+في+مصر+وقضايا+حقوق+الانسان+google+books&dq=القوة+السياسية+الرئيسية+في+مصر+وقضايا+حقوق+الانسان+google+books&hl=en&sa=X&redir_esc=y | F7: رقمي | G7: أميرة عبدالفتاح حسين | H7: باحث/ة | I7: أنثى | J7: دراسة تحليلية | K7: مادة بحثية | L7: نص مقروء | M7: سياسي | N7: التمكين السياسي | O7: الحق في المواطنة والمساواة وعدم التمييز | P7: المشاركة السياسية والتمثيل النيابي؛ المساواة والتمييز والمواطنة | Q7: ضمنية | R7: مركز المحروسة للنشر والخدمات الصحفية والمعلومات؛ مصر | S7: غير محدد | T7: المشاركة السياسية؛ الحقوق المدنية؛ حقوق الإنسان؛ حقوق المرأة؛ المواطنة؛ المشاركة السياسية والمواطنة؛ قضايا المرأة؛ الحقوق | U7: اللغة العربية | V7: يتناول الكتاب «القوى السياسية الرئيسية في مصر وقضايا حقوق الإنسان» للدكتورة أميرة عبد الفتاح حسين (2011) مواقف القوى السياسية المصرية المختلفة من قضايا حقوق الإنسان، بما في ذلك قضايا المرأة والمواطنة والمشاركة السياسية. كما يحلل توجهات هذه القوى تجاه الحقوق المدنية والسياسية والاجتماعية وتأثيرها في دعم أو تقييد حقوق المرأة في السياق المصري. | W7: مركز المحروسة للنشر والخدمات الصحفية والمعلومات | X7: مركز أبحاث / دار نشر | Y7: مؤسسة بحثية | Z7: مصر | AA7: وطني | AB7: خاص | AC7: Google books | AD7: مأخوذ عن المصدر الأصلي للمحتوى | AE7: pdf&paper | AF7: مباشر عبر الرابط المدرج
A8: 6 | B8: 2011 | C8: 40544 | D8: وحدة الرصد الإعلامي : التناول الصحفي للنساء والفتنة الطائفية | E8: غير متاح | F8: ورقي | G8: بهيجة حسين | H8: حقوقي/ة | I8: أنثى | J8: تقرير بحثي حقوقي | K8: مادة حقوقية | L8: نص مقروء + صور | M8: سياسي | N8: إعلامي | O8: الحق في المواطنة والمساواة وعدم التمييز | P8: المساواة والتمييز والمواطنة؛ الإعلام وصورة المرأة | Q8: مباشرة | R8: مؤسسة المرأة الجديدة؛ مصر | S8: ثورة 25 يناير؛ 25 يناير | T8: حقوق المرأة؛ المساواة؛ المواطنة؛ التمييز؛ الإعلام وصورة المرأة؛ التمييز والخطاب الطائفي؛ الفتنة الطائفية؛ الصور النمطية | U8: اللغة العربية | V8: يتناول التقرير كيفية معالجة وسائل الإعلام المصرية لقضايا النساء في سياق الاحتقان الطائفي بعد ثورة 25 يناير، مسلطًا الضوء على الصور النمطية والخطابات التي تُحمِّل النساء مسؤولية الأزمات المجتمعية والطائفية. كما يدعو إلى تبني خطاب إعلامي أكثر إنصافًا يدعم حقوق المرأة ويرسخ قيم المواطنة والمساواة ونبذ التمييز. | W8: مؤسسة المرأة الجديدة | X8: منظمة نسوية غير حكومية | Y8: منظمة حقوقية | Z8: مصر | AA8: وطني | AB8: مستقل | AC8: لا يوجد | AD8: المصدر الأصلي للمحتوى/صفحة الفهرسة المدرجة | AE8: paper | AF8: يرجع إلى الأصل الورقي
A9: 7 | B9: 2011 | C9: 40544 | D9: ثورة 25 يناير انتصار أم انكسار للمرأة المصرية : رؤية لتناول الصحافة لقضايا المرأة بعد ثورة 25 يناير | E9: غير متاح | F9: ورقي | G9: خالد منصور | H9: حقوقي/ة | I9: ذكر | J9: تقرير بحثي حقوقي | K9: مادة حقوقية | L9: نص مقروء | M9: سياسي | N9: إعلامي | O9: الحق في المشاركة السياسية وحرية الرأي والتعبير والتجمع | P9: المشاركة السياسية والتمثيل النيابي؛ الأحوال الشخصية والأسرة؛ الاقتصاد وسوق العمل؛ الإعلام وصورة المرأة | Q9: مباشرة | R9: جمعية نهوض وتنمية المرأة؛ المجلس القومي للمرأة؛ مصر | S9: ثورة 25 يناير | T9: المشاركة السياسية؛ الأحوال الشخصية؛ العمل؛ الإعلام؛ المرأة بعد الثورة؛ قضايا المرأة | U9: اللغة العربية | V9: يتناول التقرير كيفية تناول الصحافة والمجلات والمواقع الإلكترونية المصرية لقضايا المرأة خلال الفترة من فبراير إلى أغسطس 2011 عقب ثورة 25 يناير، مع التركيز على قضايا الأحوال الشخصية، والمشاركة السياسية، والعمل، والمجلس القومي للمرأة، ومشاركة النساء في الثورة. كما يرصد المخاوف المرتبطة بتراجع مكتسبات المرأة بعد الثورة واتجاهات الخطاب الإعلامي تجاه حقوقها ومكانتها في المجال العام. | W9: جمعية نهوض وتنمية المرأة | X9: منظمة نسوية غير حكومية | Y9: منظمة حقوقية | Z9: مصر | AA9: وطني | AB9: مستقل | AC9: لا يوجد | AD9: المصدر الأصلي للمحتوى/صفحة الفهرسة المدرجة | AE9: paper | AF9: يرجع إلى الأصل الورقي
A10: 8 | B10: 2011 | C10: 40544 | D10: التكلفة الاقتصادية والاجتماعية للتمييز ضد المرأة فى التعليم وسوق العمل | E10: http://196.202.18.69/cgi-bin/koha/opac-ISBDdetail.pl?biblionumber=6076 | F10: ورقي | G10: احمد السيد النجار | H10: باحث/ة | I10: ذكر | J10: دراسة تحليلية | K10: مادة بحثية | L10: نص مقروء | M10: اقتصادي | N10: المرأة العاملة | O10: الحق في العمل والحقوق الاقتصادية | P10: المساواة والتمييز والمواطنة؛ الاقتصاد وسوق العمل؛ التعليم | Q10: مباشرة | R10: مركز الدراسات السياسية والاستراتيجية؛ مصر | S10: غير محدد | T10: التمييز ضد المرأة؛ تمكين المرأة؛ سوق العمل؛ التعليم؛ التنمية؛ التعليم والعمل؛ التمكين الاقتصادي؛ العدالة الاجتماعية؛ الاقتصاد؛ التمييز | U10: اللغة العربية | V10: يتناول الكتاب «التكلفة الاقتصادية والاجتماعية للتمييز ضد المرأة في التعليم وسوق العمل» لأحمد السيد النجار أثر التمييز ضد المرأة المصرية في مجالي التعليم والعمل على التنمية الاقتصادية والاجتماعية. ويحلل الخسائر الناجمة عن عدم تكافؤ الفرص بين الجنسين، مؤكدًا أن تمكين المرأة وتعزيز مشاركتها في التعليم وسوق العمل يمثلان ضرورة لتحقيق التنمية المستدامة والعدالة الاجتماعية. | W10: مركز الدراسات السياسية والاستراتيجية | X10: مركز أبحاث (تابع لمؤسسة الأهرام) | Y10: مؤسسة بحثية | Z10: مصر | AA10: وطني | AB10: حكومي | AC10: مكتبة المركز القومي للبحوث التربوية والتنمية | AD10: مأخوذ عن المصدر الأصلي للمحتوى | AE10: paper | AF10: يرجع إلى الأصل الورقي
A11: 9 | B11: 2011 | C11: 40544 | D11: المرأة المصرية في المحليات : بين ضعف التمثيل وتهميش الدور | E11: غير متاح | F11: ورقي | G11: شريف هلالي (محرر) ؛ رابحة فتحي (مراجع) | H11: حقوقي/ة | I11: مختلط/فريق بحث | J11: دراسة نسوية | K11: مادة حقوقية | L11: نص مقروء | M11: سياسي | N11: التمكين السياسي | O11: الحق في المشاركة السياسية وحرية الرأي والتعبير والتجمع | P11: الاقتصاد وسوق العمل؛ المشاركة السياسية والتمثيل النيابي | Q11: مباشرة | R11: جمعية الحقوقيات المصريات؛ مصر | S11: غير محدد | T11: تمكين المرأة؛ المشاركة السياسية؛ التمثيل في المجالس المحلية؛ الحياة السياسية؛ المجتمع المدني؛ صنع القرار؛ المصريات | U11: اللغة العربية | V11: يتناول التقرير التقييمي لمشروع جمعية الحقوقيات المصريات جهود تمكين المرأة سياسيًا من خلال دعم عضوات المجالس المحلية وتطوير قدراتهن على المشاركة في صنع القرار. كما يرصد التحديات التي تواجه مشاركة المرأة في الحياة السياسية، ويؤكد أهمية دور مؤسسات المجتمع المدني والجهات الفاعلة في تعزيز فرص المشاركة المتكافئة للنساء. | W11: جمعية الحقوقيات المصريات | X11: منظمة نسوية غير حكومية | Y11: منظمة حقوقية | Z11: مصر | AA11: وطني | AB11: مستقل | AC11: لا يوجد | AD11: المصدر الأصلي للمحتوى/صفحة الفهرسة المدرجة | AE11: paper | AF11: يرجع إلى الأصل الورقي
A12: 10 | B12: 2011 | C12: 40544 | D12: المؤسسات التربوية ودورها في التنشئة السياسية للمرأة | E12: غير متاح | F12: ورقي | G12: أنوار محمد مرسي | H12: كاتب/ة | I12: أنثى | J12: كتاب | K12: مادة بحثية | L12: نص مقروء | M12: سياسي | N12: التمكين السياسي | O12: الحق في المواطنة والمساواة وعدم التمييز | P12: التعليم؛ المشاركة السياسية والتمثيل النيابي؛ المساواة والتمييز والمواطنة | Q12: مباشرة | R12: دار الوفاء لدنيا الطباعه والنشر؛ مصر | S12: غير محدد | T12: التنشئة الاجتماعية، التنشئة السياسية، المواطنة، التعليم، التعليم والمشاركة السياسية، الحياة السياسية، المشاركة السياسية | U12: اللغة العربية | V12: يتناول كتاب «المؤسسات التربوية ودورها في التنشئة السياسية للمرأة» للدكتورة أنوار محمد مرسي دور المؤسسات التربوية في تشكيل الوعي السياسي لدى المرأة وتنمية قيم المشاركة والمواطنة لديها. كما يناقش إسهام مؤسسات التعليم والتنشئة الاجتماعية في تعزيز مشاركة المرأة في الحياة السياسية وإعدادها للقيام بأدوارها المجتمعية والقيادية. | W12: دار الوفاء لدنيا الطباعة والنشر | X12: دار نشر | Y12: دار نشر | Z12: مصر | AA12: وطني | AB12: خاص | AC12: لا يوجد | AD12: المصدر الأصلي للمحتوى/صفحة الفهرسة المدرجة | AE12: paper | AF12: يرجع إلى الأصل الورقي
A13: 11 | B13: 2011 | C13: 40544 | D13: الإعلام والمرأة : في عصر المعلومات | E13: غير متاح | F13: ورقي | G13: عواطف عبد الرحمن | H13: كاتب/ة | I13: أنثى | J13: كتاب | K13: مادة بحثية | L13: نص مقروء + صور | M13: اجتماعي | N13: إعلامي | O13: الحق في المواطنة والمساواة وعدم التمييز | P13: الإعلام وصورة المرأة؛ المساواة والتمييز والمواطنة | Q13: مباشرة | R13: مكتبة جزيرة الورد؛ مصر | S13: غير محدد | T13: الوعي المجتمعي؛ الإعلام وصورة المرأة؛ الصحافة النسائية؛ قضايا المرأة المصرية؛ المرأة المصرية؛ قضايا المرأة؛ تمثيل المرأة؛ الإعلام | U13: اللغة العربية | V13: يتناول هذا الكتاب مجموعة من الدراسات والبحوث التي تبحث العلاقة بين المرأة العربية ووسائل الإعلام، من خلال تحليل صور تمثيل المرأة وقضاياها في الإعلام المقروء والمسموع والمرئي، وأثر الخطاب الإعلامي في تشكيل الوعي المجتمعي تجاه أدوار المرأة ومكانتها. كما يناقش قضايا المرأة المصرية والريفية، والصحافة النسائية، واستخدام المرأة لتكنولوجيا الاتصال، والتحديات المهنية التي تواجه الإعلاميات. | W13: مكتبة جزيرة الورد | X13: دار نشر | Y13: دار نشر | Z13: مصر | AA13: وطني | AB13: خاص | AC13: لا يوجد | AD13: المصدر الأصلي للمحتوى/صفحة الفهرسة المدرجة | AE13: paper | AF13: يرجع إلى الأصل الورقي
A14: 12 | B14: 2011 | C14: 40544 | D14: تقرير مرصد أوضاع وقضايا النساء في مصر يوليو 2009 - إبريل 2010 | E14: غير متاح | F14: ورقي | G14: رشا حسن | H14: حقوقي/ة | I14: أنثى | J14: تقرير بحثي حقوقي | K14: مادة حقوقية | L14: نص مقروء | M14: قانوني وتشريعي | N14: العنف ضد المرأة | O14: الحق في العدالة والحماية القانونية | P14: المساواة والتمييز والمواطنة؛ العنف ضد المرأة والسلامة الجسدية؛ القانون والتشريع والحماية الحقوقية | Q14: مباشرة | R14: ملتقى تنمية المرأة؛ مصر | S14: غير محدد | T14: التمييز ضد المرأة؛ العنف ضد المرأة؛ سيداو؛ الاتجار بالنساء؛ النقاب؛ المرأة المصرية؛ المجتمع المدني؛ الاقتصاد؛ القانون؛ التمييز | U14: اللغة العربية | V14: يتناول التقرير أوضاع المرأة المصرية في ضوء اتفاقية القضاء على جميع أشكال التمييز ضد المرأة (السيداو)، من خلال رصد التقدم المحرز والتحديات المتعلقة بحقوقها المدنية والسياسية والاجتماعية والاقتصادية والقانونية، فضلًا عن قضايا الاتجار بالنساء والعنف ضد المرأة والنقاب. كما يستعرض جهود المؤسسات الحكومية ومنظمات المجتمع المدني في متابعة تنفيذ الاتفاقية وتحديد المعوقات التي تحد من تحسين أوضاع النساء في مصر. | W14: ملتقى تنمية المرأة | X14: منظمة نسوية غير حكومية | Y14: منظمة حقوقية | Z14: مصر | AA14: وطني | AB14: مستقل | AC14: لا يوجد | AD14: المصدر الأصلي للمحتوى/صفحة الفهرسة المدرجة | AE14: paper | AF14: يرجع إلى الأصل الورقي
... A115: 113 | B115: 2011 | C115: 40544 | D115: الاتجاهات الحديثة في دراسة الصحافة النسائية | E115: http://elibrary.arabwomenorg.org/ContentDetails.aspx?ContentID=18589 | F115: ورقي | G115: نجوى كامل | H115: كاتب/ة | I115: أنثى | J115: دراسة (فصل في كتاب) | K115: مادة بحثية | L115: نص مقروء | M115: اجتماعي | N115: إعلامي | O115: الحق في المواطنة والمساواة وعدم التمييز | P115: الإعلام وصورة المرأة | Q115: مباشرة | R115: مكتبة جزيرة الورد؛ مصر | S115: غير محدد | T115: الصحافة النسائية، اتجاهات البحث، قضايا المرأة، الإعلام، المرأة | U115: اللغة العربية | V115: تستعرض الدراسة الاتجاهات الحديثة في دراسة الصحافة النسائية، مع التركيز على تطور البحوث المتعلقة بالمرأة والصحافة ودور الإعلام في تناول قضايا المرأة. وتتناول اتجاهات البحث في الصحافة النسائية باعتبارها أحد مجالات دراسة العلاقة بين المرأة والإعلام. | W115: مكتبة جزيرة الورد | X115: دار نشر | Y115: دار نشر | Z115: مصر | AA115: وطني | AB115: خاص | AC115: المكتبة الالكترونية للمرأة العربية | AD115: مأخوذ عن المصدر الأصلي للمحتوى | AE115: paper | AF115: يرجع إلى الأصل الورقي
A116: 114 | B116: 2011 | C116: 40544 | D116: Domestic violence and obesity in Egyptian women | E116: https://www.cambridge.org/core/journals/journal-of-biosocial-science/article/abs/domestic-violence-and-obesity-in-egyptian-women/3B00C0C7234DF39065E29613A9260123 | F116: رقمي | G116: Kathryn M. Yount; Li Li | H116: أكاديمي/ة | I116: أنثى | J116: دراسة محكّمة | K116: دراسة أكاديمية | L116: نص مقروء | M116: اجتماعي | N116: العنف ضد المرأة | O116: الحق في الكرامة والسلامة والحماية من العنف | P116: العنف ضد المرأة والسلامة الجسدية؛ الصحة والصحة الإنجابية | Q116: مباشرة | R116: Journal of Biosocial Science / Cambridge University Press؛ مصر | S116: غير محدد | T116: المرأة المصرية؛ العنف المنزلي؛ السمنة؛ الصحة؛ العنف ضد المرأة؛ الصحة الإنجابية؛ الرعاية الصحية؛ قضايا النساء الصحية | U116: اللغة الإنجليزية | V116: دراسة تبحث العلاقة بين التعرض للعنف المنزلي والسمنة لدى النساء في مصر، وتناقش الارتباط بين العنف الجسدي والنفسي والجنسي وصحة المرأة. | W116: Journal of Biosocial Science / Cambridge University Press | X116: مجلة علمية محكمة | Y116: مؤسسة أكاديمية | Z116: المملكة المتحدة | AA116: دولي | AB116: خاص | AC116: لا يوجد | AD116: المصدر الأصلي للمحتوى/صفحة الفهرسة المدرجة | AE116: HTML | AF116: مباشر عبر الرابط المدرج
A117: 115 | B117: 2011 | C117: 40544 | D117: Imputing Monetary Value to Egyptian Females’ Unpaid Domestic and Care Work | E117: https://search.mandumah.com/Record/660437 | F117: رقمي | G117: Doaa Mahmoud; May Gad Allah | H117: أكاديمي/ة | I117: أنثى | J117: دراسة محكّمة | K117: دراسة أكاديمية | L117: نص مقروء | M117: اقتصادي | N117: التمكين الاقتصادي | O117: الحق في العمل والحقوق الاقتصادية | P117: الاقتصاد وسوق العمل | Q117: مباشرة | R117: مجلة التنمية والسياسات الاقتصادية؛ مصر | S117: غير محدد | T117: العمل غير المدفوع؛ الرعاية الأسرية؛ الاقتصاد؛ العمل؛ المشاركة الاقتصادية؛ المرأة العاملة؛ الرعاية غير المدفوعة | U117: اللغة الإنجليزية | V117: دراسة تقدّر القيمة النقدية للعمل المنزلي وأعمال الرعاية غير المدفوعة التي تؤديها النساء المصريات، وتبحث حجم الوقت المبذول ومساهمته الاقتصادية غير المرئية. | W117: مجلة التنمية والسياسات الاقتصادية | X117: مجلة علمية محكمة | Y117: مؤسسة أكاديمية | Z117: الكويت | AA117: إقليمي | AB117: حكومي | AC117: دار المنظومة | AD117: مأخوذ عن المصدر الأصلي للمحتوى | AE117: HTML/PDF | AF117: يتطلب اشتراك
A118: 116 | B118: 2011 | C118: 40544 | D118: تخصيص مقاعد للمرأة في البرلمان: التجربة والتحديات | E118: https://search.mandumah.com/Record/340736 | F118: رقمي | G118: حنان كمال أبو سكين | H118: باحث/ة | I118: أنثى | J118: دراسة تحليلية | K118: مادة بحثية | L118: نص مقروء | M118: سياسي | N118: التمكين السياسي | O118: الحق في المشاركة السياسية وحرية الرأي والتعبير والتجمع | P118: المشاركة السياسية والتمثيل النيابي؛ الثورة والتحولات السياسية | Q118: مباشرة | R118: مجلة الديمقراطية - مؤسسة الأهرام؛ البرلمان؛ الأحزاب؛ مصر | S118: الانتخابات | T118: الكوتا؛ المرأة المصرية؛ تخصيص مقاعد للمرأة في البرلمان: التجربة والتحديات؛ المشاركة السياسية؛ الثورة؛ التمثيل | U118: اللغة العربية | V118: دراسة تتناول تجربة تخصيص مقاعد للمرأة في البرلمان المصري، وتبحث الكوتا الانتخابية وتحديات مشاركة النساء في الانتخابات والأحزاب والحملات السياسية. | W118: مجلة الديمقراطية - مؤسسة الأهرام | X118: مجلة بحثية (تابعة لمؤسسة الأهرام) | Y118: مؤسسة بحثية | Z118: مصر | AA118: وطني | AB118: حكومي | AC118: دار المنظومة | AD118: مأخوذ عن المصدر الأصلي للمحتوى | AE118: HTML/PDF | AF118: يتطلب اشتراك
A119: 117 | B119: 2011 | C119: 40545 | D119: Cairene Women: A Bachelorette, Not a Spinster | E119: https://fount.aucegypt.edu/cgi/viewcontent.cgi?article=2139&context=etds | F119: رقمي | G119: Sandra Abdalla Khalifa | H119: أكاديمي/ة | I119: أنثى | J119: رسالة ماجستير غير منشورة | K119: دراسة أكاديمية | L119: نص مقروء + صور | M119: اجتماعي | N119: الأسرة | O119: الحق في الأسرة والأحوال الشخصية | P119: العنف ضد المرأة والسلامة الجسدية؛ الأحوال الشخصية والأسرة | Q119: مباشرة | R119: The American University in Cairo (AUC)؛ مصر | S119: غير محدد | T119: الوصمة الاجتماعية، الزواج، العزوبية، المرأة | U119: اللغة الإنجليزية | V119: تتناول الرسالة أوضاع النساء القاهريات غير المتزوجات، وتقترح استبدال الوصف التقليدي ذي الدلالة السلبية Spinster بمصطلح Bachelorette، باعتبار أن المرأة غير المتزوجة يمكن أن تكون عزباء باختيارها أو لظروف مختلفة، دون أن يعني ذلك وصمها اجتماعيًا أو التقليل من مكانتها. وتركز الدراسة على الضغوط الاجتماعية والثقافية المرتبطة بالزواج، وصورة المرأة غير المتزوجة، والوصمة الاجتماعية المرتبطة بتأخر الزواج أو عدمه. | W119: The American University in Cairo (AUC) | X119: جامعة | Y119: مؤسسة أكاديمية | Z119: مصر | AA119: وطني | AB119: خاص | AC119: لا يوجد | AD119: المصدر الأصلي للمحتوى/صفحة الفهرسة المدرجة | AE119: HTML/PDF | AF119: مباشر عبر الرابط المدرج
A120: 118 | B120: 2011 | C120: 40546 | D120: حكم جديد بأحقية عاملة مصرية في صرف مستحقات تقدر ب498 ألف جنيه.. والحكم يرسى مبدأ أحقية العامل المفصول في الجمع بين مكافأة نهاية الخدمة والتعويض عن الفصل التعسفي | E120: https://ecesr.org/%D8%AD%D9%83%D9%85-%D8%AC%D8%AF%D9%8A%D8%AF-%D8%A8%D8%A3%D8%AD%D9%82%D9%8A%D8%A9-%D8%B9%D8%A7%D9%85%D9%84%D8%A9-%D9%85%D8%B5%D8%B1%D9%8A%D8%A9-%D9%81%D9%8A-%D8%B5%D8%B1%D9%81-%D9%85%D8%B3%D8%AA%D8%AD/ | F120: رقمي | G120: المحرر | H120: حقوقي/ة | I120: غير محدد | J120: حكم حقوقي | K120: مادة حقوقية | L120: نص مقروء | M120: اقتصادي | N120: المرأة العاملة | O120: الحق في العمل والحقوق الاقتصادية | P120: الاقتصاد وسوق العمل | Q120: مباشرة | R120: المركز المصري للحقوق الاقتصادية والاجتماعية؛ مصر | S120: غير محدد | T120: عاملة مصرية؛ الفصل التعسفي؛ مكافأة نهاية الخدمة؛ التعويض؛ حقوق العمل؛ السيداج؛ حقوق العاملات | U120: اللغة العربية | V120: يعرض حكمًا قضائيًا حصل عليه المركز لصالح عاملة مصرية، وأقر أحقيتها في الجمع بين مكافأة نهاية الخدمة والتعويض عن الفصل التعسفي، بما يرسخ حماية حقوق العاملات في علاقات العمل. | W120: المركز المصري للحقوق الاقتصادية والاجتماعية | X120: منظمة حقوقية غير حكومية | Y120: منظمة حقوقية | Z120: مصر | AA120: وطني | AB120: مستقل | AC120: لا يوجد | AD120: المصدر الأصلي للمحتوى/صفحة الفهرسة المدرجة | AE120: HTML | AF120: مباشر عبر الرابط المدرج
A121: 119 | B121: 2011 | C121: 40548 | D121: Human rights report cites 'tragic' condition of Egyptian women | E121: https://www.egyptindependent.com/human-rights-report-cites-tragic-condition-egyptian-women/ | F121: رقمي | G121: Wael Ali | H121: صحفي/ة | I121: ذكر | J121: تقرير بحثي حقوقي | K121: مادة حقوقية | L121: نص مقروء | M121: اجتماعي | N121: إعلامي | O121: الحق في المواطنة والمساواة وعدم التمييز | P121: التعليم؛ المرأة الريفية والتنمية المحلية؛ القانون والتشريع والحماية الحقوقية | Q121: مباشرة | R121: Egypt Independent / Land Center for Human Rights؛ مصر | S121: غير محدد | T121: التعليم؛ حقوق المرأة؛ المرأة الريفية؛ القانون؛ الإصلاح التشريعي؛ الحماية القانونية | U121: اللغة الإنجليزية | V121: يعرض تقريرًا حقوقيًا عن تدهور أوضاع المرأة المصرية، ويربط المشكلة بالتعليم والعوامل الاجتماعية والقانون والإعلام والتقاليد، مع إبراز أوضاع النساء الريفيات. | W121: Egypt Independent | X121: موقع إخباري | Y121: مؤسسة إعلامية | Z121: مصر | AA121: وطني / دولي | AB121: خاص | AC121: لا يوجد | AD121: المصدر الأصلي للمحتوى/صفحة الفهرسة المدرجة | AE121: HTML | AF121: مباشر عبر الرابط المدرج
A122: 120 | B122: 2011 | C122: 40554 | D122: فيلم 678.. صرخة ضد التحرش | E122: https://www.ajnet.me/culture/2011/1/11/%D9%81%D9%8A%D9%84%D9%85-678-%D8%B5%D8%B1%D8%AE%D8%A9-%D8%B6%D8%AF-%D8%A7%D9%84%D8%AA%D8%AD%D8%B1%D8%B4 | F122: رقمي | G122: محمود جمعة | H122: صحفي/ة | I122: ذكر | J122: تقرير صحفي | K122: مادة صحفية | L122: نص مقروء | M122: اجتماعي | N122: العنف ضد المرأة | O122: الحق في الكرامة والسلامة والحماية من العنف | P122: العنف ضد المرأة والسلامة الجسدية | Q122: مباشرة | R122: الجزيرة نت؛ مصر؛ القاهرة | S122: غير محدد | T122: التحرش الجنسي، المرأة، فيلم 679، العنف ضد المرأة، التحرش والعنف ضد المرأة | U122: اللغة العربية | V122: يتناول فيلم 678 ظاهرة التحرش الجنسي في مصر من خلال قصص ثلاث فتيات يتعرضن للتحرش في الشارع ووسائل النقل، مع رصد التعامل الأمني والقانوني ونظرة المجتمع للمرأة التي تتعرض للتحرش. | W122: الجزيرة نت | X122: موقع إخباري | Y122: مؤسسة إعلامية | Z122: قطر | AA122: إقليمي | AB122: حكومي | AC122: لا يوجد | AD122: المصدر الأصلي للمحتوى/صفحة الفهرسة المدرجة | AE122: HTML | AF122: مباشر عبر الرابط المدرج
A123: 121 | B123: 2011 | C123: 40562 | D123: المرأة أكثر عرضة لهشاشة العظام | E123: https://gate.ahram.org.eg/daily/WriterArticles/01/2011/55490.aspx | F123: رقمي | G123: المحرر | H123: صحفي/ة | I123: غير محدد | J123: تغطية فعالية نسوية | K123: مادة صحفية | L123: نص مقروء | M123: صحي | N123: صحي ونفسي | O123: الحق في الصحة | P123: الصحة والصحة الإنجابية | Q123: مباشرة | R123: الأهرام اليومي؛ مركز سوزان مبارك الإقليمي | S123: غير محدد | T123: صحة المرأة؛ هشاشة العظام؛ صحة المرأة وهشاشة العظام | U123: اللغة العربية | V123: يتناول احتفال مركز سوزان مبارك الإقليمي لصحة وتنمية المرأة باليوم العالمي لهشاشة العظام، مع إجراء قياسات لهشاشة العظام لأكثر من ألف امرأة. | W123: الأهرام اليومي | X123: صحيفة يومية | Y123: مؤسسة إعلامية | Z123: مصر | AA123: وطني | AB123: حكومي | AC123: لا يوجد | AD123: المصدر الأصلي للمحتوى/صفحة الفهرسة المدرجة | AE123: HTML | AF123: مباشر عبر الرابط المدرج
A124: 122 | B124: 2011 | C124: 40562 | D124: النائبات الجديدات.. إلي أين؟! | E124: https://gate.ahram.org.eg/daily/WriterArticles/01/2011/55490.aspx | F124: رقمي | G124: منى رجب | H124: صحفي/ة | I124: أنثى | J124: مقال رأي تحليلي | K124: مادة صحفية | L124: نص مقروء | M124: سياسي | N124: التمكين السياسي | O124: الحق في المشاركة السياسية وحرية الرأي والتعبير والتجمع | P124: المساواة والتمييز والمواطنة؛ القانون والتشريع والحماية الحقوقية | Q124: مباشرة | R124: الأهرام اليومي؛ البرلمان | S124: غير محدد | T124: الحقوق المدنية، النائبات، التشريع، الحقوق السياسية، المرأة والبرلمان، المرأة والبرلمان والتشريعات | U124: اللغة العربية | V124: يناقش ما يمكن أن تفعله النائبات الجديدات في البرلمان، خاصة تبني تشريعات تغير القوانين المميزة ضد النساء والمطالبة بالحقوق المدنية والاقتصادية والسياسية. | W124: الأهرام اليومي | X124: صحيفة يومية | Y124: مؤسسة إعلامية | Z124: مصر | AA124: وطني | AB124: حكومي | AC124: لا يوجد | AD124: المصدر الأصلي للمحتوى/صفحة الفهرسة المدرجة | AE124: HTML | AF124: مباشر عبر الرابط المدرج
A125: 123 | B125: 2011 | C125: 40562 | D125: Cabinet approves draft of amendments dealing with sexual harassment penalties | E125: https://www.dailynewsegypt.com/2011/01/19/cabinet-approves-draft-of-amendments-dealing-with-sexual-harassment-penalties/ | F125: رقمي | G125: المحرر | H125: صحفي/ة | I125: غير محدد | J125: تقرير صحفي | K125: مادة صحفية | L125: نص مقروء | M125: قانوني وتشريعي | N125: العنف ضد المرأة | O125: الحق في الكرامة والسلامة والحماية من العنف | P125: العنف ضد المرأة والسلامة الجسدية؛ القانون والتشريع والحماية الحقوقية | Q125: مباشرة | R125: Daily News Egypt؛ مجلس الوزراء؛ مصر | S125: غير محدد | T125: التحرش الجنسي؛ المرأة المصرية؛ العنف ضد المرأة؛ القانون | U125: اللغة الإنجليزية | V125: يتناول موافقة مجلس الوزراء على مشروع تعديلات لتشديد عقوبات الاعتداء والتحرش الجنسي، مع عرض مشكلات تطبيق القانون وحماية النساء في مصر. | W125: Daily News Egypt | X125: موقع إخباري | Y125: مؤسسة إعلامية | Z125: مصر | AA125: وطني / دولي | AB125: خاص | AC125: لا يوجد | AD125: المصدر الأصلي للمحتوى/صفحة الفهرسة المدرجة | AE125: HTML | AF125: مباشر عبر الرابط المدرج
A126: 124 | B126: 2011 | C126: 40566 | D126: 23 منظمة أهلية تطالب الحكومة بفتح حوار مجتمعي حول تعديلات قانون العنف الجنسي قبل مناقشته في البرلمان | E126: https://eipr.org/press/2011/01/23-%D9%85%D9%86%D8%B8%D9%85%D8%A9-%D8%A3%D9%87%D9%84%D9%8A%D8%A9-%D8%AA%D8%B7%D8%A7%D9%84%D8%A8-%D8%A7%D9%84%D8%AD%D9%83%D9%88%D9%85%D8%A9-%D8%A8%D9%81%D8%AA%D8%AD-%D8%AD%D9%88%D8%A7%D8%B1-%D9%85%D8%AC%D8%AA%D9%85%D8%B9%D9%8A-%D8%AD%D9%88%D9%84-%D8%AA%D8%B9%D8%AF%D9%8A%D9%84%D8%A7%D8%AA-%D9%82%D8%A7%D9%86%D9%88%D9%86-%D8%A7%D9%84%D8%B9%D9%86%D9%81-%D8%A7%D9%84%D8%AC%D9%86%D8%B3%D9%8A-%D9%82%D8%A8%D9%84 | F126: رقمي | G126: المحرر | H126: حقوقي/ة | I126: غير محدد | J126: بيان حقوقي | K126: مادة حقوقية | L126: نص مقروء | M126: سياسي | N126: العنف ضد المرأة | O126: الحق في الكرامة والسلامة والحماية من العنف | P126: العنف ضد المرأة والسلامة الجسدية؛ القانون والتشريع والحماية الحقوقية؛ المساواة والتمييز والمواطنة | Q126: مباشرة | R126: المبادرة المصرية للحقوق الشخصية؛ البرلمان؛ الحكومة؛ مصر | S126: غير محدد | T126: التحرش الجنسي؛ العنف الجنسي؛ التشريع؛ حقوق النساء؛ قانون العقوبات؛ العنف ضد المرأة | U126: لغتين (العربية والإنجليزية) | V126: بيان صادر عن «قوة عمل مناهضة العنف الجنسي» التي ضمت 23 منظمة أهلية، ينتقد تعديلات الحكومة على مواد قانون العقوبات الخاصة بالعنف الجنسي، ويطالب بإجراء حوار مجتمعي واسع قبل إحالتها إلى البرلمان. ويركز البيان على ضرورة مراجعة التعريفات القانونية لجرائم الاغتصاب والاعتداء والتحرش الجنسي، وتوفير آليات أكثر فاعلية للإبلاغ والتحقيق وحماية الضحايا. | W126: المبادرة المصرية للحقوق الشخصية | X126: منظمة حقوقية غير حكومية | Y126: منظمة حقوقية | Z126: مصر | AA126: وطني / دولي | AB126: مستقل | AC126: لا يوجد | AD126: المصدر الأصلي للمحتوى/صفحة الفهرسة المدرجة | AE126: HTML | AF126: مباشر عبر الرابط المدرج
A127: 125 | B127: 2011 | C127: 40569 | D127: Report: The final report of 2010 parliamentary elections | E127: https://ecwronline.org/?lang=ar&p=1348 | F127: رقمي | G127: ضياء | H127: حقوقي/ة | I127: غير محدد | J127: تقرير رصد انتخابي | K127: مادة حقوقية | L127: نص مقروء | M127: سياسي | N127: المرحلة الانتقالية | O127: الحق في المشاركة السياسية وحرية الرأي والتعبير والتجمع | P127: المشاركة السياسية والتمثيل النيابي؛ الثورة والتحولات السياسية | Q127: مباشرة | R127: Egyptian Center for Women's Rights؛ البرلمان؛ مصر | S127: الانتخابات | T127: ترشح النساء؛ المشاركة السياسية؛ الثورة؛ التمثيل | U127: اللغة الإنجليزية | V127: تقرير صادر عن المركز المصري لحقوق المرأة يرصد ويحلل الانتخابات البرلمانية المصرية لعام 2010، مع التركيز على المشاركة السياسية للمرأة والعملية الانتخابية. نُشر التقرير على موقع المركز في يناير 2011، ولذلك يمثل مصدرًا مهمًا لفهم وضع المشاركة السياسية للمرأة المصرية عشية ثورة 25 يناير، مع كونه يتناول انتخابات 2010 وليس أحداث عام 2011 نفسها. | W127: Egyptian Center for Women's Rights | X127: منظمة نسوية غير حكومية | Y127: منظمة حقوقية | Z127: مصر | AA127: وطني / دولي | AB127: مستقل | AC127: لا يوجد | AD127: المصدر الأصلي للمحتوى/صفحة الفهرسة المدرجة | AE127: HTML/PDF | AF127: مباشر عبر الرابط المدرج
A128: 126 | B128: 2011 | C128: 40574 | D128: Egypt: Why the Kiss Picture Is So Radical | E128: https://www.theatlantic.com/international/archive/2011/01/egypt-why-the-kiss-picture-is-so-radical/70518/ | F128: رقمي | G128: جرانس فرانك | H128: صحفي/ة | I128: ذكر | J128: مقال رأي تحليلي | K128: مادة صحفية | L128: نص مقروء + صور | M128: سياسي | N128: احتجاجات نسائية | O128: الحق في المشاركة السياسية وحرية الرأي والتعبير والتجمع | P128: المساواة والتمييز والمواطنة؛ الثورة والتحولات السياسية | Q128: ضمنية | R128: the atlantic؛ ميدان التحرير؛ مصر؛ التحرير | S128: غير محدد | T128: العلاقات الاجتماعية والتعبير في المجال العام، المجال العام، الاحتجاج، الثورة | U128: اللغة الإنجليزية | V128: يناقش المقال الدلالة الاجتماعية والثقافية لصورة قبلة التُقطت في ميدان التحرير خلال الاحتجاجات المصرية عام 2011، ويستخدمها لبحث المواقف السائدة تجاه العلاقات بين الرجال والنساء والتعبير العاطفي في المجال العام. كما يربط بين المشهد والتحولات الاجتماعية التي صاحبت الثورة، وما أتاحه فضاء الاحتجاج من صور جديدة للتفاعل بين الجنسين. | W128: The Atlantic | X128: مجلة إخبارية أمريكية | Y128: مؤسسة إعلامية | Z128: الولايات المتحدة | AA128: دولي | AB128: خاص | AC128: لا يوجد | AD128: المصدر الأصلي للمحتوى/صفحة الفهرسة المدرجة | AE128: HTML | AF128: مباشر عبر الرابط المدرج
A129: 127 | B129: 2011 | C129: 40574 | D129: Taking It to the Streets: Egyptian Women Protest the Government Alongside the Men Yet Few Images of Women | E129: https://opinionessoftheworld.com/2011/01/31/egyptian-women-take-to-the-streets-alongside-the-men-to-protest-the-government/ | F129: رقمي | G129: المحرر | H129: حقوقي/ة | I129: غير محدد | J129: تقرير بحثي حقوقي | K129: مادة حقوقية | L129: نص مقروء | M129: سياسي | N129: احتجاجات نسائية | O129: الحق في المشاركة السياسية وحرية الرأي والتعبير والتجمع | P129: المشاركة السياسية والتمثيل النيابي؛ الثورة والتحولات السياسية | Q129: مباشرة | R129: The Opinioness؛ الحكومة؛ مصر | S129: ثورة 25 يناير؛ 25 يناير | T129: المشاركة السياسية في الاحتجاجات، النساء المصريات، الاحتجاج، المصريات، المشاركة السياسية | U129: اللغة الإنجليزية | V129: تتناول المادة مشاركة النساء المصريات إلى جانب الرجال في الاحتجاجات التي اندلعت في يناير 2011 ضد الحكومة، وتبرز حضور المرأة في المظاهرات ودورها في الحراك الشعبي المطالب بالتغيير السياسي، بما يعكس مشاركتها المباشرة في أحداث ثورة 25 يناير. | W129: The Opinioness | X129: مدونة / منصة نسوية إلكترونية | Y129: منظمة حقوقية | Z129: أمستردام | AA129: دولي | AB129: مستقل | AC129: لا يوجد | AD129: المصدر الأصلي للمحتوى/صفحة الفهرسة المدرجة | AE129: HTML | AF129: مباشر عبر الرابط المدرج
A130: 128 | B130: 2011 | C130: 40575 | D130: المرأة و الأقباط في التعليم | E130: https://search.mandumah.com/Record/332321 | F130: رقمي | G130: كامل حامد مغيث | H130: كاتب/ة | I130: ذكر | J130: مقال رأي تحليلي | K130: مادة صحفية | L130: نص مقروء | M130: تعليمي | N130: التمكين الاقتصادي | O130: الحق في التعليم | P130: الاقتصاد وسوق العمل؛ التعليم؛ الفكر النسوي والحركة النسائية؛ المساواة والتمييز والمواطنة | Q130: مباشرة | R130: مجلة أدب ونقد - حزب التجمع الوطني التقدمي الوحدوي؛ الأقباط؛ مصر | S130: غير محدد | T130: تمكين المرأة، التعليم، التعليم وفجوة النوع الاجتماعي، التهميش، المرأة، النوع الاجتماعي | U130: اللغة العربية | V130: تتناول الدراسة قضية التهميش التعليمي في المجتمع المصري، مع التركيز على المرأة باعتبارها إحدى الفئات التي تواجه تحديات في الحصول على فرص تعليمية متكافئة، خاصة في المناطق الريفية. كما تبرز استمرار الفجوات بين الجنسين في بعض المراحل التعليمية وتأثيرها في فرص تمكين المرأة وتنميتها البشرية. | W130: مجلة أدب ونقد - حزب التجمع الوطني التقدمي الوحدوي | X130: مجلة ثقافية حزبية | Y130: مؤسسة إعلامية | Z130: مصر | AA130: وطني | AB130: خاص | AC130: دار المنظومة | AD130: مأخوذ عن المصدر الأصلي للمحتوى | AE130: HTML/PDF | AF130: يتطلب اشتراك
A131: 129 | B131: 2011 | C131: 40575 | D131: قناة المحور تنفرد بلقاء الفتاة المصرية المنظمة ليوم الغضب | E131: https://elaph.com/Web/arts/2011/2/628807.html | F131: رقمي | G131: مي ألياس | H131: صحفي/ة | I131: أنثى | J131: حوار / شهادة صحفية | K131: مادة صحفية | L131: نص مقروء | M131: سياسي | N131: إعلامي | O131: الحق في المشاركة السياسية وحرية الرأي والتعبير والتجمع | P131: المشاركة السياسية والتمثيل النيابي | Q131: مباشرة | R131: إيلاف؛ قنا؛ مصر؛ أسماء محفوظ | S131: ثورة 25 يناير | T131: المرأة المصرية؛ الفتاة المصرية؛ المشاركة السياسية؛ قناة المحور تنفرد بلقاء الفتاة المصرية المنظمة ليوم الغضب | U131: اللغة العربية | V131: مادة صحفية عن أسماء محفوظ، ودورها في تنظيم الدعوة إلى احتجاجات 25 يناير عبر فيسبوك، وما ارتبط بذلك من حضور المرأة المصرية في الحراك السياسي. | W131: إيلاف | X131: موقع إخباري | Y131: مؤسسة إعلامية | Z131: المملكة المتحدة (تأسيس سعودي) | AA131: إقليمي | AB131: خاص | AC131: لا يوجد | AD131: المصدر الأصلي للمحتوى/صفحة الفهرسة المدرجة | AE131: HTML | AF131: مباشر عبر الرابط المدرج
A132: 130 | B132: 2011 | C132: 40575 | D132: Egypt Finds Freedom -- From Sexual Harassment | E132: https://abcnews.go.com/Blotter/egypt-protests-sexual-harrassment-women-drops-witnesses/story?id=12804636 | F132: رقمي | G132: SARAH O. WALI | H132: صحفي/ة | I132: أنثى | J132: تقرير صحفي | K132: مادة صحفية | L132: نص مقروء | M132: سياسي | N132: العنف ضد المرأة | O132: الحق في الكرامة والسلامة والحماية من العنف | P132: العنف ضد المرأة والسلامة الجسدية؛ الثورة والتحولات السياسية | Q132: مباشرة | R132: ABC News؛ مصر | S132: غير محدد | T132: التحرش الجنسي؛ المرأة في الاحتجاجات؛ العنف ضد المرأة؛ السلامة الجسدية؛ التحرش؛ الاعتداء | U132: اللغة الإنجليزية | V132: تقرير عن التحرش بالنساء أثناء احتجاجات مصر في بدايات 2011، ويركز على شهادات النساء وأثر الاعتداءات والتحرش على مشاركتهن في المجال العام. | W132: ABC News | X132: قناة إخبارية | Y132: مؤسسة إعلامية | Z132: الولايات المتحدة | AA132: دولي | AB132: خاص | AC132: لا يوجد | AD132: المصدر الأصلي للمحتوى/صفحة الفهرسة المدرجة | AE132: HTML | AF132: مباشر عبر الرابط المدرج
A133: 131 | B133: 2011 | C133: 40576 | D133: Women, Islam, Egypt, and Iran | E133: https://www.pbs.org/wgbh/pages/frontline/tehranbureau/2011/02/women-islam-egypt-and-iran.html | F133: رقمي | G133: SETAREH SABETY | H133: صحفي/ة | I133: أنثى | J133: مقال رأي تحليلي | K133: مادة صحفية | L133: نص مقروء | M133: سياسي | N133: ديني | O133: الحق في المشاركة السياسية وحرية الرأي والتعبير والتجمع | P133: الإعلام وصورة المرأة؛ المساواة والتمييز والمواطنة؛ الثورة والتحولات السياسية | Q133: مباشرة | R133: PBS؛ مصر | S133: غير محدد | T133: حرية التعبير، المساواة، مقارنة مشاركة المرأة في الثورات (مصر وإيران)، الاحتجاج، المرأة | U133: اللغة الإنجليزية | V133: تقارن المقالة بين الانتفاضة المصرية عام 2011 والاحتجاجات الإيرانية عام 2009، مع التركيز على اختلاف دور المرأة ومطالبها في الحالتين. وتوضح أن النساء كن عنصرًا بارزًا في الحركة الاحتجاجية الإيرانية للمطالبة بالمساواة وحرية التعبير، بينما اتجهت الاحتجاجات المصرية أساسًا إلى إسقاط نظام مبارك، مع الإشارة إلى اختلاف وضع المرأة وحقوقها في البلدين وتأثير ذلك في طبيعة الحراك السياسي. | W133: PBS | X133: قناة تلفزيونية عامة | Y133: مؤسسة إعلامية | Z133: الولايات المتحدة | AA133: دولي | AB133: مستقل | AC133: لا يوجد | AD133: المصدر الأصلي للمحتوى/صفحة الفهرسة المدرجة | AE133: HTML | AF133: مباشر عبر الرابط المدرج
A134: 132 | B134: 2011 | C134: 40576 | D134: أسماء محفوظ الفتاة التي قهرت الرئيس مبارك | E134: https://www.hespress.com/أسماء-محفوظ-الفتاة-التي-قهرت-الرئيس-مب-43338.html | F134: رقمي | G134: أشرف طارق | H134: صحفي/ة | I134: ذكر | J134: تقرير صحفي | K134: مادة صحفية | L134: نص مقروء + فيديو | M134: سياسي | N134: إعلامي | O134: الحق في المشاركة السياسية وحرية الرأي والتعبير والتجمع | P134: المجتمع المدني والعمل الحقوقي؛ الثورة والتحولات السياسية | Q134: مباشرة | R134: صحيفة هسبريس؛ أسماء محفوظ؛ مصر | S134: ثورة 25 يناير؛ 25 يناير | T134: الناشطات ودورهن في تفجير الثورة؛ المرحلة الانتقالية؛ التظاهر | U134: اللغة العربية | V134: تستعرض المادة الدور الذي لعبته الناشطة المصرية أسماء محفوظ في الدعوة إلى التظاهر والمشاركة في ثورة 25 يناير، مع إبراز تأثير رسائلها المصورة عبر وسائل التواصل الاجتماعي في حشد المتظاهرين، ودورها بوصفها إحدى أبرز الوجوه النسائية في الحراك الثوري، وما واجهته من تحديات خلال المرحلة الانتقالية. | W134: صحيفة هسبريس | X134: صحيفة يومية | Y134: مؤسسة إعلامية | Z134: المغرب | AA134: إقليمي | AB134: خاص | AC134: لا يوجد | AD134: المصدر الأصلي للمحتوى/صفحة الفهرسة المدرجة | AE134: HTML | AF134: مباشر عبر الرابط المدرج
A135: 133 | B135: 2011 | C135: 40576 | D135: Protests raise hope for women's rights in Egypt | E135: https://www.latimes.com/archives/la-xpm-2011-feb-02-la-fg-egypt-women-20110203-story.html | F135: رقمي | G135: Laura King | H135: صحفي/ة | I135: أنثى | J135: تقرير صحفي | K135: مادة صحفية | L135: نص مقروء | M135: سياسي | N135: احتجاجات نسائية | O135: الحق في المشاركة السياسية وحرية الرأي والتعبير والتجمع | P135: المساواة والتمييز والمواطنة؛ القانون والتشريع والحماية الحقوقية | Q135: مباشرة | R135: Los Angeles Times؛ مصر | S135: غير محدد | T135: المساواة؛ حقوق المرأة؛ القانون؛ الإصلاح التشريعي؛ الحماية القانونية | U135: اللغة الإنجليزية | V135: تقرير عن آمال النساء المصريات في تحسين حقوقهن بعد الاحتجاجات، مع التركيز على المساواة ودور النساء في مصر الجديدة. | W135: Los Angeles Times | X135: صحيفة يومية | Y135: مؤسسة إعلامية | Z135: الولايات المتحدة | AA135: دولي | AB135: خاص | AC135: لا يوجد | AD135: المصدر الأصلي للمحتوى/صفحة الفهرسة المدرجة | AE135: HTML | AF135: مباشر عبر الرابط المدرج
A136: 134 | B136: 2011 | C136: 40580 | D136: وجود قوي للمراة المصرية في ميدان التحرير | E136: https://www.alwatanvoice.com/arabic/news/2011/02/06/167890.html | F136: رقمي | G136: المحرر | H136: صحفي/ة | I136: غير محدد | J136: تقرير صحفي | K136: مادة صحفية | L136: نص مقروء | M136: سياسي | N136: احتجاجات نسائية | O136: الحق في المشاركة السياسية وحرية الرأي والتعبير والتجمع | P136: المشاركة السياسية والتمثيل النيابي؛ المساواة والتمييز والمواطنة؛ الثورة والتحولات السياسية | Q136: مباشرة | R136: صحيفة دنيا الوطن؛ ميدان التحرير؛ مصر | S136: ثورة 25 يناير؛ 25 يناير | T136: المشاركة السياسية والاحتجاجية، المجال العام، الاحتجاج، المشاركة السياسية | U136: اللغة العربية | V136: تسلط المادة الضوء على الحضور القوي للمرأة المصرية في ميدان التحرير خلال ثورة 25 يناير، وتبرز مشاركتها إلى جانب الرجال في الاحتجاجات والمطالبة بالتغيير، بما يؤكد الدور الفاعل للنساء في الحراك الثوري والمجال العام خلال أحداث الثورة. | W136: صحيفة دنيا الوطن | X136: موقع إخباري | Y136: مؤسسة إعلامية | Z136: فلسطين | AA136: إقليمي | AB136: خاص | AC136: لا يوجد | AD136: المصدر الأصلي للمحتوى/صفحة الفهرسة المدرجة | AE136: HTML | AF136: مباشر عبر الرابط المدرج
A137: 135 | B137: 2011 | C137: 40581 | D137: Egyptian Feminist Nawal El Saadawi in Cairo’s Tahrir Square | E137: https://msmagazine.com/2011/02/07/egyptian-feminist-nawal-el-saadawi-in-tahrir-square-i-saw-with-my-own-eyes-the-barbarism/ | F137: رقمي | G137: Nawal El Saadawi | H137: حقوقي/ة | I137: أنثى | J137: شهادة شخصية | K137: مادة حقوقية | L137: نص مقروء | M137: سياسي | N137: احتجاجات نسائية | O137: الحق في المشاركة السياسية وحرية الرأي والتعبير والتجمع | P137: الفكر النسوي والحركة النسائية؛ الثورة والتحولات السياسية؛ الأحوال الشخصية والأسرة | Q137: مباشرة | R137: Ms. Magazine؛ ميدان التحرير؛ نوال السعداوي | S137: غير محدد | T137: حقوق المرأة؛ النسوية؛ المرأة والثورة؛ الأسرة؛ الهوية؛ التاريخ الاجتماعي للمرأة | U137: اللغة الإنجليزية | V137: مقال عن نوال السعداوي وتجربتها النسوية ومشاركتها في ميدان التحرير، مع التركيز على رؤيتها للتغيير وحقوق المرأة. | W137: Ms. Magazine | X137: مجلة نسوية أمريكية | Y137: منظمة حقوقية | Z137: الولايات المتحدة | AA137: دولي | AB137: خاص | AC137: لا يوجد | AD137: المصدر الأصلي للمحتوى/صفحة الفهرسة المدرجة | AE137: HTML | AF137: مباشر عبر الرابط المدرج
A138: 136 | B138: 2011 | C138: 40584 | D138: Egypt’s women | E138: https://www.dw.com/en/the-unseen-factor-egypts-women-protesters/a-14834006 | F138: رقمي | G138: Esther Saoub | H138: صحفي/ة | I138: أنثى | J138: تقرير صحفي | K138: مادة صحفية | L138: نص مقروء | M138: سياسي | N138: احتجاجات نسائية | O138: الحق في المشاركة السياسية وحرية الرأي والتعبير والتجمع | P138: المساواة والتمييز والمواطنة؛ الثورة والتحولات السياسية | Q138: مباشرة | R138: DW / Deutsche Welle؛ ميدان التحرير؛ مصر | S138: ثورة 25 يناير | T138: حقوق الإنسان، الديمقراطية، المرأة المصرية، الاحتجاج، مشاركة النساء في ثورة 25 يناير، حرية التعبير، حرية التعبير وحقوق الإنسان، حضور المرأة في المجال العام | U138: اللغة الإنجليزية | V138: تقرير يرصد الحضور الواسع للنساء المصريات في ميدان التحرير خلال الأيام الأولى للثورة، ويعرض أدوارهن في الاحتجاج والتنظيم والخدمات الميدانية، ومطالبهن بالإصلاح السياسي وحقوق الإنسان والديمقراطية. | W138: DW / Deutsche Welle | X138: قناة إخبارية / إذاعية دولية | Y138: مؤسسة إعلامية | Z138: ألمانيا | AA138: دولي | AB138: حكومي | AC138: لا يوجد | AD138: المصدر الأصلي للمحتوى/صفحة الفهرسة المدرجة | AE138: HTML | AF138: مباشر عبر الرابط المدرج
A139: 137 | B139: 2011 | C139: 40586 | D139: المشاركة السياسية، اهم تحدي يواجه المرأة المصرية بعد الثورة | E139: https://arabic.euronews.com/my-europe/2011/12/02/what-will-the-role-of-women-be-in-the-new-egypt | F139: رقمي | G139: المحرر | H139: صحفي/ة | I139: غير محدد | J139: تقرير صحفي | K139: مادة صحفية | L139: نص مقروء + صور | M139: سياسي | N139: كشوف العذرية | O139: الحق في المشاركة السياسية وحرية الرأي والتعبير والتجمع | P139: المشاركة السياسية والتمثيل النيابي؛ المساواة والتمييز والمواطنة؛ المرأة الريفية والتنمية المحلية؛ العنف ضد المرأة والسلامة الجسدية | Q139: مباشرة | R139: Euronews Arabic؛ مصر | S139: اختبارات العذرية؛ ثورة 25 يناير؛ الانتخابات | T139: المشاركة السياسية؛ التمييز؛ المرأة المصرية؛ النساء الريفيات؛ التحرش؛ حقوق المرأة؛ دور المرأة المصرية في بناء مصر الجديدة بعد الثورة | U139: اللغة العربية | V139: تقرير مصور يتناول حضور النساء في ثورة 25 يناير وتحديات مشاركتهن السياسية والاجتماعية بعد الثورة، مع تناول أوضاع النساء الريفيات والمشاركة الانتخابية والتمييز والعنف والتحرش واختبارات العذرية للمتظاهرات. | W139: Euronews Arabic | X139: قناة إخبارية | Y139: مؤسسة إعلامية | Z139: فرنسا | AA139: إقليمي / دولي | AB139: خاص | AC139: لا يوجد | AD139: المصدر الأصلي للمحتوى/صفحة الفهرسة المدرجة | AE139: فيديو/HTML | AF139: مباشر عبر الرابط المدرج
A140: 138 | B140: 2011 | C140: 40587 | D140: Women’s empowerment in the Egyptian revolution | E140: https://english.ahram.org.eg/NewsContentPrint/4/0/5517/Opinion/0/Women%E2%80%99s-empowerment-in-the-Egyptian-revolution.aspx | F140: رقمي | G140: Hania Sholkamy | H140: صحفي/ة | I140: أنثى | J140: مقال رأي تحليلي | K140: مادة صحفية | L140: نص مقروء | M140: سياسي | N140: التمكين السياسي | O140: الحق في المشاركة السياسية وحرية الرأي والتعبير والتجمع | P140: المشاركة السياسية والتمثيل النيابي؛ الاقتصاد وسوق العمل؛ الثورة والتحولات السياسية | Q140: مباشرة | R140: Ahram Online؛ مصر | S140: ثورة 25 يناير؛ الانتخابات | T140: المشاركة السياسية؛ تمكين المرأة؛ المرأة المصرية؛ التمكين؛ الثورة؛ التمثيل | U140: اللغة الإنجليزية | V140: مقال رأي يحلل مشاركة النساء المصريات في الثورة، وأدوارهن في التنظيم والحشد، وانعكاسات الثورة على تمكين المرأة والمشاركة السياسية. | W140: Ahram Online | X140: موقع إخباري | Y140: مؤسسة إعلامية | Z140: مصر | AA140: وطني / دولي | AB140: خاص | AC140: لا يوجد | AD140: المصدر الأصلي للمحتوى/صفحة الفهرسة المدرجة | AE140: HTML | AF140: مباشر عبر الرابط المدرج
A141: 139 | B141: 2011 | C141: 40588 | D141: Love and Revolution | E141: https://www.newyorker.com/news/news-desk/love-and-revolution | F141: رقمي | G141: جنى كراجيسكي | H141: صحفي/ة | I141: أنثى | J141: مقال رأي تحليلي | K141: مادة صحفية | L141: نص مقروء | M141: سياسي | N141: الأسرة | O141: الحق في المشاركة السياسية وحرية الرأي والتعبير والتجمع | P141: الأحوال الشخصية والأسرة؛ الاقتصاد وسوق العمل؛ الثورة والتحولات السياسية | Q141: ضمنية | R141: The New yorker؛ ميدان التحرير؛ مصر | S141: ثورة 25 يناير؛ 25 يناير | T141: أزمة الزواج، البطالة، الزواج والعلاقات الاجتماعية، الاحتجاج، الاقتصاد | U141: اللغة الإنجليزية | V141: يتناول المقال أزمة الزواج في مصر وعلاقتها بالبطالة والظروف الاقتصادية وتكاليف الزواج، مع بيان انعكاساتها على حياة النساء والرجال وحريتهم الاجتماعية، وربط هذه القضايا بأحداث ثورة 25 يناير وميدان التحرير، بما في ذلك ظاهرة الزواج التي شهدها الميدان خلال الاحتجاجات. | W141: The New Yorker | X141: مجلة إخبارية وثقافية أمريكية | Y141: مؤسسة إعلامية | Z141: الولايات المتحدة | AA141: دولي | AB141: خاص | AC141: لا يوجد | AD141: المصدر الأصلي للمحتوى/صفحة الفهرسة المدرجة | AE141: HTML | AF141: مباشر عبر الرابط المدرج
A142: 140 | B142: 2011 | C142: 40588 | D142: Women make their power felt in Egypt's revolution | E142: https://www.thenationalnews.com/world/mena/women-make-their-power-felt-in-egypt-s-revolution-1.434826 | F142: رقمي | G142: Cassie Biggs | H142: صحفي/ة | I142: أنثى | J142: تقرير صحفي | K142: مادة صحفية | L142: نص مقروء + صور | M142: سياسي | N142: احتجاجات نسائية | O142: الحق في المشاركة السياسية وحرية الرأي والتعبير والتجمع | P142: المشاركة السياسية والتمثيل النيابي؛ المساواة والتمييز والمواطنة؛ الثورة والتحولات السياسية | Q142: مباشرة | R142: The National؛ ميدان التحرير؛ مصر | S142: ثورة 25 يناير؛ 25 يناير | T142: المشاركة السياسية والتحرش في الميدان، المجال العام، الاحتجاج، المشاركة السياسية | U142: اللغة الإنجليزية | V142: يرصد المقال المشاركة الواسعة للنساء المصريات في ثورة 25 يناير ومساهمتهن في الاحتجاجات بميدان التحرير، من تنظيم نقاط التفتيش وتقديم الخدمات إلى قيادة الهتافات واستخدام وسائل التواصل الاجتماعي. كما يبرز التحول الذي شعرت به النساء داخل الميدان، ولا سيما تراجع التحرش وشعورهن بقدر أكبر من الحرية والأمان، ويربط ذلك بتغير صورة المرأة ودورها في المجال العام خلال الثورة. | W142: The National | X142: صحيفة يومية | Y142: مؤسسة إعلامية | Z142: الإمارات العربية المتحدة | AA142: إقليمي / دولي | AB142: خاص | AC142: لا يوجد | AD142: المصدر الأصلي للمحتوى/صفحة الفهرسة المدرجة | AE142: HTML | AF142: مباشر عبر الرابط المدرج
A143: 141 | B143: 2011 | C143: 40589 | D143: Women revolutionaries hope for greater say in post-Mubarak Egypt | E143: https://cloudflare.egyptindependent.com/women-revolutionaries-hope-greater-say-post-mubarak-egypt/ | F143: رقمي | G143: Jenna Krajeski | H143: صحفي/ة | I143: أنثى | J143: تقرير صحفي | K143: مادة صحفية | L143: نص مقروء | M143: سياسي | N143: العنف ضد المرأة | O143: الحق في المشاركة السياسية وحرية الرأي والتعبير والتجمع | P143: المساواة والتمييز والمواطنة؛ العنف ضد المرأة والسلامة الجسدية؛ المشاركة السياسية والتمثيل النيابي | Q143: مباشرة | R143: Egypt Independent؛ مصر | S143: ثورة 25 يناير | T143: المرأة المصرية؛ المساواة؛ التحرش؛ التمثيل السياسي | U143: اللغة الإنجليزية | V143: يتناول التقرير دور النساء المصريات في ثورة 25 يناير ومخاوفهن من تراجع حضورهن السياسي بعد إسقاط مبارك، ويرصد مطالبهن بالمساواة ومكافحة التحرش والمساواة في الأجور والتمثيل السياسي. كما يستعرض آراء ناشطات وقيادات نسائية حول ضعف تمثيل النساء في الإعلام واللجان السياسية بعد الثورة، وضرورة توثيق مشاركتهن وضمان وجود صوت نسائي في مؤسسات وإجراءات المرحلة الانتقالية. | W143: Egypt Independent | X143: موقع إخباري | Y143: مؤسسة إعلامية | Z143: مصر | AA143: وطني / دولي | AB143: خاص | AC143: لا يوجد | AD143: المصدر الأصلي للمحتوى/صفحة الفهرسة المدرجة | AE143: HTML | AF143: مباشر عبر الرابط المدرج
A144: 142 | B144: 2011 | C144: 40590 | D144: من دفتر يوميات النساء والثورة | E144: https://nwrcegypt.org/%D9%85%D9%86-%D8%AF%D9%81%D8%AA%D8%B1-%D9%8A%D9%88%D9%85%D9%8A%D8%A7%D8%AA-%D8%A7%D9%84%D9%86%D8%B3%D8%A7%D8%A1-%D9%88%D8%A7%D9%84%D8%AB%D9%88%D8%B1%D8%A9/ | F144: رقمي | G144: المحرر | H144: حقوقي/ة | I144: غير محدد | J144: تغطية فعالية نسوية | K144: مادة حقوقية | L144: نص مقروء | M144: سياسي | N144: احتجاجات نسائية | O144: الحق في المشاركة السياسية وحرية الرأي والتعبير والتجمع | P144: المشاركة السياسية والتمثيل النيابي؛ المساواة والتمييز والمواطنة | Q144: مباشرة | R144: مؤسسة المرأة الجديدة؛ ميدان التحرير | S144: ثورة 25 يناير | T144: نساء مصر؛ المشاركة السياسية؛ المساواة؛ الحقوق؛ مشاركة النساء في ثورة 25 يناير؛ الحق في التغيير والحرية والمساواة | U144: اللغة العربية | V144: توثيق لمشاركة النساء في احتجاجات ميدان التحرير خلال ثورة 25 يناير، ويربط بين مشاركة النساء في الثورة والمطالبة بإزالة الظلم والغبن الاجتماعي إلى جانب إسقاط النظام. | W144: مؤسسة المرأة الجديدة | X144: منظمة نسوية غير حكومية | Y144: منظمة حقوقية | Z144: مصر | AA144: وطني | AB144: مستقل | AC144: لا يوجد | AD144: المصدر الأصلي للمحتوى/صفحة الفهرسة المدرجة | AE144: HTML | AF144: مباشر عبر الرابط المدرج
A145: 143 | B145: 2011 | C145: 40590 | D145: Egyptian activists condemn brutal attack on CBS reporter in Tahrir Square | E145: https://www.theguardian.com/world/2011/feb/16/egyptian-activists-condemn-brutal-attack | F145: رقمي | G145: Jack Shenker | H145: صحفي/ة | I145: ذكر | J145: تقرير صحفي | K145: مادة صحفية | L145: نص مقروء | M145: سياسي | N145: العنف ضد المرأة | O145: الحق في الكرامة والسلامة والحماية من العنف | P145: العنف ضد المرأة والسلامة الجسدية | Q145: مباشرة | R145: The Guardian؛ ميدان التحرير؛ مصر | S145: غير محدد | T145: التحرش الجنسي؛ المرأة المصرية؛ لارا لوغان؛ حقوق المرأة؛ العنف والتحرش الجنسي ضد النساء في مصر | U145: اللغة الإنجليزية | V145: تتناول إدانة ناشطات مصريات للاعتداء الجنسي على الصحفية لارا لوغان في ميدان التحرير، وتستعرض سياق التحرش الجنسي الذي تتعرض له النساء في مصر ومطالب الناشطات بمواجهة الظاهرة. | W145: The Guardian | X145: صحيفة يومية بريطانية | Y145: مؤسسة إعلامية | Z145: المملكة المتحدة | AA145: دولي | AB145: خاص | AC145: لا يوجد | AD145: المصدر الأصلي للمحتوى/صفحة الفهرسة المدرجة | AE145: HTML | AF145: مباشر عبر الرابط المدرج
A146: 144 | B146: 2011 | C146: 40592 | D146: Egyptian women: social and political participation during the revolution | E146: https://www.emaratalyoum.com/politics/weekly-supplements/beyond-politics/2011-02-18-1.357743 | F146: رقمي | G146: حسن عبده حسن | H146: صحفي/ة | I146: ذكر | J146: تقرير صحفي | K146: مادة صحفية | L146: نص مقروء | M146: سياسي | N146: العنف ضد المرأة | O146: الحق في المشاركة السياسية وحرية الرأي والتعبير والتجمع | P146: الثورة والتحولات السياسية؛ المشاركة السياسية والتمثيل النيابي | Q146: مباشرة | R146: صحيفة الإمارات اليوم؛ مصر | S146: الانتخابات | T146: المرأة والثورة؛ المشاركة الشعبية؛ المشاركة السياسية؛ الثورة؛ التمثيل | U146: اللغة الإنجليزية | V146: تقرير يرصد الدور الفعلي للنساء المصريات في ثورة 25 يناير، موضحًا تجاوز مشاركتهن للأدوار التقليدية مثل الطبخ والتمريض إلى التظاهر وتنظيم الاحتجاجات وكتابة الشعارات وحراسة المتظاهرين واستخدام شبكات التواصل. ويستعرض آراء ناشطات مثل مزن حسن وهديل الخولي حول اتساع المشاركة النسائية لتشمل نساء من خلفيات وأعمار اجتماعية مختلفة، كما يناقش مطالب الحركة النسائية في مرحلة التحول الديمقراطي، ومنها المشاركة السياسية الحقيقية ومواجهة التحرش والعنف ضد المرأة وتعديل القوانين التي تكرس هيمنة الرجل. | W146: صحيفة الإمارات اليوم | X146: صحيفة يومية | Y146: مؤسسة إعلامية | Z146: الإمارات العربية المتحدة | AA146: إقليمي | AB146: خاص | AC146: تايمز | AD146: مأخوذ عن المصدر الأصلي للمحتوى | AE146: HTML | AF146: مباشر عبر الرابط المدرج
A147: 145 | B147: 2011 | C147: 40593 | D147: Women of the revolution | E147: https://www.aljazeera.com/features/2011/2/19/women-of-the-revolution | F147: رقمي | G147: Fatma Naib | H147: صحفي/ة | I147: أنثى | J147: تقرير صحفي | K147: مادة صحفية | L147: نص مقروء | M147: سياسي | N147: احتجاجات نسائية | O147: الحق في المواطنة والمساواة وعدم التمييز | P147: المساواة والتمييز والمواطنة؛ المشاركة السياسية والتمثيل النيابي؛ الثورة والتحولات السياسية | Q147: مباشرة | R147: Al Jazeera English؛ ميدان التحرير؛ مصر | S147: الانتخابات | T147: المساواة؛ المشاركة السياسية؛ الثورة؛ التمثيل؛ الحراك الثوري | U147: اللغة الإنجليزية | V147: تقرير يعرض شهادات نساء مصريات شاركن في الثورة، ويركز على تجربة ميدان التحرير وآمال النساء في استمرار المساواة التي شعرن بها أثناء الثورة. | W147: Al Jazeera English | X147: قناة إخبارية | Y147: مؤسسة إعلامية | Z147: قطر | AA147: إقليمي / دولي | AB147: حكومي | AC147: لا يوجد | AD147: المصدر الأصلي للمحتوى/صفحة الفهرسة المدرجة | AE147: HTML | AF147: مباشر عبر الرابط المدرج
A148: 146 | B148: 2011 | C148: 40594 | D148: How Egyptian Women Took Back the Street Between Two "black wednesdays" | E148: https://www.jadaliyya.com/Details/23716 | F148: رقمي | G148: نهى رضوان | H148: باحث/ة | I148: أنثى | J148: دراسة تحليلية | K148: مادة بحثية | L148: نص مقروء | M148: سياسي | N148: العنف ضد المرأة | O148: الحق في المشاركة السياسية وحرية الرأي والتعبير والتجمع | P148: العنف ضد المرأة والسلامة الجسدية؛ المجتمع المدني والعمل الحقوقي | Q148: مباشرة | R148: جدلية؛ ميدان التحرير؛ مصر | S148: ثورة 25 يناير | T148: التحرش الجنسي؛ العنف والتحرش الجنسي ضد المتظاهرات؛ الناشطات المصريات؛ النساء المصريات؛ المجال العام | U148: اللغة الإنجليزية | V148: تقدم المادة شهادة شخصية عن مشاركة النساء المصريات في ميدان التحرير خلال ثورة 25 يناير، وتبرز حضورهن الفاعل في الاحتجاجات وقيادة الهتافات والعمل الطبي والقانوني وتأمين الميدان وتقديم الخدمات للمتظاهرين. كما توثق تعرض المتظاهرات للعنف والاعتداء والتحرش الجنسي خلال أحداث «الأربعاء الأسود» في 2 فبراير 2011، وتربط هذه الممارسات بتاريخ أطول من قمع الناشطات المصريات، مؤكدة استمرار النساء في المشاركة رغم محاولات ترهيبهن وإقصائهن من المجال العام. | W148: جدلية | X148: منصة بحثية وثقافية إلكترونية | Y148: مؤسسة بحثية | Z148: الولايات المتحدة | AA148: دولي | AB148: مستقل | AC148: لا يوجد | AD148: المصدر الأصلي للمحتوى/صفحة الفهرسة المدرجة | AE148: HTML | AF148: مباشر عبر الرابط المدرج
A149: 147 | B149: 2011 | C149: 40596 | D149: نساء الثورة الشعبية ونساء النخبة الحاكمة | E149: https://www.almasryalyoum.com/news/details/51867 | F149: رقمي | G149: نوال السعداوي | H149: كاتب/ة | I149: أنثى | J149: مقال رأي تحليلي | K149: مادة صحفية | L149: نص مقروء | M149: سياسي | N149: احتجاجات نسائية | O149: الحق في المشاركة السياسية وحرية الرأي والتعبير والتجمع | P149: الفكر النسوي والحركة النسائية؛ المشاركة السياسية والتمثيل النيابي | Q149: مباشرة | R149: المصري اليوم؛ ميدان التحرير؛ مصر؛ نوال السعداوي؛ الاتحاد النسائي المصري | S149: ثورة 25 يناير | T149: الحركة النسائية؛ حقوق المرأة؛ المشاركة السياسية؛ المرأة والثورة والمشاركة السياسية وتأسيس الاتحاد النسائي | U149: اللغة العربية | V149: يناقش دور النساء المصريات في الثورة الشعبية، والفروق بين نساء النخبة الحاكمة والنساء المشاركات في ميدان التحرير، مع إبراز مطالب النساء بالحرية والعدالة والكرامة وضرورة تنظيم الحركة النسائية المصرية سياسيًا. | W149: المصري اليوم | X149: صحيفة يومية | Y149: مؤسسة إعلامية | Z149: مصر | AA149: وطني | AB149: خاص | AC149: لا يوجد | AD149: المصدر الأصلي للمحتوى/صفحة الفهرسة المدرجة | AE149: HTML | AF149: مباشر عبر الرابط المدرج
A150: 148 | B150: 2011 | C150: 40597 | D150: Egypt's women face growing sexual harassment | E150: https://www.latimes.com/world/la-xpm-2011-feb-23-la-fg-egypt-women-abuse-20110223-story.html | F150: رقمي | G150: Bob Drogin | H150: صحفي/ة | I150: ذكر | J150: تقرير صحفي | K150: مادة صحفية | L150: نص مقروء | M150: سياسي | N150: العنف ضد المرأة | O150: الحق في الكرامة والسلامة والحماية من العنف | P150: العنف ضد المرأة والسلامة الجسدية؛ الثورة والتحولات السياسية | Q150: مباشرة | R150: Los Angeles Times؛ مصر | S150: غير محدد | T150: العنف ضد النساء؛ التحرش الجنسي؛ الثورة؛ السلامة العامة؛ العنف ضد المرأة؛ السلامة الجسدية؛ التحرش؛ الاعتداء | U150: اللغة الإنجليزية | V150: تقرير عن تصاعد التحرش والعنف ضد النساء في مصر خلال مرحلة الاحتجاجات، وما يترتب عليه من مخاوف بشأن سلامة النساء في المجال العام. | W150: Los Angeles Times | X150: صحيفة يومية | Y150: مؤسسة إعلامية | Z150: الولايات المتحدة | AA150: دولي | AB150: خاص | AC150: لا يوجد | AD150: المصدر الأصلي للمحتوى/صفحة الفهرسة المدرجة | AE150: HTML | AF150: مباشر عبر الرابط المدرج
A151: 149 | B151: 2011 | C151: 40598 | D151: ائتلاف المنظمات النسوية: القومي للمرأة لا يمثل النسويات ونطالب بإسقاطه | E151: https://nazra.org/2011/02/ائتلاف-المنظمات-النسوية-القومي-للمرأة-لا-يمثل-المصريات-ونطالب-بإسقاطه | F151: رقمي | G151: عمل جماعي | H151: حقوقي/ة | I151: غير محدد | J151: بيان حقوقي | K151: مادة حقوقية | L151: نص مقروء | M151: سياسي | N151: المرحلة الانتقالية | O151: الحق في المشاركة السياسية وحرية الرأي والتعبير والتجمع | P151: الفكر النسوي والحركة النسائية؛ الثقافة والفنون والإبداع الأدبي | Q151: مباشرة | R151: نظرة للدراسات النسوية؛ نظرة للدراسات النسوية؛ المجلس القومي للمرأة؛ مصر | S151: ثورة يناير | T151: النسوية، تمثيل المرأة المؤسسي، المنظمات النسوية، الحركة النسوية | U151: اللغة العربية | V151: بيان صادر عن نظرة للدراسات النسوية (فبراير 2011) ضمن ائتلاف منظمات نسوية مصرية، يطالب بإسقاط المجلس القومي للمرأة باعتباره لا يمثّل الحركة النسوية المصرية ولا يعبّر عن مطالبها المستقلة، في سياق الجدل الذي أثير حول ارتباط المجلس بالنظام السابق عقب ثورة يناير. | W151: نظرة للدراسات النسوية | X151: منظمة نسوية غير حكومية | Y151: منظمة حقوقية | Z151: مصر | AA151: وطني | AB151: مستقل | AC151: لا يوجد | AD151: المصدر الأصلي للمحتوى/صفحة الفهرسة المدرجة | AE151: HTML | AF151: مباشر عبر الرابط المدرج
A152: 150 | B152: 2011 | C152: 40598 | D152: لوس أنجلوس تايمز: التحرش بالنساء مستمر فى مصر | E152: https://www.youm7.com/story/2011/2/24/%D9%84%D9%88%D8%B3-%D8%A3%D9%86%D8%AC%D9%84%D9%88%D8%B3-%D8%AA%D8%A7%D9%8A%D9%85%D8%B2-%D8%A7%D9%84%D8%AA%D8%AD%D8%B1%D8%B4-%D8%A8%D8%A7%D9%84%D9%86%D8%B3%D8%A7%D8%A1-%D9%85%D8%B3%D8%AA%D9%85%D8%B1-%D9%81%D9%89-%D9%85%D8%B5%D8%B1/357699 | F152: رقمي | G152: رباب فتحى | H152: صحفي/ة | I152: أنثى | J152: تقرير صحفي | K152: مادة صحفية | L152: نص مقروء | M152: سياسي | N152: العنف ضد المرأة | O152: الحق في الكرامة والسلامة والحماية من العنف | P152: العنف ضد المرأة والسلامة الجسدية | Q152: مباشرة | R152: اليوم السابع؛ ميدان التحرير؛ مصر | S152: تنحي مبارك | T152: العنف ضد النساء؛ لوس أنجلوس تايمز؛ التحرش؛ التحرش والعنف ضد النساء في مصر بعد الثورة | U152: اللغة العربية | V152: ينقل تقريرًا عن استمرار التحرش والعنف ضد النساء في مصر، بما في ذلك وقائع ارتبطت بالاحتفالات في ميدان التحرير عقب تنحي مبارك. | W152: اليوم السابع | X152: موقع إخباري | Y152: مؤسسة إعلامية | Z152: مصر | AA152: وطني | AB152: خاص | AC152: لا يوجد | AD152: المصدر الأصلي للمحتوى/صفحة الفهرسة المدرجة | AE152: HTML | AF152: مباشر عبر الرابط المدرج
A153: 151 | B153: 2011 | C153: 40598 | D153: Coalition of Women’s NGOs in Egypt: National Council of Women Doesn't Represent Egyptian Women..Call for Rapid Dissolution | E153: https://nazra.org/en/2011/02/call-rapid-dissolution-national-council-women | F153: رقمي | G153: المحرر | H153: حقوقي/ة | I153: غير محدد | J153: بيان حقوقي | K153: مادة حقوقية | L153: نص مقروء | M153: سياسي | N153: المرحلة الانتقالية | O153: الحق في المشاركة السياسية وحرية الرأي والتعبير والتجمع | P153: الفكر النسوي والحركة النسائية؛ المشاركة السياسية والتمثيل النيابي | Q153: مباشرة | R153: Nazra for Feminist Studies؛ المجلس القومي للمرأة؛ مصر | S153: ثورة 25 يناير | T153: المرأة المصرية؛ المنظمات النسوية؛ المشاركة السياسية؛ Coalition of Women’s NGOs in Egypt: National Council of Women Doesn't Represent Egyptian Women..Call for Rapid Dissolution | U153: اللغة الإنجليزية | V153: بيان مشترك صادر عن ائتلاف منظمات نسوية مصرية ينتقد تمثيل المجلس القومي للمرأة للنساء المصريات بعد ثورة 25 يناير، ويدعو إلى إعادة النظر في دوره وضمان مشاركة النساء في جهود التغيير السياسي. | W153: Nazra for Feminist Studies | X153: منظمة نسوية غير حكومية | Y153: منظمة حقوقية | Z153: مصر | AA153: وطني | AB153: مستقل | AC153: لا يوجد | AD153: المصدر الأصلي للمحتوى/صفحة الفهرسة المدرجة | AE153: HTML | AF153: مباشر عبر الرابط المدرج
A154: 152 | B154: 2011 | C154: 40603 | D154: The Role of Egyptian Women in the 25th of January Revolution 2011 | E154: https://fount.aucegypt.edu/cgi/viewcontent.cgi?article=1014&context=studenttxt | F154: رقمي | G154: Dina Shaaban,Dr. Amy Motlagh | H154: أكاديمي/ة | I154: أنثى | J154: دراسة محكّمة | K154: دراسة أكاديمية | L154: نص مقروء | M154: سياسي | N154: إعلامي | O154: الحق في المشاركة السياسية وحرية الرأي والتعبير والتجمع | P154: المشاركة السياسية والتمثيل النيابي؛ الإعلام وصورة المرأة؛ العنف ضد المرأة والسلامة الجسدية | Q154: مباشرة | R154: American University in Cairo Press (AUC Press)؛ ميدان التحرير؛ التحرير | S154: غير محدد | T154: المشاركة السياسية، وسائل التواصل الاجتماعي، الإعلام، المرأة | U154: اللغة الإنجليزية | V154: تناقش الدراسة مشاركة النساء في ميدان التحرير، دورهن في الحشد والتعبئة، استخدام وسائل التواصل الاجتماعي، ضعف تمثيل مشاركتهن في الإعلام، والمقارنة بين مشاركة المرأة في ثورة 1919 وثورة 2011. | W154: American University in Cairo Press (AUC Press) | X154: ناشر أكاديمي تابع لجامعة | Y154: مؤسسة أكاديمية | Z154: مصر | AA154: وطني / دولي | AB154: خاص | AC154: لا يوجد | AD154: المصدر الأصلي للمحتوى/صفحة الفهرسة المدرجة | AE154: HTML/PDF | AF154: مباشر عبر الرابط المدرج
A155: 153 | B155: 2011 | C155: 40603 | D155: كوتة المرأة في الانتخابات النيابية كأحد آليات تمكين المرأة لتفعيل مشاركتها السياسية | E155: https://search.mandumah.com/Record/114933 | F155: رقمي | G155: هيام حمدي صابر زهران | H155: أكاديمي/ة | I155: أنثى | J155: دراسة محكّمة | K155: دراسة أكاديمية | L155: نص مقروء | M155: سياسي | N155: التمكين السياسي | O155: الحق في المشاركة السياسية وحرية الرأي والتعبير والتجمع | P155: الاقتصاد وسوق العمل؛ المشاركة السياسية والتمثيل النيابي | Q155: مباشرة | R155: المؤتمر العلمي الدولي الرابع والعشرون للخدمة الاجتماعية - جامعة حلوان؛ مصر | S155: الانتخابات | T155: تمكين المرأة؛ نظام الكوتا؛ المرأة المصرية؛ كوتة المرأة في الانتخابات النيابية كأحد آليات تمكين المرأة لتفعيل مشاركتها السياسية؛ المشاركة السياسية؛ الثورة؛ التمثيل | U155: اللغة العربية | V155: دراسة أكاديمية (جامعة حلوان - كلية الخدمة الاجتماعية) تبحث نظام الكوتا النسائية في الانتخابات النيابية بوصفه آلية لتمكين المرأة سياسياً، وتناقش مدى فاعليته في زيادة تمثيل النساء ودعم مشاركتهن الفعلية في الحياة السياسية المصرية. | W155: المؤتمر العلمي الدولي الرابع والعشرون للخدمة الاجتماعية - جامعة حلوان | X155: جامعة | Y155: مؤسسة أكاديمية | Z155: مصر | AA155: وطني | AB155: حكومي | AC155: دار المنظومة | AD155: مأخوذ عن المصدر الأصلي للمحتوى | AE155: HTML/PDF | AF155: يتطلب اشتراك
A156: 154 | B156: 2011 | C156: 40603 | D156: استشراف التمثيل النيابي للمرأة بالبرلمان المصري في ظل نظام الكوتا | E156: https://search.mandumah.com/Record/114775 | F156: رقمي | G156: أمل عبدالمرضي عبدالمنعم الجمال | H156: أكاديمي/ة | I156: أنثى | J156: دراسة محكّمة | K156: دراسة أكاديمية | L156: نص مقروء | M156: سياسي | N156: التمكين السياسي | O156: الحق في المشاركة السياسية وحرية الرأي والتعبير والتجمع | P156: المشاركة السياسية والتمثيل النيابي؛ المساواة والتمييز والمواطنة | Q156: مباشرة | R156: المؤتمر العلمي الدولي الرابع والعشرون للخدمة الاجتماعية - جامعة حلوان؛ البرلمان؛ مصر | S156: الانتخابات | T156: التمثيل النيابي؛ الحقوق السياسية؛ نظام الكوتا؛ الكوتا؛ الديمقراطية؛ المشاركة السياسية؛ الثورة؛ التمثيل | U156: اللغة العربية | V156: بحث يستشرف فرص التمثيل النيابي للمرأة في البرلمان المصري في ظل نظام الكوتا، ويتناول الحقوق السياسية والمشاركة الانتخابية والظروف السياسية والاجتماعية والاقتصادية. | W156: المؤتمر العلمي الدولي الرابع والعشرون للخدمة الاجتماعية - جامعة حلوان | X156: جامعة | Y156: مؤسسة أكاديمية | Z156: مصر | AA156: وطني | AB156: حكومي | AC156: دار المنظومة | AD156: مأخوذ عن المصدر الأصلي للمحتوى | AE156: HTML/PDF | AF156: يتطلب اشتراك
A157: 155 | B157: 2011 | C157: 40603 | D157: Women Developing Women: Islamic Approaches for Poverty Alleviation in Rural Egypt | E157: https://journals.sagepub.com/doi/abs/10.1057/fr.2010.38 | F157: رقمي | G157: Sherine Hafez | H157: أكاديمي/ة | I157: أنثى | J157: دراسة محكّمة | K157: دراسة أكاديمية | L157: نص مقروء | M157: اقتصادي | N157: ديني | O157: الحق في العمل والحقوق الاقتصادية | P157: الاقتصاد وسوق العمل؛ المرأة الريفية والتنمية المحلية | Q157: مباشرة | R157: Feminist Review / SAGE؛ مصر | S157: غير محدد | T157: التنمية؛ المرأة الريفية والمجتمع المحلي؛ النساء الريفيات؛ التنمية المحلية؛ المجتمع المحلي | U157: اللغة الإنجليزية | V157: دراسة إثنوغرافية عن مشروع إصلاح اجتماعي تقوده ناشطات إسلاميات في قرية مصرية ريفية، وتبحث أدوار النساء في التنمية الاقتصادية والاجتماعية. | W157: Feminist Review / SAGE | X157: مجلة علمية محكمة | Y157: مؤسسة أكاديمية | Z157: المملكة المتحدة | AA157: دولي | AB157: خاص | AC157: لا يوجد | AD157: المصدر الأصلي للمحتوى/صفحة الفهرسة المدرجة | AE157: HTML/PDF | AF157: مباشر عبر الرابط المدرج
A158: 156 | B158: 2011 | C158: 40603 | D158: Outcome of coronary angiography and percutaneous coronary intervention in Egyptian women with chronic stable angina | E158: https://www.sciencedirect.com/science/article/pii/S1110260811000275 | F158: رقمي | G158: M. El-Menyar; وآخرون | H158: أكاديمي/ة | I158: مختلط/فريق بحث | J158: دراسة محكّمة | K158: دراسة أكاديمية | L158: نص مقروء | M158: صحي | N158: صحي ونفسي | O158: الحق في الصحة | P158: الصحة والصحة الإنجابية | Q158: مباشرة | R158: Egyptian Heart Journal / Elsevier؛ مصر | S158: غير محدد | T158: النساء المصريات؛ أمراض القلب؛ القسطرة؛ التدخل التاجي؛ الذبحة الصدرية؛ صحة النساء | U158: اللغة الإنجليزية | V158: دراسة طبية تقارن نتائج تصوير الشرايين والتدخل التاجي لدى 488 امرأة مصرية و492 رجلًا مصابًا بالذبحة الصدرية المستقرة المزمنة، مع تحليل عوامل الخطورة والنتائج والمضاعفات. | W158: Egyptian Heart Journal / Elsevier | X158: مجلة علمية محكمة | Y158: مؤسسة أكاديمية | Z158: مصر / دولي | AA158: وطني / دولي | AB158: حكومي | AC158: ScienceDirect | AD158: مأخوذ عن المصدر الأصلي للمحتوى | AE158: HTML/PDF | AF158: مباشر عبر الرابط المدرج
A159: 157 | B159: 2011 | C159: 40604 | D159: Egyptian men working abroad: Labour supply responses by the women left behind | E159: https://www.sciencedirect.com/science/article/abs/pii/S0927537111000339 | F159: رقمي | G159: Christine Binzel و Ragui Assaad | H159: أكاديمي/ة | I159: مختلط/فريق بحث | J159: دراسة محكّمة | K159: دراسة أكاديمية | L159: نص مقروء | M159: اقتصادي | N159: الهجرة | O159: الحق في العمل والحقوق الاقتصادية | P159: الاقتصاد وسوق العمل؛ المرأة الريفية والتنمية المحلية؛ الأحوال الشخصية والأسرة | Q159: مباشرة | R159: Labour Economics؛ مصر | S159: غير محدد | T159: سوق العمل، هجرة الرجال وأثرها على عمل المرأة، النساء الريفيات، الأسرة، المرأة، العمل، عمل المرأة | U159: اللغة الإنجليزية | V159: تبحث الدراسة في تأثير هجرة الرجال المصريين للعمل بالخارج على مشاركة النساء اللاتي بقين في مصر في سوق العمل. وتبين أن الهجرة ترتبط بانخفاض العمل المأجور، خصوصًا في المناطق الحضرية، بينما تزداد مشاركة النساء الريفيات في العمل غير المأجور والعمل لإعالة الأسرة، ويرتبط ذلك أساسًا بحاجة الأسرة إلى تعويض عمل الزوج المهاجر أكثر من ارتباطه بتوافر تحويلات مالية جديدة. | W159: Labour Economics | X159: مجلة علمية محكمة | Y159: مؤسسة أكاديمية | Z159: هولندا | AA159: دولي | AB159: خاص | AC159: ScienceDirect | AD159: مأخوذ عن المصدر الأصلي للمحتوى | AE159: HTML | AF159: مباشر عبر الرابط المدرج
A160: 158 | B160: 2011 | C160: 40604 | D160: Women and the Revolution | E160: https://foreignpolicy.com/2011/03/02/women-and-the-revolution-2/ | F160: رقمي | G160: سارة لينش، لوران بوهان | H160: صحفي/ة | I160: أنثى | J160: مقال رأي تحليلي | K160: مادة صحفية | L160: نص مقروء | M160: سياسي | N160: احتجاجات نسائية | O160: الحق في المشاركة السياسية وحرية الرأي والتعبير والتجمع | P160: المساواة والتمييز والمواطنة؛ المشاركة السياسية والتمثيل النيابي؛ الثورة والتحولات السياسية | Q160: مباشرة | R160: Foreign Policy؛ ميدان التحرير؛ مصر | S160: ثورة 25 يناير؛ 25 يناير | T160: المساواة بين الجنسين، حقوق المرأة، المشاركة السياسية بعد الثورة، المرأة بعد الثورة، الاحتجاج، المشاركة السياسية | U160: اللغة الإنجليزية | V160: يتناول المقال المشاركة الواسعة للنساء المصريات في ثورة 25 يناير، ويرصد حضورهن في ميدان التحرير إلى جانب الرجال في الاحتجاجات والهتافات والمطالبة بالتغيير. كما يناقش التحدي الذي يواجه المرأة بعد الثورة، والمتمثل في تحويل مشاركتها في الحراك الثوري إلى مكاسب سياسية وحقوقية مستدامة، مع طرح تساؤلات حول مستقبل المساواة بين الجنسين وحقوق المرأة في مصر الجديدة. | W160: Foreign Policy | X160: صحيفة يومية | Y160: مؤسسة إعلامية | Z160: الولايات المتحدة | AA160: دولي | AB160: خاص | AC160: لا يوجد | AD160: المصدر الأصلي للمحتوى/صفحة الفهرسة المدرجة | AE160: HTML | AF160: مباشر عبر الرابط المدرج
A161: 159 | B161: 2011 | C161: 40606 | D161: The Middle East Feminist Revolution | E161: https://www.aljazeera.com/opinions/2011/3/4/the-middle-east-feminist-revolution?utm_source=chatgpt.com | F161: رقمي | G161: Naomi Wolf | H161: صحفي/ة | I161: أنثى | J161: تقرير صحفي | K161: مادة صحفية | L161: نص مقروء | M161: سياسي | N161: الحركة النسائية | O161: الحق في المشاركة السياسية وحرية الرأي والتعبير والتجمع | P161: الفكر النسوي والحركة النسائية؛ المشاركة السياسية والتمثيل النيابي | Q161: مباشرة | R161: Al Jazeera English؛ ميدان التحرير؛ مصر | S161: ثورة مصر | T161: حقوق المرأة؛ المرأة المصرية؛ النسوية؛ القيادة؛ التغيير الاجتماعي؛ المشاركة السياسية؛ القيادة النسائية | U161: اللغة الإنجليزية | V161: يركز المقال على الدور القيادي للنساء في ثورتي تونس ومصر، مع اهتمام خاص بمشاركة المرأة المصرية في ميدان التحرير في التنظيم والتواصل والإعلام والحشد، وليس باعتبارها مجرد عنصر داعم للاحتجاجات. كما يربط بين ارتفاع تعليم النساء، واستخدام وسائل التواصل الاجتماعي، وتطور قدرتهم على القيادة والمطالبة بالتغيير الديمقراطي وحقوق المرأة. | W161: Al Jazeera English | X161: قناة إخبارية | Y161: مؤسسة إعلامية | Z161: قطر | AA161: إقليمي / دولي | AB161: حكومي | AC161: لا يوجد | AD161: المصدر الأصلي للمحتوى/صفحة الفهرسة المدرجة | AE161: HTML | AF161: مباشر عبر الرابط المدرج
A162: 160 | B162: 2011 | C162: 40608 | D162: The Feminists in Tahrir Square | E162: https://www.newsweek.com/feminists-tahrir-square-66139 | F162: رقمي | G162: إليزابيث روبين | H162: صحفي/ة | I162: أنثى | J162: مقال رأي تحليلي | K162: مادة صحفية | L162: نص مقروء | M162: سياسي | N162: احتجاجات نسائية | O162: الحق في المشاركة السياسية وحرية الرأي والتعبير والتجمع | P162: الفكر النسوي والحركة النسائية؛ الثورة والتحولات السياسية | Q162: مباشرة | R162: News Week؛ ميدان التحرير | S162: ثورة 25 يناير؛ 25 يناير | T162: النسوية، الحركة النسوية والمشاركة الثورية، الحركة النسوية، قضايا المرأة، الاحتجاج | U162: اللغة الإنجليزية | V162: تتناول المادة حضور الناشطات والنسويات في ميدان التحرير خلال ثورة 25 يناير، وتبرز مشاركتهن في الاحتجاجات والمطالبة بالتغيير السياسي، مع مناقشة مكانة قضايا المرأة والحركة النسوية داخل الحراك الثوري، والتحديات التي قد تواجه النساء في ترجمة مشاركتهن في الثورة إلى مكاسب سياسية وحقوقية بعد سقوط النظام. | W162: Newsweek | X162: صحيفة يومية | Y162: مؤسسة إعلامية | Z162: الولايات المتحدة | AA162: دولي | AB162: خاص | AC162: لا يوجد | AD162: المصدر الأصلي للمحتوى/صفحة الفهرسة المدرجة | AE162: HTML | AF162: مباشر عبر الرابط المدرج
A163: 161 | B163: 2011 | C163: 40609 | D163: "نيوز ويك" تبرز دور المرأة فى ثورة 25 يناير | E163: https://www.youm7.com/story/2011/3/7/%D9%86%D9%8A%D9%88%D8%B2-%D9%88%D9%8A%D9%83-%D8%AA%D8%A8%D8%B1%D8%B2-%D8%AF%D9%88%D8%B1-%D8%A7%D9%84%D9%85%D8%B1%D8%A3%D8%A9-%D9%81%D9%89-%D8%AB%D9%88%D8%B1%D8%A9-25-%D9%8A%D9%86%D8%A7%D9%8A%D8%B1/365094 | F163: رقمي | G163: ريم عبد الحميد | H163: صحفي/ة | I163: أنثى | J163: مقال رأي تحليلي | K163: مادة صحفية | L163: نص مقروء | M163: سياسي | N163: إعلامي | O163: الحق في المشاركة السياسية وحرية الرأي والتعبير والتجمع | P163: الثورة والتحولات السياسية | Q163: مباشرة | R163: اليوم السابع؛ ميدان التحرير؛ مصر؛ جميلة إسماعيل | S163: ثورة 25 يناير | T163: نيوزويك؛ أهداف سويف؛ دور المرأة المصرية في ثورة 25 يناير | U163: اللغة العربية | V163: يعرض ما نشرته مجلة نيوزويك عن مشاركة ثلاث أجيال من الناشطات والنساء المصريات في احتجاجات ميدان التحرير خلال ثورة 25 يناير. | W163: اليوم السابع | X163: موقع إخباري | Y163: مؤسسة إعلامية | Z163: مصر | AA163: وطني | AB163: خاص | AC163: لا يوجد | AD163: المصدر الأصلي للمحتوى/صفحة الفهرسة المدرجة | AE163: HTML | AF163: مباشر عبر الرابط المدرج
A164: 162 | B164: 2011 | C164: 40609 | D164: "مصريات من أجل التغير" تحتفل بيوم المرأة بميدان التحرير | E164: https://www.youm7.com/story/2011/3/7/%D9%85%D8%B5%D8%B1%D9%8A%D8%A7%D8%AA-%D9%85%D9%86-%D8%A3%D8%AC%D9%84-%D8%A7%D9%84%D8%AA%D8%BA%D9%8A%D8%B1-%D8%AA%D8%AD%D8%AA%D9%81%D9%84-%D8%A8%D9%8A%D9%88%D9%85-%D8%A7%D9%84%D9%85%D8%B1%D8%A3%D8%A9-%D8%A8%D9%85%D9%8A%D8%AF%D8%A7%D9%86-%D8%A7%D9%84%D8%AA%D8%AD%D8%B1%D9%8A%D8%B1/364949 | F164: رقمي | G164: هند مختار | H164: صحفي/ة | I164: أنثى | J164: تغطية فعالية نسوية | K164: مادة صحفية | L164: نص مقروء | M164: سياسي | N164: العنف ضد المرأة | O164: الحق في الكرامة والسلامة والحماية من العنف | P164: الثورة والتحولات السياسية | Q164: مباشرة | R164: اليوم السابع؛ ميدان التحرير؛ مصر | S164: اليوم العالمي للمرأة | T164: حقوق المرأة؛ مصريات من أجل التغيير؛ مطالب المرأة والاحتفال باليوم العالمي للمرأة بعد الثورة | U164: اللغة العربية | V164: يتناول تنظيم مجموعة مصريات من أجل التغيير وقفة بميدان التحرير في اليوم العالمي للمرأة للمطالبة بحقوق المرأة السياسية والاجتماعية ومواجهة التحرش، مع إبراز مشاركتها في الثورة. | W164: اليوم السابع | X164: موقع إخباري | Y164: مؤسسة إعلامية | Z164: مصر | AA164: وطني | AB164: خاص | AC164: لا يوجد | AD164: المصدر الأصلي للمحتوى/صفحة الفهرسة المدرجة | AE164: HTML | AF164: مباشر عبر الرابط المدرج
A165: 163 | B165: 2011 | C165: 40609 | D165: Million woman march called for by Cairo activists | E165: https://www.theguardian.com/world/2011/mar/07/cairo-million-woman-march-called-for | F165: رقمي | G165: Sarah Carr | H165: صحفي/ة | I165: أنثى | J165: تقرير صحفي | K165: مادة صحفية | L165: نص مقروء | M165: سياسي | N165: الدستور | O165: الحق في المشاركة السياسية وحرية الرأي والتعبير والتجمع | P165: الثورة والتحولات السياسية | Q165: مباشرة | R165: The Guardian؛ ميدان التحرير؛ القاهرة؛ مصر | S165: اليوم العالمي للمرأة؛ مسيرة المليون امرأة | T165: المرأة المصرية؛ الدستور؛ مسيرة المليون امرأة ومطالب النساء في مصر بعد الثورة | U165: اللغة الإنجليزية | V165: تغطية لدعوة ناشطات في القاهرة إلى مسيرة مليون امرأة في ميدان التحرير بمناسبة اليوم العالمي للمرأة، للمطالبة بإشراك النساء في الدستور وإصلاحات تشريعية للمساواة بين الجنسين. | W165: The Guardian | X165: صحيفة يومية بريطانية | Y165: مؤسسة إعلامية | Z165: المملكة المتحدة | AA165: دولي | AB165: خاص | AC165: لا يوجد | AD165: المصدر الأصلي للمحتوى/صفحة الفهرسة المدرجة | AE165: HTML | AF165: مباشر عبر الرابط المدرج
A166: 164 | B166: 2011 | C166: 40609 | D166: شباب 6 أبريل: دور المراة لا يقل عن دور الرجل فى الثورة | E166: https://elaph.com/Web/news/2011/3/637053.html | F166: رقمي | G166: المحرر | H166: صحفي/ة | I166: غير محدد | J166: تقرير صحفي | K166: مادة صحفية | L166: نص مقروء | M166: سياسي | N166: إعلامي | O166: الحق في المشاركة السياسية وحرية الرأي والتعبير والتجمع | P166: المشاركة السياسية والتمثيل النيابي؛ الثورة والتحولات السياسية | Q166: مباشرة | R166: إيلاف؛ 6 أبريل؛ القاهرة؛ مصر | S166: ثورة 25 يناير | T166: المرأة المصرية؛ نساء مصر؛ المشاركة السياسية؛ شباب 6 أبريل: دور المراة لا يقل عن دور الرجل فى الثورة | U166: اللغة العربية | V166: مادة تتناول الدور القيادي للنساء والفتيات في حركة 6 أبريل وثورة 25 يناير، ومشاركتهن في التنظيم والإعلام والخدمات الطبية والتوعية السياسية والانتخابية. | W166: إيلاف | X166: موقع إخباري | Y166: مؤسسة إعلامية | Z166: المملكة المتحدة (تأسيس سعودي) | AA166: إقليمي | AB166: خاص | AC166: لا يوجد | AD166: المصدر الأصلي للمحتوى/صفحة الفهرسة المدرجة | AE166: HTML | AF166: مباشر عبر الرابط المدرج
A167: 165 | B167: 2011 | C167: 40609 | D167: Nawal El Saadawi | E167: https://www.theguardian.com/world/2011/mar/08/nawal-el-saadawi-100-women | F167: رقمي | G167: Homa Khaleeli | H167: صحفي/ة | I167: أنثى | J167: بورتريه / بروفايل صحفي | K167: مادة صحفية | L167: نص مقروء | M167: سياسي | N167: العنف ضد المرأة | O167: الحق في الكرامة والسلامة والحماية من العنف | P167: الفكر النسوي والحركة النسائية؛ العنف ضد المرأة والسلامة الجسدية؛ الثورة والتحولات السياسية | Q167: مباشرة | R167: The Guardian؛ حسني مبارك؛ نوال السعداوي؛ مصر | S167: غير محدد | T167: النسوية؛ تشويه الأعضاء التناسلية؛ العنف الأسري؛ الثورة؛ الأسرة؛ الهوية؛ التاريخ الاجتماعي للمرأة | U167: اللغة الإنجليزية | V167: بروفايل صحفي عن الكاتبة والطبيبة والناشطة النسوية المصرية نوال السعداوي، يتناول عودتها إلى الشارع والمشاركة في الاحتجاجات التي أسقطت نظام حسني مبارك عام 2011، مع استعراض خلفيتها المهنية ونشاطها الطويل في قضايا المرأة، ولا سيما مناهضة ختان الإناث والعنف المنزلي والدعوة إلى مواجهة البنى الأبوية والتطرف الديني. وتربط المادة بين مشاركتها في احتجاجات 2011 ومسيرتها الطويلة في الدفاع عن حقوق النساء في مصر. | W167: The Guardian | X167: صحيفة يومية بريطانية | Y167: مؤسسة إعلامية | Z167: المملكة المتحدة | AA167: دولي | AB167: خاص | AC167: لا يوجد | AD167: المصدر الأصلي للمحتوى/صفحة الفهرسة المدرجة | AE167: HTML | AF167: مباشر عبر الرابط المدرج
A168: 166 | B168: 2011 | C168: 40610 | D168: مقياس حرية المجتمع هو حرية المرأة: ما حصل لنساء مصر في الثامن من اذار | E168: https://sawtalniswa.org/article/365 | F168: رقمي | G168: سالي علي | H168: حقوقي/ة | I168: أنثى | J168: تقرير بحثي حقوقي | K168: مادة حقوقية | L168: نص مقروء | M168: سياسي | N168: احتجاجات نسائية | O168: الحق في المشاركة السياسية وحرية الرأي والتعبير والتجمع | P168: الثورة والتحولات السياسية؛ الفكر النسوي والحركة النسائية؛ المجتمع المدني والعمل الحقوقي | Q168: مباشرة | R168: صوت النسوة؛ ميدان التحرير؛ مصر | S168: اليوم العالمي للمرأة؛ 8 مارس؛ يوم المرأة العالمي | T168: العنف ضد المتظاهرات؛ حرية المرأة؛ المتظاهرات؛ الناشطات؛ نساء مصر | U168: اللغة العربية | V168: يتناول المقال المنشور في موقع «صوت النسوة» للكاتبة سالي علي تحت عنوان «مقياس حرية المجتمع هو حرية المرأة: ما حصل لنساء مصر في الثامن من آذار» وثيقةً وتجربةً حيّة للمشاهد الصادمة التي تعرضت لها المتظاهرات والناشطات في ميدان التحرير خلال الاحتفال باليوم العالمي للمرأة (8 مارس 2011) عقب إسقاط نظام مبارك. | W168: صوت النسوة | X168: منظمة نسوية غير حكومية | Y168: منظمة حقوقية | Z168: لبنان | AA168: إقليمي | AB168: مستقل | AC168: لا يوجد | AD168: المصدر الأصلي للمحتوى/صفحة الفهرسة المدرجة | AE168: HTML | AF168: مباشر عبر الرابط المدرج
A169: 167 | B169: 2011 | C169: 40610 | D169: الثورة المصرية تهمش النساء؟ | E169: https://manshurat.org/node/4359 | F169: رقمي | G169: المحرر | H169: حقوقي/ة | I169: غير محدد | J169: تقرير بحثي حقوقي | K169: مادة حقوقية | L169: نص مقروء + صور | M169: سياسي | N169: المرحلة الانتقالية | O169: الحق في المشاركة السياسية وحرية الرأي والتعبير والتجمع | P169: المشاركة السياسية والتمثيل النيابي؛ الثورة والتحولات السياسية | Q169: مباشرة | R169: منظمة العفو الدولية؛ مصر | S169: الثورة المصرية؛ ثورة 25 يناير | T169: التهميش السياسي؛ المشاركة في صنع القرار؛ المرحلة الانتقالية؛ الحياة السياسية؛ المرأة المصرية؛ صنع القرار | U169: اللغة الإنجليزية | V169: يتناول التقرير أوضاع المرأة المصرية عقب ثورة 25 يناير، مسلطًا الضوء على مظاهر تهميشها واستبعادها من بعض عمليات صنع القرار خلال المرحلة الانتقالية. كما يدعو إلى ضمان مشاركة المرأة بصورة كاملة ومتساوية في الحياة السياسية والعامة، وحماية حقوقها بوصفها جزءًا أساسيًا من مسار التحول الديمقراطي. | W169: منظمة العفو الدولية | X169: منظمة حقوقية دولية غير حكومية | Y169: منظمة حقوقية | Z169: عابر للحدود | AA169: دولي | AB169: مستقل | AC169: منشورات قانونية (manshurat.org) | AD169: مأخوذ عن المصدر الأصلي للمحتوى | AE169: HTML/PDF | AF169: مباشر عبر الرابط المدرج
A170: 168 | B170: 2011 | C170: 40610 | D170: The new Egypt: Leaving women behind | E170: https://www.aljazeera.com/features/2011/3/8/the-new-egypt-leaving-women-behind | F170: رقمي | G170: Basma Atassi | H170: صحفي/ة | I170: أنثى | J170: تقرير صحفي | K170: مادة صحفية | L170: نص مقروء | M170: سياسي | N170: المرحلة الانتقالية | O170: الحق في المشاركة السياسية وحرية الرأي والتعبير والتجمع | P170: المشاركة السياسية والتمثيل النيابي؛ الثورة والتحولات السياسية | Q170: مباشرة | R170: Al Jazeera English؛ مصر | S170: غير محدد | T170: المشاركة السياسية؛ المرأة والثورة؛ التمثيل السياسي؛ الدستور؛ التهميش السياسي؛ التحرش الجنسي؛ التحرش الجنسي في التظاهرات | U170: اللغة الإنجليزية | V170: تقرير يناقش مخاوف نساء مصريات من تهميشهن عند تشكيل مصر بعد مبارك، ويركز على المشاركة السياسية والاحتفاء بالمرأة وحقوقها في المرحلة الانتقالية. | W170: Al Jazeera English | X170: قناة إخبارية | Y170: مؤسسة إعلامية | Z170: قطر | AA170: إقليمي / دولي | AB170: حكومي | AC170: لا يوجد | AD170: المصدر الأصلي للمحتوى/صفحة الفهرسة المدرجة | AE170: HTML | AF170: مباشر عبر الرابط المدرج
A171: 169 | B171: 2011 | C171: 40610 | D171: Women and Men in Tahrir Square | E171: https://www.newyorker.com/news/news-desk/women-and-men-in-tahrir-square?utm_source=chatgpt.com | F171: رقمي | G171: Jenna Krajeski | H171: صحفي/ة | I171: أنثى | J171: تقرير صحفي | K171: مادة صحفية | L171: نص مقروء | M171: سياسي | N171: احتجاجات نسائية | O171: الحق في المشاركة السياسية وحرية الرأي والتعبير والتجمع | P171: المشاركة السياسية والتمثيل النيابي؛ المساواة والتمييز والمواطنة؛ الثورة والتحولات السياسية | Q171: مباشرة | R171: The New Yorker؛ ميدان التحرير؛ مصر | S171: اليوم العالمي للمرأة؛ ثورة 25 يناير؛ يوم المرأة العالمي | T171: المشاركة السياسية؛ المساواة؛ المرحلة الانتقالية؛ النساء المصريات | U171: اللغة الإنجليزية | V171: يناقش المقال أوضاع النساء المصريات في أعقاب ثورة 25 يناير من خلال توثيق أحداث مسيرة اليوم العالمي للمرأة في ميدان التحرير، مسلطًا الضوء على مطالبهن بالمشاركة السياسية والمساواة، والتحديات المجتمعية التي واجهنها خلال المرحلة الانتقالية. | W171: The New Yorker | X171: مجلة إخبارية وثقافية أمريكية | Y171: مؤسسة إعلامية | Z171: الولايات المتحدة | AA171: دولي | AB171: خاص | AC171: لا يوجد | AD171: المصدر الأصلي للمحتوى/صفحة الفهرسة المدرجة | AE171: HTML | AF171: مباشر عبر الرابط المدرج
A172: 170 | B172: 2011 | C172: 40610 | D172: Will Women Benefit from Middle East Revolution? | E172: https://www.voanews.com/a/will-women-benefit-from-middle-east-revolution-117148148/172770.html | F172: رقمي | G172: المحرر | H172: صحفي/ة | I172: غير محدد | J172: مقال رأي تحليلي | K172: مادة صحفية | L172: نص مقروء | M172: سياسي | N172: الدستور | O172: الحق في المشاركة السياسية وحرية الرأي والتعبير والتجمع | P172: الثقافة والفنون والإبداع الأدبي؛ المشاركة السياسية والتمثيل النيابي | Q172: مباشرة | R172: voa news؛ البرلمان؛ مصر | S172: ثورة 25 يناير؛ 25 يناير | T172: حقوق المرأة؛ تمثيل المرأة في الدستور والبرلمان؛ النساء المصريات؛ صنع القرار | U172: اللغة الإنجليزية | V172: تبحث المادة في مستقبل حقوق المرأة ومشاركتها السياسية في أعقاب الثورات العربية، مع التركيز على مصر وتونس. وتبرز خيبة النساء المصريات من استبعادهن من لجنة تعديل الدستور رغم مشاركتهن الفاعلة في ثورة 25 يناير، وتناقش مخاوف التراجع عن حقوق المرأة مع صعود التيارات المحافظة، كما تستعرض التحديات التي تواجه تمثيل النساء في البرلمانات ومؤسسات صنع القرار، وأهمية التحول المجتمعي من أجل تحقيق تمكين نسائي مستدام. | W172: Voice of America (VOA) | X172: شبكة بث إذاعي وتلفزيوني | Y172: مؤسسة إعلامية | Z172: الولايات المتحدة | AA172: دولي | AB172: حكومي | AC172: لا يوجد | AD172: المصدر الأصلي للمحتوى/صفحة الفهرسة المدرجة | AE172: HTML | AF172: مباشر عبر الرابط المدرج
A173: 171 | B173: 2011 | C173: 40610 | D173: In Egypt's Tahrir Square, women attacked at rally on International Women's Day | E173: https://www.csmonitor.com/World/Middle-East/2011/0308/In-Egypt-s-Tahrir-Square-women-attacked-at-rally-on-International-Women-s-Day | F173: رقمي | G173: كريستين شيك | H173: صحفي/ة | I173: أنثى | J173: تقرير صحفي | K173: مادة صحفية | L173: نص مقروء | M173: سياسي | N173: العنف ضد المرأة | O173: الحق في الكرامة والسلامة والحماية من العنف | P173: المساواة والتمييز والمواطنة؛ الثورة والتحولات السياسية | Q173: مباشرة | R173: the Christian Science Monitor؛ ميدان التحرير؛ مصر؛ التحرير | S173: اليوم العالمي للمرأة؛ الثورة المصرية؛ 8 مارس | T173: حقوق المرأة؛ التمييز؛ العنف والتحرش بالمتظاهرات؛ المجال العام | U173: اللغة الإنجليزية | V173: يوثق المقال تعرض عدد من النساء المشاركات في تجمع اليوم العالمي للمرأة بميدان التحرير في 8 مارس 2011 للاعتداء والتحرش ومحاولات الإقصاء من الميدان. ويسلط الضوء على التناقض بين المشاركة الفاعلة للنساء في الثورة المصرية وبين استمرار تعرضهن للعنف والتمييز في المجال العام، وما أثارته هذه الأحداث من مخاوف بشأن مستقبل حقوق المرأة ومشاركتها السياسية بعد الثورة. | W173: The Christian Science Monitor | X173: صحيفة يومية | Y173: مؤسسة إعلامية | Z173: الولايات المتحدة | AA173: دولي | AB173: خاص | AC173: لا يوجد | AD173: المصدر الأصلي للمحتوى/صفحة الفهرسة المدرجة | AE173: HTML | AF173: مباشر عبر الرابط المدرج
A174: 172 | B174: 2011 | C174: 40610 | D174: أخلاقيات الثورة الجديدة والقيم المزدوجة القديمة | E174: https://www.almasryalyoum.com/news/details/203728 | F174: رقمي | G174: نوال السعداوي | H174: كاتب/ة | I174: أنثى | J174: مقال رأي تحليلي | K174: مادة صحفية | L174: نص مقروء | M174: سياسي | N174: عدم المساواة والتمييز | O174: الحق في المواطنة والمساواة وعدم التمييز | P174: المساواة والتمييز والمواطنة | Q174: مباشرة | R174: المصري اليوم؛ نوال السعداوي | S174: ثورة 25 يناير؛ ثورة يناير | T174: المساواة؛ التمييز؛ النظام الأبوي؛ حقوق المرأة؛ المساواة بين الجنسين؛ المساواة بين الجنسين والقيم الأبوية وحقوق المرأة | U174: اللغة العربية | V174: يتناول التحولات الأخلاقية والاجتماعية التي أفرزتها ثورة 25 يناير، ويربطها بالمساواة بين النساء والرجال، وانتقاد النظام الأبوي والعنف والتمييز داخل الأسرة والمجتمع، مع الدعوة إلى مشاركة النساء في الحكم والحياة العامة. | W174: المصري اليوم | X174: صحيفة يومية | Y174: مؤسسة إعلامية | Z174: مصر | AA174: وطني | AB174: خاص | AC174: لا يوجد | AD174: المصدر الأصلي للمحتوى/صفحة الفهرسة المدرجة | AE174: HTML | AF174: مباشر عبر الرابط المدرج
A175: 173 | B175: 2011 | C175: 40610 | D175: Egyptian million woman march ends with a gunshot | E175: https://english.ahram.org.eg/NewsContent/1/64/7292/Egypt/Politics-/Egyptian-million-woman-march-ends-with-a-gunshot.aspx | F175: رقمي | G175: Ekram Ibrahim | H175: صحفي/ة | I175: أنثى | J175: تقرير صحفي | K175: مادة صحفية | L175: نص مقروء | M175: سياسي | N175: احتجاجات نسائية | O175: الحق في المواطنة والمساواة وعدم التمييز | P175: المساواة والتمييز والمواطنة؛ الفكر النسوي والحركة النسائية؛ الأحوال الشخصية والأسرة | Q175: مباشرة | R175: Ahram Online؛ ميدان التحرير؛ التحرير | S175: مسيرة المليون امرأة؛ يوم المرأة العالمي؛ 8 مارس | T175: الحقوق السياسية؛ المساواة؛ المرأة المصرية؛ حقوق المرأة؛ النسوية؛ الأسرة؛ الهوية؛ التاريخ الاجتماعي للمرأة | U175: اللغة الإنجليزية | V175: تقرير عن مسيرة المليون امرأة في ميدان التحرير في يوم المرأة العالمي، ومطالب المشاركات بالمساواة والحقوق السياسية، وما تعرضت له المسيرة من عنف. | W175: Ahram Online | X175: موقع إخباري | Y175: مؤسسة إعلامية | Z175: مصر | AA175: وطني / دولي | AB175: خاص | AC175: لا يوجد | AD175: المصدر الأصلي للمحتوى/صفحة الفهرسة المدرجة | AE175: HTML | AF175: مباشر عبر الرابط المدرج
A176: 174 | B176: 2011 | C176: 40610 | D176: Equality advocates harassed on International Women’s Day | E176: https://www.dailynewsegypt.com/2011/03/08/equality-advocates-harassed-on-international-womens-day/ | F176: رقمي | G176: Safaa Abdoun | H176: صحفي/ة | I176: أنثى | J176: تقرير صحفي | K176: مادة صحفية | L176: نص مقروء | M176: سياسي | N176: احتجاجات نسائية | O176: الحق في المواطنة والمساواة وعدم التمييز | P176: المساواة والتمييز والمواطنة | Q176: مباشرة | R176: Daily News Egypt؛ ميدان التحرير؛ التحرير | S176: مسيرة المليون امرأة؛ يوم المرأة العالمي؛ 8 مارس | T176: المساواة؛ المرأة المصرية | U176: اللغة الإنجليزية | V176: تقرير عن مسيرة المليون امرأة في ميدان التحرير في يوم المرأة العالمي، وما تعرضت له المشاركات من مضايقات ورفض لمطالب المساواة. | W176: Daily News Egypt | X176: موقع إخباري | Y176: مؤسسة إعلامية | Z176: مصر | AA176: وطني / دولي | AB176: خاص | AC176: لا يوجد | AD176: المصدر الأصلي للمحتوى/صفحة الفهرسة المدرجة | AE176: HTML | AF176: مباشر عبر الرابط المدرج
A177: 175 | B177: 2011 | C177: 40610 | D177: Egyptian revolution sidelining women? | E177: https://www.egyptindependent.com/egyptian-revolution-sidelining-women/ | F177: رقمي | G177: Widney Brown | H177: صحفي/ة | I177: أنثى | J177: مقال رأي تحليلي | K177: مادة صحفية | L177: نص مقروء | M177: سياسي | N177: الدستور | O177: الحق في المشاركة السياسية وحرية الرأي والتعبير والتجمع | P177: المساواة والتمييز والمواطنة؛ الثورة والتحولات السياسية | Q177: مباشرة | R177: Egypt Independent؛ مصر | S177: ثورة يناير؛ اليوم العالمي للمرأة | T177: حقوق المرأة؛ المساواة؛ المرأة المصرية؛ الثورة | U177: اللغة الإنجليزية | V177: يتناول المقال مشاركة المرأة المصرية في ثورة يناير 2011، ويناقش خطر تهميشها في مرحلة الانتقال السياسي رغم مشاركتها الفاعلة في الاحتجاجات. ويدعو إلى ضمان مشاركة النساء بمختلف اتجاهاتهن في صياغة الدستور وبناء المؤسسات واتخاذ القرارات السياسية، باعتبار ذلك شرطًا لتحقيق المساواة وحقوق المرأة في مصر الجديدة. | W177: Egypt Independent | X177: موقع إخباري | Y177: مؤسسة إعلامية | Z177: مصر | AA177: وطني / دولي | AB177: خاص | AC177: لا يوجد | AD177: المصدر الأصلي للمحتوى/صفحة الفهرسة المدرجة | AE177: HTML | AF177: مباشر عبر الرابط المدرج
A178: 176 | B178: 2011 | C178: 40610 | D178: Women’s demo outlines controversial demands | E178: https://www.egyptindependent.com/womens-demo-outlines-controversial-demands/ | F178: رقمي | G178: Mai Elwakil | H178: صحفي/ة | I178: أنثى | J178: تقرير صحفي | K178: مادة صحفية | L178: نص مقروء | M178: قانوني وتشريعي | N178: العنف ضد المرأة | O178: الحق في الكرامة والسلامة والحماية من العنف | P178: العنف ضد المرأة والسلامة الجسدية؛ المساواة والتمييز والمواطنة؛ المشاركة السياسية والتمثيل النيابي | Q178: مباشرة | R178: Egypt Independent؛ ميدان التحرير؛ التحرير | S178: مسيرة المليون امرأة | T178: العنف ضد المرأة؛ التمييز؛ المرأة المصرية؛ العنف؛ المشاركة السياسية | U178: اللغة الإنجليزية | V178: تقرير عن مسيرة نسائية في ميدان التحرير طالبت بدولة مدنية ودستورية خالية من التمييز ومشاركة النساء في صياغة المستقبل السياسي والقانوني، ومكافحة العنف ضد المرأة. | W178: Egypt Independent | X178: موقع إخباري | Y178: مؤسسة إعلامية | Z178: مصر | AA178: وطني / دولي | AB178: خاص | AC178: لا يوجد | AD178: المصدر الأصلي للمحتوى/صفحة الفهرسة المدرجة | AE178: HTML | AF178: مباشر عبر الرابط المدرج
A179: 177 | B179: 2011 | C179: 40610 | D179: 150 امرأة يحركن العالم | E179: https://www.ajnet.me/culture/2011/3/8/150-%D8%A7%D9%85%D8%B1%D8%A3%D8%A9-%D9%8A%D8%AD%D8%B1%D9%83%D9%86-%D8%A7%D9%84%D8%B9%D8%A7%D9%84%D9%85 | F179: رقمي | G179: المحرر | H179: صحفي/ة | I179: غير محدد | J179: تقرير صحفي | K179: مادة صحفية | L179: نص مقروء | M179: سياسي | N179: احتجاجات نسائية | O179: الحق في المشاركة السياسية وحرية الرأي والتعبير والتجمع | P179: المساواة والتمييز والمواطنة | Q179: ضمنية | R179: الجزيرة نت؛ نوال السعداوي؛ جميلة إسماعيل؛ داليا زيادة؛ مصر؛ سلمى سعيد | S179: الثورة المصرية | T179: حقوق المرأة؛ نساء مصريات ودورهن في الثورة وحقوق المرأة | U179: اللغة العربية | V179: تستعرض المادة قائمة تضم 150 امرأة مؤثرة عالميا، مع إبراز نساء مصريات مثل نوال السعداوي وجميلة إسماعيل وسلمى سعيد وداليا زيادة ودورهن في الدفاع عن حقوق المرأة والمشاركة في الثورة المصرية. | W179: الجزيرة نت | X179: موقع إخباري | Y179: مؤسسة إعلامية | Z179: قطر | AA179: إقليمي | AB179: حكومي | AC179: نيوزويك | AD179: مأخوذ عن المصدر الأصلي للمحتوى | AE179: HTML | AF179: مباشر عبر الرابط المدرج
... A181: 179 | B181: 2011 | C181: 40610 | D181: Feminist march in Cairo draws protesters | E181: https://www.upi.com/Top_News/World-News/2011/03/08/Feminist-march-in-Cairo-draws-protesters/UPI-28471299588232/ | F181: رقمي | G181: المحرر | H181: صحفي/ة | I181: غير محدد | J181: تغطية فعالية نسوية | K181: مادة صحفية | L181: نص مقروء | M181: سياسي | N181: احتجاجات نسائية | O181: الحق في المشاركة السياسية وحرية الرأي والتعبير والتجمع | P181: المساواة والتمييز والمواطنة؛ المشاركة السياسية والتمثيل النيابي | Q181: مباشرة | R181: UPI؛ القاهرة؛ مصر | S181: اليوم العالمي للمرأة؛ المسيرة النسوية؛ 8 مارس؛ ثورة 25 يناير؛ يوم المرأة العالمي | T181: المساواة؛ المرأة المصرية؛ المشاركة السياسية؛ مسيرة المرأة المصرية في يوم المرأة العالمي | U181: اللغة الإنجليزية | V181: تقرير عن مسيرة نسوية في القاهرة في اليوم العالمي للمرأة للاحتفاء بدور النساء في الاحتجاجات التي أسقطت مبارك والمطالبة بالمساواة وتكافؤ الفرص للمواطنين المصريين. | W181: UPI | X181: وكالة أنباء | Y181: مؤسسة إعلامية | Z181: الولايات المتحدة | AA181: دولي | AB181: خاص | AC181: لا يوجد | AD181: المصدر الأصلي للمحتوى/صفحة الفهرسة المدرجة | AE181: HTML | AF181: مباشر عبر الرابط المدرج
A182: 180 | B182: 2011 | C182: 40610 | D182: Women excluded from Egypt constitutional reform meetings cause protests | E182: https://english.ahram.org.eg/News/7232.aspx | F182: رقمي | G182: Ekram Ibrahim | H182: صحفي/ة | I182: أنثى | J182: تقرير صحفي | K182: مادة صحفية | L182: نص مقروء | M182: سياسي | N182: إعلامي | O182: الحق في المشاركة السياسية وحرية الرأي والتعبير والتجمع | P182: الثورة والتحولات السياسية؛ المشاركة السياسية والتمثيل النيابي؛ القانون والتشريع والحماية الحقوقية | Q182: مباشرة | R182: Ahram Online؛ ميدان التحرير؛ مصر | S182: اليوم العالمي للمرأة؛ 8 مارس | T182: الدستور؛ التمثيل السياسي؛ المرأة والثورة؛ حقوق المرأة؛ القانون؛ الإصلاح التشريعي؛ الحماية القانونية | U182: اللغة الإنجليزية | V182: يتناول المقال احتجاج النشطاء المصريين، رجالًا ونساءً، في ميدان التحرير في اليوم العالمي للمرأة 8 مارس 2011، اعتراضًا على استبعاد النساء من لجنة مراجعة الدستور، والتخوف من عدم تضمين قضايا المرأة بصورة كافية في مرحلة ما بعد مبارك. كما يشير إلى استخدام فيسبوك وتويتر لتنظيم المسيرة، بما يعكس ارتباط المشاركة النسائية والسياسية بوسائل التواصل الاجتماعي خلال الثورة. | W182: Ahram Online | X182: موقع إخباري | Y182: مؤسسة إعلامية | Z182: مصر | AA182: وطني / دولي | AB182: خاص | AC182: لا يوجد | AD182: المصدر الأصلي للمحتوى/صفحة الفهرسة المدرجة | AE182: HTML | AF182: مباشر عبر الرابط المدرج
A183: 181 | B183: 2011 | C183: 40611 | D183: Women fight for rights in post-Mubarak Egypt | E183: https://electronicintifada.net/content/women-fight-rights-post-mubarak-egypt/9821 | F183: رقمي | G183: بسمة أتاسي | H183: صحفي/ة | I183: أنثى | J183: مقال رأي تحليلي | K183: مادة صحفية | L183: نص مقروء | M183: سياسي | N183: العنف ضد المرأة | O183: الحق في المشاركة السياسية وحرية الرأي والتعبير والتجمع | P183: العنف ضد المرأة والسلامة الجسدية؛ الثقافة والفنون والإبداع الأدبي؛ الثورة والتحولات السياسية | Q183: مباشرة | R183: electronic intifada؛ لجنة الدستور؛ مصر | S183: ثورة 25 يناير | T183: التحرش الجنسي؛ تمثيل المرأة الدستوري والتشريعي؛ المرحلة الانتقالية؛ النساء المصريات؛ تمثيل المرأة؛ صنع القرار | U183: اللغة الإنجليزية | V183: تتناول المادة مشاركة النساء المصريات في ثورة 25 يناير، وتبحث في مستقبل حقوقهن السياسية والاجتماعية بعد سقوط مبارك. وتسلط الضوء على مظاهر التهميش التي ظهرت في المرحلة الانتقالية، ومنها غياب النساء عن اللجنة الدستورية، وعودة التحرش الجنسي، مع عرض جهود الناشطات للمطالبة بتمثيل المرأة في مؤسسات صنع القرار وصياغة الدستور والتشريعات الجديدة، والتأكيد على ضرورة تحويل المشاركة النسائية في الثورة إلى مكاسب سياسية وحقوقية مستدامة. | W183: The Electronic Intifada | X183: موقع إخباري | Y183: مؤسسة إعلامية | Z183: الولايات المتحدة | AA183: دولي | AB183: خاص | AC183: IPS / Al Jazeera | AD183: مأخوذ عن المصدر الأصلي للمحتوى | AE183: HTML | AF183: مباشر عبر الرابط المدرج
A184: 182 | B184: 2011 | C184: 40611 | D184: A long battle ahead for Egyptian women | E184: https://www.aljazeera.com/features/2011/3/9/a-long-battle-ahead-for-egyptian-women | F184: رقمي | G184: Fatma Naib | H184: صحفي/ة | I184: أنثى | J184: تقرير صحفي | K184: مادة صحفية | L184: نص مقروء | M184: سياسي | N184: احتجاجات نسائية | O184: الحق في المواطنة والمساواة وعدم التمييز | P184: الثورة والتحولات السياسية؛ الفكر النسوي والحركة النسائية؛ الأحوال الشخصية والأسرة | Q184: مباشرة | R184: Al Jazeera English؛ ميدان التحرير | S184: اليوم العالمي للمرأة؛ يوم المرأة العالمي | T184: المرأة والثورة؛ النسوية؛ الأسرة؛ الهوية؛ التاريخ الاجتماعي للمرأة | U184: اللغة الإنجليزية | V184: تغطية لمسيرة نسائية في ميدان التحرير باليوم العالمي للمرأة، وتباين مواقف الحضور (رجالاً ونساءً) من فكرة مسيرة مخصصة للنساء. | W184: Al Jazeera English | X184: قناة إخبارية | Y184: مؤسسة إعلامية | Z184: قطر | AA184: إقليمي / دولي | AB184: حكومي | AC184: لا يوجد | AD184: المصدر الأصلي للمحتوى/صفحة الفهرسة المدرجة | AE184: HTML | AF184: مباشر عبر الرابط المدرج
A185: 183 | B185: 2011 | C185: 40611 | D185: الشعب يريد إنصاف النساء | E185: https://www.shorouknews.com/columns/view.aspx?cdate=09032011&id=b7130bc1-2134-4217-955b-db59764f0c6b | F185: رقمي | G185: هانيا شلقامى | H185: صحفي/ة | I185: أنثى | J185: تقرير صحفي | K185: مادة صحفية | L185: نص مقروء | M185: سياسي | N185: العنف ضد المرأة | O185: الحق في المواطنة والمساواة وعدم التمييز | P185: المشاركة السياسية والتمثيل النيابي؛ المساواة والتمييز والمواطنة؛ العنف ضد المرأة والسلامة الجسدية | Q185: مباشرة | R185: جريدة الشروق؛ مصر؛ المجلس القومي للمرأة | S185: ثورة 25 يناير | T185: المشاركة السياسية، المساواة، التمييز، المرأة المصرية، المرأة، الكوتا، التحرش، المشاركة السياسية للمرأة، التمثيل النسائي، العمل النسوي | U185: اللغة العربية | V185: يناقش حضور النساء المصريات في ثورة 25 يناير ومشاركتهن في المجال العام، ويدعو إلى ضمان المشاركة السياسية الفاعلة للمرأة وإنشاء أطر مؤسسية منتخبة للتعبير عن مطالب النساء، مع التأكيد على المساواة ومواجهة التمييز والتحرش. | W185: جريدة الشروق | X185: صحيفة يومية | Y185: مؤسسة إعلامية | Z185: مصر | AA185: وطني | AB185: خاص | AC185: لا يوجد | AD185: المصدر الأصلي للمحتوى/صفحة الفهرسة المدرجة | AE185: HTML | AF185: مباشر عبر الرابط المدرج
A186: 184 | B186: 2011 | C186: 40611 | D186: Only Half a Revolution? | E186: https://english.ahram.org.eg/News/7301.aspx | F186: رقمي | G186: Nadya Khalife | H186: صحفي/ة | I186: أنثى | J186: مقال رأي تحليلي | K186: مادة صحفية | L186: نص مقروء | M186: سياسي | N186: العنف ضد المرأة | O186: الحق في الكرامة والسلامة والحماية من العنف | P186: العنف ضد المرأة والسلامة الجسدية؛ المساواة والتمييز والمواطنة؛ الثورة والتحولات السياسية؛ المشاركة السياسية والتمثيل النيابي | Q186: مباشرة | R186: Ahram Online؛ مصر | S186: غير محدد | T186: العنف الأسري؛ المساواة؛ المرأة المصرية؛ حقوق المرأة؛ الثورة؛ المشاركة السياسية | U186: اللغة الإنجليزية | V186: مقال يناقش مشاركة النساء المصريات في الثورة وخطر استبعادهن من الترتيبات السياسية والاجتماعية بعد الثورة، مع طرح قضايا المساواة والعنف الأسري والتحرش وتشويه الأعضاء التناسلية. | W186: Ahram Online | X186: موقع إخباري | Y186: مؤسسة إعلامية | Z186: مصر | AA186: وطني / دولي | AB186: خاص | AC186: لا يوجد | AD186: المصدر الأصلي للمحتوى/صفحة الفهرسة المدرجة | AE186: HTML | AF186: مباشر عبر الرابط المدرج
A187: 185 | B187: 2011 | C187: 40611 | D187: Egypt's revolution means nothing if its women are not free | E187: https://www.theguardian.com/commentisfree/2011/mar/09/egypt-revolution-women | F187: رقمي | G187: Jumanah Younis | H187: صحفي/ة | I187: أنثى | J187: مقال رأي تحليلي | K187: مادة صحفية | L187: نص مقروء | M187: سياسي | N187: العنف ضد المرأة | O187: الحق في الكرامة والسلامة والحماية من العنف | P187: المساواة والتمييز والمواطنة؛ العنف ضد المرأة والسلامة الجسدية؛ الفكر النسوي والحركة النسائية؛ المشاركة السياسية والتمثيل النيابي | Q187: مباشرة | R187: The Guardian؛ مصر | S187: اليوم العالمي للمرأة؛ الثورة المصرية؛ الانتخابات | T187: المساواة؛ المرأة المصرية؛ التحرش؛ الحرية؛ المشاركة السياسية؛ الثورة؛ التمثيل | U187: اللغة الإنجليزية | V187: مقال رأي يربط نجاح الثورة المصرية بتحقيق الحرية والمساواة للنساء، ويناقش الاعتداء على مظاهرة اليوم العالمي للمرأة والتحرش والعوائق التي تواجه مشاركة النساء في الحياة العامة. | W187: The Guardian | X187: صحيفة يومية بريطانية | Y187: مؤسسة إعلامية | Z187: المملكة المتحدة | AA187: دولي | AB187: خاص | AC187: لا يوجد | AD187: المصدر الأصلي للمحتوى/صفحة الفهرسة المدرجة | AE187: HTML | AF187: مباشر عبر الرابط المدرج
A188: 186 | B188: 2011 | C188: 40611 | D188: كلينتون: المرأة المصرية لها كامل الحق فى تشكيل الحكومات | E188: https://www.youm7.com/story/2011/3/9/%D9%83%D9%84%D9%8A%D9%86%D8%AA%D9%88%D9%86-%D8%A7%D9%84%D9%85%D8%B1%D8%A3%D8%A9-%D8%A7%D9%84%D9%85%D8%B5%D8%B1%D9%8A%D8%A9-%D9%84%D9%87%D8%A7-%D9%83%D8%A7%D9%85%D9%84-%D8%A7%D9%84%D8%AD%D9%82-%D9%81%D9%89-%D8%AA%D8%B4%D9%83%D9%8A%D9%84-%D8%A7%D9%84%D8%AD%D9%83%D9%88%D9%85%D8%A7%D8%AA/365957 | F188: رقمي | G188: أ.ش.أ | H188: صحفي/ة | I188: غير محدد | J188: تصريح صحفي | K188: مادة صحفية | L188: نص مقروء | M188: سياسي | N188: المرحلة الانتقالية | O188: الحق في المشاركة السياسية وحرية الرأي والتعبير والتجمع | P188: المشاركة السياسية والتمثيل النيابي | Q188: مباشرة | R188: اليوم السابع؛ مصر؛ كلينتون | S188: غير محدد | T188: المرأة المصرية؛ نساء مصر؛ المرأة المصرية لها كامل الحق فى تشكيل الحكومات | U188: اللغة العربية | V188: تصريح حول حق المرأة المصرية في المشاركة في إعادة تشكيل الحكومات بعد الثورة. | W188: اليوم السابع | X188: موقع إخباري | Y188: مؤسسة إعلامية | Z188: مصر | AA188: وطني | AB188: خاص | AC188: لا يوجد | AD188: المصدر الأصلي للمحتوى/صفحة الفهرسة المدرجة | AE188: HTML | AF188: مباشر عبر الرابط المدرج
A189: 187 | B189: 2011 | C189: 40612 | D189: Islamists ready for their close-up? | E189: https://www.aljazeera.com/features/2011/3/10/islamists-ready-for-their-close-up | F189: رقمي | G189: D. Parvaz | H189: صحفي/ة | I189: أنثى | J189: تقرير صحفي | K189: مادة صحفية | L189: نص مقروء + صور | M189: سياسي | N189: ديني | O189: الحق في المشاركة السياسية وحرية الرأي والتعبير والتجمع | P189: الثورة والتحولات السياسية؛ المشاركة السياسية والتمثيل النيابي؛ المساواة والتمييز والمواطنة | Q189: مباشرة | R189: Al Jazeera English؛ الإسلاميون؛ مصر | S189: غير محدد | T189: المرأة المصرية؛ الإخوان المسلمون؛ حقوق المرأة؛ الثورة؛ المشاركة السياسية؛ موقف القوى الإسلامية من حقوق المرأة في مصر بعد الثورة | U189: اللغة الإنجليزية | V189: تحليل صحفي لمستقبل التيارات الإسلامية في مصر وتونس بعد ثورات 2011، يناقش احتمالات وصول الإسلاميين إلى السلطة وتأثير ذلك على طبيعة النظام السياسي والحريات والحقوق، مع تناول خاص لوضع المرأة المصرية وحقوقها في ظل احتمال صعود الإسلاميين، ومخاوف الناشطات من تراجع مكتسبات المرأة، في سياق الجدل حول مشاركة المرأة السياسية والدستور والحريات بعد الثورة. | W189: Al Jazeera English | X189: قناة إخبارية | Y189: مؤسسة إعلامية | Z189: قطر | AA189: إقليمي / دولي | AB189: حكومي | AC189: لا يوجد | AD189: المصدر الأصلي للمحتوى/صفحة الفهرسة المدرجة | AE189: HTML | AF189: مباشر عبر الرابط المدرج
A190: 188 | B190: 2011 | C190: 40612 | D190: Egyptian Women's Status Report 2010 | E190: https://ecwronline.org/?lang=ar&p=4569 | F190: رقمي | G190: Nehad Aboul Komsan / ECWR Research Unit | H190: حقوقي/ة | I190: أنثى | J190: تقرير بحثي حقوقي | K190: مادة حقوقية | L190: نص مقروء | M190: اقتصادي | N190: التمكين الاقتصادي | O190: الحق في العمل والحقوق الاقتصادية | P190: القانون والتشريع والحماية الحقوقية؛ الاقتصاد وسوق العمل | Q190: مباشرة | R190: Egyptian Center for Women's Rights؛ مصر | S190: الانتخابات | T190: حقوق المرأة؛ القضاء؛ الوضع الاجتماعي؛ الوضع السياسي؛ الاقتصاد؛ التعليم؛ العنف؛ الإعلام | U190: اللغة الإنجليزية | V190: تقرير عن حالة المرأة المصرية يرصد أوضاعها وحقوقها ومشكلاتها الاجتماعية والاقتصادية والسياسية، ويقدم قراءة لوضع النساء في مصر خلال 2010/2011. | W190: Egyptian Center for Women's Rights | X190: منظمة نسوية غير حكومية | Y190: منظمة حقوقية | Z190: مصر | AA190: وطني / دولي | AB190: مستقل | AC190: لا يوجد | AD190: المصدر الأصلي للمحتوى/صفحة الفهرسة المدرجة | AE190: HTML/PDF | AF190: مباشر عبر الرابط المدرج
A191: 189 | B191: 2011 | C191: 40613 | D191: Women and Revolution in the Middle East | E191: https://mepc.org/commentary/women-and-revolution-middle-east | F191: رقمي | G191: المحرر | H191: باحث/ة | I191: غير محدد | J191: دراسة تحليلية | K191: مادة بحثية | L191: نص مقروء + فيديو | M191: سياسي | N191: احتجاجات نسائية | O191: الحق في المشاركة السياسية وحرية الرأي والتعبير والتجمع | P191: الثورة والتحولات السياسية؛ المشاركة السياسية والتمثيل النيابي؛ العنف ضد المرأة والسلامة الجسدية | Q191: مباشرة | R191: Middle East policy council؛ أسماء محفوظ؛ مصر | S191: الربيع العربي؛ ثورة 25 يناير؛ 25 يناير | T191: دور المرأة في الربيع العربي، صنع القرار، المرأة | U191: اللغة الإنجليزية | V191: مقال تحليلي (Middle East Policy Council) يستعرض الدور المحوري الذي لعبته المرأة في ثورات الربيع العربي، مستشهداً بدور أسماء محفوظ في إطلاق شرارة ثورة 25 يناير عبر مقطع فيديو دعت فيه المصريين للنزول للتظاهر، ويناقش تطلعات النساء إلى مقعد فعلي على طاولة صنع القرار في مرحلة إعادة بناء الدول العربية. | W191: Middle East policy council | X191: مركز أبحاث | Y191: مؤسسة بحثية | Z191: الولايات المتحدة | AA191: دولي | AB191: مستقل | AC191: لا يوجد | AD191: المصدر الأصلي للمحتوى/صفحة الفهرسة المدرجة | AE191: HTML | AF191: مباشر عبر الرابط المدرج
A192: 190 | B192: 2011 | C192: 40613 | D192: Perceptions of Arab women have been revolutionised | E192: https://www.theguardian.com/commentisfree/2011/mar/11/arab-women-revolutionised-egypt-tunisia-yemen | F192: رقمي | G192: Soumaya Ghannoushi | H192: صحفي/ة | I192: أنثى | J192: تقرير صحفي | K192: مادة صحفية | L192: نص مقروء + صور | M192: سياسي | N192: احتجاجات نسائية | O192: الحق في المشاركة السياسية وحرية الرأي والتعبير والتجمع | P192: الثورة والتحولات السياسية؛ المشاركة السياسية والتمثيل النيابي | Q192: مباشرة | R192: The Guardian؛ مصر؛ ميدان التحرير | S192: الثورة المصرية | T192: الصورة النمطية؛ المرأة المصرية؛ الثورة؛ المشاركة السياسية؛ دور النساء المصريات في الثورة وتغير الصورة النمطية للمرأة العربية | U192: اللغة الإنجليزية | V192: مقال رأي يناقش تحطم الصورة النمطية للمرأة العربية من خلال مشاركتها في الاحتجاجات، مع إبراز حضور النساء في الثورة المصرية وتونس واليمن. | W192: The Guardian | X192: صحيفة يومية بريطانية | Y192: مؤسسة إعلامية | Z192: المملكة المتحدة | AA192: دولي | AB192: خاص | AC192: لا يوجد | AD192: المصدر الأصلي للمحتوى/صفحة الفهرسة المدرجة | AE192: HTML | AF192: مباشر عبر الرابط المدرج
A193: 191 | B193: 2011 | C193: 40613 | D193: Speak Out in Solidarity with Egyptian Women! | E193: https://www.amnestyusa.org/updates/speak-out-in-solidarity-with-egyptian-women/ | F193: رقمي | G193: المحرر | H193: حقوقي/ة | I193: غير محدد | J193: بيان حقوقي | K193: مادة حقوقية | L193: نص مقروء | M193: سياسي | N193: العنف ضد المرأة | O193: الحق في الكرامة والسلامة والحماية من العنف | P193: المساواة والتمييز والمواطنة؛ الثورة والتحولات السياسية؛ الفكر النسوي والحركة النسائية | Q193: مباشرة | R193: Amnesty International USA؛ مصر | S193: يوم المرأة العالمي | T193: التمييز؛ العنف ضد المتظاهرات؛ الثورة؛ النسوية؛ الأسرة؛ الهوية؛ التاريخ الاجتماعي للمرأة | U193: اللغة الإنجليزية | V193: دعوة تضامن مع النساء المصريات عقب الثورة، تركز على حماية حقوقهن ومواجهة التمييز والعنف وضمان مشاركتهن في بناء المستقبل السياسي. | W193: Amnesty International USA | X193: منظمة حقوقية دولية غير حكومية | Y193: منظمة حقوقية | Z193: الولايات المتحدة | AA193: دولي | AB193: مستقل | AC193: لا يوجد | AD193: المصدر الأصلي للمحتوى/صفحة الفهرسة المدرجة | AE193: HTML | AF193: مباشر عبر الرابط المدرج
A194: 192 | B194: 2011 | C194: 40615 | D194: الأقباط والمرأة والمشاركة السياسية | E194: https://www.shorouknews.com/columns/magda-barakah-abdel-hamid | F194: رقمي | G194: ماجدة بركه عبد الحميد | H194: صحفي/ة | I194: أنثى | J194: مقال رأي تحليلي | K194: مادة صحفية | L194: نص مقروء | M194: سياسي | N194: المرحلة الانتقالية | O194: الحق في المشاركة السياسية وحرية الرأي والتعبير والتجمع | P194: المشاركة السياسية والتمثيل النيابي؛ المساواة والتمييز والمواطنة | Q194: مباشرة | R194: جريدة الشروق؛ الأقباط؛ مصر | S194: غير محدد | T194: المشاركة السياسية؛ المساواة؛ المواطنة؛ المرأة المصرية؛ المشاركة السياسية للمرأة؛ المواطنة والمساواة | U194: اللغة العربية | V194: يتناول أوجه التشابه بين قضايا الأقباط وقضية المرأة، ويركز على حق المرأة المصرية في المشاركة السياسية والمساواة والمواطنة، في سياق النقاش حول الحقوق والتمثيل في مصر بعد الثورة. | W194: جريدة الشروق | X194: صحيفة يومية | Y194: مؤسسة إعلامية | Z194: مصر | AA194: وطني | AB194: خاص | AC194: لا يوجد | AD194: المصدر الأصلي للمحتوى/صفحة الفهرسة المدرجة | AE194: HTML | AF194: مباشر عبر الرابط المدرج
A195: 193 | B195: 2011 | C195: 40615 | D195: Female activists call for abolition of women’s quota | E195: https://www.egyptindependent.com/female-activists-call-abolition-womens-quota/ | F195: رقمي | G195: المحرر | H195: صحفي/ة | I195: غير محدد | J195: تقرير صحفي | K195: مادة صحفية | L195: نص مقروء | M195: سياسي | N195: الدستور | O195: الحق في المشاركة السياسية وحرية الرأي والتعبير والتجمع | P195: الاقتصاد وسوق العمل؛ المشاركة السياسية والتمثيل النيابي؛ الثورة والتحولات السياسية | Q195: مباشرة | R195: Egypt Independent؛ مصر | S195: الانتخابات | T195: تمكين المرأة؛ المرأة المصرية؛ الكوتا؛ الدستور؛ التمكين | U195: اللغة الإنجليزية | V195: يعرض مواقف ناشطات مصريات من إنشاء لجنة للمرأة وإلغاء كوتا النساء، والدعوة إلى نظام انتخابي نسبي وتعديل الدستور لتمكين المرأة. | W195: Egypt Independent | X195: موقع إخباري | Y195: مؤسسة إعلامية | Z195: مصر | AA195: وطني / دولي | AB195: خاص | AC195: لا يوجد | AD195: المصدر الأصلي للمحتوى/صفحة الفهرسة المدرجة | AE195: HTML | AF195: مباشر عبر الرابط المدرج
A196: 194 | B196: 2011 | C196: 40616 | D196: Egyptian women still struggle for a spot in politics | E196: https://www.egyptindependent.com/egyptian-women-still-struggle-spot-politics/ | F196: رقمي | G196: Heba Afify | H196: صحفي/ة | I196: أنثى | J196: تقرير صحفي | K196: مادة صحفية | L196: نص مقروء | M196: سياسي | N196: التمكين السياسي | O196: الحق في المشاركة السياسية وحرية الرأي والتعبير والتجمع | P196: المشاركة السياسية والتمثيل النيابي؛ الثورة والتحولات السياسية | Q196: مباشرة | R196: Egypt Independent؛ الحكومة | S196: الانتخابات | T196: المرأة المصرية؛ المشاركة السياسية؛ الثورة؛ صنع القرار؛ التمثيل | U196: اللغة الإنجليزية | V196: يرصد استمرار استبعاد النساء من المشهد السياسي رغم مشاركتهن في الثورة، وضعف حضورهن في الحكومة واللجان وصنع القرار. | W196: Egypt Independent | X196: موقع إخباري | Y196: مؤسسة إعلامية | Z196: مصر | AA196: وطني / دولي | AB196: خاص | AC196: لا يوجد | AD196: المصدر الأصلي للمحتوى/صفحة الفهرسة المدرجة | AE196: HTML | AF196: مباشر عبر الرابط المدرج
A197: 195 | B197: 2011 | C197: 40618 | D197: Protesters recount torture while in military detention | E197: https://www.dailynewsegypt.com/2011/03/16/protesters-recount-torture-while-in-military-detention/ | F197: رقمي | G197: Mai Shams El-Din | H197: صحفي/ة | I197: أنثى | J197: تقرير صحفي | K197: مادة صحفية | L197: نص مقروء | M197: سياسي | N197: احتجاجات نسائية | O197: الحق في الكرامة والسلامة والحماية من العنف | P197: العنف ضد المرأة والسلامة الجسدية | Q197: مباشرة | R197: Daily News Egypt؛ التحرير | S197: الاحتجاز؛ فحوص العذرية؛ التعذيب | T197: المرأة المصرية؛ الاحتجاز العسكري | U197: اللغة الإنجليزية | V197: يوثق شهادات متظاهرات تعرضن للتعري والإهانة وإجراءات فحص العذرية أثناء الاحتجاز العسكري عقب إخلاء اعتصام التحرير. | W197: Daily News Egypt | X197: موقع إخباري | Y197: مؤسسة إعلامية | Z197: مصر | AA197: وطني / دولي | AB197: خاص | AC197: لا يوجد | AD197: المصدر الأصلي للمحتوى/صفحة الفهرسة المدرجة | AE197: HTML | AF197: مباشر عبر الرابط المدرج
A198: 196 | B198: 2011 | C198: 40618 | D198: Un sourire à Tahrir | E198: https://french.ahram.org.eg/arab/ahram/2011/3/16/visa0.htm | F198: رقمي | G198: Menha el Batraoui | H198: صحفي/ة | I198: أنثى | J198: بورتريه / بروفايل صحفي | K198: مادة صحفية | L198: نص مقروء | M198: سياسي | N198: احتجاجات نسائية | O198: الحق في المشاركة السياسية وحرية الرأي والتعبير والتجمع | P198: الثورة والتحولات السياسية؛ المساواة والتمييز والمواطنة | Q198: مباشرة | R198: Ahraminfo / Al-Ahram Hebdo؛ ميدان التحرير؛ مصر؛ التحرير؛ بسمة أحمد السيد | S198: غير محدد | T198: المرأة المصرية؛ الثورة؛ العدالة الاجتماعية | U198: اللغة الفرنسية | V198: بورتريه لبسمة أحمد السيد، مواطنة مصرية شاركت في ميدان التحرير وطالبت بالتغيير والحرية والعدالة الاجتماعية، مع إبراز حضور النساء الشابات في الثورة. | W198: Ahraminfo / Al-Ahram Hebdo | X198: موقع إخباري | Y198: مؤسسة إعلامية | Z198: مصر | AA198: وطني / دولي | AB198: خاص | AC198: لا يوجد | AD198: المصدر الأصلي للمحتوى/صفحة الفهرسة المدرجة | AE198: HTML | AF198: مباشر عبر الرابط المدرج
A199: 197 | B199: 2011 | C199: 40618 | D199: مركز حقوقى: المرأة المصرية كانت بالصفوف الأولى فى الثورة | E199: https://www.youm7.com/story/2011/3/16/%D9%85%D8%B1%D9%83%D8%B2-%D8%AD%D9%82%D9%88%D9%82%D9%89-%D8%A7%D9%84%D9%85%D8%B1%D8%A3%D8%A9-%D8%A7%D9%84%D9%85%D8%B5%D8%B1%D9%8A%D8%A9-%D9%83%D8%A7%D9%86%D8%AA-%D8%A8%D8%A7%D9%84%D8%B5%D9%81%D9%88%D9%81-%D8%A7%D9%84%D8%A3%D9%88%D9%84%D9%89-%D9%81%D9%89-%D8%A7%D9%84%D8%AB%D9%88%D8%B1%D8%A9/370989 | F199: رقمي | G199: أحمد مصطفى | H199: صحفي/ة | I199: ذكر | J199: بيان حقوقي | K199: مادة حقوقية | L199: نص مقروء | M199: سياسي | N199: المرحلة الانتقالية | O199: الحق في المشاركة السياسية وحرية الرأي والتعبير والتجمع | P199: المساواة والتمييز والمواطنة؛ التعليم؛ الثورة والتحولات السياسية | Q199: مباشرة | R199: اليوم السابع؛ مركز القاهرة للتنمية؛ مصر | S199: ثورة 25 يناير | T199: المساواة؛ التعليم؛ المرأة المصرية؛ نساء مصر؛ الثورة؛ حقوق المرأة؛ المناصب القيادية؛ المواطنة | U199: اللغة العربية | V199: بيان مركز القاهرة للتنمية عن دور المرأة المصرية في الصفوف الأمامية لثورة 25 يناير والمساواة والتعليم والقيادة. | W199: اليوم السابع | X199: موقع إخباري | Y199: مؤسسة إعلامية | Z199: مصر | AA199: وطني | AB199: خاص | AC199: لا يوجد | AD199: المصدر الأصلي للمحتوى/صفحة الفهرسة المدرجة | AE199: HTML | AF199: مباشر عبر الرابط المدرج
A200: 198 | B200: 2011 | C200: 40621 | D200: الافراج عن المحامية راجية عمران | E200: https://nwrcegypt.org/%D8%A7%D9%84%D8%A7%D9%81%D8%B1%D8%A7%D8%AC-%D8%B9%D9%86-%D8%A7%D9%84%D9%85%D8%AD%D8%A7%D9%85%D9%8A%D8%A9-%D8%B1%D8%A7%D8%AC%D9%8A%D8%A9-%D8%B9%D9%85%D8%B1%D8%A7%D9%86/ | F200: رقمي | G200: المحرر | H200: حقوقي/ة | I200: غير محدد | J200: حكم حقوقي | K200: مادة حقوقية | L200: نص مقروء | M200: سياسي | N200: المرحلة الانتقالية | O200: الحق في المشاركة السياسية وحرية الرأي والتعبير والتجمع | P200: المجتمع المدني والعمل الحقوقي؛ العنف ضد المرأة والسلامة الجسدية | Q200: مباشرة | R200: مؤسسة المرأة الجديدة؛ مصر؛ راجية عمران | S200: الاستفتاء؛ ثورة 25 يناير؛ الاحتجاز | T200: ناشطة؛ محامية؛ النيابة العسكرية؛ حرية التعبير؛ الحماية من الاحتجاز؛ مشاركة النساء في الشأن العام | U200: اللغة العربية | V200: تتابع المادة الإفراج عن الناشطة والمحامية راجية عمران بعد التحقيق معها أمام النيابة العسكرية، وتوثق دورها في الدفاع عن متظاهري مصر ومراقبة الاستفتاء خلال المرحلة الانتقالية بعد الثورة. | W200: مؤسسة المرأة الجديدة | X200: منظمة نسوية غير حكومية | Y200: منظمة حقوقية | Z200: مصر | AA200: وطني | AB200: مستقل | AC200: لا يوجد | AD200: المصدر الأصلي للمحتوى/صفحة الفهرسة المدرجة | AE200: HTML | AF200: مباشر عبر الرابط المدرج
A201: 199 | B201: 2011 | C201: 40622 | D201: الفراعنة كرموا المرأة | E201: https://www.ajnet.me/culture/2011/3/20/%D8%A7%D9%84%D9%81%D8%B1%D8%A7%D8%B9%D9%86%D8%A9-%D9%83%D8%B1%D9%85%D9%88%D8%A7-%D8%A7%D9%84%D9%85%D8%B1%D8%A3%D8%A9 | F201: رقمي | G201: المحرر | H201: صحفي/ة | I201: غير محدد | J201: تقرير صحفي | K201: مادة صحفية | L201: نص مقروء | M201: اجتماعي | N201: تاريخي | O201: الحق في الأسرة والأحوال الشخصية | P201: الأحوال الشخصية والأسرة | Q201: مباشرة | R201: الجزيرة نت؛ المركز المصري لدراسات المرأة؛ مصر القديمة | S201: غير محدد | T201: المرأة المصرية؛ الأسرة؛ مكانة المرأة والأسرة في مصر القديمة | U201: اللغة العربية | V201: تعرض دراسة تاريخية صادرة عن المركز المصري لدراسات المرأة مكانة المرأة في مصر القديمة، وتوضح ما توصلت إليه الدراسة من تقدير للمرأة وتمتعها بقدر من الحرية الشخصية وتقاسم المسؤوليات والملكية داخل الأسرة. | W201: الجزيرة نت | X201: موقع إخباري | Y201: مؤسسة إعلامية | Z201: قطر | AA201: إقليمي | AB201: حكومي | AC201: الألمانية | AD201: مأخوذ عن المصدر الأصلي للمحتوى | AE201: HTML | AF201: مباشر عبر الرابط المدرج
...

Sheet تقييم المصادر
A1: قائمة تقييم المصادر
A2: م | B2: الناشر | C2: نوع الناشر | D2: تصنيف الناشر | E2: نطاق النشر | F2: إطار عمل الناشر | G2: عدد المواد المدرجة | H2: النسبة المئوية للمواد
A3: 1 | B3: اليوم السابع | C3: موقع إخباري | D3: مؤسسة اعلامية | E3: وطني | F3: خاص | G3: =SUMPRODUCT(--(TRIM('egyptian women 2011'!$W$3:$W$590)=TRIM($B3))) -> 34 | H3: =G3/SUM($G$3:$G$249) -> 0.059964727
A4: 2 | B4: Egypt Independent | C4: موقع إخباري | D4: مؤسسة اعلامية | E4: وطني/دولي | F4: خاص | G4: =SUMPRODUCT(--(TRIM('egyptian women 2011'!$W$3:$W$590)=TRIM($B4))) -> 33 | H4: =G4/SUM($G$3:$G$249) -> 0.058201058
A5: 3 | B5: Ahram Online | C5: موقع اخباري | D5: مؤسسة اعلامية | E5: وطني/دولي | F5: خاص | G5: =SUMPRODUCT(--(TRIM('egyptian women 2011'!$W$3:$W$590)=TRIM($B5))) -> 26 | H5: =G5/SUM($G$3:$G$249) -> 0.045855379
A6: 4 | B6: الأهرام اليومي | C6: صحيفة يومية | D6: مؤسسة اعلامية | E6: وطني | F6: حكومي | G6: =SUMPRODUCT(--(TRIM('egyptian women 2011'!$W$3:$W$590)=TRIM($B6))) -> 22 | H6: =G6/SUM($G$3:$G$249) -> 0.038800705
A7: 5 | B7: Daily News Egypt | C7: موقع إخباري | D7: مؤسسة اعلامية | E7: وطني/دولي | F7: خاص | G7: =SUMPRODUCT(--(TRIM('egyptian women 2011'!$W$3:$W$590)=TRIM($B7))) -> 18 | H7: =G7/SUM($G$3:$G$249) -> 0.031746032
A8: 6 | B8: The Guardian | C8: صحيفة يومية بريطانية | D8: مؤسسة اعلامية | E8: دولي | F8: خاص | G8: =SUMPRODUCT(--(TRIM('egyptian women 2011'!$W$3:$W$590)=TRIM($B8))) -> 16 | H8: =G8/SUM($G$3:$G$249) -> 0.028218695
A9: 7 | B9: مؤسسة المرأة الجديدة | C9: منظمة نسوية غير حكومية | D9: منظمة حقوقية | E9: وطني | F9: مستقل | G9: =SUMPRODUCT(--(TRIM('egyptian women 2011'!$W$3:$W$590)=TRIM($B9))) -> 15 | H9: =G9/SUM($G$3:$G$249) -> 0.026455026
A10: 8 | B10: المجلس القومى للمرأة | C10: هيئة حكومية متخصصة | D10: جهة حكومية | E10: وطني | F10: حكومي | G10: =SUMPRODUCT(--(TRIM('egyptian women 2011'!$W$3:$W$590)=TRIM($B10))) -> 0 | H10: =G10/SUM($G$3:$G$249) -> 0
A11: 9 | B11: جريدة الشروق | C11: صحيفة يومية | D11: مؤسسة اعلامية | E11: وطني | F11: خاص | G11: =SUMPRODUCT(--(TRIM('egyptian women 2011'!$W$3:$W$590)=TRIM($B11))) -> 14 | H11: =G11/SUM($G$3:$G$249) -> 0.024691358
A12: 10 | B12: وزارة التربية والتعليم | C12: هيئة حكومية | D12: جهة حكومية | E12: وطني | F12: حكومي | G12: =SUMPRODUCT(--(TRIM('egyptian women 2011'!$W$3:$W$590)=TRIM($B12))) -> 13 | H12: =G12/SUM($G$3:$G$249) -> 0.02292769
A13: 11 | B13: المصري اليوم | C13: صحيفة يومية | D13: مؤسسة اعلامية | E13: وطني | F13: خاص | G13: =SUMPRODUCT(--(TRIM('egyptian women 2011'!$W$3:$W$590)=TRIM($B13))) -> 11 | H13: =G13/SUM($G$3:$G$249) -> 0.019400353
A14: 12 | B14: Al Jazeera English | C14: قناة إخبارية | D14: مؤسسة اعلامية | E14: اقليمي/دولي | F14: حكومي | G14: =SUMPRODUCT(--(TRIM('egyptian women 2011'!$W$3:$W$590)=TRIM($B14))) -> 10 | H14: =G14/SUM($G$3:$G$249) -> 0.017636684
... A249: 247 | B249: Genetic Testing and Molecular Biomarkers / SAGE | C249: مجلة علمية محكمة | D249: مؤسسة اكاديمية | E249: دولي | F249: خاص | G249: =SUMPRODUCT(--(TRIM('egyptian women 2011'!$W$3:$W$590)=TRIM($B249))) -> 1 | H249: =G249/SUM($G$3:$G$249) -> 0.0017636684
B250: الإجمالي | G250: =SUM($G$3:$G$249) -> 567 | H250: =SUM($H$3:$H$249) -> 1

Sheet stats
A1: دليل الورقة | C1: تحليل إحصائي وصفي متقاطع (Cross-tabulation) لقاعدة البيانات
A2: تم اختيار 10 أعمدة دلالية/تصنيفية محورية من قاعدة البيانات (فئات متوازنة التوزيع وذات دلالة تحليلية)، ونُفّذت كل التقاطعات الممكنة بينها (45 تقاطعًا).
A3: الأعمدة العشرة: النوع الاجتماعي لمنشئ المادة، صفة المنشئ، تصنيف نوع المادة، التصنيف الموضوعي للمادة، زاوية تناول المحتوى، التصنيف تبعا للحق، اللغة، تصنيف نوع الناشر أو جهة النشر، نطاق النشر، إطار عمل الناشر.
A4: كل جدول يعرض التكرارات (Frequencies) بصيغة حية (COUNTIFS) مرتبطة مباشرة بورقة البيانات الأصلية، يليه جدول النسب المئوية (%) لكل صف، ثم رسم بياني مطابق للنمط البصري المرجعي.
A7: 1 | B7: قاعدة بيانات: توثيق المحتوى الإعلامي والبحثي عن المرأة المصرية - 2011
A8: النوع الاجتماعي لمنشئ المادة | B8: ورقة البيانات: egyptian women 2011
A9: صفة المنشئ | B9: إحصاء وصفي بين النوع الاجتماعي لمنشئ المادة وصفة المنشئ
B10: الفئة \ المتغير | C10: صحفي/ة | D10: أكاديمي/ة | E10: حقوقي/ة | F10: كاتب/ة | G10: باحث/ة | H10: سلطة رسمية | I10: الإجمالي
B11: أنثى | C11: =COUNTIFS('egyptian women 2011'!$I$3:$I$590,$B11,'egyptian women 2011'!$H$3:$H$590,C$10) -> 142 | D11: =COUNTIFS('egyptian women 2011'!$I$3:$I$590,$B11,'egyptian women 2011'!$H$3:$H$590,D$10) -> 87 | E11: =COUNTIFS('egyptian women 2011'!$I$3:$I$590,$B11,'egyptian women 2011'!$H$3:$H$590,E$10) -> 23 | F11: =COUNTIFS('egyptian women 2011'!$I$3:$I$590,$B11,'egyptian women 2011'!$H$3:$H$590,F$10) -> 28 | G11: =COUNTIFS('egyptian women 2011'!$I$3:$I$590,$B11,'egyptian women 2011'!$H$3:$H$590,G$10) -> 18 | H11: =COUNTIFS('egyptian women 2011'!$I$3:$I$590,$B11,'egyptian women 2011'!$H$3:$H$590,H$10) -> 0 | I11: =SUM(C11:H11) -> 298
B12: غير محدد | C12: =COUNTIFS('egyptian women 2011'!$I$3:$I$590,$B12,'egyptian women 2011'!$H$3:$H$590,C$10) -> 84 | D12: =COUNTIFS('egyptian women 2011'!$I$3:$I$590,$B12,'egyptian women 2011'!$H$3:$H$590,D$10) -> 0 | E12: =COUNTIFS('egyptian women 2011'!$I$3:$I$590,$B12,'egyptian women 2011'!$H$3:$H$590,E$10) -> 61 | F12: =COUNTIFS('egyptian women 2011'!$I$3:$I$590,$B12,'egyptian women 2011'!$H$3:$H$590,F$10) -> 0 | G12: =COUNTIFS('egyptian women 2011'!$I$3:$I$590,$B12,'egyptian women 2011'!$H$3:$H$590,G$10) -> 7 | H12: =COUNTIFS('egyptian women 2011'!$I$3:$I$590,$B12,'egyptian women 2011'!$H$3:$H$590,H$10) -> 3 | I12: =SUM(C12:H12) -> 155
B13: ذكر | C13: =COUNTIFS('egyptian women 2011'!$I$3:$I$590,$B13,'egyptian women 2011'!$H$3:$H$590,C$10) -> 58 | D13: =COUNTIFS('egyptian women 2011'!$I$3:$I$590,$B13,'egyptian women 2011'!$H$3:$H$590,D$10) -> 17 | E13: =COUNTIFS('egyptian women 2011'!$I$3:$I$590,$B13,'egyptian women 2011'!$H$3:$H$590,E$10) -> 4 | F13: =COUNTIFS('egyptian women 2011'!$I$3:$I$590,$B13,'egyptian women 2011'!$H$3:$H$590,F$10) -> 13 | G13: =COUNTIFS('egyptian women 2011'!$I$3:$I$590,$B13,'egyptian women 2011'!$H$3:$H$590,G$10) -> 7 | H13: =COUNTIFS('egyptian women 2011'!$I$3:$I$590,$B13,'egyptian women 2011'!$H$3:$H$590,H$10) -> 13 | I13: =SUM(C13:H13) -> 112
B14: مختلط/فريق بحث | C14: =COUNTIFS('egyptian women 2011'!$I$3:$I$590,$B14,'egyptian women 2011'!$H$3:$H$590,C$10) -> 2 | D14: =COUNTIFS('egyptian women 2011'!$I$3:$I$590,$B14,'egyptian women 2011'!$H$3:$H$590,D$10) -> 11 | E14: =COUNTIFS('egyptian women 2011'!$I$3:$I$590,$B14,'egyptian women 2011'!$H$3:$H$590,E$10) -> 2 | F14: =COUNTIFS('egyptian women 2011'!$I$3:$I$590,$B14,'egyptian women 2011'!$H$3:$H$590,F$10) -> 1 | G14: =COUNTIFS('egyptian women 2011'!$I$3:$I$590,$B14,'egyptian women 2011'!$H$3:$H$590,G$10) -> 7 | H14: =COUNTIFS('egyptian women 2011'!$I$3:$I$590,$B14,'egyptian women 2011'!$H$3:$H$590,H$10) -> 0 | I14: =SUM(C14:H14) -> 23
B15: الإجمالي | C15: =SUM(C11:C14) -> 286 | D15: =SUM(D11:D14) -> 115 | E15: =SUM(E11:E14) -> 90 | F15: =SUM(F11:F14) -> 42 | G15: =SUM(G11:G14) -> 39 | H15: =SUM(H11:H14) -> 16 | I15: =SUM(I11:I14) -> 588
B16: النسب المئوية % (نسبة كل فئة من "صفة المنشئ" داخل كل فئة من "النوع الاجتماعي لمنشئ المادة")
B17: الفئة \ المتغير | C17: صحفي/ة | D17: أكاديمي/ة | E17: حقوقي/ة | F17: كاتب/ة | G17: باحث/ة | H17: سلطة رسمية | I17: الإجمالي
B18: أنثى | C18: =IFERROR(C11/I11,0) -> 0.47651007 | D18: =IFERROR(D11/I11,0) -> 0.29194631 | E18: =IFERROR(E11/I11,0) -> 0.077181208 | F18: =IFERROR(F11/I11,0) -> 0.093959732 | G18: =IFERROR(G11/I11,0) -> 0.060402685 | H18: =IFERROR(H11/I11,0) -> 0 | I18: =IFERROR(I11/I11,0) -> 1
B19: غير محدد | C19: =IFERROR(C12/I12,0) -> 0.54193548 | D19: =IFERROR(D12/I12,0) -> 0 | E19: =IFERROR(E12/I12,0) -> 0.39354839 | F19: =IFERROR(F12/I12,0) -> 0 | G19: =IFERROR(G12/I12,0) -> 0.04516129 | H19: =IFERROR(H12/I12,0) -> 0.019354839 | I19: =IFERROR(I12/I12,0) -> 1
B20: ذكر | C20: =IFERROR(C13/I13,0) -> 0.51785714 | D20: =IFERROR(D13/I13,0) -> 0.15178571 | E20: =IFERROR(E13/I13,0) -> 0.035714286 | F20: =IFERROR(F13/I13,0) -> 0.11607143 | G20: =IFERROR(G13/I13,0) -> 0.0625 | H20: =IFERROR(H13/I13,0) -> 0.11607143 | I20: =IFERROR(I13/I13,0) -> 1
B21: مختلط/فريق بحث | C21: =IFERROR(C14/I14,0) -> 0.086956522 | D21: =IFERROR(D14/I14,0) -> 0.47826087 | E21: =IFERROR(E14/I14,0) -> 0.086956522 | F21: =IFERROR(F14/I14,0) -> 0.043478261 | G21: =IFERROR(G14/I14,0) -> 0.30434783 | H21: =IFERROR(H14/I14,0) -> 0 | I21: =IFERROR(I14/I14,0) -> 1
B22: الإجمالي | C22: =IFERROR(C15/I15,0) -> 0.48639456 | D22: =IFERROR(D15/I15,0) -> 0.19557823 | E22: =IFERROR(E15/I15,0) -> 0.15306122 | F22: =IFERROR(F15/I15,0) -> 0.071428571 | G22: =IFERROR(G15/I15,0) -> 0.066326531 | H22: =IFERROR(H15/I15,0) -> 0.027210884 | I22: =IFERROR(I15/I15,0) -> 1
A25: 2 | B25: قاعدة بيانات: توثيق المحتوى الإعلامي والبحثي عن المرأة المصرية - 2011
A26: النوع الاجتماعي لمنشئ المادة | B26: ورقة البيانات: egyptian women 2011
A27: تصنيف نوع المادة | B27: إحصاء وصفي بين النوع الاجتماعي لمنشئ المادة وتصنيف نوع المادة
B28: الفئة \ المتغير | C28: مادة صحفية | D28: دراسة أكاديمية | E28: مادة حقوقية | F28: مادة بحثية | G28: نص تشريعي / قرار رسمي | H28: دليل تدريبي / إرشادي | I28: تقرير إحصائي / بيانات | J28: الإجمالي
B29: أنثى | C29: =COUNTIFS('egyptian women 2011'!$I$3:$I$590,$B29,'egyptian women 2011'!$K$3:$K$590,C$28) -> 146 | D29: =COUNTIFS('egyptian women 2011'!$I$3:$I$590,$B29,'egyptian women 2011'!$K$3:$K$590,D$28) -> 87 | E29: =COUNTIFS('egyptian women 2011'!$I$3:$I$590,$B29,'egyptian women 2011'!$K$3:$K$590,E$28) -> 29 | F29: =COUNTIFS('egyptian women 2011'!$I$3:$I$590,$B29,'egyptian women 2011'!$K$3:$K$590,F$28) -> 35 | G29: =COUNTIFS('egyptian women 2011'!$I$3:$I$590,$B29,'egyptian women 2011'!$K$3:$K$590,G$28) -> 0 | H29: =COUNTIFS('egyptian women 2011'!$I$3:$I$590,$B29,'egyptian women 2011'!$K$3:$K$590,H$28) -> 0 | I29: =COUNTIFS('egyptian women 2011'!$I$3:$I$590,$B29,'egyptian women 2011'!$K$3:$K$590,I$28) -> 1 | J29: =SUM(C29:I29) -> 298
B30: غير محدد | C30: =COUNTIFS('egyptian women 2011'!$I$3:$I$590,$B30,'egyptian women 2011'!$K$3:$K$590,C$28) -> 83 | D30: =COUNTIFS('egyptian women 2011'!$I$3:$I$590,$B30,'egyptian women 2011'!$K$3:$K$590,D$28) -> 0 | E30: =COUNTIFS('egyptian women 2011'!$I$3:$I$590,$B30,'egyptian women 2011'!$K$3:$K$590,E$28) -> 61 | F30: =COUNTIFS('egyptian women 2011'!$I$3:$I$590,$B30,'egyptian women 2011'!$K$3:$K$590,F$28) -> 4 | G30: =COUNTIFS('egyptian women 2011'!$I$3:$I$590,$B30,'egyptian women 2011'!$K$3:$K$590,G$28) -> 3 | H30: =COUNTIFS('egyptian women 2011'!$I$3:$I$590,$B30,'egyptian women 2011'!$K$3:$K$590,H$28) -> 2 | I30: =COUNTIFS('egyptian women 2011'!$I$3:$I$590,$B30,'egyptian women 2011'!$K$3:$K$590,I$28) -> 2 | J30: =SUM(C30:I30) -> 155
B31: ذكر | C31: =COUNTIFS('egyptian women 2011'!$I$3:$I$590,$B31,'egyptian women 2011'!$K$3:$K$590,C$28) -> 57 | D31: =COUNTIFS('egyptian women 2011'!$I$3:$I$590,$B31,'egyptian women 2011'!$K$3:$K$590,D$28) -> 17 | E31: =COUNTIFS('egyptian women 2011'!$I$3:$I$590,$B31,'egyptian women 2011'!$K$3:$K$590,E$28) -> 6 | F31: =COUNTIFS('egyptian women 2011'!$I$3:$I$590,$B31,'egyptian women 2011'!$K$3:$K$590,F$28) -> 17 | G31: =COUNTIFS('egyptian women 2011'!$I$3:$I$590,$B31,'egyptian women 2011'!$K$3:$K$590,G$28) -> 13 | H31: =COUNTIFS('egyptian women 2011'!$I$3:$I$590,$B31,'egyptian women 2011'!$K$3:$K$590,H$28) -> 2 | I31: =COUNTIFS('egyptian women 2011'!$I$3:$I$590,$B31,'egyptian women 2011'!$K$3:$K$590,I$28) -> 0 | J31: =SUM(C31:I31) -> 112
B32: مختلط/فريق بحث | C32: =COUNTIFS('egyptian women 2011'!$I$3:$I$590,$B32,'egyptian women 2011'!$K$3:$K$590,C$28) -> 2 | D32: =COUNTIFS('egyptian women 2011'!$I$3:$I$590,$B32,'egyptian women 2011'!$K$3:$K$590,D$28) -> 11 | E32: =COUNTIFS('egyptian women 2011'!$I$3:$I$590,$B32,'egyptian women 2011'!$K$3:$K$590,E$28) -> 2 | F32: =COUNTIFS('egyptian women 2011'!$I$3:$I$590,$B32,'egyptian women 2011'!$K$3:$K$590,F$28) -> 5 | G32: =COUNTIFS('egyptian women 2011'!$I$3:$I$590,$B32,'egyptian women 2011'!$K$3:$K$590,G$28) -> 0 | H32: =COUNTIFS('egyptian women 2011'!$I$3:$I$590,$B32,'egyptian women 2011'!$K$3:$K$590,H$28) -> 3 | I32: =COUNTIFS('egyptian women 2011'!$I$3:$I$590,$B32,'egyptian women 2011'!$K$3:$K$590,I$28) -> 0 | J32: =SUM(C32:I32) -> 23
B33: الإجمالي | C33: =SUM(C29:C32) -> 288 | D33: =SUM(D29:D32) -> 115 | E33: =SUM(E29:E32) -> 98 | F33: =SUM(F29:F32) -> 61 | G33: =SUM(G29:G32) -> 16 | H33: =SUM(H29:H32) -> 7 | I33: =SUM(I29:I32) -> 3 | J33: =SUM(J29:J32) -> 588
B34: النسب المئوية % (نسبة كل فئة من "تصنيف نوع المادة" داخل كل فئة من "النوع الاجتماعي لمنشئ المادة")
B35: الفئة \ المتغير | C35: مادة صحفية | D35: دراسة أكاديمية | E35: مادة حقوقية | F35: مادة بحثية | G35: نص تشريعي / قرار رسمي | H35: دليل تدريبي / إرشادي | I35: تقرير إحصائي / بيانات | J35: الإجمالي
B36: أنثى | C36: =IFERROR(C29/J29,0) -> 0.48993289 | D36: =IFERROR(D29/J29,0) -> 0.29194631 | E36: =IFERROR(E29/J29,0) -> 0.097315436 | F36: =IFERROR(F29/J29,0) -> 0.11744966 | G36: =IFERROR(G29/J29,0) -> 0 | H36: =IFERROR(H29/J29,0) -> 0 | I36: =IFERROR(I29/J29,0) -> 0.0033557047 | J36: =IFERROR(J29/J29,0) -> 1
B37: غير محدد | C37: =IFERROR(C30/J30,0) -> 0.53548387 | D37: =IFERROR(D30/J30,0) -> 0 | E37: =IFERROR(E30/J30,0) -> 0.39354839 | F37: =IFERROR(F30/J30,0) -> 0.025806452 | G37: =IFERROR(G30/J30,0) -> 0.019354839 | H37: =IFERROR(H30/J30,0) -> 0.012903226 | I37: =IFERROR(I30/J30,0) -> 0.012903226 | J37: =IFERROR(J30/J30,0) -> 1
B38: ذكر | C38: =IFERROR(C31/J31,0) -> 0.50892857 | D38: =IFERROR(D31/J31,0) -> 0.15178571 | E38: =IFERROR(E31/J31,0) -> 0.053571429 | F38: =IFERROR(F31/J31,0) -> 0.15178571 | G38: =IFERROR(G31/J31,0) -> 0.11607143 | H38: =IFERROR(H31/J31,0) -> 0.017857143 | I38: =IFERROR(I31/J31,0) -> 0 | J38: =IFERROR(J31/J31,0) -> 1
B39: مختلط/فريق بحث | C39: =IFERROR(C32/J32,0) -> 0.086956522 | D39: =IFERROR(D32/J32,0) -> 0.47826087 | E39: =IFERROR(E32/J32,0) -> 0.086956522 | F39: =IFERROR(F32/J32,0) -> 0.2173913 | G39: =IFERROR(G32/J32,0) -> 0 | H39: =IFERROR(H32/J32,0) -> 0.13043478 | I39: =IFERROR(I32/J32,0) -> 0 | J39: =IFERROR(J32/J32,0) -> 1
B40: الإجمالي | C40: =IFERROR(C33/J33,0) -> 0.48979592 | D40: =IFERROR(D33/J33,0) -> 0.19557823 | E40: =IFERROR(E33/J33,0) -> 0.16666667 | F40: =IFERROR(F33/J33,0) -> 0.1037415 | G40: =IFERROR(G33/J33,0) -> 0.027210884 | H40: =IFERROR(H33/J33,0) -> 0.011904762 | I40: =IFERROR(I33/J33,0) -> 0.0051020408 | J40: =IFERROR(J33/J33,0) -> 1
A43: 3 | B43: قاعدة بيانات: توثيق المحتوى الإعلامي والبحثي عن المرأة المصرية - 2011
A44: النوع الاجتماعي لمنشئ المادة | B44: ورقة البيانات: egyptian women 2011
A45: التصنيف الموضوعي للمادة | B45: إحصاء وصفي بين النوع الاجتماعي لمنشئ المادة والتصنيف الموضوعي للمادة
B46: الفئة \ المتغير | C46: سياسي | D46: اجتماعي | E46: اقتصادي | F46: قانوني وتشريعي | G46: صحي | H46: تعليمي | I46: ثقافي وفكري | J46: الإجمالي
B47: أنثى | C47: =COUNTIFS('egyptian women 2011'!$I$3:$I$590,$B47,'egyptian women 2011'!$M$3:$M$590,C$46) -> 183 | D47: =COUNTIFS('egyptian women 2011'!$I$3:$I$590,$B47,'egyptian women 2011'!$M$3:$M$590,D$46) -> 44 | E47: =COUNTIFS('egyptian women 2011'!$I$3:$I$590,$B47,'egyptian women 2011'!$M$3:$M$590,E$46) -> 23 | F47: =COUNTIFS('egyptian women 2011'!$I$3:$I$590,$B47,'egyptian women 2011'!$M$3:$M$590,F$46) -> 25 | G47: =COUNTIFS('egyptian women 2011'!$I$3:$I$590,$B47,'egyptian women 2011'!$M$3:$M$590,G$46) -> 11 | H47: =COUNTIFS('egyptian women 2011'!$I$3:$I$590,$B47,'egyptian women 2011'!$M$3:$M$590,H$46) -> 2 | I47: =COUNTIFS('egyptian women 2011'!$I$3:$I$590,$B47,'egyptian women 2011'!$M$3:$M$590,I$46) -> 10 | J47: =SUM(C47:I47) -> 298
B48: غير محدد | C48: =COUNTIFS('egyptian women 2011'!$I$3:$I$590,$B48,'egyptian women 2011'!$M$3:$M$590,C$46) -> 104 | D48: =COUNTIFS('egyptian women 2011'!$I$3:$I$590,$B48,'egyptian women 2011'!$M$3:$M$590,D$46) -> 15 | E48: =COUNTIFS('egyptian women 2011'!$I$3:$I$590,$B48,'egyptian women 2011'!$M$3:$M$590,E$46) -> 17 | F48: =COUNTIFS('egyptian women 2011'!$I$3:$I$590,$B48,'egyptian women 2011'!$M$3:$M$590,F$46) -> 12 | G48: =COUNTIFS('egyptian women 2011'!$I$3:$I$590,$B48,'egyptian women 2011'!$M$3:$M$590,G$46) -> 4 | H48: =COUNTIFS('egyptian women 2011'!$I$3:$I$590,$B48,'egyptian women 2011'!$M$3:$M$590,H$46) -> 0 | I48: =COUNTIFS('egyptian women 2011'!$I$3:$I$590,$B48,'egyptian women 2011'!$M$3:$M$590,I$46) -> 3 | J48: =SUM(C48:I48) -> 155
B49: ذكر | C49: =COUNTIFS('egyptian women 2011'!$I$3:$I$590,$B49,'egyptian women 2011'!$M$3:$M$590,C$46) -> 63 | D49: =COUNTIFS('egyptian women 2011'!$I$3:$I$590,$B49,'egyptian women 2011'!$M$3:$M$590,D$46) -> 11 | E49: =COUNTIFS('egyptian women 2011'!$I$3:$I$590,$B49,'egyptian women 2011'!$M$3:$M$590,E$46) -> 9 | F49: =COUNTIFS('egyptian women 2011'!$I$3:$I$590,$B49,'egyptian women 2011'!$M$3:$M$590,F$46) -> 11 | G49: =COUNTIFS('egyptian women 2011'!$I$3:$I$590,$B49,'egyptian women 2011'!$M$3:$M$590,G$46) -> 2 | H49: =COUNTIFS('egyptian women 2011'!$I$3:$I$590,$B49,'egyptian women 2011'!$M$3:$M$590,H$46) -> 14 | I49: =COUNTIFS('egyptian women 2011'!$I$3:$I$590,$B49,'egyptian women 2011'!$M$3:$M$590,I$46) -> 2 | J49: =SUM(C49:I49) -> 112
B50: مختلط/فريق بحث | C50: =COUNTIFS('egyptian women 2011'!$I$3:$I$590,$B50,'egyptian women 2011'!$M$3:$M$590,C$46) -> 7 | D50: =COUNTIFS('egyptian women 2011'!$I$3:$I$590,$B50,'egyptian women 2011'!$M$3:$M$590,D$46) -> 3 | E50: =COUNTIFS('egyptian women 2011'!$I$3:$I$590,$B50,'egyptian women 2011'!$M$3:$M$590,E$46) -> 3 | F50: =COUNTIFS('egyptian women 2011'!$I$3:$I$590,$B50,'egyptian women 2011'!$M$3:$M$590,F$46) -> 0 | G50: =COUNTIFS('egyptian women 2011'!$I$3:$I$590,$B50,'egyptian women 2011'!$M$3:$M$590,G$46) -> 9 | H50: =COUNTIFS('egyptian women 2011'!$I$3:$I$590,$B50,'egyptian women 2011'!$M$3:$M$590,H$46) -> 1 | I50: =COUNTIFS('egyptian women 2011'!$I$3:$I$590,$B50,'egyptian women 2011'!$M$3:$M$590,I$46) -> 0 | J50: =SUM(C50:I50) -> 23
B51: الإجمالي | C51: =SUM(C47:C50) -> 357 | D51: =SUM(D47:D50) -> 73 | E51: =SUM(E47:E50) -> 52 | F51: =SUM(F47:F50) -> 48 | G51: =SUM(G47:G50) -> 26 | H51: =SUM(H47:H50) -> 17 | I51: =SUM(I47:I50) -> 15 | J51: =SUM(J47:J50) -> 588
B52: النسب المئوية % (نسبة كل فئة من "التصنيف الموضوعي للمادة" داخل كل فئة من "النوع الاجتماعي لمنشئ المادة")
B53: الفئة \ المتغير | C53: سياسي | D53: اجتماعي | E53: اقتصادي | F53: قانوني وتشريعي | G53: صحي | H53: تعليمي | I53: ثقافي وفكري | J53: الإجمالي
B54: أنثى | C54: =IFERROR(C47/J47,0) -> 0.61409396 | D54: =IFERROR(D47/J47,0) -> 0.14765101 | E54: =IFERROR(E47/J47,0) -> 0.077181208 | F54: =IFERROR(F47/J47,0) -> 0.083892617 | G54: =IFERROR(G47/J47,0) -> 0.036912752 | H54: =IFERROR(H47/J47,0) -> 0.0067114094 | I54: =IFERROR(I47/J47,0) -> 0.033557047 | J54: =IFERROR(J47/J47,0) -> 1
B55: غير محدد | C55: =IFERROR(C48/J48,0) -> 0.67096774 | D55: =IFERROR(D48/J48,0) -> 0.096774194 | E55: =IFERROR(E48/J48,0) -> 0.10967742 | F55: =IFERROR(F48/J48,0) -> 0.077419355 | G55: =IFERROR(G48/J48,0) -> 0.025806452 | H55: =IFERROR(H48/J48,0) -> 0 | I55: =IFERROR(I48/J48,0) -> 0.019354839 | J55: =IFERROR(J48/J48,0) -> 1
B56: ذكر | C56: =IFERROR(C49/J49,0) -> 0.5625 | D56: =IFERROR(D49/J49,0) -> 0.098214286 | E56: =IFERROR(E49/J49,0) -> 0.080357143 | F56: =IFERROR(F49/J49,0) -> 0.098214286 | G56: =IFERROR(G49/J49,0) -> 0.017857143 | H56: =IFERROR(H49/J49,0) -> 0.125 | I56: =IFERROR(I49/J49,0) -> 0.017857143 | J56: =IFERROR(J49/J49,0) -> 1
B57: مختلط/فريق بحث | C57: =IFERROR(C50/J50,0) -> 0.30434783 | D57: =IFERROR(D50/J50,0) -> 0.13043478 | E57: =IFERROR(E50/J50,0) -> 0.13043478 | F57: =IFERROR(F50/J50,0) -> 0 | G57: =IFERROR(G50/J50,0) -> 0.39130435 | H57: =IFERROR(H50/J50,0) -> 0.043478261 | I57: =IFERROR(I50/J50,0) -> 0 | J57: =IFERROR(J50/J50,0) -> 1
B58: الإجمالي | C58: =IFERROR(C51/J51,0) -> 0.60714286 | D58: =IFERROR(D51/J51,0) -> 0.12414966 | E58: =IFERROR(E51/J51,0) -> 0.088435374 | F58: =IFERROR(F51/J51,0) -> 0.081632653 | G58: =IFERROR(G51/J51,0) -> 0.044217687 | H58: =IFERROR(H51/J51,0) -> 0.028911565 | I58: =IFERROR(I51/J51,0) -> 0.025510204 | J58: =IFERROR(J51/J51,0) -> 1
A61: 4 | B61: قاعدة بيانات: توثيق المحتوى الإعلامي والبحثي عن المرأة المصرية - 2011
A62: النوع الاجتماعي لمنشئ المادة | B62: ورقة البيانات: egyptian women 2011
A63: زاوية تناول المحتوى | B63: إحصاء وصفي بين النوع الاجتماعي لمنشئ المادة وزاوية تناول المحتوى
B64: الفئة \ المتغير | C64: العنف ضد المرأة | D64: احتجاجات نسائية | E64: التمكين السياسي | F64: المرحلة الانتقالية | G64: ديني | H64: كشوف العذرية | I64: إعلامي | J64: التمكين الاقتصادي | K64: الأسرة | L64: عدم المساواة والتمييز | M64: المرأة العاملة | N64: الانتخابات | O64: المرأة الريفية | P64: الدستور | Q64: صحي ونفسي | R64: الحركة النسائية | S64: التمكين الثقافي | T64: تاريخي | U64: الهجرة | V64: الإجمالي
B65: أنثى | C65: =COUNTIFS('egyptian women 2011'!$I$3:$I$590,$B65,'egyptian women 2011'!$N$3:$N$590,C$64) -> 41 | D65: =COUNTIFS('egyptian women 2011'!$I$3:$I$590,$B65,'egyptian women 2011'!$N$3:$N$590,D$64) -> 40 | E65: =COUNTIFS('egyptian women 2011'!$I$3:$I$590,$B65,'egyptian women 2011'!$N$3:$N$590,E$64) -> 27 | F65: =COUNTIFS('egyptian women 2011'!$I$3:$I$590,$B65,'egyptian women 2011'!$N$3:$N$590,F$64) -> 22 | G65: =COUNTIFS('egyptian women 2011'!$I$3:$I$590,$B65,'egyptian women 2011'!$N$3:$N$590,G$64) -> 20 | H65: =COUNTIFS('egyptian women 2011'!$I$3:$I$590,$B65,'egyptian women 2011'!$N$3:$N$590,H$64) -> 13 | I65: =COUNTIFS('egyptian women 2011'!$I$3:$I$590,$B65,'egyptian women 2011'!$N$3:$N$590,I$64) -> 24 | J65: =COUNTIFS('egyptian women 2011'!$I$3:$I$590,$B65,'egyptian women 2011'!$N$3:$N$590,J$64) -> 10 | ... U65: =COUNTIFS('egyptian women 2011'!$I$3:$I$590,$B65,'egyptian women 2011'!$N$3:$N$590,U$64) -> 1 | V65: =SUM(C65:U65) -> 298
B66: غير محدد | C66: =COUNTIFS('egyptian women 2011'!$I$3:$I$590,$B66,'egyptian women 2011'!$N$3:$N$590,C$64) -> 25 | D66: =COUNTIFS('egyptian women 2011'!$I$3:$I$590,$B66,'egyptian women 2011'!$N$3:$N$590,D$64) -> 19 | E66: =COUNTIFS('egyptian women 2011'!$I$3:$I$590,$B66,'egyptian women 2011'!$N$3:$N$590,E$64) -> 14 | F66: =COUNTIFS('egyptian women 2011'!$I$3:$I$590,$B66,'egyptian women 2011'!$N$3:$N$590,F$64) -> 16 | G66: =COUNTIFS('egyptian women 2011'!$I$3:$I$590,$B66,'egyptian women 2011'!$N$3:$N$590,G$64) -> 4 | H66: =COUNTIFS('egyptian women 2011'!$I$3:$I$590,$B66,'egyptian women 2011'!$N$3:$N$590,H$64) -> 18 | I66: =COUNTIFS('egyptian women 2011'!$I$3:$I$590,$B66,'egyptian women 2011'!$N$3:$N$590,I$64) -> 4 | J66: =COUNTIFS('egyptian women 2011'!$I$3:$I$590,$B66,'egyptian women 2011'!$N$3:$N$590,J$64) -> 3 | ... U66: =COUNTIFS('egyptian women 2011'!$I$3:$I$590,$B66,'egyptian women 2011'!$N$3:$N$590,U$64) -> 0 | V66: =SUM(C66:U66) -> 155
B67: ذكر | C67: =COUNTIFS('egyptian women 2011'!$I$3:$I$590,$B67,'egyptian women 2011'!$N$3:$N$590,C$64) -> 19 | D67: =COUNTIFS('egyptian women 2011'!$I$3:$I$590,$B67,'egyptian women 2011'!$N$3:$N$590,D$64) -> 10 | E67: =COUNTIFS('egyptian women 2011'!$I$3:$I$590,$B67,'egyptian women 2011'!$N$3:$N$590,E$64) -> 11 | F67: =COUNTIFS('egyptian women 2011'!$I$3:$I$590,$B67,'egyptian women 2011'!$N$3:$N$590,F$64) -> 9 | G67: =COUNTIFS('egyptian women 2011'!$I$3:$I$590,$B67,'egyptian women 2011'!$N$3:$N$590,G$64) -> 14 | H67: =COUNTIFS('egyptian women 2011'!$I$3:$I$590,$B67,'egyptian women 2011'!$N$3:$N$590,H$64) -> 5 | I67: =COUNTIFS('egyptian women 2011'!$I$3:$I$590,$B67,'egyptian women 2011'!$N$3:$N$590,I$64) -> 4 | J67: =COUNTIFS('egyptian women 2011'!$I$3:$I$590,$B67,'egyptian women 2011'!$N$3:$N$590,J$64) -> 17 | ... U67: =COUNTIFS('egyptian women 2011'!$I$3:$I$590,$B67,'egyptian women 2011'!$N$3:$N$590,U$64) -> 0 | V67: =SUM(C67:U67) -> 112
B68: مختلط/فريق بحث | C68: =COUNTIFS('egyptian women 2011'!$I$3:$I$590,$B68,'egyptian women 2011'!$N$3:$N$590,C$64) -> 0 | D68: =COUNTIFS('egyptian women 2011'!$I$3:$I$590,$B68,'egyptian women 2011'!$N$3:$N$590,D$64) -> 1 | E68: =COUNTIFS('egyptian women 2011'!$I$3:$I$590,$B68,'egyptian women 2011'!$N$3:$N$590,E$64) -> 5 | F68: =COUNTIFS('egyptian women 2011'!$I$3:$I$590,$B68,'egyptian women 2011'!$N$3:$N$590,F$64) -> 1 | G68: =COUNTIFS('egyptian women 2011'!$I$3:$I$590,$B68,'egyptian women 2011'!$N$3:$N$590,G$64) -> 0 | H68: =COUNTIFS('egyptian women 2011'!$I$3:$I$590,$B68,'egyptian women 2011'!$N$3:$N$590,H$64) -> 0 | I68: =COUNTIFS('egyptian women 2011'!$I$3:$I$590,$B68,'egyptian women 2011'!$N$3:$N$590,I$64) -> 0 | J68: =COUNTIFS('egyptian women 2011'!$I$3:$I$590,$B68,'egyptian women 2011'!$N$3:$N$590,J$64) -> 1 | ... U68: =COUNTIFS('egyptian women 2011'!$I$3:$I$590,$B68,'egyptian women 2011'!$N$3:$N$590,U$64) -> 1 | V68: =SUM(C68:U68) -> 23
B69: الإجمالي | C69: =SUM(C65:C68) -> 85 | D69: =SUM(D65:D68) -> 70 | E69: =SUM(E65:E68) -> 57 | F69: =SUM(F65:F68) -> 48 | G69: =SUM(G65:G68) -> 38 | H69: =SUM(H65:H68) -> 36 | I69: =SUM(I65:I68) -> 32 | J69: =SUM(J65:J68) -> 31 | ... V69: =SUM(V65:V68) -> 588
B70: النسب المئوية % (نسبة كل فئة من "زاوية تناول المحتوى" داخل كل فئة من "النوع الاجتماعي لمنشئ المادة")
B71: الفئة \ المتغير | C71: العنف ضد المرأة | D71: احتجاجات نسائية | E71: التمكين السياسي | F71: المرحلة الانتقالية | G71: ديني | H71: كشوف العذرية | I71: إعلامي | J71: التمكين الاقتصادي | K71: الأسرة | L71: عدم المساواة والتمييز | M71: المرأة العاملة | N71: الانتخابات | O71: المرأة الريفية | P71: الدستور | Q71: صحي ونفسي | R71: الحركة النسائية | S71: التمكين الثقافي | T71: تاريخي | U71: الهجرة | V71: الإجمالي
B72: أنثى | C72: =IFERROR(C65/V65,0) -> 0.13758389 | D72: =IFERROR(D65/V65,0) -> 0.13422819 | E72: =IFERROR(E65/V65,0) -> 0.090604027 | F72: =IFERROR(F65/V65,0) -> 0.073825503 | G72: =IFERROR(G65/V65,0) -> 0.067114094 | H72: =IFERROR(H65/V65,0) -> 0.043624161 | I72: =IFERROR(I65/V65,0) -> 0.080536913 | J72: =IFERROR(J65/V65,0) -> 0.033557047 | K72: =IFERROR(K65/V65,0) -> 0.067114094 | L72: =IFERROR(L65/V65,0) -> 0.043624161 | M72: =IFERROR(M65/V65,0) -> 0.033557047 | N72: =IFERROR(N65/V65,0) -> 0.023489933 | O72: =IFERROR(O65/V65,0) -> 0.030201342 | P72: =IFERROR(P65/V65,0) -> 0.036912752 | Q72: =IFERROR(Q65/V65,0) -> 0.020134228 | R72: =IFERROR(R65/V65,0) -> 0.030201342 | S72: =IFERROR(S65/V65,0) -> 0.023489933 | T72: =IFERROR(T65/V65,0) -> 0.026845638 | U72: =IFERROR(U65/V65,0) -> 0.0033557047 | V72: =IFERROR(V65/V65,0) -> 1
B73: غير محدد | C73: =IFERROR(C66/V66,0) -> 0.16129032 | D73: =IFERROR(D66/V66,0) -> 0.12258065 | E73: =IFERROR(E66/V66,0) -> 0.090322581 | F73: =IFERROR(F66/V66,0) -> 0.10322581 | G73: =IFERROR(G66/V66,0) -> 0.025806452 | H73: =IFERROR(H66/V66,0) -> 0.11612903 | I73: =IFERROR(I66/V66,0) -> 0.025806452 | J73: =IFERROR(J66/V66,0) -> 0.019354839 | K73: =IFERROR(K66/V66,0) -> 0.032258065 | L73: =IFERROR(L66/V66,0) -> 0.051612903 | M73: =IFERROR(M66/V66,0) -> 0.051612903 | N73: =IFERROR(N66/V66,0) -> 0.070967742 | O73: =IFERROR(O66/V66,0) -> 0.038709677 | P73: =IFERROR(P66/V66,0) -> 0.032258065 | Q73: =IFERROR(Q66/V66,0) -> 0.0064516129 | R73: =IFERROR(R66/V66,0) -> 0.019354839 | S73: =IFERROR(S66/V66,0) -> 0.019354839 | T73: =IFERROR(T66/V66,0) -> 0.012903226 | U73: =IFERROR(U66/V66,0) -> 0 | V73: =IFERROR(V66/V66,0) -> 1
B74: ذكر | C74: =IFERROR(C67/V67,0) -> 0.16964286 | D74: =IFERROR(D67/V67,0) -> 0.089285714 | E74: =IFERROR(E67/V67,0) -> 0.098214286 | F74: =IFERROR(F67/V67,0) -> 0.080357143 | G74: =IFERROR(G67/V67,0) -> 0.125 | H74: =IFERROR(H67/V67,0) -> 0.044642857 | I74: =IFERROR(I67/V67,0) -> 0.035714286 | J74: =IFERROR(J67/V67,0) -> 0.15178571 | K74: =IFERROR(K67/V67,0) -> 0.026785714 | L74: =IFERROR(L67/V67,0) -> 0.035714286 | M74: =IFERROR(M67/V67,0) -> 0.044642857 | N74: =IFERROR(N67/V67,0) -> 0.035714286 | O74: =IFERROR(O67/V67,0) -> 0.035714286 | P74: =IFERROR(P67/V67,0) -> 0.0089285714 | Q74: =IFERROR(Q67/V67,0) -> 0.0089285714 | R74: =IFERROR(R67/V67,0) -> 0 | S74: =IFERROR(S67/V67,0) -> 0.0089285714 | T74: =IFERROR(T67/V67,0) -> 0 | U74: =IFERROR(U67/V67,0) -> 0 | V74: =IFERROR(V67/V67,0) -> 1
B75: مختلط/فريق بحث | C75: =IFERROR(C68/V68,0) -> 0 | D75: =IFERROR(D68/V68,0) -> 0.043478261 | E75: =IFERROR(E68/V68,0) -> 0.2173913 | F75: =IFERROR(F68/V68,0) -> 0.043478261 | G75: =IFERROR(G68/V68,0) -> 0 | H75: =IFERROR(H68/V68,0) -> 0 | I75: =IFERROR(I68/V68,0) -> 0 | J75: =IFERROR(J68/V68,0) -> 0.043478261 | K75: =IFERROR(K68/V68,0) -> 0.086956522 | L75: =IFERROR(L68/V68,0) -> 0.043478261 | M75: =IFERROR(M68/V68,0) -> 0.086956522 | N75: =IFERROR(N68/V68,0) -> 0 | O75: =IFERROR(O68/V68,0) -> 0 | P75: =IFERROR(P68/V68,0) -> 0 | Q75: =IFERROR(Q68/V68,0) -> 0.39130435 | R75: =IFERROR(R68/V68,0) -> 0 | S75: =IFERROR(S68/V68,0) -> 0 | T75: =IFERROR(T68/V68,0) -> 0 | U75: =IFERROR(U68/V68,0) -> 0.043478261 | V75: =IFERROR(V68/V68,0) -> 1
B76: الإجمالي | C76: =IFERROR(C69/V69,0) -> 0.14455782 | D76: =IFERROR(D69/V69,0) -> 0.11904762 | E76: =IFERROR(E69/V69,0) -> 0.096938776 | F76: =IFERROR(F69/V69,0) -> 0.081632653 | G76: =IFERROR(G69/V69,0) -> 0.06462585 | H76: =IFERROR(H69/V69,0) -> 0.06122449 | I76: =IFERROR(I69/V69,0) -> 0.054421769 | J76: =IFERROR(J69/V69,0) -> 0.052721088 | K76: =IFERROR(K69/V69,0) -> 0.051020408 | L76: =IFERROR(L69/V69,0) -> 0.044217687 | M76: =IFERROR(M69/V69,0) -> 0.042517007 | N76: =IFERROR(N69/V69,0) -> 0.037414966 | O76: =IFERROR(O69/V69,0) -> 0.032312925 | P76: =IFERROR(P69/V69,0) -> 0.028911565 | Q76: =IFERROR(Q69/V69,0) -> 0.028911565 | R76: =IFERROR(R69/V69,0) -> 0.020408163 | S76: =IFERROR(S69/V69,0) -> 0.018707483 | T76: =IFERROR(T69/V69,0) -> 0.017006803 | U76: =IFERROR(U69/V69,0) -> 0.0034013605 | V76: =IFERROR(V69/V69,0) -> 1
A79: 5 | B79: قاعدة بيانات: توثيق المحتوى الإعلامي والبحثي عن المرأة المصرية - 2011
A80: النوع الاجتماعي لمنشئ المادة | B80: ورقة البيانات: egyptian women 2011
A81: التصنيف تبعا للحق | B81: إحصاء وصفي بين النوع الاجتماعي لمنشئ المادة والتصنيف تبعا للحق
B82: الفئة \ المتغير | C82: الحق في المشاركة السياسية وحرية الرأي والتعبير والتجمع | D82: الحق في الكرامة والسلامة والحماية من العنف | E82: الحق في المواطنة والمساواة وعدم التمييز | F82: الحق في العمل والحقوق الاقتصادية | G82: الحق في الصحة | H82: الحق في العدالة والحماية القانونية | I82: الحق في الأسرة والأحوال الشخصية | J82: الحق في التعليم | K82: الإجمالي
B83: أنثى | C83: =COUNTIFS('egyptian women 2011'!$I$3:$I$590,$B83,'egyptian women 2011'!$O$3:$O$590,C$82) -> 136 | D83: =COUNTIFS('egyptian women 2011'!$I$3:$I$590,$B83,'egyptian women 2011'!$O$3:$O$590,D$82) -> 48 | E83: =COUNTIFS('egyptian women 2011'!$I$3:$I$590,$B83,'egyptian women 2011'!$O$3:$O$590,E$82) -> 49 | F83: =COUNTIFS('egyptian women 2011'!$I$3:$I$590,$B83,'egyptian women 2011'!$O$3:$O$590,F$82) -> 23 | G83: =COUNTIFS('egyptian women 2011'!$I$3:$I$590,$B83,'egyptian women 2011'!$O$3:$O$590,G$82) -> 11 | H83: =COUNTIFS('egyptian women 2011'!$I$3:$I$590,$B83,'egyptian women 2011'!$O$3:$O$590,H$82) -> 13 | I83: =COUNTIFS('egyptian women 2011'!$I$3:$I$590,$B83,'egyptian women 2011'!$O$3:$O$590,I$82) -> 16 | J83: =COUNTIFS('egyptian women 2011'!$I$3:$I$590,$B83,'egyptian women 2011'!$O$3:$O$590,J$82) -> 2 | K83: =SUM(C83:J83) -> 298
B84: غير محدد | C84: =COUNTIFS('egyptian women 2011'!$I$3:$I$590,$B84,'egyptian women 2011'!$O$3:$O$590,C$82) -> 72 | D84: =COUNTIFS('egyptian women 2011'!$I$3:$I$590,$B84,'egyptian women 2011'!$O$3:$O$590,D$82) -> 43 | E84: =COUNTIFS('egyptian women 2011'!$I$3:$I$590,$B84,'egyptian women 2011'!$O$3:$O$590,E$82) -> 12 | F84: =COUNTIFS('egyptian women 2011'!$I$3:$I$590,$B84,'egyptian women 2011'!$O$3:$O$590,F$82) -> 17 | G84: =COUNTIFS('egyptian women 2011'!$I$3:$I$590,$B84,'egyptian women 2011'!$O$3:$O$590,G$82) -> 4 | H84: =COUNTIFS('egyptian women 2011'!$I$3:$I$590,$B84,'egyptian women 2011'!$O$3:$O$590,H$82) -> 4 | I84: =COUNTIFS('egyptian women 2011'!$I$3:$I$590,$B84,'egyptian women 2011'!$O$3:$O$590,I$82) -> 3 | J84: =COUNTIFS('egyptian women 2011'!$I$3:$I$590,$B84,'egyptian women 2011'!$O$3:$O$590,J$82) -> 0 | K84: =SUM(C84:J84) -> 155
B85: ذكر | C85: =COUNTIFS('egyptian women 2011'!$I$3:$I$590,$B85,'egyptian women 2011'!$O$3:$O$590,C$82) -> 44 | D85: =COUNTIFS('egyptian women 2011'!$I$3:$I$590,$B85,'egyptian women 2011'!$O$3:$O$590,D$82) -> 25 | E85: =COUNTIFS('egyptian women 2011'!$I$3:$I$590,$B85,'egyptian women 2011'!$O$3:$O$590,E$82) -> 6 | F85: =COUNTIFS('egyptian women 2011'!$I$3:$I$590,$B85,'egyptian women 2011'!$O$3:$O$590,F$82) -> 9 | G85: =COUNTIFS('egyptian women 2011'!$I$3:$I$590,$B85,'egyptian women 2011'!$O$3:$O$590,G$82) -> 2 | H85: =COUNTIFS('egyptian women 2011'!$I$3:$I$590,$B85,'egyptian women 2011'!$O$3:$O$590,H$82) -> 8 | I85: =COUNTIFS('egyptian women 2011'!$I$3:$I$590,$B85,'egyptian women 2011'!$O$3:$O$590,I$82) -> 4 | J85: =COUNTIFS('egyptian women 2011'!$I$3:$I$590,$B85,'egyptian women 2011'!$O$3:$O$590,J$82) -> 14 | K85: =SUM(C85:J85) -> 112
B86: مختلط/فريق بحث | C86: =COUNTIFS('egyptian women 2011'!$I$3:$I$590,$B86,'egyptian women 2011'!$O$3:$O$590,C$82) -> 7 | D86: =COUNTIFS('egyptian women 2011'!$I$3:$I$590,$B86,'egyptian women 2011'!$O$3:$O$590,D$82) -> 0 | E86: =COUNTIFS('egyptian women 2011'!$I$3:$I$590,$B86,'egyptian women 2011'!$O$3:$O$590,E$82) -> 1 | F86: =COUNTIFS('egyptian women 2011'!$I$3:$I$590,$B86,'egyptian women 2011'!$O$3:$O$590,F$82) -> 3 | G86: =COUNTIFS('egyptian women 2011'!$I$3:$I$590,$B86,'egyptian women 2011'!$O$3:$O$590,G$82) -> 9 | H86: =COUNTIFS('egyptian women 2011'!$I$3:$I$590,$B86,'egyptian women 2011'!$O$3:$O$590,H$82) -> 0 | I86: =COUNTIFS('egyptian women 2011'!$I$3:$I$590,$B86,'egyptian women 2011'!$O$3:$O$590,I$82) -> 2 | J86: =COUNTIFS('egyptian women 2011'!$I$3:$I$590,$B86,'egyptian women 2011'!$O$3:$O$590,J$82) -> 1 | K86: =SUM(C86:J86) -> 23
B87: الإجمالي | C87: =SUM(C83:C86) -> 259 | D87: =SUM(D83:D86) -> 116 | E87: =SUM(E83:E86) -> 68 | F87: =SUM(F83:F86) -> 52 | G87: =SUM(G83:G86) -> 26 | H87: =SUM(H83:H86) -> 25 | I87: =SUM(I83:I86) -> 25 | J87: =SUM(J83:J86) -> 17 | K87: =SUM(K83:K86) -> 588
B88: النسب المئوية % (نسبة كل فئة من "التصنيف تبعا للحق" داخل كل فئة من "النوع الاجتماعي لمنشئ المادة")
B89: الفئة \ المتغير | C89: الحق في المشاركة السياسية وحرية الرأي والتعبير والتجمع | D89: الحق في الكرامة والسلامة والحماية من العنف | E89: الحق في المواطنة والمساواة وعدم التمييز | F89: الحق في العمل والحقوق الاقتصادية | G89: الحق في الصحة | H89: الحق في العدالة والحماية القانونية | I89: الحق في الأسرة والأحوال الشخصية | J89: الحق في التعليم | K89: الإجمالي
B90: أنثى | C90: =IFERROR(C83/K83,0) -> 0.45637584 | D90: =IFERROR(D83/K83,0) -> 0.16107383 | E90: =IFERROR(E83/K83,0) -> 0.16442953 | F90: =IFERROR(F83/K83,0) -> 0.077181208 | G90: =IFERROR(G83/K83,0) -> 0.036912752 | H90: =IFERROR(H83/K83,0) -> 0.043624161 | I90: =IFERROR(I83/K83,0) -> 0.053691275 | J90: =IFERROR(J83/K83,0) -> 0.0067114094 | K90: =IFERROR(K83/K83,0) -> 1
B91: غير محدد | C91: =IFERROR(C84/K84,0) -> 0.46451613 | D91: =IFERROR(D84/K84,0) -> 0.27741935 | E91: =IFERROR(E84/K84,0) -> 0.077419355 | F91: =IFERROR(F84/K84,0) -> 0.10967742 | G91: =IFERROR(G84/K84,0) -> 0.025806452 | H91: =IFERROR(H84/K84,0) -> 0.025806452 | I91: =IFERROR(I84/K84,0) -> 0.019354839 | J91: =IFERROR(J84/K84,0) -> 0 | K91: =IFERROR(K84/K84,0) -> 1
B92: ذكر | C92: =IFERROR(C85/K85,0) -> 0.39285714 | D92: =IFERROR(D85/K85,0) -> 0.22321429 | E92: =IFERROR(E85/K85,0) -> 0.053571429 | F92: =IFERROR(F85/K85,0) -> 0.080357143 | G92: =IFERROR(G85/K85,0) -> 0.017857143 | H92: =IFERROR(H85/K85,0) -> 0.071428571 | I92: =IFERROR(I85/K85,0) -> 0.035714286 | J92: =IFERROR(J85/K85,0) -> 0.125 | K92: =IFERROR(K85/K85,0) -> 1
B93: مختلط/فريق بحث | C93: =IFERROR(C86/K86,0) -> 0.30434783 | D93: =IFERROR(D86/K86,0) -> 0 | E93: =IFERROR(E86/K86,0) -> 0.043478261 | F93: =IFERROR(F86/K86,0) -> 0.13043478 | G93: =IFERROR(G86/K86,0) -> 0.39130435 | H93: =IFERROR(H86/K86,0) -> 0 | I93: =IFERROR(I86/K86,0) -> 0.086956522 | J93: =IFERROR(J86/K86,0) -> 0.043478261 | K93: =IFERROR(K86/K86,0) -> 1
B94: الإجمالي | C94: =IFERROR(C87/K87,0) -> 0.44047619 | D94: =IFERROR(D87/K87,0) -> 0.19727891 | E94: =IFERROR(E87/K87,0) -> 0.11564626 | F94: =IFERROR(F87/K87,0) -> 0.088435374 | G94: =IFERROR(G87/K87,0) -> 0.044217687 | H94: =IFERROR(H87/K87,0) -> 0.042517007 | I94: =IFERROR(I87/K87,0) -> 0.042517007 | J94: =IFERROR(J87/K87,0) -> 0.028911565 | K94: =IFERROR(K87/K87,0) -> 1
A97: 6 | B97: قاعدة بيانات: توثيق المحتوى الإعلامي والبحثي عن المرأة المصرية - 2011
A98: النوع الاجتماعي لمنشئ المادة | B98: ورقة البيانات: egyptian women 2011
A99: اللغة | B99: إحصاء وصفي بين النوع الاجتماعي لمنشئ المادة واللغة
B100: الفئة \ المتغير | C100: اللغة العربية | D100: اللغة الإنجليزية | E100: لغتين (العربية والإنجليزية) | F100: اللغة الفرنسية | G100: الإجمالي
B101: أنثى | C101: =COUNTIFS('egyptian women 2011'!$I$3:$I$590,$B101,'egyptian women 2011'!$U$3:$U$590,C$100) -> 144 | D101: =COUNTIFS('egyptian women 2011'!$I$3:$I$590,$B101,'egyptian women 2011'!$U$3:$U$590,D$100) -> 147 | E101: =COUNTIFS('egyptian women 2011'!$I$3:$I$590,$B101,'egyptian women 2011'!$U$3:$U$590,E$100) -> 2 | F101: =COUNTIFS('egyptian women 2011'!$I$3:$I$590,$B101,'egyptian women 2011'!$U$3:$U$590,F$100) -> 5 | G101: =SUM(C101:F101) -> 298
B102: غير محدد | C102: =COUNTIFS('egyptian women 2011'!$I$3:$I$590,$B102,'egyptian women 2011'!$U$3:$U$590,C$100) -> 90 | D102: =COUNTIFS('egyptian women 2011'!$I$3:$I$590,$B102,'egyptian women 2011'!$U$3:$U$590,D$100) -> 60 | E102: =COUNTIFS('egyptian women 2011'!$I$3:$I$590,$B102,'egyptian women 2011'!$U$3:$U$590,E$100) -> 5 | F102: =COUNTIFS('egyptian women 2011'!$I$3:$I$590,$B102,'egyptian women 2011'!$U$3:$U$590,F$100) -> 0 | G102: =SUM(C102:F102) -> 155
B103: ذكر | C103: =COUNTIFS('egyptian women 2011'!$I$3:$I$590,$B103,'egyptian women 2011'!$U$3:$U$590,C$100) -> 80 | D103: =COUNTIFS('egyptian women 2011'!$I$3:$I$590,$B103,'egyptian women 2011'!$U$3:$U$590,D$100) -> 32 | E103: =COUNTIFS('egyptian women 2011'!$I$3:$I$590,$B103,'egyptian women 2011'!$U$3:$U$590,E$100) -> 0 | F103: =COUNTIFS('egyptian women 2011'!$I$3:$I$590,$B103,'egyptian women 2011'!$U$3:$U$590,F$100) -> 0 | G103: =SUM(C103:F103) -> 112
B104: مختلط/فريق بحث | C104: =COUNTIFS('egyptian women 2011'!$I$3:$I$590,$B104,'egyptian women 2011'!$U$3:$U$590,C$100) -> 11 | D104: =COUNTIFS('egyptian women 2011'!$I$3:$I$590,$B104,'egyptian women 2011'!$U$3:$U$590,D$100) -> 11 | E104: =COUNTIFS('egyptian women 2011'!$I$3:$I$590,$B104,'egyptian women 2011'!$U$3:$U$590,E$100) -> 1 | F104: =COUNTIFS('egyptian women 2011'!$I$3:$I$590,$B104,'egyptian women 2011'!$U$3:$U$590,F$100) -> 0 | G104: =SUM(C104:F104) -> 23
B105: الإجمالي | C105: =SUM(C101:C104) -> 325 | D105: =SUM(D101:D104) -> 250 | E105: =SUM(E101:E104) -> 8 | F105: =SUM(F101:F104) -> 5 | G105: =SUM(G101:G104) -> 588
B106: النسب المئوية % (نسبة كل فئة من "اللغة" داخل كل فئة من "النوع الاجتماعي لمنشئ المادة")
B107: الفئة \ المتغير | C107: اللغة العربية | D107: اللغة الإنجليزية | E107: لغتين (العربية والإنجليزية) | F107: اللغة الفرنسية | G107: الإجمالي
B108: أنثى | C108: =IFERROR(C101/G101,0) -> 0.48322148 | D108: =IFERROR(D101/G101,0) -> 0.49328859 | E108: =IFERROR(E101/G101,0) -> 0.0067114094 | F108: =IFERROR(F101/G101,0) -> 0.016778523 | G108: =IFERROR(G101/G101,0) -> 1
B109: غير محدد | C109: =IFERROR(C102/G102,0) -> 0.58064516 | D109: =IFERROR(D102/G102,0) -> 0.38709677 | E109: =IFERROR(E102/G102,0) -> 0.032258065 | F109: =IFERROR(F102/G102,0) -> 0 | G109: =IFERROR(G102/G102,0) -> 1
B110: ذكر | C110: =IFERROR(C103/G103,0) -> 0.71428571 | D110: =IFERROR(D103/G103,0) -> 0.28571429 | E110: =IFERROR(E103/G103,0) -> 0 | F110: =IFERROR(F103/G103,0) -> 0 | G110: =IFERROR(G103/G103,0) -> 1
B111: مختلط/فريق بحث | C111: =IFERROR(C104/G104,0) -> 0.47826087 | D111: =IFERROR(D104/G104,0) -> 0.47826087 | E111: =IFERROR(E104/G104,0) -> 0.043478261 | F111: =IFERROR(F104/G104,0) -> 0 | G111: =IFERROR(G104/G104,0) -> 1
B112: الإجمالي | C112: =IFERROR(C105/G105,0) -> 0.55272109 | D112: =IFERROR(D105/G105,0) -> 0.42517007 | E112: =IFERROR(E105/G105,0) -> 0.013605442 | F112: =IFERROR(F105/G105,0) -> 0.0085034014 | G112: =IFERROR(G105/G105,0) -> 1
...

Sheet الرسوم البيانية
A1: ملحق الرسوم البيانية - التحليل الإحصائي الوصفي المتقاطع
A2: يضم هذا الملحق الرسوم البيانية الخاصة بجداول التحليل الإحصائي الوصفي المتقاطع الموجودة في ورقة (stats)، مرتبة ومرقمة بنفس ترقيم الجداول المصدر (1 - 45).
A3: رسم رقم 1 | O3: رسم رقم 2
A21: رسم رقم 3 | O21: رسم رقم 4
A39: رسم رقم 5 | O39: رسم رقم 6
A57: رسم رقم 7 | O57: رسم رقم 8
A75: رسم رقم 9 | O75: رسم رقم 10
A93: رسم رقم 11 | O93: رسم رقم 12
A111: رسم رقم 13 | O111: رسم رقم 14
A129: رسم رقم 15 | O129: رسم رقم 16
A147: رسم رقم 17 | O147: رسم رقم 18
A165: رسم رقم 19 | O165: رسم رقم 20
A183: رسم رقم 21 | O183: رسم رقم 22
A201: رسم رقم 23 | O201: رسم رقم 24
... A381: رسم رقم 43 | O381: رسم رقم 44
A399: رسم رقم 45
