Workbook

Sheet Data
B1: ابعاد الواقعه | I1: بيانات الفعل الاحتجاجي | M1: بيانات الفئات المشاركه | Q1: القمع | T1: قتل | V1: اصابه | X1: قبض | Z1: بيانات اخري | AD1: مصادر
A2: الكود | B2: التاريخ | C2: النطاق الزمني | D2: المحافظه | E2: الإقليم الجغرافي | F2: الدائرة/ القسم/المركز | G2: المكان | H2: اسم مميز للواقعة، حسب حدث أو سياق متصل | I2: نوع الفعل الاحتجاجي | J2: تصنيف نوع الفعل الاحتجاجي | K2: سبب الفعل الاحتجاجي | L2: تصنيف سبب الفعل الاحتجاجي | M2: الفئات المنظمة للفعل الاحتجاجي | N2: تصنيف الفئه المنظمه للفعل الاحتجاجي | O2: حجم المشاركة | P2: الجهة المواجهة للفعالية | Q2: فعل قمعي | R2: رد فعل قمعي | S2: جهة القمع | T2: عدد القتلى | U2: بيانات القتلى | V2: عدد الإصابات | W2: بيانات المصابين | X2: عدد حالات القبض | Y2: بيانات حالات القبض | Z2: ردود فعل تالية | AA2: إجراءات قانونية ورسمية | AB2: اتهامات أو مضمون دعاوى قانونية | AC2: ملاحظات | AD2: نص الخبر | AE2: رابط 1 | AF2: رابط 2 | AG2: رابط 3 | AH2: رابط 4 | AI2: رابط 5 | AJ2: رابط 6 | AK2: رابط 7 | AL2: رابط 8
A3: 1 | B3: 46026 | C3: يناير | D3: القاهرة | E3: إقليم القاهرة الكبري | F3: بولاق أبو العلا | G3: مطابع أخبار اليوم | H3: إضر اب عمال مطابع أخبار اليوم | I3: إضراب جزئي عن العمل | J3: إضراب عن العمل | K3: المطالبة بصرف الأجر الإضافي المتأخر منذ 4 أشهر | L3: مطالب اقتصادية | M3: عمال/عاملات | N3: قطاع عام/موظفون | O3: مئات | P3: أصحاب المنشآت | R3: 0 | AD3: للمطالبة بالأجر الإضافي.. وقفة احتجاجية وإضراب جزئي لعمال مطابع أخبار اليوم أخبار وتقارير_ أحمد خليفة منشور الاثنين 5 كانون الثاني/يناير 2026 شارك نظم عمال مطابع مؤسسة أخبار اليوم، أمس الأحد، وقفة احتجاجية أمام مبنى المؤسسة بشارع الصحافة، تزامنًا مع إضراب جزئي عن العمل شهدها مجمع المطابع بالسادس من أكتوبر، للمطالبة بصرف الأجر الإضافي المتأخر منذ 4 أشهر، وفق مصدرين أحدهما عمالي والآخر من صحفيي المؤسسة، تحدثا لـ المنصة. وأوضح المصدر العمالي أن العمال أوقفوا العمل بالمطابع في السادس من أكتوبر وتوافدوا على مبنى المؤسسة بالقاهرة، ما أدى إلى توقف العمل لساعات، فيما كانت قوات من الشرطة تفرض كردونًا أمنيًا حول العمال المحتجين. وأضاف المصدر العمالي، الذي طلب عدم نشر اسمه، أن عمال مطابع أخبار اليوم يعانون من تدني الرواتب التي لا تزيد عن 4 آلاف جنيه، ويعتمدون بشكل أساسي على أجر "المدد الإضافية" والتي لم تصرف منذ أغسطس/آب الماضي، مشيرًا أن إدارة المؤسسة تحتسب الإضافي والبدلات ضمن الأجر مدعية أنها تطبق الحد الأنى للأجور. الأمر نفسه يحدث مع صحفيي المؤسسة، حيث يتم احتساب "بدل التكنولوجيا" ضمن الحد الأدنى للأجور، فيما تتراوح الأجور الفعلية بين 4 و6 آلاف، حسب المصدر الصحفي الذي طلب أيضًا عدم نشر اسمه. وفي واقعة مشابهة، أكدت وزارة العمل في خطاب موجه إلى شركة العامرية للغزل والنسيج، أن احتساب الأجر الإضافي ضمن الحد الأدنى للأجور، مخالف للقانون، وطالبت الشركة بتصحيح آلية احتساب الأجر الإضافي، مؤكدة أن مقابل التشغيل الإضافي يُحتسب على الأجر الشامل للعامل ولا يدخل ضمن الحد الأدنى للأجور. وأضاف الصحفي بأخبار اليوم "لا يتوقف ما يعانيه عمال وصحفيو المؤسسة عند التحايل في تطبيق الحد الأدنى للأجور، حيث توقفت المؤسسة منذ تولى إسلام عفيفي رئاستها، عن تحمل تكلفة العلاج الشهري لأصحاب الأمراض المزمنة كاملًا كما كان متبعًا منذ سنوات"، مشيرًا إلى أن صرف العلاج استمر لبعض الأشخاص من "أصحاب الحظوة والمقربين" على حد وصفه، وتابع "يعيش صحفيو وعمال المؤسسات القومية سنوات عجاف بسبب تدني رواتبهم في ظل ارتفاع الأسعار". ولفت المصدر العمالي أن الوقفات الاحتجاجية المطالبة بالمستحقات المتأخرة لعمال مطابع أخبار اليوم تكررت عدة مرات خلال عام 2025، مشيرًا إلى أنه في إحدى المرات أوقف الأمن أوتوبيس العمال القادم من أكتوبر في الطريق، ومنعهم من الوصول إلى مبنى المؤسسة بشارع الصحافة. | AE3: https://manassa.news/news/29575
A4: 2 | B4: 46026 | C4: يناير | D4: القاهرة | E4: إقليم القاهرة الكبري | F4: بولاق أبو العلا | G4: مطابع أخبار اليوم | H4: إضر اب عمال مطابع أخبار اليوم | I4: وقفة احتجاجية | J4: تظاهرة ميدانية | K4: المطالبة بصرف الأجر الإضافي المتأخر منذ 4 أشهر | L4: مطالب اقتصادية | M4: عمال/عاملات | N4: قطاع عام/موظفون | O4: مئات | P4: أصحاب المنشآت | R4: 0 | AD4: للمطالبة بالأجر الإضافي.. وقفة احتجاجية وإضراب جزئي لعمال مطابع أخبار اليوم أخبار وتقارير_ أحمد خليفة منشور الاثنين 5 كانون الثاني/يناير 2026 شارك نظم عمال مطابع مؤسسة أخبار اليوم، أمس الأحد، وقفة احتجاجية أمام مبنى المؤسسة بشارع الصحافة، تزامنًا مع إضراب جزئي عن العمل شهدها مجمع المطابع بالسادس من أكتوبر، للمطالبة بصرف الأجر الإضافي المتأخر منذ 4 أشهر، وفق مصدرين أحدهما عمالي والآخر من صحفيي المؤسسة، تحدثا لـ المنصة. وأوضح المصدر العمالي أن العمال أوقفوا العمل بالمطابع في السادس من أكتوبر وتوافدوا على مبنى المؤسسة بالقاهرة، ما أدى إلى توقف العمل لساعات، فيما كانت قوات من الشرطة تفرض كردونًا أمنيًا حول العمال المحتجين. وأضاف المصدر العمالي، الذي طلب عدم نشر اسمه، أن عمال مطابع أخبار اليوم يعانون من تدني الرواتب التي لا تزيد عن 4 آلاف جنيه، ويعتمدون بشكل أساسي على أجر "المدد الإضافية" والتي لم تصرف منذ أغسطس/آب الماضي، مشيرًا أن إدارة المؤسسة تحتسب الإضافي والبدلات ضمن الأجر مدعية أنها تطبق الحد الأنى للأجور. الأمر نفسه يحدث مع صحفيي المؤسسة، حيث يتم احتساب "بدل التكنولوجيا" ضمن الحد الأدنى للأجور، فيما تتراوح الأجور الفعلية بين 4 و6 آلاف، حسب المصدر الصحفي الذي طلب أيضًا عدم نشر اسمه. وفي واقعة مشابهة، أكدت وزارة العمل في خطاب موجه إلى شركة العامرية للغزل والنسيج، أن احتساب الأجر الإضافي ضمن الحد الأدنى للأجور، مخالف للقانون، وطالبت الشركة بتصحيح آلية احتساب الأجر الإضافي، مؤكدة أن مقابل التشغيل الإضافي يُحتسب على الأجر الشامل للعامل ولا يدخل ضمن الحد الأدنى للأجور. وأضاف الصحفي بأخبار اليوم "لا يتوقف ما يعانيه عمال وصحفيو المؤسسة عند التحايل في تطبيق الحد الأدنى للأجور، حيث توقفت المؤسسة منذ تولى إسلام عفيفي رئاستها، عن تحمل تكلفة العلاج الشهري لأصحاب الأمراض المزمنة كاملًا كما كان متبعًا منذ سنوات"، مشيرًا إلى أن صرف العلاج استمر لبعض الأشخاص من "أصحاب الحظوة والمقربين" على حد وصفه، وتابع "يعيش صحفيو وعمال المؤسسات القومية سنوات عجاف بسبب تدني رواتبهم في ظل ارتفاع الأسعار". ولفت المصدر العمالي أن الوقفات الاحتجاجية المطالبة بالمستحقات المتأخرة لعمال مطابع أخبار اليوم تكررت عدة مرات خلال عام 2025، مشيرًا إلى أنه في إحدى المرات أوقف الأمن أوتوبيس العمال القادم من أكتوبر في الطريق، ومنعهم من الوصول إلى مبنى المؤسسة بشارع الصحافة. | AE4: https://manassa.news/news/29575
A5: 3 | B5: 46032 | C5: يناير | D5: اسوان | E5: إقليم جنوب الصعيد | F5: إدفو | G5: مصنع السكر | H5: اعتصام عمال السكر | I5: اعتصام | J5: تظاهرة ميدانية | K5: زيادة الرواتب والبدلات والأرباح السنوية وصرفها، إضافة لتثبيت العمال المؤقتين | L5: مطالب اقتصادية | M5: عمال/عاملات | N5: قطاع عام/موظفون | O5: آلاف | P5: أصحاب المنشآت | R5: 0 | AD5: اعتصام عمال السكر في 3 محافظات للمطالبة بزيادة الرواتب والأرباح أخبار وتقارير_ أحمد خليفة منشور السبت 10 كانون الثاني/يناير 2026 شارك نظم عمال مصانع سكر إدفو بأسوان، ودشنا ونجع حمادي وقوص بقنا، والمعدات والتكرير وفينوس وقطاع النقل بمجمع الحوامدية في الجيزة، التابعة لشركة السكر والصناعات التكاملية، اليوم السبت، اعتصامًا داخل مواقع العمل للمطالبة بزيادة الرواتب والبدلات والأرباح السنوية وصرفها، إضافة لتثبيت العمال المؤقتين، وفق عدد من العمال تحدثوا لـ المنصة. وتجمع آلاف العمال المحتجين في ساحات المصانع، وحاول مسؤولو الإدارة تهدئتهم، إلا أن المحتجين رفضوا الاستماع قبل الاستجابة لمطالبهم. أحد العمال لـ المنصة جانب من اعتصام عمال مصنع المعدات بمجمع سكر الحوامدية، 10 يناير 2026 وزار عضو مجلس النواب عن دائرة أبو النمرس والحوامدية النائب مراد أبو الدهب مجمع سكر الحوامدية، واستمع إلى مطالب العمال وتسلم مذكرة بمطالبهم لتسليمها إلى وزير التموين ورئيس الشركة القابضة للصناعات الغذائية، حسبما قال أحد العمال بمجمع الحوامدية لـ المنصة، مضيفًا "رفضنا أي اقتراح بإنهاء الاعتصام إلا بعد الموافقة على مطالبنا بشكل كامل". وقال عامل ثانٍ بسكر دشنا لـ المنصة إن العمال شكلوا لجنة منظمة للاحتجاجات تضم ممثلين من كل المصانع، وأن اللجنة صاغت عددًا من المطالب ودعت العمال للاتفاف حولها والتمسك بها خلال المفاوضات. وأضاف العامل، الذي طلب عدم نشر اسمه، أن المطالب تشمل "تطبيق الحد الأدنى للأجور بأثر رجعي، ورفع نسبة الحافز الشهري إلى 350% وزيادة الأرباح السنوية إلى 60 شهرًا وزيادة بدل الوجبة إلى 1800 جنيه، والبدل النقدي إلى 1500 جنيه، وضم علاوتي 2017 و2018، وتثبيت العاملين بعقود مؤقتة، وإجراء تسوية شاملة للحاصلين على مؤهلات أعلى أثناء الخدمة"، إضافة لعودة الشركة للمساهمة في علاج أسر العاملين كما كان معمولًا به بنسبة 50% من تكلفة الكشف والعلاج، من دون حد أقصي. وأوضح عامل آخر بسكر إدفو لـ المنصة أن الاحتجاجات تفجرت بسبب تأخير صرف الأرباح السنوية حتى الآن، إضافة لعدم تنفيذ أي من مطالب العمال التي رفعوها خلال احتجاجاتهم العام الماضي، مضيفًا "رافضين يعقدوا اجتماع الجمعية العمومية لشركة السكر والصناعات التكاملية، وكل ما نتكلم عن الأرباح يقولولنا روحوا لوزير التموين أو رئيس القابضة". وعقب اندلاع الاحتجاجات اليوم، أعلنت الصفحة الرسمية لشركة السكر والصناعات التكاملية على فيسبوك، أنه تقرر انعقاد الجمعية العمومية للشركة يومى السبت والأحد 17 و18 يناير/كانون الثاني الجاري، وهو ما اعتبره العامل محاولة خداع لإنهاء الاعتصام. إحدى العاملات لـ المنصة جانب من اعتصام عاملات مصنع فينوس بمجمع سكر الحوامدية 10 يناير 2026 وقالت عاملة بمصنع فينوس بمجمع سكر الحوامدية لـ المنصة إن المصنع به عدد من العاملات والعمال بنظام اليومية، وإنهم طالبوا كثيرًا بتحرير عقود عمل لهم، لكن لم يلتفت أحد إلى مطالبهم. وحسب العمال الذين تحدثوا لـ المنصة يعاني عمال مصانع شركة السكر والصناعات التكاملية تدني الرواتب، حيث لم يصل عدد كبير من العمال إلى الحد الأدنى للأجور البالغ 7 آلاف جنيه. وخلال شهري أغسطس/آب وسبتمبر/أيلول من العام الماضي، شهدت مصانع شركة السكر والصناعات التكاملية موجة من الاحتجاجات للمطالبة بزيادة الرواتب، استمرت لأكثر من 3 أسابيع، وبدأت الاحتجاجات حينها في مصنعي إدفو وكوم أمبو بأسوان، ثم لحق بهما مصنع أرمنت بالأقصر ومصنع دشنا بمحافظة قنا، وتبعهم مصنع المعدات بمجمع سكر الحوامدية في الجيزة، قبل أن ينهي عمال المصانع إضراباتهم تباعًا، بعد ضغوط تعرضوا لها من قبل الإدارة والأمن. وتعد شركة السكر والصناعات التكاملية، التي تأسست عام 1956 وتتبع الشركة القابضة للصناعات الغذائية، من أكبر الكيانات الصناعية في هذا القطاع، إذ تمتلك ثمانية مصانع للسكر في صعيد مصر هي أبو قرقاص، جرجا، نجع حمادي، دشنا، قوص، أرمنت، إدفو، كوم أمبو، إلى جانب مجمع الحوامدية الصناعي. | AE5: https://manassa.news/news/29648
A6: 4 | B6: 46032 | C6: يناير | D6: قنا | E6: إقليم جنوب الصعيد | F6: دشنا | G6: مصنع السكر | H6: اعتصام عمال السكر | I6: اعتصام | J6: تظاهرة ميدانية | K6: زيادة الرواتب والبدلات والأرباح السنوية وصرفها، إضافة لتثبيت العمال المؤقتين | L6: مطالب اقتصادية | M6: عمال/عاملات | N6: قطاع عام/موظفون | O6: آلاف | P6: أصحاب المنشآت | R6: 0 | AD6: احتجاجات إيران تتصاعد.. طهران تتهم واشنطن بتأجيجها والولايات المتحدة تعلن "دعم الشعب" أخبار وتقارير_ قسم الأخبار منشور السبت 10 كانون الثاني/يناير 2026 شارك تصاعدت حدّة أكبر موجة احتجاجات تشهدها إيران منذ سنوات، مع دخولها يومها الرابع عشر، وسط مشاهد دامية، وحجب واسع للإنترنت، وتحذيرات عسكرية من "مؤامرات العدو"، في مقابل تأكيد أمريكي على "دعم الشعب الإيراني"، واتهامات رسمية من طهران لواشنطن وإسرائيل بالتحريض على العنف. وشهدت مدن إيرانية كبرى، مساء أمس، تظاهرات حاشدة جديدة ضد الحكومة على خلفية تدهور الأوضاع المعيشية، بعد يوم واحد من احتجاجات واسعة، الخميس، التي شهدت تصعيدًا كبيرًا وصل إلى حد الاشتباكات وقطع الإنترنت. ومساء الخميس، خرجت تظاهرات واسعة في عدد من المدن الكبرى في مقدمتها طهران، وتجمّع محتجون في أحياء متفرقة من العاصمة، مرددين شعارات مناهضة للنظام والمرشد الأعلى علي خامنئي، وسط انتشار أمني مكثف. وامتدت التظاهرات إلى مدن أخرى، حيث شهدت بعض المناطق أعمال عنف واشتباكات محدودة، فيما تحدثت وسائل إعلام رسمية عن إضرام النار في منشآت عامة، واتهمت "مثيري شغب" بالوقوف وراءها. وفي المقابل، بث التلفزيون الرسمي لقطات لجنازات عناصر من قوات الأمن قال إنهم قُتلوا خلال مواجهات مع محتجين. وعقب اتساع رقعة الاحتجاجات، فرضت السلطات قيودًا مشددة على الإنترنت، شملت حجبًا واسعًا للاتصالات، في خطوة بررتها بمحاولة "منع الفوضى"، بينما حذرت منظمات حقوقية من استخدام القوة المفرطة ضد المتظاهرين. والليلة الماضية، قرع محتجون الأواني في حي سعادت آباد شمال غرب طهران، وهتفوا بشعارات مناهضة للحكومة، من بينها "الموت لخامنئي". ولا توجد حصيلة رسمية عن أعداد القتلى والمصابين جراء المظاهرات الإيرانية الأخيرة، لكن منظمة "إيران هيومن رايتس" تشير إلى مقتل 51 متظاهرًا على الأقل بينهم 9 تحت سن الـ18 عامًا. من ناحيته، قال المرشد الإيراني علي خامنئي، أمس، إن "المحتجين يتصرفون نيابةً عن الرئيس الأمريكي دونالد ترمب"، مضيفًا أن "مثيري الشغب يهاجمون الممتلكات العامة"، محذرًا من أن طهران لن تتهاون مع من يتصرفون "كمرتزقة للأجانب". ونقل موقع خامنئي قوله لمجموعة من أنصاره "الشباب العزيز حافظوا على جاهزيتكم ووحدتكم"، مضيفًا أن "الأمة الموحدة تتغلب على أي عدو"، وأكد أن "إيران لن تتسامح مع المرتزقة الذين يعملون لصالح الأجانب". وأضاف في ثاني كلمة له منذ بدء الاحتجاجات، إن "المحتجين الإيرانيين يحطمون شوارعهم من أجل إسعاد رئيس دولة أخرى"، مردفًا بأن "ترامب المتعجرف سوف يسقط، على غرار نظام الشاه الذي حكم إيران حتى انتصار الثورة الإسلامية في عام 1979". في المقابل، أعلن وزير الخارجية الأمريكي ماركو روبيو دعم بلاده "للشعب الإيراني الشجاع"، فيما وجّه الرئيس دونالد ترامب تحذيرًا جديدًا لقادة إيران، قائلُا "من الأفضل ألا تبدأوا بإطلاق النار، لأننا سنطلق النار أيضًا". وتعهّد الجيش الإيراني بحماية "المصالح الوطنية والبنية التحتية الاستراتيجية والممتلكات العامة"، داعيًا المواطنين إلى "اليقظة" لإحباط ما وصفه بـ"مؤامرات العدو". وفي موازاة ذلك، حذّر الحرس الثوري، عبر بيان بثه التلفزيون الرسمي، من أن الحفاظ على أمن البلاد ومكتسبات ثورة 1979 "خط أحمر"، متهمًا "إرهابيين" باستهداف قواعد عسكرية وأمنية خلال الليلتين الماضيتين، ما أسفر عن مقتل مدنيين وعناصر أمن، وإضرام النار في ممتلكات عامة، حسب البيان. ومع استمرار الاحتجاجات، دعا رضا بهلوي، نجل الشاه المخلوع محمد رضا بهلوي الذي أطاحت به ثورة إيران عام 1979، والمقيم في الولايات المتحدة، المتظاهرين إلى "الاستعداد للسيطرة على مراكز المدن"، قائلًا في بوست عبر إكس "هدفنا لم يعد السيطرة على الشوارع فقط، بل الاستعداد للاستيلاء على مراكز المدن والسيطرة عليها". وطالب بهلوي الإيرانيين بالنزول إلى الشوارع مساء اليوم السبت والأحد، مؤكدًا أنه يستعد "للعودة إلى وطني" في يوم قال إنه "قريب جدًا". واتهم السفير الإيراني لدى الأمم المتحدة أمير سعيد إيرواني الولايات المتحدة بالمسؤولية عن "تحوّل الاحتجاجات السلمية إلى أعمال عنف هدامة"، معتبرًا أن واشنطن، بالتنسيق مع إسرائيل، تتدخل في الشؤون الداخلية لإيران عبر التحريض والتشجيع المتعمد على زعزعة الاستقرار. كما اتهم وزير الخارجية الإيراني عباس عراقجي واشنطن بتأجيج الاحتجاجات التي اتسعت رقعتها، وهو ما رد عليه متحدث باسم وزارة الخارجية الأمربكية بأن تصريحه "يعكس محاولة وهمية لصرف الأنظار عن التحديات الجسيمة التي يواجهها النظام الإيراني في الداخل". وانطلقت المظاهرات في إيران قبل نحو أسبوعين احتجاجًا على ارتفاع التضخم وتدهور الأوضاع الاقتصادية، لكنها سرعان ما اتخذت طابعًا سياسيًا. | AE6: https://manassa.news/news/29649
A7: 5 | B7: 46032 | C7: يناير | D7: قنا | E7: إقليم جنوب الصعيد | F7: نجع حمادي | G7: مصنع السكر | H7: اعتصام عمال السكر | I7: اعتصام | J7: تظاهرة ميدانية | K7: زيادة الرواتب والبدلات والأرباح السنوية وصرفها، إضافة لتثبيت العمال المؤقتين | L7: مطالب اقتصادية | M7: عمال/عاملات | N7: قطاع عام/موظفون | O7: آلاف | P7: أصحاب المنشآت | R7: 0 | AD7: الهيئة الوطنية تعلن انتهاء أطول انتخابات برلمانية بنسبة تصويت 32% أخبار وتقارير_ صفاء عصام الدين منشور السبت 10 كانون الثاني/يناير 2026 شارك Also available in English أعلن رئيس الهيئة الوطنية للانتخابات المستشار حازم بدوي، اليوم السبت، النتائج النهائية للانتخابات البرلمانية الأطول في تاريخ الحياة السياسية في مصر. وأوضح بدوي خلال مؤتمر صحفي عقدته الهيئة، أن نسبة المشاركة في العملية الانتخابية بلغت 32.41%، مشيرًا إلى أن إجمالي عدد المقيدين بقاعدة بيانات الناخبين وصل إلى 69.891.913 ناخبًا، فيما أدلى بأصواتهم 22.657.211 ناخبًا. وجاءت نتائج جولة الإعادة في 27 دائرة السابق إلغاؤها بموجب أحكام المحكمة الإدارية العليا، التي أعلنها بدوي اليوم، مطابقة لنتائج الحصر العددي التي أعلنتها اللجان العامة. ومن واقع تتبع نتائج الانتخابات بمراحلها تراجعت المشاركة في بعض دوائر القاهرة والجيزة، حيث حصل بعض المرشحين على المقاعد بنسب اقتربت من 3%، في حين شهدت دوائر الصعيد ومحافظات أخرى إقبالًا أكبر وفقًا للأرقام الرسمية المعلنة. وعلى الرغم مما رصدته المنصة، من مخالفات وخروقات وحشد للناخبين ورشاوى مقابل الإدلاء بأصواتهم لمرشحين بعينهم طوال أيام الانتخابات بمختلف الدوائر، جاءت تصريحات رئيس الهيئة لتعكس مشهدًا مُغايرًا. وقال رئيس الهيئة إن خروج الانتخابات "بهذا الشكل الديمقراطي المكتمل الأركان" لم يكن ليحدث لولا "وعي الشعب وحرصه على حماية الديمقراطية"، إلى جانب دور الهيئات القضائية "في صون الحكم والعدالة، ومؤسسات الدولة التي التزمت الحياد التام وطبقت الدستور والقانون". وأضاف "لم يضق صدرنا بالنقد والملاحظات ولن يضق وقتنا بالتظلمات والشكاوى، بل تصدينا من تلقاء أنفسنا لتجاوزات وممارسات خاطئة رأينا انها قد تؤثر على سلامة الانتخابات". وأشار بدوي إلى أن عمل الهيئة لم ينته بعد انتهاء الانتخابات، موضحًا أن دورها يمتد لتوعية وتثقيف الناخبين والأحزاب والائتلافات السياسية. وأضاف أن الهيئة ستبدأ على الفور في إعداد برامج وقوافل للتوعية في النجوع والقرى والمدن والمدارس والجامعات، بهدف "تحويل المشاركة السياسية إلى ثقافة شعبية دائمة وليس مجرد سلوك يوم الاقتراع". كما أعلن بدوي أن الهيئة ستنظم "برامج تدريبية للمسؤولين في الأحزاب حول إعداد القوائم الانتخابية لتفادي الأخطاء القانونية التي شابت بعض القوائم وأدت إلى استبعادها بقرارات لجان الفحص وأيدتها الأحكام القضائية. يذكر أن نظام القائمة المغلقة المطلقة تعرض لانتقادات عدة، خاصة في ظل غياب قوائم منافسة للقائمة الوطنية من أجل مصر. وكان الرئيس عبد الفتاح السيسي أعلن فض دور الانعقاد البرلماني السادس الخميس الماضي، ومن المتوقع أن تنشر الجريدة الرسمية خلال ساعات قرار رئيس الجمهورية بتعيين أعضاء مجلس النواب بموجب الدستور، على أن يبدأ المجلس عمله خلال أيام بتشكيله الجديد الذي تستحوذ فيه أغلبية المقاعد لحزب مستقبل وطن، يليهم المستقلون، ثم حزب حماة الوطن والجبهة الوطنية، وحزب الشعب الجمهوري. اقرأ أيضا انتخابات الرشاوى.. حتى لو تحدث الرئيس فيما تتساوى أحزاب المعارضة في ترتيبها بين العدل والمصري الديمقراطي، يليهما الوفد، ثم حزب الإصلاح والتنمية، وأخيرًا حزب الوعي الذي فاز بمقعد فردي في الفيوم، مع بقاء عدد من المرشحين خارج القائمة الوطنية من أجل مصر. وسبق أن ألغت الهيئة الوطنية للانتخابات نتائج 19 دائرة انتخابية، بعدما طالب السيسي الهيئة بالتدقيق في المخالفات. | AE7: https://manassa.news/news/29650
A8: 6 | B8: 46032 | C8: يناير | D8: قنا | E8: إقليم جنوب الصعيد | F8: قوص | G8: مصنع السكر | H8: اعتصام عمال السكر | I8: اعتصام | J8: تظاهرة ميدانية | K8: زيادة الرواتب والبدلات والأرباح السنوية وصرفها، إضافة لتثبيت العمال المؤقتين | L8: مطالب اقتصادية | M8: عمال/عاملات | N8: قطاع عام/موظفون | O8: آلاف | P8: أصحاب المنشآت | R8: 0 | AE8: https://manassa.news/news/29651
A9: 7 | B9: 46032 | C9: يناير | D9: الجيزة | E9: إقليم القاهرة الكبري | F9: الحوامدية | G9: مصنع السكر | H9: اعتصام عمال السكر | I9: اعتصام | J9: تظاهرة ميدانية | K9: زيادة الرواتب والبدلات والأرباح السنوية وصرفها، إضافة لتثبيت العمال المؤقتين | L9: مطالب اقتصادية | M9: عمال/عاملات | N9: قطاع عام/موظفون | O9: آلاف | P9: أصحاب المنشآت | R9: 0 | AE9: https://manassa.news/news/29652
A10: 8 | B10: 46034 | C10: يناير | D10: الجيزة | E10: إقليم القاهرة الكبري | F10: الدقي | G10: حزب الوفد | H10: أزمة جريدة الوفد | I10: وقفة احتجاجية | J10: تظاهرة ميدانية | K10: تأخر صرف الرواتب لنحو أسبوع | L10: مطالب اقتصادية | M10: صحفيون/ات | N10: قطاع خاص وباليومية | O10: عشرات | P10: حزب الوفد | R10: 0 | AD10: بعد وقفة احتجاجية.. صحفيو الوفد يصرفون راتب ديسمبر أخبار وتقارير_ أحمد خليفة منشور الاثنين 12 كانون الثاني/يناير 2026 شارك صرف صحفيو جريدة وموقع الوفد راتب شهر ديسمبر/كانون الأول الماضي، بعد وقفة احتجاجية نظمها الصحفيون داخل مقر الحزب بوسط البلد لم تستمر طويلًا، وفق رئيس اللجنة النقابية بجريدة الوفد محمد عادل لـ المنصة. جاءت الوقفة الاحتجاجية قبيل بدء المؤتمر الصحفي للجنة المشرفة على انتخابات رئاسة الوفد لإعلان الكشوف النهائية للمرشحين لرئاسة الحزب. وأضاف عادل أن الراتب تأخر لنحو أسبوع عن الموعد المعتاد، وهو ما أغضب الصحفيين، مشيرًا إلى أن إدارة الحزب استجابت بعد وقفة لم تستمر طويلًا وأعلنت عن صرف الراتب اليوم. وفي شهر أكتوبر/تشرين الأول من العام الماضي، توصل صحفيو جريدة وموقع الوفد، إلى اتفاق مع رئاسة الحزب على تطبيق الحد الأدنى للأجور البالغ 7 آلاف جنيه بعد أربعة أيام من اعتصامهم بمقر الحزب، ما اعتبره نقيب الصحفيين خالد البلشي، حينها "انتصارًا للوفد وصحفييه". وقال صحفي ثاني بجريدة الوفد لـ المنصة، طالبًا عدم نشر اسمه، إنهم ينوون المطالبة بزيادة جديدة للرواتب، عقب انتهاء انتخابات رئاسة الحزب واستلام الرئيس الجديد لمهامه، خاصة في ظل التوقعات بزيادة الحد الأدنى للأجور خلال 2026، مضيفًا "كان من الجيد استجابة الحزب لمطلبنا بزيادة الرواتب العام الماضي، لكن حتى مع بلوغنا للحد الأدنى فإننا نعاني من ارتفاع الأسعار، وعدم قدرتنا على سد احتياجات أسرنا". وفي سياق مشابه، أعلن صحفيو البوابة نيوز في 17 نوفمبر/تشرين الثاني الماضي بدء اعتصام مفتوح للمطالبة بتطبيق الحد الأدنى للأجور، الأمر الذي رفضته الإدارة بداعي عدم قدرتها ماليًا وأصدرت عددها الورقي مطلع الشهر الماضي وكتبت عليه "العدد الأخير"، بعد يوم من إعلانها تصفية الشركة وغلق المؤسسة"، وذلك قبل فض اعتصامهم مساء أمس بالقوة. ونهاية ديسمبر/كانون الأول الماضي، وافق مجلس النقابة بالإجماع على إحالة رئيس مجلس إدارة البوابة نيوز عبد الرحيم علي وابنته داليا رئيسة التحرير إلى التحقيق النقابي على خلفية مسؤوليتهما عن فصل الصحفيين، والامتناع عن تطبيق الحد الأدنى، قبل أن يقرر مجلس النقابة شطب قيده. وفي 5 يناير/كانون الثاني الجاري، مثل تسعة من صحفيي الجريدة وعضوي مجلس النقابة محمود كامل وإيمان عوف أمام نيابة وسط القاهرة، بعد بلاغ قدمه عبد الرحيم علي وابنته داليا بسبب "التظاهر دون ترخيص"، قبل أن تقرر النيابة إخلاء سبيلهم على ذمة التحقيقات. وكانت عضوة مجلس نقابة الصحفيين إيمان عوف كشفت في حديث سابق لـ المنصة أن النقابة بصدد إطلاق حملة لتطبيق الحد الأدنى داخل كافة المؤسسات الصحفية، إضافة إلى ذلك فإن النقابة تناقش فكرة تطوير المؤسسات الصحفية ومحتواها، وتقديم الدعم الفني واللوجستي لتتمكن المؤسسات من الحصول على موارد دائمة. | AE10: https://manassa.news/news/29686
A11: 9 | B11: 46037 | C11: يناير | D11: بورسعيد | E11: إقليم القناه وسيناء | F11: حي الجنوب | G11: المشروعات الصناعية بالمنطقة الاستثمارية في بورسعيد | H11: إضراب عمال المشروعات الصناعية بالمنطقة الاستثمارية في بورسعيد | I11: اعتصام | J11: تظاهرة ميدانية | K11: زيادة عدد ساعات العمل | L11: مطالب اقتصادية | M11: عمال/عاملات | N11: قطاع خاص وباليومية | O11: آلاف | P11: أصحاب المنشآت | R11: 0 | AD11: تصعيد عمالي في بورسعيد: إضراب مرتقب واحتجاجات واسعة رفضًا لزيادة ساعات العمل 15 يناير، 2026 تصعيد عمالي, زيادة ساعات العمل كتب – أحمد سلامة أعلن عمال المشروعات الصناعية بالمنطقة الاستثمارية في بورسعيد عزمهم الدخول في إضراب عن العمل اعتبارًا من يوم السبت المقبل، احتجاجًا على قرار أصدره أصحاب المنشآت بزيادة عدد ساعات العمل اليومية، في خطوة أثارت موجة غضب واسعة داخل المصانع، وعلى رأسها مصانع اللوتس. وأكد العمال أنهم يواصلون الاعتصام داخل مواقع العمل، حيث يتواجدون أمام خطوط الإنتاج دون تشغيل الماكينات، في رسالة احتجاج واضحة على القرار الذي وصفوه بالمجحف، مؤكدين تمسكهم بحقوقهم القانونية ورفضهم لأي إجراءات تمس استقرارهم الوظيفي. وكان أصحاب المشروعات الصناعية قد أصدروا، في 12 يناير الجاري، قرارًا يقضي بزيادة ساعات العمل الفعلية إلى ثماني ساعات يوميًا، دون احتساب فترات الراحة والطعام، على أن يبدأ تطبيقه رسميًا يوم السبت 17 يناير. كما نص القرار على منح العمال زيادة سنوية قدرها 500 جنيه فقط اعتبارًا من أجر يناير 2026. وفور صدور القرار، سادت حالة من التذمر والاحتقان داخل المنطقة الاستثمارية، خاصة بين عمال وعاملات مصانع اللوتس، حيث اعتبروا أن الزيادة المعلنة لا تتناسب مع الأعباء الإضافية الناتجة عن مد ساعات العمل، بل أثارت لديهم مخاوف إضافية، لكون شهر يناير يشهد عادة زيادات سنوية أكبر مما تم الإعلان عنه. واستند قرار المستثمرين إلى القرار الوزاري رقم 289 لسنة 2025، الصادر عن وزير العمل، والذي ينص على تحديد ساعات العمل بالمنشآت الصناعية. غير أن دار الخدمات النقابية والعمالية اعتبرت أن هذا القرار يخالف صراحة المادة (117) من قانون العمل رقم 14 لسنة 2025، التي تقضي بعدم جواز تشغيل العامل أكثر من ثماني ساعات يوميًا أو 48 ساعة أسبوعيًا، مع استثناءات تنظمها قوانين سابقة، أبرزها القانون رقم 133 لسنة 1961، الذي يحدد الحد الأقصى لساعات العمل في المنشآت الصناعية بـ42 ساعة أسبوعيًا. من جانبها، أشارت دار الخدمات النقابية إلى أن هذا النظام كان معمولًا به لعقود طويلة، واستقرت عليه أحكام القضاء والتحكيم في المنازعات العمالية، معتبرة أن القرار الجديد لا يمثل مجرد مخالفة قانونية، بل ينتزع حقًا مكتسبًا للعمال. وحذرت الدار من تداعيات القرار على استقرار بيئة العمل، مؤكدة أن الإشارة في ديباجة القرار الوزاري إلى صدوره بالتشاور مع جهات حكومية عليا تعكس، بحسب وصفها، انحيازًا لإرادة المستثمرين على حساب العمال والقانون. وفي ختام بيانها، أعلنت الدار تضامنها الكامل مع عمال المنطقة الاستثمارية في بورسعيد، ولا سيما عمال مصانع اللوتس، مؤكدة دعمها لمطالبهم بإلغاء القرار وعدم تطبيقه، محذرة من أن تجاهل هذه الاحتجاجات قد يؤدي إلى تصعيد أوسع خلال الأيام المقبلة. | AE11: https://daaarb.com/%d8%aa%d8%b5%d8%b9%d9%8a%d8%af-%d8%b9%d9%85%d8%a7%d9%84%d9%8a-%d9%81%d9%8a-%d8%a8%d9%88%d8%b1%d8%b3%d8%b9%d9%8a%d8%af-%d8%a5%d8%b6%d8%b1%d8%a7%d8%a8-%d9%85%d8%b1%d8%aa%d9%82%d8%a8-%d9%88%d8%a7%d8%ad/
A12: 10 | B12: 46039 | C12: يناير | D12: المنيا | E12: إقليم شمال الصعيد | F12: الأقصاص | G12: شركة مطاحن مصر الوسطى بالمنيا | H12: احتجاجات عمال شركة مطاحن مصر الوسطى | I12: وقفة احتجاجية | J12: تظاهرة ميدانية | K12: تسوية الحقوق المالية المتأخرة وتطبيق الحد الأدنى للأجور ووقف الانتهاكات المرتبطة ببيئة العمل والسلامة المهنية | L12: مطالب اقتصادية | M12: عمال/عاملات | N12: قطاع عام/موظفون | O12: مئات | P12: أصحاب المنشآت | R12: 0 | AD12: متابعة.. عودة احتجاجات عمال شركة مطاحن مصر الوسطى بالمنيا وأنباء عن امتدادها لمحافظات أخرى وسط استمرار تجاهل المطالب ووقوع حالات إغماء بين العمال تتابع المفوضية المصرية بقلق بالغ عودة الاحتجاجات العمالية بشركة مطاحن مصر الوسطى في محافظة المنيا، بعد توقف مؤقت، وذلك على خلفية استمرار عدم الاستجابة للمطالب المشروعة للعمال، وفي مقدمتها تسوية الحقوق المالية المتأخرة، وتطبيق الحد الأدنى للأجور بصورة عادلة وغير شكلية، ووقف الانتهاكات المرتبطة ببيئة العمل والسلامة المهنية. وتشير المعلومات الواردة إلى المفوضية إلى أن موجة الاحتجاجات الحالية تأتي نتيجة تراكم الوعود غير المنفذة، وغياب أي خطوات عملية ملموسة من جانب إدارة الشركة أو الجهات المعنية، فضلًا عن أنباء متداولة عن احتمال عودة الاحتجاجات خلال الأيام المقبلة في محافظات أخرى تتبع نطاق عمل الشركة، في ظل اتساع دائرة الغضب العمالي وتزايد الشعور بانسداد سبل الإنصاف. وفي هذا السياق، تلقت المفوضية بلاغات بشأن تعرض أحد العمال لحالة إغماء خلال الاحتجاجات الأخيرة بالمنيا، في واقعة تعكس مجددًا حجم الضغوط النفسية والمعيشية الواقعة على العمال، واستمرار تجاهل الآثار الإنسانية والاجتماعية المترتبة على تعطيل الحقوق، وهي واقعة لا يمكن فصلها عن السياق الأوسع من الانتهاكات التي سبق للمفوضية رصدها وتوثيقها. وتؤكد المفوضية أن عودة الاحتجاجات تأتي استكمالًا لمسار تصاعدي بدأ منذ سنوات، وبلغ ذروة خطيرة بمحاولة أحد العمال إنهاء حياته خلال مطالبته بحقوقه، وهي الواقعة التي سبق للمفوضية التحذير من دلالاتها الخطيرة، باعتبارها مؤشرًا على وصول أوضاع العمل إلى مستوى غير آمن نفسيًا واجتماعيًا، نتيجة غياب العدالة في الأجور، وانعدام آليات فعالة للتظلم والإنصاف. وتجدد المفوضية التأكيد على أن استمرار تعطيل العلاوات والزيادات السنوية منذ عام 2016، والالتفاف على قرارات الحد الأدنى للأجور عبر الاعتماد المفرط على الحوافز والبدلات المتغيرة، فضلًا عن شكاوى السلامة والصحة المهنية وتكرار الإصابات وعدم توثيق بعضها، كلها ممارسات تمثل انتهاكًا صريحًا للحق في أجر عادل، وبيئة عمل آمنة، والحق في الكرامة الإنسانية، بالمخالفة لأحكام الدستور المصري وقانون العمل والمعايير الدولية ذات الصلة. كما تشدد المفوضية على أن استمرار هذه الانتهاكات داخل شركة تحقق أرباحًا سنوية معلنة، وتؤدي دورًا حيويًا في منظومة الأمن الغذائي، يكشف عن خلل بنيوي في إدارة الموارد وتوزيع العائد، ويطرح تساؤلات جدية حول أولويات الإدارة ومدى التزامها بمسؤولياتها الاجتماعية والقانونية تجاه العاملين. وتجدد المفوضية المصرية مطالبها على النحو التالي: • التدخل العاجل من وزارة العمل والجهات الرقابية المختصة لفتح تحقيق مستقل وشفاف في أسباب عودة الاحتجاجات، ووقائع الإغماء، وكافة الشكاوى المتراكمة. • التسوية الفورية لملف العلاوات والزيادات السنوية المتأخرة منذ 2016 وحتى 2025، وضمها إلى الأجر الأساسي وصرف فروقها بأثر رجعي. • إعادة هيكلة منظومة الأجور بما يضمن حدًا أدنى عادلًا وثابتًا للأجر الأساسي، ووقف التحايل عبر العناصر المتغيرة التي تُفرغ قرارات الأجور من مضمونها. • إلزام الشركة بتطبيق معايير السلامة والصحة المهنية، والتحقيق في وقائع الإصابات، وتوثيقها قانونيًا، وضمان علاج المصابين وصرف كامل مستحقاتهم. • ضمان عدم تعرض أي عامل لأي إجراءات تعسفية أو انتقامية بسبب الاحتجاج السلمي أو المطالبة بالحقوق، ومساءلة أي طرف يثبت تورطه في ذلك. • تفعيل الدور الحقيقي للجنة النقابية في تمثيل العمال والدفاع عن حقوقهم، أو مساءلتها عن تقاعسها المستمر. | AE12: https://www.facebook.com/ecrf.net/posts/pfbid02WzL3hybCkqCTJ9ebALFUVByRgnAEziW6yqR6VnCSzA7FNeMVQeazGzyokUfpFNiLl
A13: 11 | B13: 46040 | C13: يناير | D13: أسيوط | E13: إقليم وسط الصعيد | F13: حي شرق | G13: شركة مطاحن مصر الوسطى | H13: احتجاجات عمال شركة مطاحن مصر الوسطى بأسيوط | I13: وقفة احتجاجية | J13: تظاهرة ميدانية | K13: تطبيق الحد الأدنى للأجور وضم العلاوات المتأخرة منذ عام 2016 وصرف فروق الرواتب بأثر رجعي | L13: مطالب اقتصادية | M13: عمال/عاملات | N13: قطاع عام/موظفون | O13: مئات | P13: أصحاب المنشآت | R13: 0 | AD13: عَ السريع| احتجاجات "مطاحن مصر الوسطى" تصل أسيوط.. وبلاغ للنائب العام ضد أوضاع "سجن بدر 3" الأحد 18 كانون الثاني/يناير 2026 مساء شارك نظم عمال شركة مطاحن مصر الوسطى بقطاع أسيوط وقفة احتجاجية للمطالبة بتطبيق الحد الأدنى للأجور، وضم العلاوات المتأخرة منذ عام 2016، وصرف فروق الرواتب بأثر رجعي، وذلك بعد يوم من تنظيم عمال الشركة في المنيا احتجاجات حملت ذات المطالب. في وقت تقدم مدير المبادرة المصرية للحقوق الشخصية حسام بهجت ببلاغ للنائب العام للمطالبة بفتح تحقيق جنائي حول أوضاع السجناء بمركز إصلاح وتأهيل "بدر 3"، ومدى احترام السجن لحقوقهم. 5 آلاف قتيل في احتجاجات إيران.. وخامنئي يلوم ترامب قسم الأخبار قال مسؤول إيراني، لم تسمه رويترز، اليوم الأحد، إن السلطات تحققت من مقتل ما لا يقل عن 5000 شخص في الاحتجاجات التي شهدتها البلاد، بينهم حوالي 500 من أفراد الأمن، متهمة "الإرهابيين والمشاغبين المسلحين" بقتل "الإيرانيين الأبرياء"، فيما ألقى المرشد الأعلى الإيراني علي خامنئي باللوم على الرئيس الأمريكي دونالد ترامب الذي "شجع المتظاهرين". وأضاف المسؤول الإيراني أن بعضًا من أعنف الاشتباكات والأعلى في عدد القتلى كانت في المناطق الكردية في شمال غرب إيران، وهي منطقة ينشط فيها الانفصاليون الأكراد، وكانت الاشتباكات فيها من بين الأكثر عنفًا في فترات الاضطرابات السابقة. "لا يُتوقع أن يرتفع عدد القتلى النهائي بشكل حاد"، قال المسؤول الإيراني لرويترز، مضيفًا أن "إسرائيل والجماعات المسلحة في الخارج دعمت وزودت أولئك الذين خرجوا إلى الشوارع". وتُلقي السلطات الإيرانية بانتظام باللوم في الاضطرابات على الأعداء الأجانب، بما في ذلك إسرائيل، العدو اللدود للجمهورية الإسلامية، التي شنت ضربات عسكرية عليها في يونيو/حزيران الماضي. كانت منظمة هرانا الحقوقية، ومقرها الولايات المتحدة، أعلنت أمس السبت، أن عدد القتلى بلغ 3308، مع وجود 4382 حالة أخرى قيد المراجعة. وأكدت المنظمة إلقاء القبض على أكثر من 24 ألف شخص. وقالت جماعة "هينجاو" الحقوقية الكردية الإيرانية، ومقرها النرويج، إن بعضًا من أعنف الاشتباكات خلال الاحتجاجات التي اندلعت في أواخر ديسمبر/كانون الأول الماضي كانت في المناطق الكردية في الشمال الغربي. وأمس السبت، أقر خامنئي بمقتل آلاف الإيرانيين خلال أكثر من أسبوعين من الاضطرابات في البلاد، وهي وفيات ألقى باللوم فيها على ترامب، الذي قال إنه "شجع علنًا" المتظاهرين من خلال وعدهم بـ"الدعم العسكري" الأمريكي. في خطاب للأمة، وصف خامنئي ترامب بأنه "مجرم" مسؤول "عن الخسائر والأضرار" خلال الاحتجاجات المناهضة للحكومة التي اندلعت في أواخر ديسمبر الماضي، والتي أشعلها في البداية غضب شعبي بسبب الأوضاع الاقتصادية المتردية. لم يشر خامنئي، البالغ من العمر 86 عامًا، إلى "الأساليب الوحشية التي استخدمتها قوات الأمن الإيرانية في قمع الاحتجاجات". وسبق أن وصف شهود عيان ومنظمات حقوقية قيام القوات الحكومية بإطلاق النار على المتظاهرين في الشوارع ومن أسطح المنازل، حسبما نقلت CNN. في خطابه أمس، قال خامنئي إن "المشاغبين" المتورطين في الاضطرابات ينقسمون إلى فئتين؛ أشخاص مدعومون وممولون ومدربون من قبل الولايات المتحدة وإسرائيل، وشباب متأثرون بهم. وأضاف أن الفئة الأخيرة "أفراد ساذجون تلاعب بهم قادة هذه الاضطرابات". وأوضح أن هؤلاء الشباب ألحقوا أضرارًا بمنشآت الطاقة والمساجد والمؤسسات التعليمية والبنوك والمرافق الطبية ومتاجر البقالة. في مقابلة صباح أمس السبت مع بوليتيكو، قال ترامب إن "خامنئي مذنب، بصفته زعيم دولة"، وذلك بسبب "التدمير الكامل للبلاد واستخدام العنف بمستويات لم يسبق لها مثيل". ودعا ترامب إلى إنهاء حكم خامنئي الذي دام 37 عامًا، وقال "حان الوقت للبحث عن قيادة جديدة في إيران"، وذلك بالتزامن مع تراجع الاحتجاجات الإيرانية. وهدد ترامب مرارًا بالتدخل العسكري. والثلاثاء الماضي، دعا الإيرانيين إلى مواصلة الاحتجاجات و"السيطرة على المؤسسات"، قائلًا إن "المساعدة قادمة"، قبل أن يغير رأيه في اليوم التالي فجأة، قائلًا إنه أُبلغ بأن عمليات القتل قد توقفت. بعد منح الأكراد حقوقهم الوطنية.. الجيش السوري يُخرج "قسد" من أراضٍ بالرقة قسم الأخبار سيطر الجيش السوري على مساحات واسعة من شمال البلاد، وأخرج القوات الكردية من الأراضي التي كانت تتمتع عليها بحكم ذاتي فعلي لأكثر من عقد من الزمان، حسبما قالت الجارديان، وذلك بعدما أصدر الرئيس أحمد الشرع، الجمعة، مرسومًا يمنح أكراد البلاد حقوقًا وطنية، معلنًا الكردية "لغة وطنية". وأعلنت هيئة العمليات في الجيش العربي السوري أن الجيش "سيطر على مدينة الطبقة الاستراتيجية بريف الرقة، بعد طرد ميليشيات PKK (حزب العمال الكردستاني) الإرهابية منها". وكان "الجيش العربي السوري سيطر في وقت سابق على مطار الطبقة والعديد من قرى وبلدات ريف الرقة" حسبما نقلت وكالة الأنباء السورية/سانا، في الساعات الأولى من صباح اليوم الأحد. ولم تنتهِ الأحداث في الرقة عند هذا الحد، إذ نشرت سانا أن "تنظيم قسد (قوات سوريا الديمقراطية) فجر اليوم الأحد الجسر القديم والجسر الجديد على نهر الفرات في مدينة الرقة، ما أدى الى انقطاع المياه عن المدينة بشكل كامل". "بدا أن الحكومة توسع قبضتها على المناطق التي يديرها الأكراد بعد أن أصدر الرئيس السوري أحمد الشرع مرسومًا يعلن فيه اللغة الكردية لغة وطنية ويمنح الأقلية اعترافًا رسميًا" قالت الجارديان، موضحة أن تقدم الجيش يأتي بعد توقف تنفيذ اتفاقية مارس 2025 التي تهدف إلى دمج القوات الكردية في الدولة. وطردت القوات الحكومية القوات الكردية من حيين في حلب الأسبوع الماضي، وسيطرت يوم السبت على منطقة شرق المدينة. لعدة أيام، حشدت القوات السورية قواتها حول مجموعة من القرى الواقعة غرب نهر الفرات المتعرج، ودعت قسد، المتمركزة هناك، إلى إعادة نشر قواتها على الضفة المقابلة للنهر. وتدور اشتباكات بينهما على مواقع استراتيجية وحقول نفطية على طول نهر الفرات، حسب الجارديان. انسحب مقاتلو قسد من المنطقة في وقت مبكر من يوم السبت كبادرة حسن نية، لكنهم اتهموا القوات السورية بانتهاك الاتفاق من خلال مواصلة التوغل شرقًا إلى المدن وحقول النفط غير المشمولة بالاتفاق. وأعلنت قسد أمس أن دمشق "انتهكت الاتفاقات الأخيرة وخانت قواتنا"، واندلعت اشتباكات مع القوات جنوب الطبقة. وفي الوقت نفسه، حث الجيش قوات سوريا الديمقراطية على "الوفاء الفوري بالتزاماتها المعلنة والانسحاب الكامل" شرق النهر. وقال براد كوبر، الذي يرأس القيادة المركزية للجيش الأمريكي، في بيان مكتوب إنه ينبغي على القوات السورية "وقف أي أعمال هجومية" في المناطق الواقعة بين مدينة حلب وبلدة الطبقة التي تبعد حوالي 160 كيلومترًا إلى الشرق. كما دعا الرئيس الفرنسي إيمانويل ماكرون وزعيم كردستان العراق نيجيرفان بارزاني إلى خفض التصعيد ووقف إطلاق النار. وكانت شركة النفط السورية أعلنت أن حقول النفط القريبة في الرصافة وسفيان سيطرت عليها القوات السورية، ويمكن الآن إعادة تشغيلها، حسب الجارديان. وأعلن الجيش السوري عن مقتل أربعة من جنوده في هجمات شنّها مسلحون أكراد، بينما أعلنت قوات سوريا الديمقراطية عن مقتل عدد من مقاتليها دون تحديد عددهم. وتبادل الطرفان الاتهامات بخرق اتفاق الانسحاب، وحسب مصدر أمني سوري لم تسمه الجارديان، حلقت طائرات التحالف بقيادة الولايات المتحدة فوق البلدات المتوترة، وأطلقت قنابل تحذيرية. بعد المنيا.. احتجاجات عمال مطاحن مصر الوسطى للمطالبة بـ"الأدنى للأجور" تصل أسيوط أحمد خليفة نظم عمال شركة مطاحن مصر الوسطى بقطاع أسيوط، اليوم الأحد، وقفة احتجاجية للمطالبة بتطبيق الحد الأدنى للأجور مع مراعاة التدرج الوظيفي، وضم العلاوات المتأخرة منذ عام 2016، وصرف فروق الرواتب بأثر رجعي، وفق ثلاثة عمال تحدثوا لـ المنصة. تأتي الوقفة بعد يوم واحد من تنظيم عمال الشركة في المنيا احتجاجات حملت ذات المطالب. وقال أحد العمال لـ المنصة، طالبًا عدم نشر اسمه، إنهم يعانون من تدني الرواتب والتي لا يزيد متوسطها عن 5 آلاف جنيه، كما "تتحايل" الإدارة، على قرارات الحد الأدنى للأجور المتتالية بضم الحوافز والبدلات المتغيرة إلى الأجر. وحمل العمال خلال الوقفة لافتات مدون عليها مطالبهم، واستغاثوا برئيس الجمهورية لتحقيقها، وحمايتهم من أي إجراءات انتقامية تتخذ ضدهم عقابًا على المطالبة بحقوقهم. وقال عامل ثانٍ لـ المنصة، طالبًا عدم نشر اسمه، إن الرئيس التنفيذي لشركة مطاحن مصر الوسطى المهندس أحمد عشماوي قال للعمال المحتجين "مفيش عامل أخد حكم بالعلاوات وأنا رفضت أنفذه، الشركة مقصرتش في حاجة، لكن بخصوص ضم العلاوات لجميع العاملين، ده مبلغ ضخم 600 مليون جنيه، الفلوس موجودة وحقكم موجود، لكن أنا لازم يجيني قرار، وده هيحصل في وقت قليل وهتصرفوا كلكم". وأضاف أن رئيس الشركة طلب منهم إنهاء وقفتهم والدخول لتشغيل المطاحن فرد عليه العمال "المطاحن شغالة يا ريس والشغل موقفش" رافضين فض الوقفة الاحتجاجية. وعقب لقاء رئيس الشركة بهم ظهر العمال المحتجين في فيديوهات اطلعت عليها المنصة وهم يرددون هتافات منها "هينيمونا.. هيضحوا بينا"، و"واحد اتنين المحافظ فين"، في إشارة إلى هشام أبو النصر محافظ أسيوط. وشكى عامل ثالث مما وصفه بـ"الفساد الإداري" داخل الشركة، قائلًا لـ المنصة "الترقيات معتمدة على المحسوبية، والأهواء الشخصية خاصة في المناصب القيادية، ممكن يتعين واحد درجة ثانية يرأس زميله اللي على الدرجة الأولى، بحجة الكفاءة، في مديرين عموم في الشركة موكل إليهم بدل الإدارة اتنين وزملائهم محرومين من أي ترقية". وشركة مطاحن مصر الوسطى، هي إحدى الشركات التابعة للشركة القابضة للصناعات الغذائية التابعة لوزارة التموين والتجارة الداخلية، وتعمل في تصنيع وتجارة واستيراد وتبخير وصيانة وتعبئة وتجهيز ونقل وتوزيع الحبوب ومنتجاتها وبدائلها، ولها فروع في كل من محافظات الفيوم وبني سويف وأسيوط والمنيا. وخلال العام المالي 2024-2025 حققت الشركة أرباحًا بنسبة 7.1% بواقع 138 مليون جنيه، مقارنة بربح 128.8 مليون جنيه خلال العام السابق له، وفق جريدة البورصة. "منع الزيارة وإهمال طبي".. "المبادرة المصرية" تشكو للنائب العام أوضاع "سجن بدر 3" محمد نابليون تقدم مدير المبادرة المصرية للحقوق الشخصية حسام بهجت، صباح اليوم الأحد، ببلاغ رسمي إلى النائب العام، للمطالبة بفتح تحقيق جنائي حول أوضاع السجناء بمركز إصلاح وتأهيل "بدر 3"، ومدى احترام السجن لحقوقهم. وطالب البلاغ، الذي حمل رقم 5640 لسنة 2026 عرائض، بمحاسبة المسؤولين عن أي انتهاكات تثبت صحتها، ورفع الضرر اللاحق بالنزلاء تطبيقًا للدستور وقانون تنظيم مراكز الإصلاح والتأهيل المجتمعي. كما دعا البلاغ النائب العام إلى إجراء زيارة تفتيشية لكافة قطاعات سجن "بدر 3"، لمقابلة النزلاء وفحص حالاتهم والتحقيق في شكاوى أسرهم، أسوة بالزيارة التي أعلنت عنها النيابة العامة في 5 يناير/كانون الثاني الجاري لمركز تأهيل "بدر 2". ويأتي هذا البلاغ، بعد أيام من شكوى أطلقتها سناء عبد الجواد، زوجة القيادي الإخواني محمد البلتاجي، أبدت فيها قلقها إزاء غياب المعلومات حول وضعه الصحي، حيث أشارت الزوجة في بوست عبر حسابها بفيسبوك إلى انقطاع التواصل معه ونقله للمستشفى دون إخطارهم بتفاصيل حالته. كما تضمن البوست اتهامات تتعلق بتدهور الأوضاع داخل سجن بدر، تضمنت الحديث عن حالات وفاة وإصابات بالسرطان، بالإضافة إلى ما وصفته بـ"معاناة قاسية من البرد الشديد" نتيجة سحب الأغطية من النزلاء. وفي السياق، استندت المبادرة في بلاغها إلى تقرير أصدرته قبل شهرين بعنوان "بين الدعاية والحقيقة: انتهاكات حقوق نزلاء سجون بدر"، والذي اعتمد على توثيق شهادات محتجزين سابقين، وأسر محتجزين حاليين، ومقابلات مع محامين، بالإضافة إلى رصد التقارير الرسمية الصادرة عن الجهات الحكومية. ويهدف البلاغ، حسب بهجت، إلى تمكين النيابة العامة من ممارسة ولايتها الدستورية في الرقابة على السجون، صونًا للكرامة الإنسانية، مشددًا على أن الوقائع المرصودة تشكل حال ثبوتها إخلالًا جسيمًا بالضمانات القانونية التي تجرم المساس بالسلامة الجسدية أو النفسية للنزلاء. وحول الوقائع التي طالب البلاغ بالتحقيق فيها، قالت المبادرة إنها تشمل المنع من الزيارة، مؤكدة أنها رصدت منعًا تامًا للزيارة لعدد من نزلاء "بدر 3" منذ نقلهم إليه في 2022، بالمخالفة للمادة 38 من قانون تنظيم مراكز الإصلاح. كما أشار البلاغ إلى استمرار وزارة الداخلية في تقليص الزيارات إلى مرة واحدة شهريًا (بدلاً من مرتين للمحكومين وأسبوعية للمحبوسين احتياطيًا)، مع فرض قيود مثل الزيارة عبر كابينة زجاجية وهاتف داخلي دون مبرر قانوني. فيما طالب البلاغ أيضًا بالتحقق من مدى توفر الرعاية الصحية، في ظل استغاثات متتالية من تدهور أوضاع نزلاء (خاصة كبار السن وذوي الأمراض المزمنة)، وشكاوى من غياب الكشف الدوري، ونقص الأطباء المتخصصين، والتباطؤ في إجراء العمليات الجراحية الضرورية حتى على نفقة النزلاء الخاصة. وعوضًا عما سبق، نوه البلاغ إلى امتناع إدارة المركز عن تمكين النزلاء المقيدين بالجامعات من أداء امتحاناتهم، سواء برفض نقلهم للجان المختصة أو الامتناع عن استلام طلبات أداء الامتحان، مما أدى إلى ضياع العام الدراسي على عدد من الطلاب المحبوسين. كما تضمن البلاغ شكاوى بشأن وجود كاميرات مراقبة داخل غرف الإقامة، وهو ما يمثل مساسًا بالخصوصية، بالإضافة إلى شكاوى تتعلق بعدم صلاحية مياه الشرب، وتقليص فترات التريض والتعرض للشمس، مما يؤثر سلبًا على الصحة الجسدية والنفسية للنزلاء. وكان النائب العام المستشار محمد شوقي أجرى زيارة تفتيشية لمركز إصلاح وتأهيل بدر في سبتمبر/أيلول 2024، شملت تفقد العنابر والمركز الطبي وأماكن التريض. وذكرت النيابة العامة في بيان حينها أن فريقها استمع لشكاوى عدد من النزلاء ووجه إدارة المركز بـ"تلافيها". وصلت 500 مليار جنيه.. التكلفة التقديرية لترفيق المرحلة الثانية من العاصمة الإدارية تتضاعف عبدالله البسطويسي شهدت التقديرات المالية لتنفيذ مشروعات البنية التحتية والمرافق بالمرحلة الثانية من العاصمة الإدارية الجديدة، قفزة كبيرة اقتربت على أثرها التكلفة الإجمالية من حاجز 500 مليار جنيه، وهو ما يعادل ضعف التقديرات الرسمية التي أعلنتها الشركة قبل نحو عامين، حسب مصدر مطلع على الملف بالشركة. وعزا المصدر، الذي رفض نشر اسمه، في تصريحات لـ المنصة، هذه الزيادة لعاملين أساسيين؛ أولهما ارتفاع تكلفة الخامات وأعمال التنفيذ، وثانيهما زيادة المساحة الإجمالية للمرحلة الثانية لتصل إلى 50 ألف فدان بدلًا من 40 ألف فدان، تشمل أنشطة سكنية، تجارية، إدارية، بالإضافة إلى منطقة صناعية. وتعكس الأرقام الجديدة تحولًا كبيرًا في الميزانية المرصودة؛ ففي مارس/آذار 2024، قدّر المهندس خالد عباس، رئيس شركة العاصمة الإدارية، تكلفة ترفيق هذه المرحلة بنحو 240 مليار جنيه لـ40 ألف فدان، ما يعني أن التكلفة قفزت بنسبة تفوق 100% مع زيادة في المساحة بواقع 25%. وبلغت تكلفة مرافق المرحلة الأولى نحو 350 مليار جنيه لمساحة 40 ألف فدان، شملت المحطة الرئيسية للمياه التي استحوذت وحدها على 10% من التكلفة الإجمالية باعتبارها المصدر الرئيسي لتغذية المدينة بمياه نهر النيل. وتتضمن أعمال البنية التحتية للمرحلة الثانية، حسب المصدر، مد وصلات المياه، الغاز، والكهرباء، إضافة إلى تنفيذ الطرق الرئيسية والفرعية للمرحلة الجديدة، علاوة على البنية التكنولوجية اللازمة ارتكازًا على مبادئ المدن الذكية. وفي الوقت الذي انطلقت فيه أعمال الترفيق بالمرحلة الثانية بداية العام الماضي، أكد المصدر أن الشركة ستشرع في طرح الدفعة الأولى من الأراضي السكنية والتجارية أمام المستثمرين بهذه المرحلة بنهاية 2026، بينما من المقرر أن تنتهي من تجهيز وتسليم الأراضي الصناعية مطلع العام المقبل. وتوقع المصدر افتتاح أول مصنع بالمنطقة الصناعية منتصف 2027، وقال "الشركة تدرس تنفيذ عمليات توسعية في المنطقة الصناعية بعد الإقبال المتزايد من القطاع الخاص على شراء أراضي هناك، لكنها متوقفة حاليًا عند حدود الدراسة والتقييم فقط". وحول الموارد المالية للإنفاق على هذه المشروعات، شدد المصدر على أن شركة العاصمة كغيرها من الشركات لديها مصروفات والتزامات مالية تجاه المدينة والدولة وفي المقابل تمتلك عوائد مالية و"مداخيل"، ليجري بنهاية كل عام خصم المصروفات، ومن بينها أعمال الترفيق، من العوائد المحققة ليشكل الناتج صافي أرباح الشركة. وفي وقت سابق من الشهر الجاري، قال عباس لـ المنصة، إن العاصمة الإدارية أجرت اتفاقات مع شركات إماراتية وصينية لاستغلال 600 فدان من المنطقة الصناعية البالغة ألف فدان، منوهًا وقتها بأنها تدرس طلبات مجموعة كبيرة من المستثمرين المحليين والأجانب لاستغلال باقي المساحات. ويتوزع هيكل ملكية شركة العاصمة الجديدة بواقع 29% لجهاز مشروعات الخدمة الوطنية، و22% حصة عينية لجهاز مشروعات أراضي القوات المسلحة، و49% حصة هيئة المجتمعات العمرانية. | AE13: https://manassa.news/news-bulletin/29804?fbclid=IwY2xjawTgdD9wZG9mBWV4dG4DYWVtAjExAHNydGMGYXBwX2lkEDIyMjAzOTE3ODgyMDA4OTIAAR68QNytXgJVbwxDxCuTtThiMeqVFFaczekeEfWSVGAMKYw3w9N43hIPwBb5jg_aem_T5jT17Dzdj7o9uiTbgJDcw
A14: 12 | B14: 46050 | C14: يناير | D14: الإسكندرية | E14: إقليم الاسكندرية | F14: المنتزه | G14: مصنع الرأس السوداء التابع لشركة قها | H14: احتجاجات عمال مصنع الرأس السوداء التابع لشركة قها | I14: وقفة احتجاجية | J14: تظاهرة ميدانية | K14: المطالبة بالتثبيت | L14: مطالب اقتصادية | M14: عمال/عاملات | N14: قطاع عام/موظفون | O14: 500 | P14: أصحاب المنشآت | R14: 0 | AD14: وقفة احتجاجية لعمال “قها” بالإسكندرية التاريخ الأربعاء 28 يناير 2026 الكاتب بقلم طاهر الشيخ استمرارا لمسلسل الغضب العمالي المتصاعد منذ بداية العام الجاري، نظم أكثر من 500 عامل وعاملة بمصنع الرأس السوداء التابع لشركة قها في الإسكندرية، وقفة احتجاجية، أمس، للمطالبة بالتثبيت. ويعد الكفاح من أجل الأمان الوظيفي أحد أبرز أسباب الاحتجاجات العمالية، خلال الأعوام السابقة، في ضوء إصرار الرأسمالية المتوحشة الحاكمة على الدفاع عما تسمية “مرونة العمل” أي احقية صاحب العمل في ابرام عقود مؤقتة لعماله دون حد أقصى، وهو ما كرسه قانون العمل الجديد. ونقل موقع “مدى مصر” عن عاملين شاركا في الوقفة قولهما نطالب بالتثبيت أسوة بما جرى مؤخرًا مع عمال شركة السكر والصناعات التكاملية التابعة للشركة القابضة للصناعات الغذائية. وأوضح المصدران أن العمال نظموا وقفة الخميس الماضي، بنفس المطلب، قبل أن ينهوها بعد وعود من الإدارة بالنظر في المطالب، ولكن عدم وصول رد حتى اليوم دفعهم إلى معاودة الاحتجاج. أحد المصدرين، والذي يعمل بعقد يجدد كل ستة أشهر منذ أكثر من ثماني سنوات، قال إنه لا يتقاضى أي حوافز أو بدلات سوى 150 جنيهًا شهريًا كنسبة من أرباح الشركة، في ظل تدني راتبه الذي يبلغ نحو خمسة آلاف جنيه، لافتًا إلى أن بعض زملائه يعمل في الشركة بعقود مؤقتة منذ أكثر من 17 عامًا. وعلى إثر احتجاجات دامت 8 أيام لعمال تسع مصانع تابعة لشركة السكر في عدة محافظات مطلع العام الجاري وافق وزير التموين على تعديل بعض المزايا الهامة المقدمة لصالح العاملين بالشركة ومصانعها التابعة، وعلى رأسها زيادة بدل الوجبة الى 1500 جنيه شهريًا بدلًا من 1000 جنيه، وزيادة الأرباح والحوافز السنوية للعاملين لتكون 45 شهر بدلا من 42 شهر، وزيادة الحافز لكافة العاملين بجميع الفئات 25% من أساس المرتب، كما تم الموافقة على تقديم العلاج لجميع العاملين بالمركز الطبي الرئيسي بالحوامدية. وشركة قها للأغذية المحفوظة شركة تابعة للشركة القابضة للصناعات الغذائية، وهي أولى الشركات التي أنشئت بمصر في مجال التعليب حيث أنشئت عام 1940، وبدأت بمصنع واحد فى مدينة قها محافظة القليوبية باسم (المصنع المصري للأغذية). ولكنها توسعت لتضم مصانع في البحيرة والشرقية والإسكندرية. | AE14: https://revsoc.me/workers-farmers/51185/
A15: 13 | B15: 46061 | C15: فبراير | D15: الشرقية | E15: إقليم القناه وسيناء | F15: العاشر من رمضان | G15: مصنع شركة چيد تكستايل | H15: إضراب عمال شركة چيد تكستايل | I15: إضراب عن العمل | J15: إضراب عن العمل | K15: المطالبة بألا تقل العلاوة السنوية عن 35% | L15: مطالب اقتصادية | M15: عمال/عاملات | N15: قطاع خاص وباليومية | O15: آلاف | P15: أصحاب المنشآت | R15: 0 | AD15: عمال “چيد تكستايل” يعلنون الإضراب.. احتجاجًا على نسبة “العلاوة” التاريخ الأحد 8 فبراير 2026 أعلن الآلاف من عمال مصنعي شركة چيد تكستايل (التركية) في العاشر من رمضان، والإسماعيلية، اليوم، إضرابًا عن العمل، احتجاجًا على قرار الشركة بصرف نسبة علاوة متدنية بلغت 15% من الأجر الأساسي، بينما يطالب العمال بألا تقل العلاوة السنوية عن 35%، لمواجهة قفزات أسعار المعيشة. | AE15: https://revsoc.me/workers-farmers/51273/
A16: 14 | B16: 46061 | C16: فبراير | D16: الإسماعيلية | E16: إقليم القناه وسيناء | F16: حي ثالث | G16: مصنع شركة چيد تكستايل | H16: إضراب عمال شركة چيد تكستايل | I16: إضراب عن العمل | J16: إضراب عن العمل | K16: المطالبة بألا تقل العلاوة السنوية عن 35% | L16: مطالب اقتصادية | M16: عمال/عاملات | N16: قطاع خاص وباليومية | O16: آلاف | P16: أصحاب المنشآت | R16: 0 | AD16: عمال “چيد تكستايل” يعلنون الإضراب.. احتجاجًا على نسبة “العلاوة” التاريخ الأحد 8 فبراير 2026 أعلن الآلاف من عمال مصنعي شركة چيد تكستايل (التركية) في العاشر من رمضان، والإسماعيلية، اليوم، إضرابًا عن العمل، احتجاجًا على قرار الشركة بصرف نسبة علاوة متدنية بلغت 15% من الأجر الأساسي، بينما يطالب العمال بألا تقل العلاوة السنوية عن 35%، لمواجهة قفزات أسعار المعيشة. | AE16: https://revsoc.me/workers-farmers/51273/
A17: 15 | B17: 46077 | C17: فبراير | D17: المنوفية | E17: إقليم الدلتا | F17: اشمون | G17: شركة ألفا سيرفس | H17: احتجاجات عاملات النظافة بـ«أشمون الصحية» | I17: وقفة احتجاجية | J17: تظاهرة ميدانية | K17: للمطالبة بوقف خصم مبلغ ألف جنيه من رواتبهن، البالغة 1300 جنيه. كما طالبن بصرف راتب يناير الماضي، وتطبيق الحد الأدنى للأجور | L17: مطالب اقتصادية | M17: عاملات النظافة بأشمون الصحية | N17: قطاع خاص وباليومية | O17: عشرات | P17: الحكومة ورئيس الجمهورية | R17: 0 | AD17: وقفة لعاملات النظافة بـ«أشمون الصحية» للمطالبة بوقف استقطاع «منحة العمالة غير المنتظمة» من الأجور كتابة أحمد عشماوي 25 فبراير 2026 وقفة لعدد من عاملات النظافة بإدارة أشمون الصحية، في محافظة المنوفية، أمس. المصدر: إحدى العاملات نظم عدد من عاملات النظافة بإدارة أشمون الصحية، في محافظة المنوفية، أمس، وقفة احتجاجية، للمطالبة بوقف خصم مبلغ ألف جنيه من رواتبهن، البالغة 1300 جنيه. كما طالبن بصرف راتب يناير الماضي، وتطبيق الحد الأدنى للأجور، ودعت العاملات الحكومة ورئيس الجمهورية للتدخل، حسبما قالت إحدى العاملات من المشاركات في الوقفة لـ«مدى مصر»، مشيرة إلى أنهن تلقين تهديدات من المشرفين بالاستغناء عنهن وتسريحهن حال استمرارهن في الاحتجاج. وأوضحت العاملة أنها بدأت العمل في الإدارة منذ حوالي ست سنوات من خلال تعاقدها مع إحدى شركات النظافة الخاصة، دون أن تحصل على نسخة من العقد، ثم أنهت الشركة تعاقدها مع الإدارة الصحية، التي استقدمت شركة أخرى، فانتقلت تبعية العاملات، البالغ عددهن 138، إلى الشركة الجديدة، حيث أصبحت هي من تتولى صرف الأجور لهن، بحسب العاملة، مضيفة أنه بعد فترة أنهت الشركة الجديدة أيضًا تعاقدها مع الإدارة، وجاءت شركة «ألفا سيرفس»، لتنتقل تبعية العاملات مرة أخرى إليها، دون توقيع أي عقود جديدة في المرتين. المستشار القانوني لوزارة العمل، إيهاب عبد العاطي، قال لـ«مدى مصر»، إن كامل مبلغ منحة العمالة غير المنتظمة هو للعمال، ولا يجوز مطلقًا استقطاع الشركة لأي مبلغ، لأن ذلك «غير قانوني.. ومحدش يقدر يعمل كده»، مُشددًا على أهمية تقدم العمال بشكاوى عاجلة حال قيام أي شركة بإجراء من هذا النوع، «لو حد عمل كده يبعتلونا شكاوى بسرعة واحنا هنتصرف». من جانبه، قال مصدر مسؤول بإدارة أشمون الصحية لـ«مدى مصر»، مشترطًا عدم ذكر اسمه، إن الإدارة التابعة لوزارة الصحة، تتعاقد مع شركات خارجية للقيام بأعمال النظافة، وأن العاملات لا يتبعن الإدارة أو الوزارة، رغم أنهن يعملن منذ سنوات في نفس المكان والوظيفة، لكن عن طريق إلحاقهن بالشركات الخارجية المُتعاقد معها، رافضًا توضيح طبيعة التعاقد بين الإدارة وشركات النظافة الخاصة فيما يخص العاملات. وأضافت العاملة أن الراتب الذي اتفقت عليه عند بداية عملها، بحسب العقد الذي طالعته عند توقيعها قبل ست سنوات، كان 2500 جنيه شهريًا، لكن ما كانت تتقاضاه فعليًا هي وزملائها مبلغ 1300 فقط، وحين سألن إدارة «ألفا سيرفس» عن باقي الراتب كان الرد: «بنشتري بيهم أدوات نظافة»، على حد قول العاملة. ومؤخرًا، فوجئت العاملات بإبلاغهن من قِبل إدارة «ألفا سيرفس» أن للشركة نصيب في مبلغ منحة العمالة غير المنتظمة (1500 جنيه) التي يحصلن عليها من وزارة العمل، بزعم أن الشركة هي من سجلت أسماءهن للحصول عليها كما تشترط الوزارة، وبالتالي «للشركة نصيب في المنحة.. وهناخد ألف جنيه وانتوا هتاخدوا 500». | AE17: https://www.madamasr.com/2026/02/25/news/%d8%b3%d9%8a%d8%a7%d8%b3%d8%a9/%d9%88%d9%82%d9%81%d8%a9-%d9%84%d8%b9%d8%a7%d9%85%d9%84%d8%a7%d8%aa-%d8%a7%d9%84%d9%86%d8%b8%d8%a7%d9%81%d8%a9-%d8%a8%d9%80%d8%a3%d8%b4%d9%85%d9%88%d9%86-%d8%a7%d9%84%d8%b5%d8%ad%d9%8a%d8%a9/ | AF17: https://www.facebook.com/RevSoc.me/photos/%D9%85%D8%AA%D8%B6%D8%A7%D9%85%D9%86%D9%88%D9%86-%D9%85%D8%B9-%D8%B9%D8%A7%D9%85%D9%84%D8%A7%D8%AA-%D8%A7%D9%84%D9%86%D8%B8%D8%A7%D9%81%D8%A9-%D8%A8%D8%B4%D8%B1%D9%83%D8%A9-%D8%A3%D9%84%D9%81%D8%A7-%D8%B3%D9%8A%D8%B1%D9%81%D8%B3%D9%86%D8%B8%D9%85%D8%AA-%D8%B9%D8%A7%D9%85%D9%84%D8%A7%D8%AA-%D8%A7%D9%84%D9%86%D8%B8%D8%A7%D9%81%D8%A9-%D8%A8%D8%A5%D8%AF%D8%A7%D8%B1%D8%A9-%D8%A3%D8%B4%D9%85%D9%88%D9%86-%D8%A7%D9%84%D8%B5%D8%AD/1209605874680292/
A18: 16 | B18: 46078 | C18: فبراير | D18: الإسكندرية | E18: إقليم الاسكندرية | F18: العامرية | G18: شركة مصر العامرية للغزل والنسيج | H18: احتجاجات عمال مصر العامرية للغزل والنسيج | I18: إضراب عن العمل | J18: إضراب عن العمل | K18: أن العاملين فوجئوا عند تسلمهم قسيمة الراتب (باي سليب)، اليوم، باستقطاعات تمثلت في رفع الضرائب إلى 350 جنيهًا، بزيادة قدرها 100 جنيه عن الشهر الماضي، بالإضافة إلى زيادة المستقطع لصالح التأمينات الاجتماعية لتصل إلى نحو 800 جنيه، بعدما كانت تتراوح بين 400 و500 في يناير الماضي، وهو ما أثار غضب العمال، ودفع عمال القطاعين إلى الإضراب | L18: مطالب اقتصادية | M18: عمال قطاعي التجهيز والملابس بشركة مصر العامرية للغزل والنسيج | N18: قطاع خاص وباليومية | O18: 550 | P18: شركة مصر العامرية للغزل والنسيج | R18: 0 | Z18: تحت ضغط العمال.. "العامرية للغزل" تتراجع عن قرار الإجازة الإجبارية | AA18: تنظر المحكمة العمالية في الدخيلة بالإسكندرية دعاوى نحو 250 من عمال الشركة بشأن عدم تطبيق الحد الأدنى للأجور «بصورة صحيحة»، وعدم حصولهم على مقابل ساعات العمل الإضافية وبدل الوردية، بالإضافة إلى استقطاع حصة صاحب العمل في التأمينات الاجتماعية من الأجور | AD18: إضراب مئات العمال بـ«العامرية للغزل» احتجاجًا على استقطاعات كبيرة من الرواتب كتابة أحمد عشماوي 26 فبراير 2026 أعلن نحو 550 عاملًا وعاملة بقطاعي التجهيز والملابس في شركة مصر العامرية للغزل والنسيج بالإسكندرية، اليوم، إضرابًا عن العمل، احتجاجًا على استقطاعات كبيرة من رواتب فبراير، حسبما قال مصدران من المضربين لـ«مدى مصر». وأوضح ثلاثة عمال من قطاعات مختلفة بالشركة أن العاملين فوجئوا عند تسلمهم قسيمة الراتب (باي سليب)، اليوم، باستقطاعات تمثلت في رفع الضرائب إلى 350 جنيهًا، بزيادة قدرها 100 جنيه عن الشهر الماضي، بالإضافة إلى زيادة المستقطع لصالح التأمينات الاجتماعية لتصل إلى نحو 800 جنيه، بعدما كانت تتراوح بين 400 و500 في يناير الماضي، وهو ما أثار غضب العمال، ودفع عمال القطاعين إلى الإضراب، «وممكن الشركة كلها تقف السبت»، حسبما قال أحد العمال. وأضاف مصدر من عمال قطاع التجهيز أنه بجانب هذه الاستقطاعات، خصمت الشركة من عمال هذا القطاع فقط قيمة «حافز التجهيز» بما يعادل حوالي 350 جنيهًا لكل عامل، بحجة أن «الشغل خفيف»، حسبما أبلغ المشرفون العمال، متسائلًا: «هل هما جابوا شغل واحنا ماشتغلناش؟». وقال المصدر إن العمل توقف في قطاع التجهيز، أمس، لبعض الوقت، بعد تجمع العمال أمام مبنى الإدارة احتجاجًا على قرار الشركة بمنح عمال القسم إجازة إجبارية أيام الخميس خلال شهر رمضان، تُخصم من رصيد الإجازات الاعتيادية، لخفض تكاليف التشغيل، قبل أن تبلغهم الشركة بوقف القرار، بحسب المصدر. طلب العمال من الإدارة تفسيرًا لهذه الاستقطاعات الكبيرة دون إجابة، لكنها وعدتهم ببحث الأمر مع رئيس مجلس الإدارة، الذي لا يتواجد سوى يوم الثلاثاء من كل أسبوع، وهو ما قابله العمال بإعلان استمرار الإضراب حتى حضوره. من ناحية أخرى، تنظر المحكمة العمالية في الدخيلة بالإسكندرية دعاوى نحو 250 من عمال الشركة بشأن عدم تطبيق الحد الأدنى للأجور «بصورة صحيحة»، وعدم حصولهم على مقابل ساعات العمل الإضافية وبدل الوردية، بالإضافة إلى استقطاع حصة صاحب العمل في التأمينات الاجتماعية من الأجور، مطالبين أيضًا بزيادة بدل الوجبة، حسبما قالت لـ«مدى مصر» مها أحمد، مديرة الوحدة الاقتصادية والاجتماعية بالمفوضية المصرية للحقوق والحريات، الممثل القانوني للعمال. سبق أن نظم عمال «العامرية للغزل» إضرابًا عن العمل في أغسطس الماضي، استمر أسبوعين، للمطالبة بمراعاة الأقدمية في تطبيق الحد الأدنى للأجور، وزيادة البدلات والحوافز، وإقالة المدير التنفيذي للشركة. وانتهى الإضراب بالإطاحة بالمدير التنفيذي، وحصول العمال على زيادة «حافز الجهد» بنسبة 100%، بالإضافة إلى زيادة 200 جنيه في «بدل الوردية» لا تحتسب ضمن «الأدنى للأجور»، واحتساب أيام الإضراب كأيام عمل. | AE18: https://www.madamasr.com/2026/02/26/news/u/%d8%a5%d8%b6%d8%b1%d8%a7%d8%a8-%d9%85%d8%a6%d8%a7%d8%aa-%d8%a7%d9%84%d8%b9%d9%85%d8%a7%d9%84-%d8%a8%d9%80%d8%a7%d9%84%d8%b9%d8%a7%d9%85%d8%b1%d9%8a%d8%a9-%d9%84%d9%84%d8%ba%d8%b2%d9%84/ | AF18: https://manassa.news/news/30548 | AG18: https://manassa.news/news/30579 | AH18: https://manassa.news/news/30636
A19: 17 | B19: 46079 | C19: فبراير | D19: الإسكندرية | E19: إقليم الاسكندرية | F19: العامرية | G19: شركة مصر العامرية للغزل والنسيج | H19: احتجاجات عمال مصر العامرية للغزل والنسيج | I19: إضراب عن العمل | J19: إضراب عن العمل | K19: أن العاملين فوجئوا عند تسلمهم قسيمة الراتب (باي سليب)، اليوم، باستقطاعات تمثلت في رفع الضرائب إلى 350 جنيهًا، بزيادة قدرها 100 جنيه عن الشهر الماضي، بالإضافة إلى زيادة المستقطع لصالح التأمينات الاجتماعية لتصل إلى نحو 800 جنيه، بعدما كانت تتراوح بين 400 و500 في يناير الماضي، وهو ما أثار غضب العمال، ودفع عمال القطاعين إلى الإضراب | L19: مطالب اقتصادية | M19: عمال قطاعي التجهيز والملابس بشركة مصر العامرية للغزل والنسيج | N19: قطاع خاص وباليومية | O19: 550 | P19: شركة مصر العامرية للغزل والنسيج | R19: 0 | Z19: تحت ضغط العمال.. "العامرية للغزل" تتراجع عن قرار الإجازة الإجبارية | AA19: تنظر المحكمة العمالية في الدخيلة بالإسكندرية دعاوى نحو 250 من عمال الشركة بشأن عدم تطبيق الحد الأدنى للأجور «بصورة صحيحة»، وعدم حصولهم على مقابل ساعات العمل الإضافية وبدل الوردية، بالإضافة إلى استقطاع حصة صاحب العمل في التأمينات الاجتماعية من الأجور | AD19: إضراب مئات العمال بـ«العامرية للغزل» احتجاجًا على استقطاعات كبيرة من الرواتب كتابة أحمد عشماوي 26 فبراير 2026 أعلن نحو 550 عاملًا وعاملة بقطاعي التجهيز والملابس في شركة مصر العامرية للغزل والنسيج بالإسكندرية، اليوم، إضرابًا عن العمل، احتجاجًا على استقطاعات كبيرة من رواتب فبراير، حسبما قال مصدران من المضربين لـ«مدى مصر». وأوضح ثلاثة عمال من قطاعات مختلفة بالشركة أن العاملين فوجئوا عند تسلمهم قسيمة الراتب (باي سليب)، اليوم، باستقطاعات تمثلت في رفع الضرائب إلى 350 جنيهًا، بزيادة قدرها 100 جنيه عن الشهر الماضي، بالإضافة إلى زيادة المستقطع لصالح التأمينات الاجتماعية لتصل إلى نحو 800 جنيه، بعدما كانت تتراوح بين 400 و500 في يناير الماضي، وهو ما أثار غضب العمال، ودفع عمال القطاعين إلى الإضراب، «وممكن الشركة كلها تقف السبت»، حسبما قال أحد العمال. وأضاف مصدر من عمال قطاع التجهيز أنه بجانب هذه الاستقطاعات، خصمت الشركة من عمال هذا القطاع فقط قيمة «حافز التجهيز» بما يعادل حوالي 350 جنيهًا لكل عامل، بحجة أن «الشغل خفيف»، حسبما أبلغ المشرفون العمال، متسائلًا: «هل هما جابوا شغل واحنا ماشتغلناش؟». وقال المصدر إن العمل توقف في قطاع التجهيز، أمس، لبعض الوقت، بعد تجمع العمال أمام مبنى الإدارة احتجاجًا على قرار الشركة بمنح عمال القسم إجازة إجبارية أيام الخميس خلال شهر رمضان، تُخصم من رصيد الإجازات الاعتيادية، لخفض تكاليف التشغيل، قبل أن تبلغهم الشركة بوقف القرار، بحسب المصدر. طلب العمال من الإدارة تفسيرًا لهذه الاستقطاعات الكبيرة دون إجابة، لكنها وعدتهم ببحث الأمر مع رئيس مجلس الإدارة، الذي لا يتواجد سوى يوم الثلاثاء من كل أسبوع، وهو ما قابله العمال بإعلان استمرار الإضراب حتى حضوره. من ناحية أخرى، تنظر المحكمة العمالية في الدخيلة بالإسكندرية دعاوى نحو 250 من عمال الشركة بشأن عدم تطبيق الحد الأدنى للأجور «بصورة صحيحة»، وعدم حصولهم على مقابل ساعات العمل الإضافية وبدل الوردية، بالإضافة إلى استقطاع حصة صاحب العمل في التأمينات الاجتماعية من الأجور، مطالبين أيضًا بزيادة بدل الوجبة، حسبما قالت لـ«مدى مصر» مها أحمد، مديرة الوحدة الاقتصادية والاجتماعية بالمفوضية المصرية للحقوق والحريات، الممثل القانوني للعمال. سبق أن نظم عمال «العامرية للغزل» إضرابًا عن العمل في أغسطس الماضي، استمر أسبوعين، للمطالبة بمراعاة الأقدمية في تطبيق الحد الأدنى للأجور، وزيادة البدلات والحوافز، وإقالة المدير التنفيذي للشركة. وانتهى الإضراب بالإطاحة بالمدير التنفيذي، وحصول العمال على زيادة «حافز الجهد» بنسبة 100%، بالإضافة إلى زيادة 200 جنيه في «بدل الوردية» لا تحتسب ضمن «الأدنى للأجور»، واحتساب أيام الإضراب كأيام عمل. | AE19: https://www.madamasr.com/2026/02/26/news/u/%d8%a5%d8%b6%d8%b1%d8%a7%d8%a8-%d9%85%d8%a6%d8%a7%d8%aa-%d8%a7%d9%84%d8%b9%d9%85%d8%a7%d9%84-%d8%a8%d9%80%d8%a7%d9%84%d8%b9%d8%a7%d9%85%d8%b1%d9%8a%d8%a9-%d9%84%d9%84%d8%ba%d8%b2%d9%84/ | AF19: https://manassa.news/news/30548 | AG19: https://manassa.news/news/30579 | AH19: https://manassa.news/news/30636
