Workbook
Name _FilterDatabase_0: Data!$A$2:$AB$2221
Name _FilterDatabase_0_0: Data!$A$2:$AMA$2229

Sheet stat
A2: المسار الجغرافي (الاقاليم) وفقا للتقسيم الشهري
B3: ابريل 2026 | C3: مايو 2026 | D3: يونيو 2026 | E3: الاجمالي
A4: اقليم القاهرة الكبرى | B4: =COUNTIFS(Data!$B:$B,B$3,Data!$D:$D,$A4) -> 128 | C4: =COUNTIFS(Data!$B:$B,C$3,Data!$D:$D,$A4) -> 129 | D4: =COUNTIFS(Data!$B:$B,D$3,Data!$D:$D,$A4) -> 100 | E4: =SUM(B4:D4) -> 357
A5: اقليم الدلتا | B5: =COUNTIFS(Data!$B:$B,B$3,Data!$D:$D,$A5) -> 38 | C5: =COUNTIFS(Data!$B:$B,C$3,Data!$D:$D,$A5) -> 41 | D5: =COUNTIFS(Data!$B:$B,D$3,Data!$D:$D,$A5) -> 39 | E5: =SUM(B5:D5) -> 118
A6: اقليم جنوب الصعيد | B6: =COUNTIFS(Data!$B:$B,B$3,Data!$D:$D,$A6) -> 38 | C6: =COUNTIFS(Data!$B:$B,C$3,Data!$D:$D,$A6) -> 34 | D6: =COUNTIFS(Data!$B:$B,D$3,Data!$D:$D,$A6) -> 39 | E6: =SUM(B6:D6) -> 111
A7: اقليم شمال الصعيد | B7: =COUNTIFS(Data!$B:$B,B$3,Data!$D:$D,$A7) -> 16 | C7: =COUNTIFS(Data!$B:$B,C$3,Data!$D:$D,$A7) -> 21 | D7: =COUNTIFS(Data!$B:$B,D$3,Data!$D:$D,$A7) -> 17 | E7: =SUM(B7:D7) -> 54
A8: اقليم الاسكندرية | B8: =COUNTIFS(Data!$B:$B,B$3,Data!$D:$D,$A8) -> 20 | C8: =COUNTIFS(Data!$B:$B,C$3,Data!$D:$D,$A8) -> 16 | D8: =COUNTIFS(Data!$B:$B,D$3,Data!$D:$D,$A8) -> 15 | E8: =SUM(B8:D8) -> 51
A9: اقليم القناة | B9: =COUNTIFS(Data!$B:$B,B$3,Data!$D:$D,$A9) -> 14 | C9: =COUNTIFS(Data!$B:$B,C$3,Data!$D:$D,$A9) -> 16 | D9: =COUNTIFS(Data!$B:$B,D$3,Data!$D:$D,$A9) -> 14 | E9: =SUM(B9:D9) -> 44
A10: اقليم وسط الصعيد | B10: =COUNTIFS(Data!$B:$B,B$3,Data!$D:$D,$A10) -> 9 | C10: =COUNTIFS(Data!$B:$B,C$3,Data!$D:$D,$A10) -> 6 | D10: =COUNTIFS(Data!$B:$B,D$3,Data!$D:$D,$A10) -> 3 | E10: =SUM(B10:D10) -> 18
A11: الاجمالي | B11: =SUM(B4:B10) -> 263 | C11: =SUM(C4:C10) -> 263 | D11: =SUM(D4:D10) -> 227 | E11: =SUM(E4:E10) -> 753
A16: المسار الجغرافي (المحافظات) وفقا للتقسيم الشهري
B17: ابريل 2026 | C17: مايو 2026 | D17: يونيو 2026 | E17: الاجمالي
A18: الجيزة | B18: =COUNTIFS(Data!$B:$B,B$17,Data!$E:$E,$A18) -> 74 | C18: =COUNTIFS(Data!$B:$B,C$17,Data!$E:$E,$A18) -> 66 | D18: =COUNTIFS(Data!$B:$B,D$17,Data!$E:$E,$A18) -> 50 | E18: =SUM(B18:D18) -> 190
A19: القاهرة | B19: =COUNTIFS(Data!$B:$B,B$17,Data!$E:$E,$A19) -> 34 | C19: =COUNTIFS(Data!$B:$B,C$17,Data!$E:$E,$A19) -> 45 | D19: =COUNTIFS(Data!$B:$B,D$17,Data!$E:$E,$A19) -> 31 | E19: =SUM(B19:D19) -> 110
A20: القليوبية | B20: =COUNTIFS(Data!$B:$B,B$17,Data!$E:$E,$A20) -> 20 | C20: =COUNTIFS(Data!$B:$B,C$17,Data!$E:$E,$A20) -> 18 | D20: =COUNTIFS(Data!$B:$B,D$17,Data!$E:$E,$A20) -> 19 | E20: =SUM(B20:D20) -> 57
A21: الاسكندرية | B21: =COUNTIFS(Data!$B:$B,B$17,Data!$E:$E,$A21) -> 15 | C21: =COUNTIFS(Data!$B:$B,C$17,Data!$E:$E,$A21) -> 12 | D21: =COUNTIFS(Data!$B:$B,D$17,Data!$E:$E,$A21) -> 13 | E21: =SUM(B21:D21) -> 40
A22: سوهاج | B22: =COUNTIFS(Data!$B:$B,B$17,Data!$E:$E,$A22) -> 9 | C22: =COUNTIFS(Data!$B:$B,C$17,Data!$E:$E,$A22) -> 5 | D22: =COUNTIFS(Data!$B:$B,D$17,Data!$E:$E,$A22) -> 23 | E22: =SUM(B22:D22) -> 37
A23: الغربية | B23: =COUNTIFS(Data!$B:$B,B$17,Data!$E:$E,$A23) -> 13 | C23: =COUNTIFS(Data!$B:$B,C$17,Data!$E:$E,$A23) -> 11 | D23: =COUNTIFS(Data!$B:$B,D$17,Data!$E:$E,$A23) -> 11 | E23: =SUM(B23:D23) -> 35
A24: الدقهلية | B24: =COUNTIFS(Data!$B:$B,B$17,Data!$E:$E,$A24) -> 10 | C24: =COUNTIFS(Data!$B:$B,C$17,Data!$E:$E,$A24) -> 13 | D24: =COUNTIFS(Data!$B:$B,D$17,Data!$E:$E,$A24) -> 11 | E24: =SUM(B24:D24) -> 34
A25: المنوفية | B25: =COUNTIFS(Data!$B:$B,B$17,Data!$E:$E,$A25) -> 8 | C25: =COUNTIFS(Data!$B:$B,C$17,Data!$E:$E,$A25) -> 11 | D25: =COUNTIFS(Data!$B:$B,D$17,Data!$E:$E,$A25) -> 14 | E25: =SUM(B25:D25) -> 33
A26: قنا | B26: =COUNTIFS(Data!$B:$B,B$17,Data!$E:$E,$A26) -> 13 | C26: =COUNTIFS(Data!$B:$B,C$17,Data!$E:$E,$A26) -> 13 | D26: =COUNTIFS(Data!$B:$B,D$17,Data!$E:$E,$A26) -> 5 | E26: =SUM(B26:D26) -> 31
A27: الفيوم | B27: =COUNTIFS(Data!$B:$B,B$17,Data!$E:$E,$A27) -> 8 | C27: =COUNTIFS(Data!$B:$B,C$17,Data!$E:$E,$A27) -> 12 | D27: =COUNTIFS(Data!$B:$B,D$17,Data!$E:$E,$A27) -> 9 | E27: =SUM(B27:D27) -> 29
A28: اسوان | B28: =COUNTIFS(Data!$B:$B,B$17,Data!$E:$E,$A28) -> 12 | C28: =COUNTIFS(Data!$B:$B,C$17,Data!$E:$E,$A28) -> 12 | D28: =COUNTIFS(Data!$B:$B,D$17,Data!$E:$E,$A28) -> 4 | E28: =SUM(B28:D28) -> 28
A29: الشرقية | B29: =COUNTIFS(Data!$B:$B,B$17,Data!$E:$E,$A29) -> 8 | C29: =COUNTIFS(Data!$B:$B,C$17,Data!$E:$E,$A29) -> 8 | D29: =COUNTIFS(Data!$B:$B,D$17,Data!$E:$E,$A29) -> 2 | E29: =SUM(B29:D29) -> 18
... A44: شمال سيناء | B44: =COUNTIFS(Data!$B:$B,B$17,Data!$E:$E,$A44) -> 0 | C44: =COUNTIFS(Data!$B:$B,C$17,Data!$E:$E,$A44) -> 1 | D44: =COUNTIFS(Data!$B:$B,D$17,Data!$E:$E,$A44) -> 1 | E44: =SUM(B44:D44) -> 2
A45: الاجمالي | B45: =SUM(B18:B44) -> 263 | C45: =SUM(C18:C44) -> 263 | D45: =SUM(D18:D44) -> 227 | E45: =SUM(E18:E44) -> 753
A51: المسار الجغرافي (المحافظات) لتصنيف مكان الواقعة
B52: منشأة سكنية | C52: منشأة تجارية | D52: منشأة صناعية | E52: وسيلة نقل | F52: مزرعة نباتية / زراعية | G52: منشأة خدمية/ تعليمية | H52: مزرعة حيوانية | I52: مخلفات / منطقة مفتوحة | J52: بنية تحتية | K52: منشأة دينية | L52: اخري | M52: الاجمالي
A53: الجيزة | B53: =COUNTIFS(Data!$J:$J,B$52,Data!$E:$E,$A53) -> 111 | C53: =COUNTIFS(Data!$J:$J,C$52,Data!$E:$E,$A53) -> 43 | D53: =COUNTIFS(Data!$J:$J,D$52,Data!$E:$E,$A53) -> 10 | E53: =COUNTIFS(Data!$J:$J,E$52,Data!$E:$E,$A53) -> 6 | F53: =COUNTIFS(Data!$J:$J,F$52,Data!$E:$E,$A53) -> 3 | G53: =COUNTIFS(Data!$J:$J,G$52,Data!$E:$E,$A53) -> 5 | H53: =COUNTIFS(Data!$J:$J,H$52,Data!$E:$E,$A53) -> 1 | I53: =COUNTIFS(Data!$J:$J,I$52,Data!$E:$E,$A53) -> 5 | ... L53: =COUNTIFS(Data!$J:$J,L$52,Data!$E:$E,$A53) -> 0 | M53: =SUM(B53:L53) -> 190
A54: القاهرة | B54: =COUNTIFS(Data!$J:$J,B$52,Data!$E:$E,$A54) -> 40 | C54: =COUNTIFS(Data!$J:$J,C$52,Data!$E:$E,$A54) -> 40 | D54: =COUNTIFS(Data!$J:$J,D$52,Data!$E:$E,$A54) -> 13 | E54: =COUNTIFS(Data!$J:$J,E$52,Data!$E:$E,$A54) -> 6 | F54: =COUNTIFS(Data!$J:$J,F$52,Data!$E:$E,$A54) -> 1 | G54: =COUNTIFS(Data!$J:$J,G$52,Data!$E:$E,$A54) -> 7 | H54: =COUNTIFS(Data!$J:$J,H$52,Data!$E:$E,$A54) -> 0 | I54: =COUNTIFS(Data!$J:$J,I$52,Data!$E:$E,$A54) -> 2 | ... L54: =COUNTIFS(Data!$J:$J,L$52,Data!$E:$E,$A54) -> 0 | M54: =SUM(B54:L54) -> 110
A55: القليوبية | B55: =COUNTIFS(Data!$J:$J,B$52,Data!$E:$E,$A55) -> 15 | C55: =COUNTIFS(Data!$J:$J,C$52,Data!$E:$E,$A55) -> 21 | D55: =COUNTIFS(Data!$J:$J,D$52,Data!$E:$E,$A55) -> 8 | E55: =COUNTIFS(Data!$J:$J,E$52,Data!$E:$E,$A55) -> 1 | F55: =COUNTIFS(Data!$J:$J,F$52,Data!$E:$E,$A55) -> 1 | G55: =COUNTIFS(Data!$J:$J,G$52,Data!$E:$E,$A55) -> 3 | H55: =COUNTIFS(Data!$J:$J,H$52,Data!$E:$E,$A55) -> 1 | I55: =COUNTIFS(Data!$J:$J,I$52,Data!$E:$E,$A55) -> 1 | ... L55: =COUNTIFS(Data!$J:$J,L$52,Data!$E:$E,$A55) -> 1 | M55: =SUM(B55:L55) -> 57
A56: الاسكندرية | B56: =COUNTIFS(Data!$J:$J,B$52,Data!$E:$E,$A56) -> 12 | C56: =COUNTIFS(Data!$J:$J,C$52,Data!$E:$E,$A56) -> 11 | D56: =COUNTIFS(Data!$J:$J,D$52,Data!$E:$E,$A56) -> 2 | E56: =COUNTIFS(Data!$J:$J,E$52,Data!$E:$E,$A56) -> 8 | F56: =COUNTIFS(Data!$J:$J,F$52,Data!$E:$E,$A56) -> 0 | G56: =COUNTIFS(Data!$J:$J,G$52,Data!$E:$E,$A56) -> 1 | H56: =COUNTIFS(Data!$J:$J,H$52,Data!$E:$E,$A56) -> 0 | I56: =COUNTIFS(Data!$J:$J,I$52,Data!$E:$E,$A56) -> 3 | ... L56: =COUNTIFS(Data!$J:$J,L$52,Data!$E:$E,$A56) -> 0 | M56: =SUM(B56:L56) -> 40
A57: سوهاج | B57: =COUNTIFS(Data!$J:$J,B$52,Data!$E:$E,$A57) -> 23 | C57: =COUNTIFS(Data!$J:$J,C$52,Data!$E:$E,$A57) -> 3 | D57: =COUNTIFS(Data!$J:$J,D$52,Data!$E:$E,$A57) -> 2 | E57: =COUNTIFS(Data!$J:$J,E$52,Data!$E:$E,$A57) -> 1 | F57: =COUNTIFS(Data!$J:$J,F$52,Data!$E:$E,$A57) -> 3 | G57: =COUNTIFS(Data!$J:$J,G$52,Data!$E:$E,$A57) -> 0 | H57: =COUNTIFS(Data!$J:$J,H$52,Data!$E:$E,$A57) -> 3 | I57: =COUNTIFS(Data!$J:$J,I$52,Data!$E:$E,$A57) -> 1 | ... L57: =COUNTIFS(Data!$J:$J,L$52,Data!$E:$E,$A57) -> 1 | M57: =SUM(B57:L57) -> 37
A58: الغربية | B58: =COUNTIFS(Data!$J:$J,B$52,Data!$E:$E,$A58) -> 6 | C58: =COUNTIFS(Data!$J:$J,C$52,Data!$E:$E,$A58) -> 14 | D58: =COUNTIFS(Data!$J:$J,D$52,Data!$E:$E,$A58) -> 8 | E58: =COUNTIFS(Data!$J:$J,E$52,Data!$E:$E,$A58) -> 2 | F58: =COUNTIFS(Data!$J:$J,F$52,Data!$E:$E,$A58) -> 3 | G58: =COUNTIFS(Data!$J:$J,G$52,Data!$E:$E,$A58) -> 0 | H58: =COUNTIFS(Data!$J:$J,H$52,Data!$E:$E,$A58) -> 0 | I58: =COUNTIFS(Data!$J:$J,I$52,Data!$E:$E,$A58) -> 1 | ... L58: =COUNTIFS(Data!$J:$J,L$52,Data!$E:$E,$A58) -> 0 | M58: =SUM(B58:L58) -> 35
A59: الدقهلية | B59: =COUNTIFS(Data!$J:$J,B$52,Data!$E:$E,$A59) -> 21 | C59: =COUNTIFS(Data!$J:$J,C$52,Data!$E:$E,$A59) -> 7 | D59: =COUNTIFS(Data!$J:$J,D$52,Data!$E:$E,$A59) -> 0 | E59: =COUNTIFS(Data!$J:$J,E$52,Data!$E:$E,$A59) -> 1 | F59: =COUNTIFS(Data!$J:$J,F$52,Data!$E:$E,$A59) -> 1 | G59: =COUNTIFS(Data!$J:$J,G$52,Data!$E:$E,$A59) -> 1 | H59: =COUNTIFS(Data!$J:$J,H$52,Data!$E:$E,$A59) -> 2 | I59: =COUNTIFS(Data!$J:$J,I$52,Data!$E:$E,$A59) -> 0 | ... L59: =COUNTIFS(Data!$J:$J,L$52,Data!$E:$E,$A59) -> 0 | M59: =SUM(B59:L59) -> 34
A60: المنوفية | B60: =COUNTIFS(Data!$J:$J,B$52,Data!$E:$E,$A60) -> 9 | C60: =COUNTIFS(Data!$J:$J,C$52,Data!$E:$E,$A60) -> 9 | D60: =COUNTIFS(Data!$J:$J,D$52,Data!$E:$E,$A60) -> 0 | E60: =COUNTIFS(Data!$J:$J,E$52,Data!$E:$E,$A60) -> 3 | F60: =COUNTIFS(Data!$J:$J,F$52,Data!$E:$E,$A60) -> 1 | G60: =COUNTIFS(Data!$J:$J,G$52,Data!$E:$E,$A60) -> 2 | H60: =COUNTIFS(Data!$J:$J,H$52,Data!$E:$E,$A60) -> 4 | I60: =COUNTIFS(Data!$J:$J,I$52,Data!$E:$E,$A60) -> 5 | ... L60: =COUNTIFS(Data!$J:$J,L$52,Data!$E:$E,$A60) -> 0 | M60: =SUM(B60:L60) -> 33
A61: قنا | B61: =COUNTIFS(Data!$J:$J,B$52,Data!$E:$E,$A61) -> 10 | C61: =COUNTIFS(Data!$J:$J,C$52,Data!$E:$E,$A61) -> 6 | D61: =COUNTIFS(Data!$J:$J,D$52,Data!$E:$E,$A61) -> 1 | E61: =COUNTIFS(Data!$J:$J,E$52,Data!$E:$E,$A61) -> 1 | F61: =COUNTIFS(Data!$J:$J,F$52,Data!$E:$E,$A61) -> 4 | G61: =COUNTIFS(Data!$J:$J,G$52,Data!$E:$E,$A61) -> 1 | H61: =COUNTIFS(Data!$J:$J,H$52,Data!$E:$E,$A61) -> 5 | I61: =COUNTIFS(Data!$J:$J,I$52,Data!$E:$E,$A61) -> 2 | ... L61: =COUNTIFS(Data!$J:$J,L$52,Data!$E:$E,$A61) -> 0 | M61: =SUM(B61:L61) -> 31
A62: الفيوم | B62: =COUNTIFS(Data!$J:$J,B$52,Data!$E:$E,$A62) -> 12 | C62: =COUNTIFS(Data!$J:$J,C$52,Data!$E:$E,$A62) -> 5 | D62: =COUNTIFS(Data!$J:$J,D$52,Data!$E:$E,$A62) -> 1 | E62: =COUNTIFS(Data!$J:$J,E$52,Data!$E:$E,$A62) -> 3 | F62: =COUNTIFS(Data!$J:$J,F$52,Data!$E:$E,$A62) -> 1 | G62: =COUNTIFS(Data!$J:$J,G$52,Data!$E:$E,$A62) -> 1 | H62: =COUNTIFS(Data!$J:$J,H$52,Data!$E:$E,$A62) -> 5 | I62: =COUNTIFS(Data!$J:$J,I$52,Data!$E:$E,$A62) -> 1 | ... L62: =COUNTIFS(Data!$J:$J,L$52,Data!$E:$E,$A62) -> 0 | M62: =SUM(B62:L62) -> 29
A63: اسوان | B63: =COUNTIFS(Data!$J:$J,B$52,Data!$E:$E,$A63) -> 3 | C63: =COUNTIFS(Data!$J:$J,C$52,Data!$E:$E,$A63) -> 6 | D63: =COUNTIFS(Data!$J:$J,D$52,Data!$E:$E,$A63) -> 1 | E63: =COUNTIFS(Data!$J:$J,E$52,Data!$E:$E,$A63) -> 4 | F63: =COUNTIFS(Data!$J:$J,F$52,Data!$E:$E,$A63) -> 5 | G63: =COUNTIFS(Data!$J:$J,G$52,Data!$E:$E,$A63) -> 4 | H63: =COUNTIFS(Data!$J:$J,H$52,Data!$E:$E,$A63) -> 1 | I63: =COUNTIFS(Data!$J:$J,I$52,Data!$E:$E,$A63) -> 1 | ... L63: =COUNTIFS(Data!$J:$J,L$52,Data!$E:$E,$A63) -> 0 | M63: =SUM(B63:L63) -> 28
A64: الشرقية | B64: =COUNTIFS(Data!$J:$J,B$52,Data!$E:$E,$A64) -> 4 | C64: =COUNTIFS(Data!$J:$J,C$52,Data!$E:$E,$A64) -> 4 | D64: =COUNTIFS(Data!$J:$J,D$52,Data!$E:$E,$A64) -> 5 | E64: =COUNTIFS(Data!$J:$J,E$52,Data!$E:$E,$A64) -> 1 | F64: =COUNTIFS(Data!$J:$J,F$52,Data!$E:$E,$A64) -> 1 | G64: =COUNTIFS(Data!$J:$J,G$52,Data!$E:$E,$A64) -> 3 | H64: =COUNTIFS(Data!$J:$J,H$52,Data!$E:$E,$A64) -> 0 | I64: =COUNTIFS(Data!$J:$J,I$52,Data!$E:$E,$A64) -> 0 | ... L64: =COUNTIFS(Data!$J:$J,L$52,Data!$E:$E,$A64) -> 0 | M64: =SUM(B64:L64) -> 18
... A79: شمال سيناء | B79: =COUNTIFS(Data!$J:$J,B$52,Data!$E:$E,$A79) -> 1 | C79: =COUNTIFS(Data!$J:$J,C$52,Data!$E:$E,$A79) -> 0 | D79: =COUNTIFS(Data!$J:$J,D$52,Data!$E:$E,$A79) -> 0 | E79: =COUNTIFS(Data!$J:$J,E$52,Data!$E:$E,$A79) -> 0 | F79: =COUNTIFS(Data!$J:$J,F$52,Data!$E:$E,$A79) -> 1 | G79: =COUNTIFS(Data!$J:$J,G$52,Data!$E:$E,$A79) -> 0 | H79: =COUNTIFS(Data!$J:$J,H$52,Data!$E:$E,$A79) -> 0 | I79: =COUNTIFS(Data!$J:$J,I$52,Data!$E:$E,$A79) -> 0 | ... L79: =COUNTIFS(Data!$J:$J,L$52,Data!$E:$E,$A79) -> 0 | M79: =SUM(B79:L79) -> 2
A80: الاجمالي | B80: =SUM(B53:B79) -> 295 | C80: =SUM(C53:C79) -> 200 | D80: =SUM(D53:D79) -> 60 | E80: =SUM(E53:E79) -> 54 | F80: =SUM(F53:F79) -> 34 | G80: =SUM(G53:G79) -> 29 | H80: =SUM(H53:H79) -> 28 | I80: =SUM(I53:I79) -> 25 | ... M80: =SUM(M53:M79) -> 753
A84: تصنيف مكان الواقعة بالنسبة لتصنيف سبب الواقعة
B85: قيد التحقيق | C85: ماس كهربائي | D85: تسرب مادة قابلة للاشتعال | E85: جنائي | F85: ارتفاع درجات الحرارة | G85: حادث مركبة | H85: ألعاب نارية | I85: الاجمالي
A86: منشأة سكنية | B86: =COUNTIFS(Data!$P:$P,B$85,Data!$J:$J,$A86) -> 230 | C86: =COUNTIFS(Data!$P:$P,C$85,Data!$J:$J,$A86) -> 31 | D86: =COUNTIFS(Data!$P:$P,D$85,Data!$J:$J,$A86) -> 22 | E86: =COUNTIFS(Data!$P:$P,E$85,Data!$J:$J,$A86) -> 9 | F86: =COUNTIFS(Data!$P:$P,F$85,Data!$J:$J,$A86) -> 2 | G86: =COUNTIFS(Data!$P:$P,G$85,Data!$J:$J,$A86) -> 0 | H86: =COUNTIFS(Data!$P:$P,H$85,Data!$J:$J,$A86) -> 1 | I86: =SUM(B86:H86) -> 295
A87: منشأة تجارية | B87: =COUNTIFS(Data!$P:$P,B$85,Data!$J:$J,$A87) -> 162 | C87: =COUNTIFS(Data!$P:$P,C$85,Data!$J:$J,$A87) -> 28 | D87: =COUNTIFS(Data!$P:$P,D$85,Data!$J:$J,$A87) -> 5 | E87: =COUNTIFS(Data!$P:$P,E$85,Data!$J:$J,$A87) -> 3 | F87: =COUNTIFS(Data!$P:$P,F$85,Data!$J:$J,$A87) -> 2 | G87: =COUNTIFS(Data!$P:$P,G$85,Data!$J:$J,$A87) -> 0 | H87: =COUNTIFS(Data!$P:$P,H$85,Data!$J:$J,$A87) -> 0 | I87: =SUM(B87:H87) -> 200
A88: منشأة صناعية | B88: =COUNTIFS(Data!$P:$P,B$85,Data!$J:$J,$A88) -> 43 | C88: =COUNTIFS(Data!$P:$P,C$85,Data!$J:$J,$A88) -> 12 | D88: =COUNTIFS(Data!$P:$P,D$85,Data!$J:$J,$A88) -> 3 | E88: =COUNTIFS(Data!$P:$P,E$85,Data!$J:$J,$A88) -> 1 | F88: =COUNTIFS(Data!$P:$P,F$85,Data!$J:$J,$A88) -> 1 | G88: =COUNTIFS(Data!$P:$P,G$85,Data!$J:$J,$A88) -> 0 | H88: =COUNTIFS(Data!$P:$P,H$85,Data!$J:$J,$A88) -> 0 | I88: =SUM(B88:H88) -> 60
A89: وسيلة نقل | B89: =COUNTIFS(Data!$P:$P,B$85,Data!$J:$J,$A89) -> 32 | C89: =COUNTIFS(Data!$P:$P,C$85,Data!$J:$J,$A89) -> 10 | D89: =COUNTIFS(Data!$P:$P,D$85,Data!$J:$J,$A89) -> 3 | E89: =COUNTIFS(Data!$P:$P,E$85,Data!$J:$J,$A89) -> 2 | F89: =COUNTIFS(Data!$P:$P,F$85,Data!$J:$J,$A89) -> 3 | G89: =COUNTIFS(Data!$P:$P,G$85,Data!$J:$J,$A89) -> 4 | H89: =COUNTIFS(Data!$P:$P,H$85,Data!$J:$J,$A89) -> 0 | I89: =SUM(B89:H89) -> 54
A90: مزرعة نباتية / زراعية | B90: =COUNTIFS(Data!$P:$P,B$85,Data!$J:$J,$A90) -> 27 | C90: =COUNTIFS(Data!$P:$P,C$85,Data!$J:$J,$A90) -> 1 | D90: =COUNTIFS(Data!$P:$P,D$85,Data!$J:$J,$A90) -> 0 | E90: =COUNTIFS(Data!$P:$P,E$85,Data!$J:$J,$A90) -> 4 | F90: =COUNTIFS(Data!$P:$P,F$85,Data!$J:$J,$A90) -> 1 | G90: =COUNTIFS(Data!$P:$P,G$85,Data!$J:$J,$A90) -> 0 | H90: =COUNTIFS(Data!$P:$P,H$85,Data!$J:$J,$A90) -> 1 | I90: =SUM(B90:H90) -> 34
A91: منشأة خدمية/ تعليمية | B91: =COUNTIFS(Data!$P:$P,B$85,Data!$J:$J,$A91) -> 17 | C91: =COUNTIFS(Data!$P:$P,C$85,Data!$J:$J,$A91) -> 6 | D91: =COUNTIFS(Data!$P:$P,D$85,Data!$J:$J,$A91) -> 2 | E91: =COUNTIFS(Data!$P:$P,E$85,Data!$J:$J,$A91) -> 2 | F91: =COUNTIFS(Data!$P:$P,F$85,Data!$J:$J,$A91) -> 2 | G91: =COUNTIFS(Data!$P:$P,G$85,Data!$J:$J,$A91) -> 0 | H91: =COUNTIFS(Data!$P:$P,H$85,Data!$J:$J,$A91) -> 0 | I91: =SUM(B91:H91) -> 29
A92: مزرعة حيوانية | B92: =COUNTIFS(Data!$P:$P,B$85,Data!$J:$J,$A92) -> 24 | C92: =COUNTIFS(Data!$P:$P,C$85,Data!$J:$J,$A92) -> 2 | D92: =COUNTIFS(Data!$P:$P,D$85,Data!$J:$J,$A92) -> 1 | E92: =COUNTIFS(Data!$P:$P,E$85,Data!$J:$J,$A92) -> 0 | F92: =COUNTIFS(Data!$P:$P,F$85,Data!$J:$J,$A92) -> 1 | G92: =COUNTIFS(Data!$P:$P,G$85,Data!$J:$J,$A92) -> 0 | H92: =COUNTIFS(Data!$P:$P,H$85,Data!$J:$J,$A92) -> 0 | I92: =SUM(B92:H92) -> 28
A93: مخلفات / منطقة مفتوحة | B93: =COUNTIFS(Data!$P:$P,B$85,Data!$J:$J,$A93) -> 20 | C93: =COUNTIFS(Data!$P:$P,C$85,Data!$J:$J,$A93) -> 0 | D93: =COUNTIFS(Data!$P:$P,D$85,Data!$J:$J,$A93) -> 1 | E93: =COUNTIFS(Data!$P:$P,E$85,Data!$J:$J,$A93) -> 2 | F93: =COUNTIFS(Data!$P:$P,F$85,Data!$J:$J,$A93) -> 2 | G93: =COUNTIFS(Data!$P:$P,G$85,Data!$J:$J,$A93) -> 0 | H93: =COUNTIFS(Data!$P:$P,H$85,Data!$J:$J,$A93) -> 0 | I93: =SUM(B93:H93) -> 25
A94: بنية تحتية | B94: =COUNTIFS(Data!$P:$P,B$85,Data!$J:$J,$A94) -> 10 | C94: =COUNTIFS(Data!$P:$P,C$85,Data!$J:$J,$A94) -> 3 | D94: =COUNTIFS(Data!$P:$P,D$85,Data!$J:$J,$A94) -> 1 | E94: =COUNTIFS(Data!$P:$P,E$85,Data!$J:$J,$A94) -> 1 | F94: =COUNTIFS(Data!$P:$P,F$85,Data!$J:$J,$A94) -> 2 | G94: =COUNTIFS(Data!$P:$P,G$85,Data!$J:$J,$A94) -> 0 | H94: =COUNTIFS(Data!$P:$P,H$85,Data!$J:$J,$A94) -> 0 | I94: =SUM(B94:H94) -> 17
A95: منشأة دينية | B95: =COUNTIFS(Data!$P:$P,B$85,Data!$J:$J,$A95) -> 3 | C95: =COUNTIFS(Data!$P:$P,C$85,Data!$J:$J,$A95) -> 5 | D95: =COUNTIFS(Data!$P:$P,D$85,Data!$J:$J,$A95) -> 0 | E95: =COUNTIFS(Data!$P:$P,E$85,Data!$J:$J,$A95) -> 0 | F95: =COUNTIFS(Data!$P:$P,F$85,Data!$J:$J,$A95) -> 0 | G95: =COUNTIFS(Data!$P:$P,G$85,Data!$J:$J,$A95) -> 0 | H95: =COUNTIFS(Data!$P:$P,H$85,Data!$J:$J,$A95) -> 0 | I95: =SUM(B95:H95) -> 8
A96: اخري | B96: =COUNTIFS(Data!$P:$P,B$85,Data!$J:$J,$A96) -> 2 | C96: =COUNTIFS(Data!$P:$P,C$85,Data!$J:$J,$A96) -> 0 | D96: =COUNTIFS(Data!$P:$P,D$85,Data!$J:$J,$A96) -> 0 | E96: =COUNTIFS(Data!$P:$P,E$85,Data!$J:$J,$A96) -> 1 | F96: =COUNTIFS(Data!$P:$P,F$85,Data!$J:$J,$A96) -> 0 | G96: =COUNTIFS(Data!$P:$P,G$85,Data!$J:$J,$A96) -> 0 | H96: =COUNTIFS(Data!$P:$P,H$85,Data!$J:$J,$A96) -> 0 | I96: =SUM(B96:H96) -> 3
A97: الاجمالي | B97: =SUM(B86:B96) -> 570 | C97: =SUM(C86:C96) -> 98 | D97: =SUM(D86:D96) -> 38 | E97: =SUM(E86:E96) -> 25 | F97: =SUM(F86:F96) -> 16 | G97: =SUM(G86:G96) -> 4 | H97: =SUM(H86:H96) -> 2 | I97: =SUM(I86:I96) -> 753
A99: الخسائر البشرية بالنسبة للتقسيم الشهري
B100: القتلي | C100: المصابين | D100: الاجمالي
A101: ابريل 2026 | B101: =SUMIFS(Data!V:V,Data!B:B,A101) -> 34 | C101: =SUMIFS(Data!T:T,Data!B:B,A101) -> 134 | D101: =SUM(B101:C101) -> 168
A102: مايو 2026 | B102: =SUMIFS(Data!V:V,Data!B:B,A102) -> 28 | C102: =SUMIFS(Data!T:T,Data!B:B,A102) -> 169 | D102: =SUM(B102:C102) -> 197
A103: يونيو 2026 | B103: =SUMIFS(Data!V:V,Data!B:B,A103) -> 19 | C103: =SUMIFS(Data!T:T,Data!B:B,A103) -> 99 | D103: =SUM(B103:C103) -> 118
A104: الاجمالي | B104: =SUM(B101:B103) -> 81 | C104: =SUM(C101:C103) -> 402 | D104: =SUM(B104:C104) -> 483
A108: الخسائر البشرية بالنسبة للمحافظات
B109: القتلي | C109: المصابين | D109: الاجمالي
A110: الجيزة | B110: =SUMIFS(Data!V:V,Data!E:E,A110) -> 16 | C110: =SUMIFS(Data!T:T,Data!E:E,A110) -> 74 | D110: =SUM(B110:C110) -> 90
A111: القاهرة | B111: =SUMIFS(Data!V:V,Data!E:E,A111) -> 27 | C111: =SUMIFS(Data!T:T,Data!E:E,A111) -> 38 | D111: =SUM(B111:C111) -> 65
A112: القليوبية | B112: =SUMIFS(Data!V:V,Data!E:E,A112) -> 2 | C112: =SUMIFS(Data!T:T,Data!E:E,A112) -> 27 | D112: =SUM(B112:C112) -> 29
A113: الاسكندرية | B113: =SUMIFS(Data!V:V,Data!E:E,A113) -> 1 | C113: =SUMIFS(Data!T:T,Data!E:E,A113) -> 5 | D113: =SUM(B113:C113) -> 6
A114: سوهاج | B114: =SUMIFS(Data!V:V,Data!E:E,A114) -> 0 | C114: =SUMIFS(Data!T:T,Data!E:E,A114) -> 21 | D114: =SUM(B114:C114) -> 21
A115: الغربية | B115: =SUMIFS(Data!V:V,Data!E:E,A115) -> 1 | C115: =SUMIFS(Data!T:T,Data!E:E,A115) -> 15 | D115: =SUM(B115:C115) -> 16
A116: الدقهلية | B116: =SUMIFS(Data!V:V,Data!E:E,A116) -> 11 | C116: =SUMIFS(Data!T:T,Data!E:E,A116) -> 45 | D116: =SUM(B116:C116) -> 56
A117: المنوفية | B117: =SUMIFS(Data!V:V,Data!E:E,A117) -> 0 | C117: =SUMIFS(Data!T:T,Data!E:E,A117) -> 0 | D117: =SUM(B117:C117) -> 0
A118: قنا | B118: =SUMIFS(Data!V:V,Data!E:E,A118) -> 2 | C118: =SUMIFS(Data!T:T,Data!E:E,A118) -> 10 | D118: =SUM(B118:C118) -> 12
A119: الفيوم | B119: =SUMIFS(Data!V:V,Data!E:E,A119) -> 2 | C119: =SUMIFS(Data!T:T,Data!E:E,A119) -> 24 | D119: =SUM(B119:C119) -> 26
A120: اسوان | B120: =SUMIFS(Data!V:V,Data!E:E,A120) -> 0 | C120: =SUMIFS(Data!T:T,Data!E:E,A120) -> 3 | D120: =SUM(B120:C120) -> 3
A121: الشرقية | B121: =SUMIFS(Data!V:V,Data!E:E,A121) -> 3 | C121: =SUMIFS(Data!T:T,Data!E:E,A121) -> 26 | D121: =SUM(B121:C121) -> 29
... A136: شمال سيناء | B136: =SUMIFS(Data!V:V,Data!E:E,A136) -> 0 | C136: =SUMIFS(Data!T:T,Data!E:E,A136) -> 3 | D136: =SUM(B136:C136) -> 3
A137: الاجمالي | B137: =SUM(B110:B136) -> 81 | C137: =SUM(C110:C136) -> 402 | D137: =SUM(D110:D136) -> 483

Sheet Data
A1: بيانات الواقعة | R1: بيانات المتضررين | Y1: ملاحظات | Z1: بيانات المصادر
A2: رقم الواقعة | B2: التصنيف الشهري | C2: تاريخ الواقعة | D2: اﻹقليم | E2: المحافظة | F2: الدائرة | G2: منطقة الواقعة كما ذكر بالخبر | H2: مكان الواقعة التفصيلي كما ذكر بالخبر | I2: مكان الواقعة بيان العنصر المتضرر | J2: تصنيف مكان الواقعة | K2: عدد الوحدات/المنشات المتضررة | L2: الخسائر غير البشرية | M2: تصنيف الخسائر غير البشرية | N2: سبب حدوث الواقعة كما ورد بالخبر | O2: طريقة حدوث الحريق | P2: تصنيف سبب الواقعة | Q2: وسيلة اطفاء الحريق | R2: اجمالي عدد المتضررين | S2: تصنيف الخسائر البشرية | T2: عدد المصابين | U2: البيانات الشخصية | V2: عدد المتوفيين | W2: البيانات الشخصية | X2: رقم المحضر | Y2: ملاحظات | Z2: نص الخبر | AA2: مصدر 1 | AB2: مصدر 2 | AC2: مصدر 3 | AD2: مصدر 4 | AE2: مصدر 5 | AF2: مصدر 6 | AG2: مصدر 7 | AH2: مصدر 8 | AI2: مصدر 9 | AJ2: مصدر 10 | AK2: مصدر 11 | AL2: مصدر 12 | AM2: مصدر 13 | AN2: مصدر 14 | AO2: مصدر 15 | AP2: مصدر 16 | AQ2: مصدر 17 | AR2: مصدر 18 | AS2: مصدر 19 | AT2: مصدر 20 | AU2: مصدر 21 | AV2: مصدر 22 | AW2: مصدر 23 | AX2: مصدر 24 | AY2: مصدر 25 | AZ2: مصدر 26 | BA2: مصدر 27
A3: 1 | B3: ابريل 2026 | C3: 46113 | D3: اقليم جنوب الصعيد | E3: الاقصر | F3: اسنا | G3: منطقة نجع الحلة - شرق ملعب الحلة | H3: زراعات النخيل في مجلس قروى النمسا بمنطقة نجع الحلة شرق ملعب الحلة | I3: زراعات نخيل | J3: مزرعة نباتية / زراعية | K3: 1 | L3: كرم نخيل ممتد | M3: نخيل | N3: قيد التحقيق | O3: قيد التحقيق | P3: قيد التحقيق | Q3: سيارات الإطفاء | R3: =T3+V3 -> 0 | T3: 0 | U3: غير محدد | V3: 0 | W3: غير محدد | Y3: ساهمت سرعة الرياح وارتفاع درجات الحرارة في زيادة سرعة انتشار النيران | Z3: نجح رجال الحماية المدنية بمركز ومدينة إسنا جنوب محافظة الأقصر، عصر اليوم الأربعاء، في السيطرة على حريق نشب في عدد من زراعات النخيل في مجلس قروى النمسا بمنطقة نجع الحلة شرق ملعب الحلة، دون مصابين أو خسائر بشرية، وتم اتخاذ الإجراءات القانونية اللازمة تجاه الواقعة وتولت النيابة العامة التحقيق. Wadi Rum fly over... 00:00 Previous Pause Next 01:04 / 01:41 Mute Fullscreen Copy video url Play / Pause Mute / Unmute Report a problem Language Share Vidverto Player بداية الواقعة باندلاع النيران في زراعات النخيل بجوار منازل قرية النمسا بدأت تفاصيل الواقعة بتلقى غرفة النجدة بمركز ومدينة إسنا جنوب الأقصر، إخطاراً من أهالى نجع الحلة شرق ملعب الحلة التابعة لمجلس قروى النمسا، يفيد باندلاع النيران في عدد من أشجار النخيل بالنجع بالقرب من المنازل، وعلى الفور انتقلت سيارتا إطفاء لموقع الحريق للسيطرة على النيران قبل امتدادها للمنازل المجاورة، وتم اتخاذ الإجراءات القانونية اللازمة تجاه الواقعة وتولت النيابة العامة التحقيق. السيطرة على حريق في زراعات النخيل بقرية النمسا جنوب الأقصر السيطرة على حريق في زراعات النخيل بقرية النمسا جنوب الأقصر حريق في زراعات النخيل بقرية النمسا جنوب الأقصر حريق في زراعات النخيل بقرية النمسا جنوب الأقصر سيارة إطفاء للسيطرة على حريق فى زراعات النخيل بقرية النمسا سيارة إطفاء للسيطرة على حريق فى زراعات النخيل بقرية النمسا | AA3: https://www.youm7.com/story/2026/4/1/%D8%A7%D9%84%D8%B3%D9%8A%D8%B7%D8%B1%D8%A9-%D8%B9%D9%84%D9%89-%D8%AD%D8%B1%D9%8A%D9%82-%D9%81%D9%89-%D8%B2%D8%B1%D8%A7%D8%B9%D8%A7%D8%AA-%D8%A7%D9%84%D9%86%D8%AE%D9%8A%D9%84-%D8%A8%D9%82%D8%B1%D9%8A%D8%A9-%D8%A7%D9%84%D9%86%D9%85%D8%B3%D8%A7-%D8%AC%D9%86%D9%88%D8%A8-%D8%A7%D9%84%D8%A3%D9%82%D8%B5%D8%B1/7361712 | AB3: elbalad.news/6921294
A4: 2 | B4: ابريل 2026 | C4: 46113 | D4: اقليم القاهرة الكبرى | E4: الجيزة | F4: اوسيم | G4: منطقة اوسيم | H4: منزل بمنطقة اوسيم | I4: منزل | J4: منشأة سكنية | K4: 1 | L4: التهام بعض محتويات المنزل | M4: اثاث | N4: قيد التحقيق | O4: قيد التحقيق | P4: قيد التحقيق | Q4: سيارات الاطفاء | R4: =T4+V4 -> 0 | T4: 0 | U4: غير محدد | V4: 0 | W4: غير محدد | Z4: اندلع حريق داخل منزل فى منطقة أوسيم ، وعلى الفور تمت السيطرة عليه دون إصابات وتولت النيابة المختصة التحقيقات. 00:00 Previous Play Next 00:00 / 01:41 Mute Fullscreen Copy video url Play / Pause Mute / Unmute Report a problem Language Share Vidverto Player غرفة العمليات تلقت بلاغا بالحريق تلقت غرفة عمليات النجدة ،بلاغا من الأهالى بنشوب حريق داخل منزل فى منطقة أوسيم ، وعلي الفور انتقلت سيارات الاطفاء الي المكان وتمت عملية إخماد الحريق. ويستمع رجال المباحث بمديرية أمن الجيزة ، لأقوال شهود العيان وقاطنى المنزل لكشف ملابسات الواقعة وتم اتخاذ الإجراءات القانونية اللازمة تجاه الواقعة. | AA4: https://www.youm7.com/story/2026/4/1/%D8%A5%D8%AE%D9%85%D8%A7%D8%AF-%D8%AD%D8%B1%D9%8A%D9%82-%D8%AF%D8%A7%D8%AE%D9%84-%D9%85%D9%86%D8%B2%D9%84-%D9%81%D9%89-%D8%A3%D9%88%D8%B3%D9%8A%D9%85-%D8%AF%D9%88%D9%86-%D8%A5%D8%B5%D8%A7%D8%A8%D8%A7%D8%AA/7362096
A5: 3 | B5: ابريل 2026 | C5: 46113 | D5: اقليم القاهرة الكبرى | E5: الجيزة | F5: المنيب | G5: المنيب | H5: شقة سكنية بالمنيب | I5: وحدة سكنية | J5: منشأة سكنية | K5: 1 | L5: بعض محتويات الوحدة السكنية | M5: اثاث | N5: قيد التحقيق | O5: قيد التحقيق | P5: قيد التحقيق | Q5: سيارات الاطفاء | R5: =T5+V5 -> 0 | T5: 0 | U5: غير محدد | V5: 0 | W5: غير محدد | Z5: اندلع حريق داخل شقة سكنية فى منطقة المنيب ، وعلى الفور تمت السيطرة عليه دون إصابات وتولت النيابة المختصة التحقيقات. 00:00 Previous Play Next 00:00 / 01:41 Mute Fullscreen Copy video url Play / Pause Mute / Unmute Report a problem Language Share Vidverto Player advertisement غرفة العمليات تلقت بلاغا بالحريق تلقت غرفة عمليات النجدة ،بلاغا من الأهالى بنشوب حريق داخل شقة سكنية فى المنيب وعلي الفور انتقلت سيارات الاطفاء الي المكان وتمت عملية إخماد الحريق. ويستمع رجال المباحث بمديرية أمن الجيزة ، لأقوال شهود العيان وقاطنى الشقة لكشف ملابسات الواقعة وتم اتخاذ الإجراءات القانونية اللازمة تجاه الواقعة. | AA5: https://www.youm7.com/story/2026/4/1/%D8%A5%D8%AE%D9%85%D8%A7%D8%AF-%D8%AD%D8%B1%D9%8A%D9%82-%D8%AF%D8%A7%D8%AE%D9%84-%D8%B4%D9%82%D8%A9-%D8%B3%D9%83%D9%86%D9%8A%D8%A9-%D9%81%D9%89-%D8%A7%D9%84%D9%85%D9%86%D9%8A%D8%A8-%D8%AF%D9%88%D9%86-%D8%A5%D8%B5%D8%A7%D8%A8%D8%A7%D8%AA/7362066
A6: 4 | B6: ابريل 2026 | C6: 46113 | D6: اقليم القاهرة الكبرى | E6: الجيزة | F6: الهرم | G6: شقة سكنية بالهرم | H6: شقة سكنية بالهرم | I6: وحدة سكنية | J6: منشأة سكنية | K6: 1 | L6: بعض المحتويات | M6: اثاث | N6: قيد التحقيق | O6: قيد التحقيق | P6: قيد التحقيق | Q6: سيارات الإطفاء | R6: =T6+V6 -> 0 | T6: 0 | U6: غير محدد | V6: 0 | W6: غير محدد | Z6: اندلع حريق داخل شقة سكنية فى منطقة الهرم، وعلى الفور تمت السيطرة عليه دون إصابات وتولت النيابة المختصة التحقيقات. 00:14 00:11 / 00:54 Fullscreen Copy video url Play / Pause Mute / Unmute Report a problem Language Share Vidverto Player غرفة العمليات تلقت بلاغا بالحريق تلقت غرفة عمليات النجدة ،بلاغا من الأهالى بنشوب حريق داخل شقة سكنية فى الهرم وعلى الفور انتقلت سيارات الإطفاء إلى المكان، وتمت عملية إخماد الحريق. ويستمع رجال المباحث بمديرية أمن الجيزة لأقوال شهود العيان وقاطنى الشقة لكشف ملابسات الواقعة، وتم اتخاذ الإجراءات القانونية اللازمة تجاه الواقعة. | AA6: https://www.youm7.com/story/2026/4/1/%D8%A5%D8%AE%D9%85%D8%A7%D8%AF-%D8%AD%D8%B1%D9%8A%D9%82-%D8%AF%D8%A7%D8%AE%D9%84-%D8%B4%D9%82%D8%A9-%D8%B3%D9%83%D9%86%D9%8A%D8%A9-%D9%81%D9%89-%D8%A7%D9%84%D9%87%D8%B1%D9%85-%D8%AF%D9%88%D9%86-%D8%A5%D8%B5%D8%A7%D8%A8%D8%A7%D8%AA/7361065
A7: 5 | B7: ابريل 2026 | C7: 46113 | D7: اقليم القاهرة الكبرى | E7: القاهرة | F7: الزيتون | G7: سراي القبة | H7: مصنع للملابس مصنع ملابس بالطابق الأرضي، أسفل عقار مكون من 11 طابق بمحل البلاغ حيث أن الطابق الأرضي على مساحة 2500 متر تقريباً مقسم إلى 3 مخازن (مخزن أجهزة كمبيوتر مصنع ومخزن ملابس - مخزن شاشات و قطع غيار كمبيوتر). سراي القية | I7: غرفة الكهرباء الملاصقة لغرفة الكمبيوتر داخل المصنع | J7: منشأة صناعية | K7: 1 | L7: التهام محتويات المصنع بالكامل | M7: معدات ومواد خام | N7: ماس كهربي | O7: اندلاع النيران ب غرفة الكهرباء الملاصقة لغرفة الكمبيوتر داخل المصنع | P7: ماس كهربائي | Q7: سيارات الإطفاء وفرق الانقاذ وسلم هيدروليكي و 17 سيارة إطفاء وإنقاذ وخزانات مياه | R7: =T7+V7 -> 26 | T7: 17 | U7: غير محدد | V7: 9 | W7: غير محدد | Y7: نشب الحريق فى غرفة الكهرباء الملاصقة لغرفة الكمبيوتر داخل المصنع | Z7: نشب حريق هائل داخل مصنع ومخازن ملابس وأقمشة بمنطقة سرايا القبة فى الزيتون بمحافظة القاهرة، ونتج عنها وفاة 8 أشخاص وإصابة 17 آخرين، وتم نقلهم الى المستشفى ، وقام رجال الحماية المدنية ببذل جهودا كبيرة حتى تمت السيطرة على الحريق الذى استمر لمدة 10 ساعات وقام رجال الحماية بمحاصرة النيران بالكامل وإجراء عمليات التبريد. غرفة العمليات تلقت بلاغا بالحريق تلقت غرفة العمليات بلاغا يفيد بنشوب حريق بمصنع أسفل عقار أبراج سراي القبة أمام محطة مترو سراي القبة - دائرة قسم الزيتون وبناء على تعليمات اللواء الدكتور محمد الشربينى مدير الإدارة العامة للحماية المدنية بالقاهرة انتقلت سيارات الاطفاء الي المكان وتمت عملية إخماد النيران بالكامل مع 10 ساعات مع عمليات الإخماد وسط جهود مضنية وكبيرة بذلها رجال الحماية حتى تم القضاء على النيران فى المصنع . الدفع بـ 17 سيارة إطفاء وإنقاذ للسيطرة على الحريق دفعت الإدارة العامة للحماية المدنية بالقاهرة ب 17 سيارة إطفاء وإنقاذ وخزانات مياه لمحاصرة الحريق من كافة الاتجاهات ومنع خطر إمتداه إلى المجاورات حتى لا يتفاقم الحريق . إنقاذ 17 شخصا من داخل الحريق قامت فرق الحماية المدنية والانقاذ بعمليات إنقاذ ل 17 شخصا محاصر داخل نيران حريق مصنع ملابس سرايا القبة واستعان رجال الحماية المدنية بمعداتهم الحديثة واستخدام الطرق العلمية اللازمة حتى قاموا بانقاذهم جميعا من داخل النيران التى التهمت معظم محتويات المكان من ملابس وأقمشة ومعدات فصل المرافق عن المكان قامت الأجهزة المعنية بعمليات فصل للمرافق سواء كهربا أو غاز عن المكان حتى يتم تسهيل عمليات السيطرة على الحريق ومحاصرته من كافة الاتجاهات ومنع امتدادها للعقارات المجاورة. جهودا كبيرة لرجال الحماية المدنية بذل رجال الحماية المدنية جهودا كبيرة فى عمليات إخماد الحريق وحدثت بينهم حالات اختناق وبمجرد اخذ قسط من الراحة يعود مرة أخرى إلى المكان ليتم مقاومة الحريق الذى استمر ل 10 ساعات كاملة فى عمليات السيطرة عليه وسطر رجال الحماية المدنية ملحمة حتى تمت عمليات الاخماد الاستعانة لودر لعمل فتحات استعان رجال الحماية المدنية بلودر تابع للمحافظة لعمل فتحات فى مصنع ملابس السرايا حتى يتثنى لرجال الحماية المدنية إجراء عمليات البحث عن محتجزين والسيطرة على الحريق ومنع امتداد النيران فى المبنى والعقارات السكنية المجاورة له. القبض على صاحب المصنع والتحقيق معه تمكنت الأجهزة الأمنية من القبض على صاحب المصنع فى واقعة حريق المصنع والمخازن الذى نتج عنه وفاة وإصابة اشخاص ونقلوا جميعهم الى المستشفى معاينة الحريق النهائية كشفت معاينة حريق مصنع ملابس سرايا القبة ،أنه بمجرد تلقى بلاغا بنشوب حريق فى المصنع دفعت إدارة الحماية المدنية بغرق إنقاذ وحماية وبصحبتهم 17 سيارة إطفاء وإنقاذ وخزان وسلم هيدروليكى . وأضافت المعاينة، أنه نشب الحريق بمصنع ملابس بالطابق الأرضي، أسفل عقار مكون من 11 طابق بمحل البلاغ حيث أن الطابق الأرضي على مساحة 2500 متر تقريباً مقسم إلى 3 مخازن (مخزن أجهزة كمبيوتر مصنع ومخزن ملابس - مخزن شاشات و قطع غيار كمبيوتر). وكشفت المعاينة عن وجود 17 محتجزين داخل المصنع، وتلقوا الرعاية الصحية وبحاله جيده و تم إستخراج 3 متوفيين بمعرفة القوات وأن المصنع له مدخل واحد فقط ، و من عدمه وجود ثمة تهوية والوسائل تامين بالمصنع، و تم عمل فتحات بمعرفة قوات إنقاذ البريي الإدارة و ذلك من الحوائط الجانبية المطلة على المصنع لسهولة عملية الإقتحام و الإطفاء . كما أوضحت المعاينة أن الحريق استغرق عملية الإطفاء حوالي 10ساعات (من الساعة 5 مساءاً و حتى الساعة 3 صباحاً) وتم الإطفاء بالكامل بمعرفة القوات، ومنع إمتداد النيران للمجاورات جاري التبريد. تلقت غرفة العمليات بلاغا يفيد بنشوب حريق بمصنع اسفل عقار أبراج سراي القبة أمام محطة مترو سراي القبة - دائرة قسم الزيتون وبناء على تعليمات اللواء الدكتور محمد الشربينى مدير الإدارة العامة للحماية المدنية بالقاهرة انتقلت سيارات الاطفاء الي المكان وتمت عملية إخماد النيران بالكامل مع 10 ساعات مع عمليات الإخماد وسط جهود مضنية وكبيرة بذلها رجال الحماية حتى تم القضاء على النيران فى المصنع. | AA7: https://www.youm7.com/story/2026/4/1/%D8%A8%D8%B9%D8%AF-%D8%AD%D8%B1%D9%8A%D9%82-%D9%85%D8%B5%D9%86%D8%B9-%D8%B3%D8%B1%D8%A7%D9%8A%D8%A7-%D8%A7%D9%84%D9%82%D8%A8%D8%A9-%D8%A7%D9%84%D8%B4%D8%B9%D8%A8-%D8%A7%D9%84%D8%AC%D9%85%D9%87%D9%88%D8%B1%D9%8A-%D9%8A%D9%86%D8%A7%D8%B4%D8%AF-%D8%B1%D8%A6%D9%8A%D8%B3-%D8%A7%D9%84%D8%AD%D9%89/7362021 | AB7: https://www.youm7.com/story/2026/4/1/%D9%86%D9%86%D8%B4%D8%B1-%D8%A7%D9%84%D8%AA%D9%82%D8%B1%D9%8A%D8%B1-%D8%A7%D9%84%D8%A3%D9%88%D9%84%D9%89-%D9%84%D9%84%D8%A3%D8%AF%D9%84%D8%A9-%D8%A7%D9%84%D8%AC%D9%86%D8%A7%D8%A6%D9%8A%D8%A9-%D9%81%D9%89-%D9%88%D8%A7%D9%82%D8%B9%D8%A9-%D8%AD%D8%B1%D9%8A%D9%82-%D9%85%D8%B5%D9%86%D8%B9-%D8%B3%D8%B1%D8%A7%D9%8A%D8%A7/7361911 | AC7: https://www.youm7.com/story/2026/4/1/%D8%B3%D8%B1-%D8%B3%D9%8A%D8%A7%D8%B1%D8%A9-%D9%85%D8%A7%D9%84%D9%83-%D9%85%D8%B5%D9%86%D8%B9-%D8%B3%D8%B1%D8%A7%D9%8A%D8%A7-%D8%A7%D9%84%D9%82%D8%A8%D8%A9-%D9%81%D9%89-%D8%A7%D8%B1%D8%AA%D9%81%D8%A7%D8%B9-%D8%B9%D8%AF%D8%AF-%D8%A7%D9%84%D8%B6%D8%AD%D8%A7%D9%8A%D8%A7/7361905 | AD7: https://www.youm7.com/story/2026/4/1/%D9%85%D9%84%D8%AD%D9%85%D8%A9-%D8%A8%D8%B7%D9%88%D9%84%D9%8A%D8%A9-%D8%A7%D9%84%D8%AD%D9%85%D8%A7%D9%8A%D8%A9-%D8%A7%D9%84%D9%85%D8%AF%D9%86%D9%8A%D8%A9-%D8%AA%D9%86%D8%AC%D8%AD-%D9%81%D9%89-%D8%A7%D9%84%D8%B3%D9%8A%D8%B7%D8%B1%D8%A9-%D8%B9%D9%84%D9%89-%D8%AD%D8%B1%D9%8A%D9%82-%D8%B3%D8%B1%D8%A7%D9%8A%D8%A7/7361463 | AE7: https://www.youm7.com/story/2026/4/1/%D9%85%D8%B9%D9%84%D9%88%D9%85%D8%A7%D8%AA-%D8%B9%D9%86-%D8%AD%D8%B1%D9%8A%D9%82-%D9%85%D8%B5%D9%86%D8%B9-%D9%85%D9%84%D8%A7%D8%A8%D8%B3-%D8%A7%D9%84%D8%AD%D9%84%D9%85%D9%8A%D8%A9-%D8%A8%D8%B9%D8%AF-%D8%B2%D9%8A%D8%A7%D8%AF%D8%A9-%D8%B9%D8%AF%D8%AF-%D8%A7%D9%84%D9%85%D8%B5%D8%A7%D8%A8%D9%8A%D9%86/7361457 | AF7: https://www.youm7.com/story/2026/4/1/%E2%80%8B%D8%B5%D8%AD%D8%A9-%D8%A7%D9%84%D9%82%D8%A7%D9%87%D8%B1%D8%A9-%D8%A7%D8%B3%D8%AA%D9%82%D8%B1%D8%A7%D8%B1-%D8%AD%D8%A7%D9%84%D8%A9-%D9%85%D8%B5%D8%A7%D8%A8%D9%89-%D8%AD%D8%B1%D9%8A%D9%82-%D8%A7%D9%84%D8%B2%D9%8A%D8%AA%D9%88%D9%86-%D9%88%D8%A7%D9%84%D9%85%D8%AD%D8%A7%D9%81%D8%B8-%D9%8A%D9%88%D8%AC%D9%87-%D8%A8%D8%AA%D9%88%D9%81%D9%8A%D8%B1/7361437 | AG7: https://www.youm7.com/story/2026/4/1/%D8%A7%D8%B1%D8%AA%D9%81%D8%A7%D8%B9-%D8%B9%D8%AF%D8%AF-%D8%A7%D9%84%D9%85%D8%AA%D9%88%D9%81%D9%8A%D9%86-%D9%84%D9%80-8-%D9%88%D8%A5%D8%B5%D8%A7%D8%A8%D8%A9-17-%D8%A2%D8%AE%D8%B1%D9%8A%D9%86-%D8%A8%D8%AD%D8%B1%D9%8A%D9%82-%D9%85%D8%B5%D9%86%D8%B9/7361375 | AH7: https://www.youm7.com/story/2026/4/1/%D8%A7%D8%B3%D8%AA%D9%85%D8%B1%D8%A7%D8%B1-%D8%B9%D9%85%D9%84%D9%8A%D8%A7%D8%AA-%D8%AA%D8%A8%D8%B1%D9%8A%D8%AF-%D8%AD%D8%B1%D9%8A%D9%82-%D9%85%D8%B5%D9%86%D8%B9-%D9%88%D9%85%D8%AE%D8%B2%D9%86-%D8%AD%D9%84%D9%85%D9%8A%D8%A9-%D8%A7%D9%84%D8%B2%D9%8A%D8%AA%D9%88%D9%86-%D9%85%D9%86%D8%B9%D8%A7-%D9%84%D8%AA%D8%AC%D8%AF%D8%AF/7361098 | AI7: https://www.youm7.com/story/2026/4/1/%D8%A7%D9%84%D9%86%D9%8A%D8%A7%D8%A8%D8%A9-%D8%AA%D8%A3%D9%85%D8%B1-%D8%A8%D8%AA%D8%B4%D9%83%D9%8A%D9%84-%D9%84%D8%AC%D9%86%D8%A9-%D9%85%D9%86-%D9%85%D8%AD%D8%A7%D9%81%D8%B8%D8%A9-%D8%A7%D9%84%D9%82%D8%A7%D9%87%D8%B1%D8%A9-%D9%84%D9%85%D8%B9%D8%A7%D9%8A%D9%86%D8%A9-%D8%B9%D9%82%D8%A7%D8%B1-%D8%A7%D9%84%D8%B2%D9%8A%D8%AA%D9%88%D9%86/7360970 | AJ7: https://www.youm7.com/story/2026/4/1/%D8%A7%D9%84%D9%86%D9%8A%D8%A7%D8%A8%D8%A9-%D8%AA%D8%B3%D8%AA%D8%B9%D9%84%D9%85-%D8%B9%D9%86-%D8%A7%D9%84%D8%AD%D8%A7%D9%84%D8%A9-%D8%A7%D9%84%D8%B5%D8%AD%D9%8A%D8%A9-%D9%84%D9%85%D8%B5%D8%A7%D8%A8%D9%89-%D8%AD%D8%B1%D9%8A%D9%82-%D9%85%D8%B5%D9%86%D8%B9-%D9%85%D9%84%D8%A7%D8%A8%D8%B3-%D8%B3%D8%B1%D8%A7%D9%89/7360956 | AK7: https://www.youm7.com/story/2026/4/1/%D8%A7%D9%84%D9%86%D9%8A%D8%A7%D8%A8%D8%A9-%D8%AA%D8%B7%D9%84%D8%A8-%D8%AA%D8%AD%D8%B1%D9%8A%D8%A7%D8%AA-%D8%A7%D9%84%D9%85%D8%A8%D8%A7%D8%AD%D8%AB-%D8%AD%D9%88%D9%84-%D8%AD%D8%B1%D9%8A%D9%82-%D9%85%D8%B5%D9%86%D8%B9-%D9%85%D9%84%D8%A7%D8%A8%D8%B3-%D8%B3%D8%B1%D8%A7%D9%89-%D8%A7%D9%84%D9%82%D8%A8%D8%A9/7360950 | AL7: https://www.youm7.com/story/2026/4/1/%D8%A7%D9%84%D9%86%D9%8A%D8%A7%D8%A8%D8%A9-%D8%AA%D8%B7%D9%84%D8%A8-%D8%AA%D9%82%D8%B1%D9%8A%D8%B1-%D8%A7%D9%84%D8%B5%D9%81%D8%A9-%D8%A7%D9%84%D8%AA%D8%B4%D8%B1%D9%8A%D8%AD%D9%8A%D8%A9-%D9%84%D8%AC%D8%AB%D8%AB-%D8%B6%D8%AD%D8%A7%D9%8A%D8%A7-%D8%AD%D8%B1%D9%8A%D9%82-%D9%85%D8%B5%D9%86%D8%B9-%D9%85%D9%84%D8%A7%D8%A8%D8%B3/7360945 | AM7: https://www.youm7.com/story/2026/4/1/%D8%A8%D8%AB-%D9%85%D8%A8%D8%A7%D8%B4%D8%B1-%D8%A7%D8%B3%D9%81%D8%B1-%D8%B9%D9%86-3-%D9%88%D9%81%D9%8A%D8%A7%D8%AA-%D8%AA%D9%81%D8%A7%D8%B5%D9%8A%D9%84-%D8%AD%D8%B1%D9%8A%D9%82-%D9%85%D8%B5%D9%86%D8%B9-%D9%88%D9%85%D8%AE%D8%B2%D9%86/7360889 | AN7: https://www.almasryalyoum.com/news/details/4234601 | AO7: https://www.almasryalyoum.com/news/details/4235286 | AP7: https://www.almasryalyoum.com/news/details/4235247 | AQ7: https://www.elbalad.news/6921891 | AR7: https://www.elbalad.news/6922738 | AS7: https://www.elbalad.news/6922358 | AT7: https://www.elbalad.news/6922274 | AU7: almasryalyoum.com/news/details/4235797 | AV7: https://www.almasryalyoum.com/news/details/4235467 | AW7: https://www.youm7.com/story/2026/4/3/%D8%A8%D8%AA%D9%87%D9%85%D8%A9-%D8%A7%D9%84%D8%A5%D9%87%D9%85%D8%A7%D9%84-%D8%AD%D8%A8%D8%B3-%D9%85%D8%B3%D8%A4%D9%88%D9%84%D9%8A-%D9%85%D8%B5%D9%86%D8%B9-%D8%B3%D8%B1%D8%A7%D9%8A%D8%A7-%D8%A7%D9%84%D9%82%D8%A8%D8%A9-%D8%A7%D9%84%D9%85%D8%AD%D8%AA%D8%B1%D9%82-4-%D8%A3%D9%8A%D8%A7%D9%85/7364787 | AX7: https://www.youm7.com/story/2026/4/6/%D8%AA%D8%AC%D8%AF%D9%8A%D8%AF-%D8%AD%D8%A8%D8%B3-%D9%85%D8%B3%D8%A4%D9%88%D9%84%D9%89-%D9%85%D8%B5%D9%86%D8%B9-%D8%B3%D8%B1%D8%A7%D9%8A%D8%A7-%D8%A7%D9%84%D9%82%D8%A8%D8%A9-15-%D9%8A%D9%88%D9%85%D8%A7/7367845 | AY7: https://www.almasryalyoum.com/news/details/4238437 | AZ7: https://www.almasryalyoum.com/news/details/4241190 | BA7: https://www.almasryalyoum.com/news/details/4269229
A8: 6 | B8: ابريل 2026 | C8: 46113 | D8: اقليم جنوب الصعيد | E8: سوهاج | F8: ساقلتة | G8: منزل بنجع ابوحجر قرية سفلاق | H8: الدور الأول علوي بمنزل أحد المواطنين بناحية نجع أبو حجر التابعة لقرية سفلاق بدائرة مركز ساقلتة | I8: منزل | J8: منشأة سكنية | K8: 0 | L8: محتويات الطابق الأول، ما أسفر عن احتراق عداد الكهرباء، وتلف غرفة نوم ومطبخ، إضافة إلى احتراق المفروشات من ستائر وسجاد وموكيت. | M8: عداد الكهرباء + اثاث | N8: قيد التحقيق | O8: قيد التحقيق | P8: ماس كهربائي | Q8: سيارات الإطفاء | R8: =T8+V8 -> 0 | T8: 0 | U8: غير محدد | V8: 0 | W8: غير محدد | Z8: تمكنت قوات الحماية المدنية، من السيطرة على حريق اندلع بالدور الأول علوي بمنزل أحد المواطنين بناحية نجع أبو حجر التابعة لقرية سفلاق بدائرة مركز ساقلتة، دون وقوع إصابات بشرية، مع حدوث خسائر مادية. The Istanbul Winter Express 00:00 Previous Pause Next 00:53 / 02:18 Mute Fullscreen Copy video url Play / Pause Mute / Unmute Report a problem Language Share Vidverto Player تفاصيل الواقعة ترجع تفاصيل الواقعة عقب تلقى اللواء دكتور حسن عبدالعزيز، مساعد وزير مدير أمن سوهاج، بلاغا بنشوب حريق داخل منزل بناحية نجع أبو حجر، وعلى الفور تم إخطار قوات الحماية المدنية، وانتقلت الأجهزة المعنية إلى موقع الحريق للسيطرة عليه. الفحص والمعاينة وبالفحص تبين أن الحريق نشب بمنزل المواطن جمال إبراهيم قواطين حسين، وامتد إلى محتويات الطابق الأول، ما أسفر عن احتراق عداد الكهرباء، وتلف غرفة نوم ومطبخ، إضافة إلى احتراق المفروشات من ستائر وسجاد وموكيت. السيطرة على الحريق تم الدفع بسيارات الإطفاء والتي تمكنت من السيطرة على الحريق ومنع امتداده إلى المنازل المجاورة تم إتخاذ كافة الإجراءات القانوينة اللازمة حيال الواقعة ، وجارٍ تحديد سبب الحريق بواسطة الجهات الأمنية المختصة. | AA8: https://www.youm7.com/story/2026/4/1/%D8%A7%D9%84%D8%B3%D9%8A%D8%B7%D8%B1%D8%A9-%D8%B9%D9%84%D9%89-%D8%AD%D8%B1%D9%8A%D9%82-%D9%81%D9%8A-%D8%B3%D8%A7%D9%82%D9%84%D8%AA%D9%87-%D8%AF%D9%88%D9%86-%D8%A5%D8%B5%D8%A7%D8%A8%D8%A7%D8%AA/7361479
A9: 7 | B9: ابريل 2026 | C9: 46113 | D9: اقليم الاسكندرية | E9: مطروح | F9: علم الروم | G9: منطقة علم الروم - بمدينة مرسى مطروح، | H9: حريق بسيارة نقل بالقرب من مسجد الغفران | I9: سيارة نقل | J9: وسيلة نقل | K9: 1 | L9: احتراق المركبة | M9: محتويات المركبة | N9: قيد التحقيق | O9: قيد التحقيق | P9: حادث مركبة | Q9: سيارة اطفاء | R9: =T9+V9 -> 0 | T9: 0 | U9: غير محدد | V9: 0 | W9: غير محدد | Z9: شهدت منطقة علم الروم بمدينة مرسى مطروح، اندلاع حريق بسيارة نقل بالقرب من مسجد الغفران، ما أثار حالة من القلق بين الأهالي، دون وقوع أي إصابات بشرية. وتلقت الأجهزة المعنية بلاغًا بنشوب الحريق، وعلى الفور انتقلت قوات الحماية المدنية إلى موقع الحادث، وتم الدفع بسيارات الإطفاء التي نجحت في السيطرة على النيران وإخمادها قبل امتدادها إلى المناطق المجاورة. وتم اتخاذ الإجراءات اللازمة، وجار فحص أسباب الحريق للتأكد من ملابساته، فيما أكد شهود عيان أن سرعة تدخل قوات الإطفاء ساهمت في احتواء الموقف ومنع وقوع خسائر أكبر | AA9: https://www.almasryalyoum.com/news/details/4234536
A10: 8 | B10: ابريل 2026 | C10: 46114 | D10: اقليم جنوب الصعيد | E10: اسوان | F10: قرية بنبان | G10: منطقة الشيخ فضل - التابعة لقرية بنبان | H10: حريق محدود في باخرة سياحية أمام منطقة الشيخ فضل التابعة لقرية بنبان | I10: باخرة سياحية | J10: وسيلة نقل | K10: 1 | L10: احتراق بعض اجزاء الباخرة | M10: اثاث | N10: قيد التحقيق | O10: قيد التحقيق | P10: قيد التحقيق | Q10: فرق الإنقاذ النهري | R10: =T10+V10 -> 0 | T10: 0 | U10: غير محدد | V10: 0 | W10: غير محدد | Z10: تلقت غرفة عمليات الحماية المدنية بأسوان، بلاغاً يفيد بنشوب حريق في باخرة سياحية كانت تقل على متنها 50 سائحاً من جنسيات مختلفة وعلى الفور، انتقلت فرق الإنقاذ النهري وقوات الحماية المدنية إلى موقع البلاغ، حيث تم التدخل السريع للسيطرة على النيران قبل امتدادها إلى أجزاء أخرى من الباخرة. سلامة الركاب أكدت مصادر أمنية أن الحادث لم يسفر عن وقوع أي إصابات أو خسائر في الأرواح، مشيرة إلى أن الطاقم والركاب جميعهم بخير. وقد تم تأمين الركاب بالكامل ونقلهم إلى موقع آمن بعيداً عن منطقة الحريق. استئناف الرحلة وبعد التأكد من إخماد الحريق تماماً وتأمين الباخرة، تقرر استكمال الرحلة السياحية للركاب دون أي عوائق، حيث حرصت الجهات المعنية على توفير كافة سبل الراحة والأمان للسائحين لمتابعة برنامجهم السياحي المعتاد. الإجراءات القانونية وتتولى الأجهزة الأمنية حالياً استكمال الإجراءات القانونية اللازمة، حيث تجري المعاينة الفنية للوقوف على أسباب اندلاع الحريق وتحديد ملابسات الواقعة، وسط متابعة دقيقة من الجهات المختصة لضمان تطبيق كافة معايير السلامة المهنية في الفنادق العائمة. | AA10: https://www.youm7.com/story/2026/4/2/%D8%AD%D8%B1%D9%8A%D9%82-%D9%85%D8%AD%D8%AF%D9%88%D8%AF-%D9%81%D9%89-%D8%A8%D8%A7%D8%AE%D8%B1%D8%A9-%D8%B3%D9%8A%D8%A7%D8%AD%D9%8A%D8%A9-%D8%A8%D8%A3%D8%B3%D9%88%D8%A7%D9%86/7363838 | AB10: https://www.elbalad.news/6922536
A11: 9 | B11: ابريل 2026 | C11: 46114 | D11: اقليم جنوب الصعيد | E11: اسوان | F11: قسم ثان اسوان | G11: سيارة فنطاس محملة بالمواد البترولية وامتداد النيران لسيارة أخرى - بقطعة أرض فضاء - بمحافظة أسوان. | H11: سيارة فنطاس بدائرة قسم ثان محتفظة اسوان | I11: تفحم 2 سيارة + قطعة ارض فضاء | J11: وسيلة نقل | K11: 3 | L11: احتراق 2 سيارة | M11: مركبتين | N11: ماس كهربائي أدى لانفجار الحريق | O11: ماس كهربي | P11: ماس كهربائي | Q11: سيارة اطفاء | R11: =T11+V11 -> 0 | T11: 0 | U11: غير محدد | V11: 0 | W11: غير محدد | Z11: نجحت الأجهزة الأمنية بوزارة الداخلية في كشف لغز مقطع فيديو وصور جرى تداولها على نطاق واسع عبر منصات التواصل الاجتماعي، توثق لحظات مرعبة لنشوب حريق هائل في سيارة "فنطاس" محملة بالمواد البترولية وامتداد النيران لسيارة أخرى بقطعة أرض فضاء بمحافظة أسوان. الحادث الذي بدا في ظاهره "قدراً"، تحول بيقظة رجال الأمن إلى خيط رفيع كشف عن نشاط إجرامي يهدد اقتصاد الدولة. بالفحص والتحري، تبين أن الواقعة شهدتها دائرة قسم ثان أسوان في 31 مارس المنقضي، حيث اشتعلت النيران في سيارة "فنطاس" كانت متوقفة في قطعة أرض فضاء، لتلتهم النيران سيارة "ربع نقل" كانت تجاورها، مما أسفر عن تفحم السيارتين بالكامل دون وقوع إصابات بشرية. ولم تقف الأجهزة الأمنية عند حد إطفاء الحريق، بل بدأت في تتبع هوية أصحاب المركبات غير المرقمة. وتمكن رجال المباحث من تحديد وضبط مالك السيارتين، وهو مقيم بدائرة قسم شرطة أول أسوان. وبمواجهته، فجر مفاجأة من العيار الثقيل؛ حيث أقر بأنه كان يستخدم سيارة "الفنطاس" بدون لوحات معدنية لتجميع المواد البترولية من محطات الوقود، تمهيداً لإعادة بيعها في السوق السوداء بأسعار مضاعفة، وأنه أثناء عملية التعبئة حدث ماس كهربائي أدى لانفجار الحريق وضياع "بضاعته المحرمة". وفي تحرك سريع لردع "تجار الأزمات"، شنت مديرية أمن أسوان حملات مكبرة استهدفت أوكار تجميع المواد البترولية ومحطات الوقود المتواطئة في حجبها عن المواطنين. وأسفرت هذه الملحمة الأمنية عن ضبط أكثر من 10 أطنان من المواد البترولية قبل تهريبها للسوق السوداء، مما وجه ضربة قاصمة لمافيا التهريب في الصعيد. تم اتخاذ الإجراءات القانونية اللازمة حيال المتهم، وإحالته للنيابة العامة لمباشرة التحقيقات، لتؤكد وزارة الداخلية مرة أخرى أنها بالمرصاد لكل من تسول له نفسه التلاعب بأقوات المصريين أو استغلال الأزمات لتحقيق أرباح غير مشروعة. | AA11: https://www.youm7.com/story/2026/4/2/%D8%AD%D8%B1%D9%8A%D9%82-%D9%81%D9%86%D8%B7%D8%A7%D8%B3-%D8%A3%D8%B3%D9%88%D8%A7%D9%86-%D9%83%D9%8A%D9%81-%D9%81%D8%B6%D8%AD-%D8%A7%D9%84%D9%85%D8%A7%D8%B3-%D8%A7%D9%84%D9%83%D9%87%D8%B1%D8%A8%D8%A7%D8%A6%D9%89-%D9%85%D8%A7%D9%81%D9%8A%D8%A7-%D8%A7%D9%84%D9%88%D9%82%D9%88%D8%AF/7363429 | AB11: https://www.elbalad.news/6922172 | AC11: https://www.almasryalyoum.com/news/details/4235717
A12: 10 | B12: ابريل 2026 | C12: 46114 | D12: اقليم القاهرة الكبرى | E12: الجيزة | F12: البدرشين | G12: منطقة البدرشين | H12: حريق بكابل كهرباء فى منطقة البدرشي | I12: كابل كهرباء | J12: بنية تحتية | K12: 0 | L12: نفحم كابل الكهرباء | M12: مادية | N12: ماس كهربي نتيجة الامطار | O12: ماس كهربي | P12: ماس كهربائي | Q12: سيارة اطفاء | R12: =T12+V12 -> 0 | T12: 0 | U12: غير محدد | V12: 0 | W12: غير محدد | Z12: تمكن رجال الحماية المدنية، من السيطرة على حريق نشب فى كابل كهرباء بسبب الأمطار فى منطقة البدرشين دون إصابات. Dubai Dunes in one Minute 01:23 Previous Pause Next 00:50 / 01:48 Mute Fullscreen Copy video url Play / Pause Mute / Unmute Report a problem Language Share Vidverto Player غرفة العمليات تلقت بلاغا بالحريق تلقت غرفة عمليات النجدة، بلاغا يفيد بنشوب حريق في منطقة البدرشسن وعلي الفور انتقلت الأجهزة الأمنية مدعومة بسيارتي إطفاء وتم فرض كردون أمني لمحاصرة النيران ومنع امتدادها إلي المجاورات وتمت السيطرة على الحريق دون وقوع إصابات. وكشفت التحريات الأولية أن الحريق نشب بكابل كهرباء بسبب الامطار نتيجة ماس ولا شبهة جنائية في الواقعة، وتم إتخاذ كافة الإجراءات القانونية اللازمة تجاه الواقعة. | AA12: https://www.youm7.com/story/2026/4/2/%D8%A8%D8%B3%D8%A8%D8%A8-%D8%A7%D9%84%D8%A3%D9%85%D8%B7%D8%A7%D8%B1-%D8%A7%D8%AE%D9%85%D8%A7%D8%AF-%D8%AD%D8%B1%D9%8A%D9%82-%D9%83%D8%A7%D8%A8%D9%84-%D9%83%D9%87%D8%B1%D8%A8%D8%A7%D8%A1-%D9%81%D9%8A-%D9%85%D9%86%D8%B7%D9%82%D8%A9-%D8%A7%D9%84%D8%A8%D8%AF%D8%B1%D8%B4%D9%8A%D9%86/7363177
A13: 11 | B13: ابريل 2026 | C13: 46114 | D13: اقليم القاهرة الكبرى | E13: الجيزة | F13: المنصورية | G13: المنصورية - فى الجيزة | H13: مخزن خردة بالمنصورية | I13: مخزن | J13: منشأة تجارية | K13: 1 | L13: بعض محتويات المخزن | M13: خردة | N13: قيد التحقيق | O13: قيد التحقيق | P13: قيد التحقيق | Q13: سيارات الاطفاء | R13: =T13+V13 -> 0 | T13: 0 | U13: غير محدد | V13: 0 | W13: غير محدد | Z13: يستمع رجال المباحث بمديرية أمن الجيزة لأقوال شهود العيان لكشف ملابسات حريق مخزن خردة فى المنصورية فى الجيزة مع تفريغ كاميرات المراقبة للوقوف على ملابسات الواقعة. Wadi Rum fly over... 00:00 Previous Pause Next 00:22 / 01:41 Mute Fullscreen Copy video url Play / Pause Mute / Unmute Report a problem Language Share Vidverto Player وتمكن رجال الحماية المدنية من السيطرة على حريق داخل مخزن خردة فى منطقة المنصورية بالجيزة دون اصابات، بعدما انتقلت قوات الحماية المدنية وتمت السيطرة عليه. غرفة العمليات تلقت بلاغا بالحريق تلقت غرفة عمليات شرطة النجدة، بلاغا يفيد بنشوب حريق داخل مخزن خردة فى المنصورية ، وتم الدفع بـ 3 سيارات إطفاء لمكان الحريق، وفرض كردون أمنى بمحيط الحريق لمحاصرته ومنع امتداده وتمت السيطرة عليه . | AA13: https://www.youm7.com/story/2026/4/2/%D8%A7%D9%84%D9%85%D8%A8%D8%A7%D8%AD%D8%AB-%D8%AA%D8%B3%D8%AA%D9%85%D8%AA%D8%B9-%D9%84%D8%A3%D9%82%D9%88%D8%A7%D9%84-%D8%B4%D9%87%D9%88%D8%AF-%D8%A7%D9%84%D8%B9%D9%8A%D8%A7%D9%86-%D9%84%D9%83%D8%B4%D9%81-%D9%85%D9%84%D8%A7%D8%A8%D8%B3%D8%A7%D8%AA-%D8%AD%D8%B1%D9%8A%D9%82-%D9%85%D8%AE%D8%B2%D9%86-%D8%AE%D8%B1%D8%AF%D8%A9/7363214
A14: 12 | B14: ابريل 2026 | C14: 46114 | D14: اقليم القاهرة الكبرى | E14: الجيزة | F14: العمرانية | G14: شقة سكنية فى منطقة العمرانية | H14: شقة سكنية فى منطقة العمرانية | I14: وحدة سكنية | J14: منشأة سكنية | K14: 1 | L14: لم يذكر | M14: لم يذكر | N14: قيد التحقيق | O14: قيد التحقيق | P14: قيد التحقيق | Q14: سيارة اطفاء | R14: =T14+V14 -> 0 | T14: 0 | U14: غير محدد | V14: 0 | W14: غير محدد | Z14: اندلع حريق داخل شقة سكنية فى منطقة العمرانية ، وعلى الفور تمت السيطرة عليه دون إصابات وتولت النيابة المختصة التحقيقات. 00:00 Previous Play Next 00:00 / 00:00 Mute Fullscreen Copy video url Play / Pause Mute / Unmute Report a problem Language Share Vidverto Player غرفة العمليات تلقت بلاغا بالحريق تلقت غرفة عمليات النجدة، بلاغا من الأهالى بنشوب حريق داخل شقة سكنية فى العمرانية، وعلي الفور انتقلت سيارات الإطفاء إلي المكان، وتمت عملية إخماد الحريق. ويستمع رجال المباحث بمديرية أمن الجيزة، لأقوال شهود العيان وقاطنى الشقة لكشف ملابسات الواقعة، وتم اتخاذ الإجراءات القانونية اللازمة تجاه الواقعة. | AA14: https://www.youm7.com/story/2026/4/2/%D8%A5%D8%AE%D9%85%D8%A7%D8%AF-%D8%AD%D8%B1%D9%8A%D9%82-%D8%AF%D8%A7%D8%AE%D9%84-%D8%B4%D9%82%D8%A9-%D8%B3%D9%83%D9%86%D9%8A%D8%A9-%D9%81%D9%89-%D8%A7%D9%84%D8%B9%D9%85%D8%B1%D8%A7%D9%86%D9%8A%D8%A9-%D8%AF%D9%88%D9%86-%D8%A5%D8%B5%D8%A7%D8%A8%D8%A7%D8%AA/7364082
A15: 13 | B15: ابريل 2026 | C15: 46114 | D15: اقليم القاهرة الكبرى | E15: الجيزة | F15: امبابة | G15: منطقة إمبابة | H15: منزل بامبابة | I15: منزل | J15: منشأة سكنية | K15: 0 | L15: لم يذكر | M15: لم يذكر | N15: ماس كهربي نتيجة الامطار | O15: ماس كهربي ادى الى اندلاع النيران | P15: ماس كهربائي | Q15: سيارة اطفاء | R15: =T15+V15 -> 0 | T15: 0 | U15: غير محدد | V15: 0 | W15: غير محدد | Z15: اندلع حريق داخل منزل فى منطقة إمبابة بسبب ماس كهربى ناتج عن الأمطار ، وعلى الفور تمت السيطرة عليه دون إصابات وتولت النيابة المختصة التحقيقات. The Istanbul Winter Express 01:48 Previous Pause Next 00:33 / 02:18 Mute Fullscreen Copy video url Play / Pause Mute / Unmute Report a problem Language Share Vidverto Player غرفة العمليات تلقت بلاغا بالحريق تلقت غرفة عمليات النجدة ،بلاغا من الأهالى بنشوب حريق داخل منزل فى منطقة إمبابة ، وعلي الفور انتقلت سيارات الاطفاء الي المكان وتمت عملية إخماد الحريق. ويستمع رجال المباحث بمديرية أمن الجيزة، لأقوال شهود العيان وقاطنى المنزل لكشف ملابسات الواقعة، وتم اتخاذ الإجراءات القانونية اللازمة تجاه الواقعة. | AA15: https://www.youm7.com/story/2026/4/2/%D8%A8%D8%B3%D8%A8%D8%A8-%D8%A7%D9%84%D8%A3%D9%85%D8%B7%D8%A7%D8%B1-%D8%A5%D8%AE%D9%85%D8%A7%D8%AF-%D8%AD%D8%B1%D9%8A%D9%82-%D8%AF%D8%A7%D8%AE%D9%84-%D9%85%D9%86%D8%B2%D9%84-%D9%81%D9%89-%D8%A5%D9%85%D8%A8%D8%A7%D8%A8%D8%A9-%D8%AF%D9%88%D9%86-%D8%A5%D8%B5%D8%A7%D8%A8%D8%A7%D8%AA/7363200
A16: 14 | B16: ابريل 2026 | C16: 46114 | D16: اقليم شمال الصعيد | E16: الفيوم | F16: مركز طامية | G16: مبنى مجلس مدينة طامية. | H16: حريق ببرج سكنى مجاور لمبنى مجلس مدينة طامية. | I16: برج سكني | J16: منشأة سكنية | K16: 1 | L16: احتراق بعض محتويات الوحدات السكنية | M16: اثاث | N16: ماس كهربي | O16: ماس كهربي | P16: ماس كهربائي | Q16: سيارات الاطفاء | R16: =T16+V16 -> 0 | T16: 0 | U16: غير محدد | V16: 0 | W16: غير محدد | Z16: تمكنت قوات الحماية المدنية بمحافظة الفيوم، من السيطرة علي حريق شب ببرج سكني مكون من 6 طوابق بسبب ماس كهربائي دون وقوع إصابات، وتم تحرير محضر بالواقعة وتولت النيابة التحقيق. UAE 44th National Day - Union Flag 00:00 Previous Pause Next 00:34 / 00:52 Mute Fullscreen Copy video url Play / Pause Mute / Unmute Report a problem Language Share Vidverto Player تفاصيل الواقعة كانت شرطة النجدة بمحافظة الفيوم، تلقت بلاغا بنشوب حريق ببرج سكني بمدينة طامية بجوار مبني مجلس المدينة، وعلي الفور انتقلت قوة من الشرطة وسيارات الإسعاف والحماية المدنية الي مكان البلاغ، وتبين أن المبني مكون من 6 طوابق والحريق في الطابق الثالث، وتم السيطرة علي الحريق وإخماد النيران، ولم يسفر عن وقوع إصابات، وتحرر محضر بالواقعة وتولت النيابة التحقيق. | AA16: https://www.youm7.com/story/2026/4/2/%D8%A7%D9%84%D8%B3%D9%8A%D8%B7%D8%B1%D8%A9-%D8%B9%D9%84%D9%8A-%D8%AD%D8%B1%D9%8A%D9%82-%D8%A8%D8%A8%D8%B1%D8%AC-%D8%B3%D9%83%D9%86%D9%8A-%D9%81%D9%89-%D8%A7%D9%84%D9%81%D9%8A%D9%88%D9%85-%D8%AF%D9%88%D9%86-%D8%A5%D8%B5%D8%A7%D8%A8%D8%A7%D8%AA/7363256 | AB16: https://www.almasryalyoum.com/news/details/4235636
A17: 15 | B17: ابريل 2026 | C17: 46114 | D17: اقليم القاهرة الكبرى | E17: القاهرة | F17: قسم مصر الجديدة | G17: كابينة كهرباء 26 شارع بغداد - بدائرة قسم مصر الجديدة | H17: حريق بكابل كهرباء بداخل كابينة كهرباء 26 شارع بغداد بدائرة قسم مصر الجديدة | I17: منور عقار | J17: منشأة سكنية | K17: 1 | L17: تفحم كابينة الكهرباء | M17: كابينة كهرباء | N17: قيد التحقيق | O17: قيد التحقيق | P17: قيد التحقيق | Q17: فرق الانقاذ النهري قوات الحماية المدنية | R17: =T17+V17 -> 0 | T17: 0 | U17: غير محدد | V17: 0 | W17: غير محدد | Z17: تمكن رجال الحماية المدنية من السيطرة على حريق كابينة كهرباء بمنطقة مصر الجديدة دون وقوع اى إصابات . غرفة العمليات تلقت بلاغا بالحريق ورد بلاغ لغرفة العمليات، يفيد بنشوب حريق في كابينة كهرباء 26 شارع بغداد بدائرة قسم مصر الجديدة وبناء على تعليمات اللواء الدكتور محمد الشربينى مدير الإدارة العامة للحماية المدنية بالقاهرة انتقلت سيارات الاطفاء الي المكان. تفاصيل الحريق وبالانتقال والفحص تبين نشوب حريق ب كابل كهرباء بمنور عقار مكون من ( ٣ ) طوابق وتم الاطفاء و التبريد بمعرفه قوات الحماية المدنية فيكا لم يسفر الحريق عن ثمه مصابين او محتجزين وقام عمال شركة الكهرباء باتخاذ اللازم وتم اتخاذ الإجراءات القانونية اللازمة تجاه الواقعة. | AA17: https://www.youm7.com/story/2026/4/2/%D8%A7%D9%84%D8%B3%D9%8A%D8%B7%D8%B1%D8%A9-%D8%B9%D9%84%D9%89-%D8%AD%D8%B1%D9%8A%D9%82-%D9%83%D8%A7%D8%A8%D9%8A%D9%86%D8%A9-%D9%83%D9%87%D8%B1%D8%A8%D8%A7%D8%A1-%D8%A8%D9%85%D9%86%D8%B7%D9%82%D8%A9-%D9%85%D8%B5%D8%B1-%D8%A7%D9%84%D8%AC%D8%AF%D9%8A%D8%AF%D8%A9/7363183
A18: 16 | B18: ابريل 2026 | C18: 46114 | D18: اقليم القاهرة الكبرى | E18: القاهرة | F18: بولاق الدكرور | G18: شقة سكنية - منطقة بولاق الدكرور | H18: وحدة سكنية | I18: وحدة سكنية | J18: منشأة سكنية | K18: 0 | L18: بعض محتويات الوحدة السكنية | M18: اثاث | N18: قيد التحقيق | O18: قيد التحقيق | P18: قيد التحقيق | Q18: سيارة اطفاء 3 | R18: =T18+V18 -> 1 | T18: 1 | U18: غير محدد | V18: 0 | W18: غير محدد | Z18: تمكن رجال الحماية المدنية من السيطرة على حريق داخل شقة سكنية منطقة بولاق الدكرور، بعدما انتقلت قوات الحماية المدنية، وتمت السيطرة عليه، ونتج عنه إصابة شخص ونقل إلى المستشفى. Wadi Rum fly over... 00:00 Previous Pause Next 00:20 / 01:41 Mute Fullscreen Copy video url Play / Pause Mute / Unmute Report a problem Language Share Vidverto Player غرفة العمليات تلقت بلاغا بالحريق تلقت غرفة عمليات شرطة النجدة، بلاغا يفيد بنشوب حريق داخل شقة سكنية فى منطقة بولاق الدكرور ، وتم الدفع بـ 3 سيارات إطفاء لمكان الحريق، وفرض كردون أمنى بمحيط الحريق لمحاصرته ومنع امتداده وتمت السيطرة. | AA18: https://www.youm7.com/story/2026/4/2/%D8%A5%D8%B5%D8%A7%D8%A8%D8%A9-%D8%B4%D8%AE%D8%B5-%D8%A5%D8%AB%D8%B1-%D8%AD%D8%B1%D9%8A%D9%82-%D8%B4%D9%82%D8%A9-%D8%B3%D9%83%D9%86%D9%8A%D8%A9-%D9%81%D9%89-%D8%A8%D9%88%D9%84%D8%A7%D9%82-%D8%A7%D9%84%D8%AF%D9%83%D8%B1%D9%88%D8%B1/7363591
A19: 17 | B19: ابريل 2026 | C19: 46114 | D19: اقليم القاهرة الكبرى | E19: القليوبية | F19: بنها | G19: منطقة كوبري الفحص بمدينة بنها | H19: مطبخ شقة سكنية الطابق الـ11 ببرج سكني بمنطقة كوبري الفحص بمدينة بنها | I19: مطبخ بوحدة سكنية | J19: منشأة سكنية | K19: 0 | L19: بعض محتويات الوحدة السكنية | M19: اثاث | N19: قيد التحقيق | O19: اندلاع الحريق بمطبخ الشقة وامتداده الى باقي الشقة | P19: قيد التحقيق | Q19: سيارة اطفاء | R19: =T19+V19 -> 0 | T19: 0 | U19: غير محدد | V19: 0 | W19: غير محدد | Z19: تمكنت قوات الحماية المدنية بالقليوبية، من السيطرة على حريق نشب بمطبخ شقة سكنية الطابق الـ11 ببرج سكني بمنطقة كوبري الفحص بمدينة بنها، ومنع امتداده للمناطق المجاورة، دون خسائر بشرية أو ثمة إصابات، وتحرر محضر بالواقعة، وتولت الجهات المعنية التحقيقات. The Istanbul Winter Express 00:00 Previous Pause Next 00:35 / 02:18 Mute Fullscreen Copy video url Play / Pause Mute / Unmute Report a problem Language Share Vidverto Player بلاغ للأجهزة الأمنية بنشوب حريق بشقة في بنها تلقت مديرية أمن القليوبية، إخطارا من عمليات النجدة، يفيد ورود بلاغ من الأهالي بنشوب حريق بشقة ببرج سكني بمنطقة كوبري الفحص القديم بمدينة بنها. انتقال فوري لرجال الحماية المدنية والدفع بسيارات الإطفاء انتقلت على الفور قوات الحماية المدنية بالقليوبية، وجرى الدفع بسيارتي إطفاء لمكان البلاغ، كما انتقلت سيارة إسعاف تابعة لفرع هيئة الإسعاف بالقليوبية، وبفضل جهود رجال الحماية المدنية بالقليوبية، تم السيطرة على الحريق ومنع امتداده للمناطق المجاورة، دون وقوع ثمة إصابات أو خسائر بشرية، وبالمعاينة والفحص تبين نشوب الحريق بمطبخ الشقة، وتحرر محضر بالواقعة، وتولت الجهات المعنية التحقيقات. | AA19: https://www.youm7.com/story/2026/4/2/%D8%A7%D9%84%D8%AD%D9%85%D8%A7%D9%8A%D8%A9-%D8%A7%D9%84%D9%85%D8%AF%D9%86%D9%8A%D8%A9-%D8%A8%D8%A7%D9%84%D9%82%D9%84%D9%8A%D9%88%D8%A8%D9%8A%D8%A9-%D8%AA%D8%B3%D9%8A%D8%B7%D8%B1-%D8%B9%D9%84%D9%89-%D8%AD%D8%B1%D9%8A%D9%82-%D8%A8%D9%85%D8%B7%D8%A8%D8%AE-%D8%B4%D9%82%D8%A9-%D8%B3%D9%83%D9%86%D9%8A%D8%A9-%D9%81%D9%89/7363596 | AB19: https://www.elbalad.news/6922243 | AC19: https://www.elbalad.news/6922244 | AD19: https://www.almasryalyoum.com/news/details/4235871
A20: 18 | B20: ابريل 2026 | C20: 46114 | D20: اقليم القاهرة الكبرى | E20: القليوبية | F20: قسم ثان شبرا الخيمة | G20: شارع ترعة الشابوري - دائرة قسم ثان شبرا الخيمة | H20: مصنع ملابس بمنطقة شارع ترعة الشابوري دائرة قسم ثان شبرا الخيمة | I20: مصنع | J20: منشأة صناعية | K20: 1 | L20: بعض محتويات المصنع | M20: مواد خام | N20: قيد التحقيق | O20: قيد التحقيق | P20: قيد التحقيق | Q20: 9 سيارات الاطفاء وسيارة اسعاف | R20: =T20+V20 -> 0 | T20: 0 | U20: غير محدد | V20: 0 | W20: غير محدد | Z20: تمكنت قوات الحماية المدنية بالقليوبية من السيطرة على حريق داخل مصنع ملابس بمنطقة شارع ترعة الشابوري دائرة قسم ثان شبرا الخيمة، دون وقوع ثمة إصابات أو خسائر بشرية، وتحرر محضر بالواقعة، وتولت النيابة العامة التحقيق. Dubai Dunes in one Minute 00:27 Previous Pause Next 00:19 / 01:48 Mute Fullscreen Copy video url Play / Pause Mute / Unmute Report a problem Language Share Vidverto Player بلاغ للأجهزة الأمنية بنشوب الحريق تلقى اللواء أشرف جاب الله مدير أمن القليوبية، إخطارا من اللواء هيثم شحاته مدير إدارة الحماية المدنية بالقليوبية، يفيد بورود بلاغ لغرفة عمليات الحماية المدنية، بنشوب حريق بمصنع ملابس أسفل عقار بدائرة قسم ثان شبرا الخيمة. انتقال فوري لرجال الحماية المدنية والدفع بـ 9 سيارات إطفاء انتقلت قوات الحماية المدنية، وجرى الدفع بـ9 سيارات إطفاء، مدعمة بسيارات الإسعاف وبفضل جهود رجال قوات الحماية المدنية تم السيطرة علي الحريق ومنع امتداده لباقي المبنى والعقارات المجاورة، وفرض كردون أمنى بمحيط نشوب الحريق حفاظا على أرواح وسلامة المواطنين. تحرير محضر بالواقعة وانتداب المعمل الجنائي لبيان سبب الحريق وكشفت المعاينة الأولية نشوب حريق في مصنع ملابس بالطابق الأول علوى بعقار سكنى بمنطقة ترعة الشابوري بدائرة قسم ثان شبرا الخيمة، وتم تحرير محضر بالواقعة وتولت النيابة العامة التحقيق، وأمرت بانتداب المعمل الجنائي لبيان سبب الحريق، واستعجال تحريات المباحث، وسؤال شهود العيان. | AA20: https://www.youm7.com/story/2026/4/2/9-%D8%B3%D9%8A%D8%A7%D8%B1%D8%A7%D8%AA-%D8%A5%D8%B7%D9%81%D8%A7%D8%A1-%D8%AA%D9%81%D8%A7%D8%B5%D9%8A%D9%84-%D8%A7%D9%84%D8%B3%D9%8A%D8%B7%D8%B1%D8%A9-%D8%B9%D9%84%D9%89-%D8%AD%D8%B1%D9%8A%D9%82-%D8%A8%D9%85%D8%B5%D9%86%D8%B9-%D9%85%D9%84%D8%A7%D8%A8%D8%B3-%D8%A3%D8%B3%D9%81%D9%84/7363676
A21: 19 | B21: ابريل 2026 | C21: 46114 | D21: اقليم وسط الصعيد | E21: الوادي الجديد | F21: مركز الداخلة | G21: مدينة موط التابعة لمركز الداخلة | H21: شقة سكنية الشقة رقم 7 بالعمارة 174، مدخل «ب» بمدينة موط التابعة لمركز الداخلة | I21: وحدة سكنية | J21: منشأة سكنية | K21: 0 | L21: بعض محتويات الوحدة السكنية | M21: اثاث | N21: سرب غاز من أسطوانة بوتاجاز | O21: قيد التحقيق | P21: تسرب مادة قابلة للاشتعال | Q21: سيارات الاطفاء والحماية المدنية | R21: =T21+V21 -> 0 | T21: 0 | U21: غير محدد | V21: 0 | W21: غير محدد | Z21: سيطرت قوات الحماية المدنية والإطفاء بمحافظة الوادى الجديد، اليوم الخميس، على حريق اندلع داخل شقة سكنية بمدينة موط التابعة لمركز الداخلة، دون تسجيل إصابات بشرية، بعدما جرى التعامل السريع مع البلاغ واحتواء النيران قبل امتدادها إلى وحدات مجاورة. تلقى اللواء وليد منصور، مدير أمن الوادى الجديد، إخطارًا من إدارة الحماية المدنية يفيد بنشوب حريق داخل شقة سكنية بمدينة موط. وبالفحص، تبين اندلاع النيران فى الشقة رقم 7 بالعمارة 174، مدخل «ب»، نتيجة تسرب غاز من أسطوانة بوتاجاز. انتقلت قوات الحماية المدنية والإطفاء إلى موقع البلاغ، ونجحت فى السيطرة على الحريق ومنع توسعه، فيما جرى تحرير محضر بالواقعة، وإخطار النيابة العامة لمباشرة التحقيقات والوقوف على ملابسات الحادث. | AA21: https://www.almasryalyoum.com/news/details/4236236
A22: 20 | B22: ابريل 2026 | C22: 46114 | D22: اقليم جنوب الصعيد | E22: سوهاج | F22: مركز ساقلتة | G22: قرية سفلاق التابعة لدائرة مركز ساقلته | H22: حريق نشب بالدور الأول العلوي لمنزل بناحية نجع أبو حجر بقرية سفلاق التابعة لدائرة مركز ساقلته | I22: منزل | J22: منشأة سكنية | K22: 0 | L22: لم يذكر | M22: لم يذكر | N22: قيد التحقيق | O22: قيد التحقيق | P22: قيد التحقيق | Q22: سيارة اطفاء | R22: =T22+V22 -> 0 | T22: 0 | U22: جمال إبراهيم قواطين حسين | V22: 0 | W22: غير محدد | Y22: انحصرت التلفيات في تلف عداد الكهرباء، واحتراق غرفة نوم ومطبخ بالكامل، بالإضافة إلى احتراق بعض المفروشات من ستائر وسجاد وموكيت | Z22: تمكنت قوات الحماية المدنية بسوهاج من السيطرة على حريق نشب بالدور الأول العلوي لمنزل المواطن جمال إبراهيم قواطين حسين، بناحية نجع أبو حجر بقرية سفلاق التابعة لدائرة مركز ساقلته، دون وقوع أي إصابات بشرية. Dubai Dunes in one Minute 00:00 Previous Pause Next 01:45 / 01:48 Mute Fullscreen Copy video url Play / Pause Mute / Unmute Report a problem Language Share Vidverto Player ترجع الواقعة عقب تلقى اللواء الدكتور حسن عبدالعزيز، مساعد الوزير مدير أمن سوهاج، بلاغا بنشوب حريق داخل أحد المنازل بدائرة مركز ساقلته، وعلى الفور تم الدفع بسيارات الإطفاء إلى موقع البلاغ. السيطرة على الحريق بالانتقال والفحص، تمكنت قوات الحماية المدنية من السيطرة على الحريق وإخماده قبل امتداده إلى المنازل المجاورة، بمشاركة سيارات إطفاء ساقلته وسفلاق. انحصرت التلفيات في تلف عداد الكهرباء، واحتراق غرفة نوم ومطبخ بالكامل، بالإضافة إلى احتراق بعض المفروشات من ستائر وسجاد وموكيت، دون تسجيل أي خسائر في الأرواح. تم إخطار مركز الشرطة، لتحديد سبب الحريق من خلال الجهات المختصة، واتخاذ الإجراءات القانونية اللازمة. | AA22: https://www.youm7.com/story/2026/4/2/%D8%A7%D9%84%D8%B3%D9%8A%D8%B7%D8%B1%D8%A9-%D8%B9%D9%84%D9%89-%D8%AD%D8%B1%D9%8A%D9%82-%D8%A8%D9%85%D9%86%D8%B2%D9%84-%D9%81%D9%89-%D8%B3%D9%88%D9%87%D8%A7%D8%AC-%D8%AF%D9%88%D9%86-%D8%A5%D8%B5%D8%A7%D8%A8%D8%A7%D8%AA/7363267
A23: 21 | B23: ابريل 2026 | C23: 46115 | D23: اقليم الاسكندرية | E23: الاسكندرية | F23: العامرية | G23: منطقة العامرية بجانب مزلقان النجار نطاق دائرة القسم | H23: مخزن للخردة | I23: مخزن | J23: منشأة تجارية | K23: 2 | L23: احتراق عدد 2 سيارة ومحتويات المخزن | M23: خردة | N23: قيد التحقيق | O23: قيد التحقيق | P23: قيد التحقيق | Q23: سيارات الاطفاء والحماية المدنية | R23: =T23+V23 -> 0 | T23: 0 | U23: غير محدد | V23: 0 | W23: غير محدد | Z23: تمكنت قوات الحماية المدنية في محافظة الإسكندرية من السيطرة على حريق نشب بمخزن للخردة وتقطيع الكاوتش بمنطقة العامرية وتم اتخاذ الإجراءات اللازمة. بداية البلاغ البداية عندما تلقت الأجهزة الأمنية بمديرية أمن الإسكندرية إخطارا من مأمور قسم شرطة عامرية ثاني يفيد ورود بلاغ النجدة باشتعال النيران في مخزن بجانب مزلقان النجار نطاق دائرة القسم . حريق بمخزن خردة في العامرية وعلى الفور انتقلت الأجهزة الأمنية ترافقها سيارات الحماية المدنية والاسعاف الي مكان وتبين احتراق سيارتين إحداهما ملاكى والآخري ميكروباص وتفحم محتويات بالمكان ،وتمت السيطرة علي الحريق قبل امتدادها الي الأماكن المجاورة وتحرر محضر بالواقعة للعرض علي جهات التحقيق | AA23: https://www.youm7.com/story/2026/4/3/%D8%A7%D9%84%D8%B3%D9%8A%D8%B7%D8%B1%D8%A9-%D8%B9%D9%84%D9%8A-%D8%AD%D8%B1%D9%8A%D9%82-%D8%A8%D9%85%D8%AE%D8%B2%D9%86-%D8%AE%D8%B1%D8%AF%D8%A9-%D9%81%D9%8A-%D8%A7%D9%84%D8%B9%D8%A7%D9%85%D8%B1%D9%8A%D8%A9-%D8%A7%D9%84%D8%A5%D8%B3%D9%83%D9%86%D8%AF%D8%B1%D9%8A%D8%A9-%D8%AF%D9%88%D9%86-%D8%A5%D8%B5%D8%A7%D8%A8%D8%A7%D8%AA/7365225 | AB23: https://www.elbalad.news/6923763 | AC23: https://www.almasryalyoum.com/news/details/4236810
A24: 22 | B24: ابريل 2026 | C24: 46115 | D24: اقليم القناة | E24: الشرقية | F24: الزقازيق | G24: حريق باحد الكافيهات بجوار مستشفى الاحرار بمدينة الزقازيق | H24: كافية بجوار مستشفى الأحرار بالزقازيق | I24: كافيه | J24: منشأة تجارية | K24: 1 | L24: احتراق محتويات الكافيه بالكامل | M24: اثاث | N24: قيد التحقيق | O24: قيد التحقيق | P24: قيد التحقيق | Q24: سيارة اطفاء | R24: =T24+V24 -> 0 | T24: 0 | U24: غير محدد | V24: 0 | W24: غير محدد | Z24: تمكنت قوات الحماية المدنية بالشرقية من السيطرة على حريق نشب بأحد الكافيهات بجوار مستشفى الاحرار بمدينة الزقازيق دون وقوع إصابات وجاري تحرير محضر بالواقعة واخطار النيابة العامة لمباشرة التحقيق والوقوف على أسباب الحريق. كانوا بيهزروا .. القبض على المتهمين بالسخرية من شخص من ذوى الهمم بالشرقيةكانوا بيهزروا .. القبض على المتهمين بالسخرية من شخص من ذوى الهمم بالشرقية اعتباراً من الأحد القادم.. الشرقية تبدأ تطبيق نظام العمل عن بُعداعتباراً من الأحد القادم.. الشرقية تبدأ تطبيق نظام العمل عن بُعد القبض على المتهم بسرقة خلاط مياه من داخل مسجد بالشرقيةالقبض على المتهم بسرقة خلاط مياه من داخل مسجد بالشرقية فيما تلقت الأجهزة الأمنية بالشرقية إخطارا يفيد ورود إشارة من شرطة النجدة يفيد نشوب حريق بأحد الاماكن الترفيهية بجوار مستشفى الاحرار بمدينة الزقازيق وتم إخطار قوات الحماية المدنية والتي دفعت بعدد من سيارات الإطفاء. ومن جانبها دفعت قوات الحماية المدنية بسيارات الاطفاء وتم السيطرة على الحريق واخمادة دون وقوع إصابات وتبين نشوب الحريق بأحد الكافيهات بجوار مستشفى الاحرار بمدينة الزقازيق وجاري تحرير محضر بالواقعة واخطار النيابة العامة لمباشرة التحقيق والوقوف على أسباب الحريق. | AA24: https://www.elbalad.news/6923398
A25: 23 | B25: ابريل 2026 | C25: 46115 | D25: اقليم القناة | E25: الشرقية | F25: الزقازيق | G25: منطقة ألعاب أطفال بجوار مستشفى الأحرار بمدينة الزقازيق بمحافظة الشرقية | H25: منطقة ألعاب أطفال مكونة من طابق واحد | I25: منطقة العاب اطفال من طابق واحد | J25: منشأة خدمية/ تعليمية | K25: 1 | L25: تلفيات مادية | M25: مادية | N25: قيد التحقيق | O25: قيد التحقيق | P25: قيد التحقيق | Q25: 3 سيارات الاطفاء والحماية المدنية | R25: =T25+V25 -> 0 | T25: 0 | U25: غير محدد | V25: 0 | W25: غير محدد | Z25: اندلع حريق، اليوم، داخل منطقة ألعاب أطفال مكونة من طابق واحد بجوار مستشفى الأحرار بمدينة الزقازيق بمحافظة الشرقية، وتمكنت قوات الحماية المدنية من السيطرة عليه دون وقوع خسائر بشرية. Dubai Dunes in one Minute 01:26 Previous Pause Next 00:24 / 01:48 Mute Fullscreen Copy video url Play / Pause Mute / Unmute Report a problem Language Share Vidverto Player بلاغا لمديرية أمن الشرقية تلقت الأجهزة الأمنية بمديرية أمن الشرقية إخطارًا يفيد بنشوب حريق بمنطقة ألعاب أطفال بالقرب من مستشفى الأحرار، وعلى الفور انتقلت قوات الحماية المدنية مدعومة بـ3 سيارات إطفاء إلى موقع البلاغ، حيث جرى التعامل السريع مع ألسنة اللهب ومحاصرتها لمنع امتدادها إلى الأماكن المجاورة. السيطرة على النيران وتمكنت قوات الإطفاء من السيطرة الكاملة على الحريق وإخماده خلال وقت قصير، فيما أسفر الحادث عن تلفيات مادية محدودة، وتم تحرير محضر بالواقعة وتم اتخاذ الإجراءات القانونية اللازمة، مع بدء الجهات المختصة في فحص موقع الحادث للوقوف على أسباب اندلاع الحريق وملابساته. | AA25: https://www.youm7.com/story/2026/4/3/%D8%A7%D9%84%D8%B3%D9%8A%D8%B7%D8%B1%D8%A9-%D8%B9%D9%84%D9%89-%D8%AD%D8%B1%D9%8A%D9%82-%D9%85%D9%86%D8%B7%D9%82%D8%A9-%D8%A3%D9%84%D8%B9%D8%A7%D8%A8-%D8%A3%D8%B7%D9%81%D8%A7%D9%84-%D8%A8%D8%AC%D9%88%D8%A7%D8%B1-%D9%85%D8%B3%D8%AA%D8%B4%D9%81%D9%89-%D8%A7%D9%84%D8%A3%D8%AD%D8%B1%D8%A7%D8%B1-%D8%A8%D8%A7%D9%84%D8%B2%D9%82%D8%A7%D8%B2%D9%8A%D9%82/7364905 | AB25: https://www.almasryalyoum.com/news/details/4236636
A26: 24 | B26: ابريل 2026 | C26: 46115 | D26: اقليم القناة | E26: الشرقية | F26: العاشر من رمضان | G26: أعلى نزلة كوبري السويدي بالعاشر من رمضان في الاتجاه المؤدي إلى القاهرة | H26: اشتعال النيران بونش رفع | I26: ونش رفع | J26: وسيلة نقل | K26: 1 | L26: احتراق الونش | M26: مركبة | N26: قيد التحقيق | O26: قيد التحقيق | P26: قيد التحقيق | Q26: سيارة اطفاء | R26: =T26+V26 -> 1 | T26: 0 | U26: غير محدد | V26: 1 | W26: غير محدد | Y26: أسفر الحريق عن انفجار إطار الونش، ما أدى إلى وفاة شخص في موقع الحادث | Z26: لقي شخص مصرعه إثر نشوب حريق في ونش رفع أعلى نزلة كوبري السويدي في الاتجاه المؤدي إلى القاهرة، وذلك عقب انفجار أحد إطارات الونش نتيجة الحريق. بلاغ لمديرية أمن الشرقية وتلقت الأجهزة الأمنية بمديرية أمن الشرقية ، بلاغا يفيد باندلاع حريق في ونش رفع وعلى الفور تم الدفع بقوات الحماية المدنية للتعامل مع الحادث والسيطرة على النيران ومنع امتدادها إلى المناطق المجاورة. مصرع شخص إثر انفجار إطار ونش وأسفر الحريق عن انفجار إطار الونش، ما أدى إلى وفاة شخص في موقع الحادث، وتم نقل الجثمان الى مستشفى العاشر الجامعي تحت تصرف جهات التحقيق. وتحرر محضر بالواقعة، وجارٍ اتخاذ الإجراءات القانونية اللازمة للوقوف على ملابسات الحادث وأسبابه. | AA26: https://www.youm7.com/story/2026/4/3/%D9%85%D8%B5%D8%B1%D8%B9-%D8%B4%D8%AE%D8%B5-%D9%81%D9%8A-%D8%AD%D8%B1%D9%8A%D9%82-%D9%88%D9%86%D8%B4-%D8%B1%D9%81%D8%B9-%D8%A8%D8%B9%D8%AF-%D8%A7%D9%86%D9%81%D8%AC%D8%A7%D8%B1-%D8%A5%D8%B7%D8%A7%D8%B1-%D8%A8%D8%A7%D9%84%D8%B9%D8%A7%D8%B4%D8%B1/7365037
A27: 25 | B27: ابريل 2026 | C27: 46115 | D27: اقليم القاهرة الكبرى | E27: القليوبية | F27: بنها | G27: سور نقابة الصيادلة بمدينة بنها بمحافظة القليوبية | H27: عدد من الأشجار المجاورة لسور نقابة الصيادلة بمدينة بنها بمحافظة القليوبية | I27: حديقة | J27: منشأة خدمية/ تعليمية | K27: 1 | L27: بعض محتويات المنطقة الترفيهية | M27: اثاث وتجهيزات | N27: قيد التحقيق | O27: قيد التحقيق | P27: قيد التحقيق | Q27: سيارات الاطفاء | R27: =T27+V27 -> 0 | T27: 0 | U27: غير محدد | V27: 0 | W27: غير محدد | Y27: الحريق بدأ في الأشجار المحيطة، وامتد بشكل جزئي إلى حديقة النقابة | Z27: شب حريق محدود في عدد من الأشجار المجاورة لسور نقابة الصيادلة بمدينة بنها بمحافظة القليوبية مما أدى إلى تصاعد الأدخنة وألسنة اللهب في محيط المكان، وأثار حالة من القلق بين الأهالي. وأوضحت المعاينات الأولية أن الحريق بدأ في الأشجار المحيطة، وامتد بشكل جزئي إلى حديقة النقابة، دون أن يصل إلى المبنى أو يتسبب في أضرار كبيرة بالمنشآت. حملات تموينية مكثفة لضبط الأسواق والمخابز بالقليوبيةحملات تموينية مكثفة لضبط الأسواق والمخابز بالقليوبية محافظ القليوبية يتابع احتواء بقعة زيت بترعة الإسماعيلية ويقود تحركًا عاجلًا لوقف مصدر التلوث .. صورمحافظ القليوبية يتابع احتواء بقعة زيت بترعة الإسماعيلية ويقود تحركًا عاجلًا لوقف مصدر التلوث .. صور حظر التبرعات المادية.. تعليمات صارمة من تعليم القليوبية لمدارس اللغاتحظر التبرعات المادية.. تعليمات صارمة من تعليم القليوبية لمدارس اللغات تلقت الأجهزة الأمنية إخطارًا بالواقعة فانتقلت قوات الحماية المدنية مدعومة بسيارات الإطفاء إلى موقع الحريق، حيث تم فرض كردون أمني لتأمين المنطقة ومنع اقتراب المواطنين. السيطرة على الحريق تمكنت القوات من السيطرة على الحريق وإخماده في وقت قصير، ومنع امتداده إلى المناطق المجاورة دون تسجيل أي إصابات أو خسائر بشرية. وتواصل الجهات المختصة أعمال الفحص والمعاينة للوقوف على أسباب الحريق واتخاذ الإجراءات القانونية اللازمة حيال الواقعة. | AA27: https://www.elbalad.news/6923622 | AB27: https://www.almasryalyoum.com/news/details/4236793
A28: 26 | B28: ابريل 2026 | C28: 46115 | D28: اقليم جنوب الصعيد | E28: قنا | F28: نجع حمادي | G28: المنطقة الصناعية بمدينة نجع حمادي شمال محافظة قنا. | H28: نشوب حريق داخل مصنع للزيوت وآخر للعصائر بالمنطقة الصناعية بنجع حمادي | I28: مصنعين | J28: منشأة صناعية | K28: 2 | L28: بعض محتويات المصنع والموار الخام | M28: مواد خام | N28: قيد التحقيق | O28: قيد التحقيق | P28: قيد التحقيق | Q28: سيارات الاطفاء 10 | R28: =T28+V28 -> 0 | T28: 0 | U28: غير محدد | V28: 0 | W28: غير محدد | Z28: تمكنت قوات الحماية المدنية بمحافظة قنا من السيطرة على حريق اندلع داخل مصنعين بالمنطقة الصناعية في مدينة نجع حمادي شمال المحافظة، دون وقوع أي إصابات. Wadi Rum fly over... 00:00 Previous Pause Next 00:33 / 01:41 Mute Fullscreen Copy video url Play / Pause Mute / Unmute Report a problem Language Share Vidverto Player الحماية المدنية تسيطر على الحريق تلقت الأجهزة الأمنية بمديرية أمن قنا إخطارًا من غرفة العمليات يفيد بنشوب حريق داخل مصنع للزيوت وآخر للعصائر بالمنطقة الصناعية في نجع حمادي، وعلى الفور تم الدفع بـ10 سيارات إطفاء للسيطرة على النيران. وانتقلت قوة أمنية إلى موقع الحادث، وتمكنت قوات الحماية المدنية من إخماد الحريق قبل امتداده إلى الأماكن المجاورة، ما ساهم في تجنب وقوع خسائر أكبر. تحرير محضر واتخاذ الإجراءات القانونية وتم تحرير محضر بالواقعة، وأُخطرت الجهات المختصة لتولي التحقيقات، حيث كُلفت وحدة المباحث بإجراء التحريات اللازمة لكشف ملابسات الحريق وأسبابه. | AA28: https://www.youm7.com/story/2026/4/3/%D8%AF%D9%88%D9%86-%D8%A5%D8%B5%D8%A7%D8%A8%D8%A7%D8%AA-%D8%A5%D8%AE%D9%85%D8%A7%D8%AF-%D8%AD%D8%B1%D9%8A%D9%82-%D9%85%D8%B5%D9%86%D8%B9%D9%8A%D9%86-%D8%A8%D8%A7%D9%84%D9%85%D9%86%D8%B7%D9%82%D8%A9-%D8%A7%D9%84%D8%B5%D9%86%D8%A7%D8%B9%D9%8A%D8%A9-%D9%81%D9%8A-%D9%86%D8%AC%D8%B9-%D8%AD%D9%85%D8%A7%D8%AF%D9%8A/7364398 | AB28: https://www.elbalad.news/6922948
A29: 27 | B29: ابريل 2026 | C29: 46116 | D29: اقليم القاهرة الكبرى | E29: الجيزة | F29: كرداسة | G29: منطقة كرداسة | H29: حريق داخل منزل فى منطقة كرداسة | I29: منزل | J29: منشأة سكنية | K29: 1 | L29: بعض محتويات المنزل | M29: اثاث | N29: قيد التحقيق | O29: قيد التحقيق | P29: قيد التحقيق | Q29: سيارة اطفاء | R29: =T29+V29 -> 0 | T29: 0 | U29: غير محدد | V29: 0 | W29: غير محدد | Z29: اندلع حريق داخل منزل فى منطقة كرداسة ، وعلى الفور تمت السيطرة عليه دون إصابات وتولت النيابة المختصة التحقيقات. 00:00 00:01 / 00:15 Fullscreen Copy video url Play / Pause Mute / Unmute Report a problem Language Share Vidverto Player غرفة العمليات تلقت بلاغا بالحريق تلقت غرفة عمليات النجدة ،بلاغا من الأهالى بنشوب حريق داخل منزل فى منطقة كرداسة، وعلي الفور انتقلت سيارات الاطفاء الي المكان وتمت عملية إخماد الحريق. ويستمع رجال المباحث بمديرية أمن الجيزة ، لأقوال شهود العيان وقاطنى المنزل لكشف ملابسات الواقعة وتم اتخاذ الإجراءات القانونية اللازمة تجاه الواقعة. | AA29: https://www.youm7.com/story/2026/4/4/%D8%A5%D8%AE%D9%85%D8%A7%D8%AF-%D8%AD%D8%B1%D9%8A%D9%82-%D8%AF%D8%A7%D8%AE%D9%84-%D9%85%D9%86%D8%B2%D9%84-%D9%81%D9%89-%D9%83%D8%B1%D8%AF%D8%A7%D8%B3%D8%A9-%D8%AF%D9%88%D9%86-%D8%A5%D8%B5%D8%A7%D8%A8%D8%A7%D8%AA/7366029
A30: 28 | B30: ابريل 2026 | C30: 46116 | D30: اقليم القاهرة الكبرى | E30: الجيزة | F30: العمرانية | G30: منطقة العمرانية | H30: شقة سكنية | I30: وحدة سكنية | J30: منشأة سكنية | K30: 1 | L30: بعض محتويات الوحدة السكنية | M30: اثاث | N30: قيد التحقيق | O30: قيد التحقيق | P30: قيد التحقيق | Q30: سيارة اطفاء | R30: =T30+V30 -> 0 | T30: 0 | U30: غير محدد | V30: 0 | W30: غير محدد | Z30: اندلع حريق داخل شقة سكنية فى منطقة العمرانية، وعلى الفور تمت السيطرة عليه دون إصابات، وتولت النيابة المختصة التحقيقات. غرفة العمليات تلقت بلاغا بالحريق تلقت غرفة عمليات النجدة، بلاغا من الأهالى بنشوب حريق داخل شقة سكنية فى العمرانية، وعلي الفور تم الدفع بسيارات إطفاء لمكان البلاغ، وتمكن رجال الحماية المدنية من محاصرة النيران وإخمادها دون إصابات. الاستماع لأقوال شهود عيان استمع رجال المباحث بمديرية أمن الجيزة، لأقوال شهود العيان وقاطنى الشقة، لكشف ملابسات اشتعال الحريق، وتم اتخاذ الإجراءات القانونية اللازمة، لتباشر النيابة المختصة التحقيق. | AA30: https://www.youm7.com/story/2026/4/4/%D8%A5%D8%AE%D9%85%D8%A7%D8%AF-%D8%AD%D8%B1%D9%8A%D9%82-%D8%AF%D8%A7%D8%AE%D9%84-%D8%B4%D9%82%D8%A9-%D8%B3%D9%83%D9%86%D9%8A%D8%A9-%D9%81%D9%89-%D8%A7%D9%84%D8%B9%D9%85%D8%B1%D8%A7%D9%86%D9%8A%D8%A9-%D8%AF%D9%88%D9%86-%D8%A5%D8%B5%D8%A7%D8%A8%D8%A7%D8%AA/7365360
A31: 29 | B31: ابريل 2026 | C31: 46116 | D31: اقليم جنوب الصعيد | E31: قنا | F31: دشنا | G31: قرية أبو دياب شرق التابعة لمركز دشنا | H31: عدد من الأحواش بقرية أبو دياب شرق التابعة لمركز دشنا | I31: عدد من الأحواش ب 3 منازل | J31: مزرعة حيوانية | K31: 3 | L31: منازل 3+ 40 راس ماشية | M31: اثاث + حيواني | N31: قيد التحقيق | O31: قيد التحقيق | P31: قيد التحقيق | Q31: سيارات الاطفاء | R31: =T31+V31 -> 0 | T31: 0 | U31: غير محدد | V31: 0 | W31: غير محدد | Z31: تابع اللواء دكتور مصطفى الببلاوي، محافظ قنا، جهود قوات الحماية المدنية في السيطرة على حريق نشب في عدد من الأحواش بقرية أبو دياب شرق التابعة لمركز دشنا، حيث انتقلت فرق الإطفاء فور تلقي البلاغ للتعامل مع النيران. UAE 44th National Day - Union Flag 00:45 Previous Pause Next 00:43 / 00:52 Mute Fullscreen Copy video url Play / Pause Mute / Unmute Report a problem Language Share Vidverto Player وكلف محافظ قنا، اللواء سامي علامي، السكرتير العام، ومجدي نجيب، وكيل وزارة التضامن الاجتماعي، وخالد بهيج رئيس الوحدة المحلية، بالانتقال الفوري لمعاينة موقع الحادث، وذلك لحصر كافة الأضرار والتلفيات التي لحقت بالأحواش تمهيداً لاتخاذ الإجراءات القانونية اللازمة. فحص الأسر المتضررة ووجه الببلاوي، بسرعة فحص الأسر المتضررة وفقاً للضوابط والقوانين المنظمة، مؤكداً تشكيل لجنة فنية من مجلس القرية والطب البيطري وإدارة التضامن الاجتماعي بالمركز لحصر الخسائر الناجمة عن الحريق. وأوضح محافظ قنا، أن قوات الحماية المدنية نجحت في السيطرة الكاملة على الحريق ومنع امتداده للمناطق المجاورة، مؤكداً على الجاهزية التامة للتعامل مع أي حالات طارئة بكافة مراكز المحافظة. | AA31: https://www.youm7.com/story/2026/4/4/%D9%85%D8%AD%D8%A7%D9%81%D8%B8-%D9%82%D9%86%D8%A7-%D9%8A%D8%AA%D8%A7%D8%A8%D8%B9-%D8%AC%D9%87%D9%88%D8%AF-%D8%A7%D9%84%D8%B3%D9%8A%D8%B7%D8%B1%D8%A9-%D8%B9%D9%84%D9%89-%D8%AD%D8%B1%D9%8A%D9%82-%D8%A8%D9%82%D8%B1%D9%8A%D8%A9-%D8%A3%D8%A8%D9%88-%D8%AF%D9%8A%D8%A7%D8%A8/7366065 | AB31: https://www.youm7.com/story/2026/4/4/%D9%85%D8%AD%D8%A7%D9%81%D8%B8-%D9%82%D9%86%D8%A7-%D9%8A%D8%AA%D8%A7%D8%A8%D8%B9-%D8%AC%D9%87%D9%88%D8%AF-%D8%A7%D9%84%D8%B3%D9%8A%D8%B7%D8%B1%D8%A9-%D8%B9%D9%84%D9%89-%D8%AD%D8%B1%D9%8A%D9%82-%D8%A8%D9%82%D8%B1%D9%8A%D8%A9-%D8%A3%D8%A8%D9%88-%D8%AF%D9%8A%D8%A7%D8%A8/7366063 | AC31: https://www.youm7.com/story/2026/4/4/%D8%A7%D9%84%D8%B3%D9%8A%D8%B7%D8%B1%D8%A9-%D8%B9%D9%84%D9%89-%D8%AD%D8%B1%D9%8A%D9%82-%D9%81%D9%89-10-%D8%A3%D8%AD%D9%88%D8%A7%D8%B4-%D8%A8%D9%82%D8%B1%D9%8A%D8%A9-%D8%A3%D8%A8%D9%88-%D8%AF%D9%8A%D8%A7%D8%A8-%D8%A8%D9%82%D9%86%D8%A7/7365866 | AD31: https://www.youm7.com/story/2026/4/4/%D8%A7%D8%B4%D8%AA%D8%B9%D8%A7%D9%84-%D8%A7%D9%84%D9%86%D8%A7%D8%B1-%D9%81%D9%8A-3-%D9%85%D9%86%D8%A7%D8%B2%D9%84-%D8%A8%D9%82%D8%B1%D9%8A%D8%A9-%D8%A3%D8%A8%D9%88-%D8%AF%D9%8A%D8%A7%D8%A8-%D8%B4%D8%B1%D9%82-%D8%A7%D9%84%D8%AA%D8%A7%D8%A8%D8%B9%D8%A9/7365829 | AE31: https://www.elbalad.news/6924463 | AF31: https://www.elbalad.news/6924444 | AG31: https://www.elbalad.news/6924341 | AI31: https://www.almasryalyoum.com/news/details/4237327 | AJ31: https://www.youm7.com/story/2026/4/8/%D8%A7%D9%84%D8%B3%D9%8A%D8%B7%D8%B1%D8%A9-%D8%B9%D9%84%D9%89-%D8%AD%D8%B1%D9%8A%D9%82-%D9%86%D8%B4%D8%A8-%D8%AF%D8%A7%D8%AE%D9%84-4-%D8%A3%D8%AD%D9%88%D8%A7%D8%B4-%D8%A8%D9%82%D9%86%D8%A7/7370781
A32: 30 | B32: ابريل 2026 | C32: 46117 | D32: اقليم جنوب الصعيد | E32: اسوان | F32: مدينة اسوان | G32: منطقة المحمودية | H32: حريق بجوار عمارات المهندسين بمنطقة المحمودية. | I32: حريق ببعض المخلفات والحشائش بجوار عمارات المهندسين بمنطقة المحمودية. | J32: مخلفات / منطقة مفتوحة | K32: 1 | L32: لم يذكر | M32: لم يذكر | N32: حريق ببعض المخلفات والحشائش | O32: قيد التحقيق | P32: قيد التحقيق | Q32: سيارة اطفاء | R32: =T32+V32 -> 0 | T32: 0 | U32: غير محدد | V32: 0 | W32: غير محدد | Z32: تمكنت الحماية المدنية فى أسوان اليوم من السيطرة على حريق محدود شب ببعض المخلفات والحشائش بجوار عمارات المهندسين فى مدينة أسوان. كانت قوات الحماية المدنية فى أسوان قد تلقت اخطارا بنشوب حريق بجوار عمارات المهندسين بمنطقة المحمودية. انتقلت على الفور سيارات الإطفاء إلى موقع البلاغ وتبين وقوع حريق ببعض المخلفات والحشائش وتم السيطرة على الحريق واخماده بواسطة الحماية المدنية دون خسائر بشرية. أخبار متعلقة الحملة 100 شاب وفتاة من المتطوعين يشاركون في حملة نظافة بمنطقة السيل في أسوان اسوان استعداداً لأعياد شم النسيم.. تكثيف حملات الرقابة على الأسواق فى أسوان أسوان تحرير 32 محضر مخالفة لمخابز بلدية خلال حملات موسعة في أسوان | AA32: https://www.almasryalyoum.com/news/details/4238380
A33: 31 | B33: ابريل 2026 | C33: 46117 | D33: اقليم القاهرة الكبرى | E33: الجيزة | F33: منشأة القناطر | G33: في قرية بني سلامة، بمنشأة القناطر | H33: مزرعة موز، بقرية بني سلامة، في منشأة القناطر | I33: مزرعة | J33: مزرعة نباتية / زراعية | K33: 1 | L33: لم يذكر | M33: لم يذكر | N33: قيد التحقيق | O33: قيد التحقيق | P33: قيد التحقيق | Q33: سيارات الاطفاء | R33: =T33+V33 -> 0 | T33: 0 | U33: غير محدد | V33: 0 | W33: غير محدد | Z33: تلقت غرفة النجدة بمديرية أمن الجيزة بلاغا يفيد اشتعال حريق بمزرعة، في قرية بني سلامة، بمنشأة القناطر. تم الدفع بعدد من سيارات الإطفاء، وتمكن رجال الحماية المدنية من محاصرة النيران وإخمادها دون إصابات، وتبين من خلال الفحص والمعاينة، أن الحريق اندلع بمزرعة موز، دون إصابات. الاستماع لأقوال شهود عيان استمع رجال المباحث لأقوال شهود عيان لكشف ملابسات اشتعال الحريق، وتم اتخاذ الإجراءات القانونية اللازمة، لتتولى النيابة المختصة التحقيق. | AA33: https://www.youm7.com/story/2026/4/5/%D8%A7%D9%84%D8%B3%D9%8A%D8%B7%D8%B1%D8%A9-%D8%B9%D9%84%D9%89-%D8%AD%D8%B1%D9%8A%D9%82-%D8%A7%D8%B4%D8%AA%D8%B9%D9%84-%D8%A8%D9%85%D8%B2%D8%B1%D8%B9%D8%A9-%D9%85%D9%88%D8%B2-%D9%81%D9%8A-%D9%82%D8%B1%D9%8A%D8%A9-%D8%A8%D9%85%D9%86%D8%B4%D8%A3%D8%A9-%D8%A7%D9%84%D9%82%D9%86%D8%A7%D8%B7%D8%B1/7367302
A34: 32 | B34: ابريل 2026 | C34: 46117 | D34: اقليم القاهرة الكبرى | E34: الجيزة | F34: الهرم | G34: منطقة الهرم | H34: حريق بمحل تجاري | I34: محل تجاري | J34: منشأة تجارية | K34: 1 | L34: لم يذكر | M34: لم يذكر | N34: قيد التحقيق | O34: قيد التحقيق | P34: قيد التحقيق | Q34: سيارة اطفاء | R34: =T34+V34 -> 0 | T34: 0 | U34: غير محدد | V34: 0 | W34: غير محدد | Z34: اشتعل حريق بمحل تجاري، في منطقة الهرم، وتمكن رجال الحماية المدنية من محاصرة النيران وإخمادها دون إصابات، وتحرر محضر بالواقعة، لتتولى النيابة المختصة التحقيق. Wadi Rum fly over... 01:22 Previous Pause Next Mute Fullscreen Copy video url Play / Pause Mute / Unmute Report a problem Language Share Vidverto Player تفاصيل اشتعال حريق بمحل في الهرم ورد بلاغ، يفيد اشتعال حريق بمحل تجاري، في الهرم، انتقل رجال الحماية المدنية إلى مكان البلاغ، وتمكنوا من محاصرة النيران وإخمادها دون إصابات، قبل امتدادها للعقارات المجاورة. تحريات لكشف ملابسات اشتعال الحريق تم اتخاذ الإجراءات القانونية اللازمة، وجاري إجراء التحريات لكشف ملابسات اندلاع الحريق، وتحرر محضر بالواقعة، لتباشر النيابة المختصة التحقيق. | AA34: https://www.youm7.com/story/2026/4/5/%D8%A7%D9%84%D8%B3%D9%8A%D8%B7%D8%B1%D8%A9-%D8%B9%D9%84%D9%89-%D8%AD%D8%B1%D9%8A%D9%82-%D8%A7%D8%B4%D8%AA%D8%B9%D9%84-%D8%AF%D8%A7%D8%AE%D9%84-%D9%85%D8%AD%D9%84-%D8%AA%D8%AC%D8%A7%D8%B1%D9%89-%D9%81%D9%89-%D8%A7%D9%84%D9%87%D8%B1%D9%85-%D8%AF%D9%88%D9%86/7366466
A35: 33 | B35: ابريل 2026 | C35: 46117 | D35: اقليم القاهرة الكبرى | E35: الجيزة | F35: حلوان | G35: ى حلوان | H35: ريق نشب داخل فيلا فى حلوان | I35: فيلا | J35: منشأة سكنية | K35: 1 | L35: بعض محتويات المنزل | M35: لم يذكر | N35: قيد التحقيق | O35: قيد التحقيق | P35: قيد التحقيق | Q35: سيارة اطفاء | R35: =T35+V35 -> 0 | T35: 0 | U35: غير محدد | V35: 0 | W35: غير محدد | Z35: أخمدت قوات الحماية المدنية، حريق نشب داخل فيلا فى حلوان دون وقوع إصابات. تلقت غرفة عمليات النجدة ،بلاغا يفيد نشوب حريق داخل فيلا فى حلوان. Wadi Rum fly over... 01:01 Previous Pause Next 01:21 / 01:41 Mute Fullscreen Copy video url Play / Pause Mute / Unmute Report a problem Language Share Vidverto Player انتقلت على الفور الأجهزة الأمنية مدعومة بسيارتي إطفاء وتم فرض كردون أمني لمحاصرة النيران ومنع امتدادها إلي المجاورات وتمت السيطرة على الحريق دون وقوع إصابات. وتم إتخاذ كافة الإجراءات القانونية اللازمة حيال الواقعة. | AA35: https://www.youm7.com/story/2026/4/5/%D8%A5%D8%AE%D9%85%D8%A7%D8%AF-%D8%AD%D8%B1%D9%8A%D9%82-%D8%AF%D8%A7%D8%AE%D9%84-%D9%81%D9%8A%D9%84%D8%A7-%D9%81%D9%89-%D8%AD%D9%84%D9%88%D8%A7%D9%86-%D8%AF%D9%88%D9%86-%D8%A5%D8%B5%D8%A7%D8%A8%D8%A7%D8%AA/7367395
A36: 34 | B36: ابريل 2026 | C36: 46117 | D36: اقليم القاهرة الكبرى | E36: الجيزة | F36: 6 اكتوبر | G36: مدينة 6 أكتوبر | H36: حريق داخل شقة سكنية فى مدينة 6 أكتوبر | I36: وحدة سكنية | J36: منشأة سكنية | K36: 1 | L36: لم يذكر | M36: لم يذكر | N36: قيد التحقيق | O36: قيد التحقيق | P36: قيد التحقيق | Q36: سيارة اطفاء | R36: =T36+V36 -> 0 | T36: 0 | U36: غير محدد | V36: 0 | W36: غير محدد | Z36: اندلع حريق داخل شقة سكنية فى مدينة 6 أكتوبر، وتمكن رجال الحماية المدنية من السيطرة عليه دون إصابات وتولت النيابة المختصة التحقيقات. Dubai Dunes in one Minute 00:43 Previous Pause Next 00:03 / 01:48 Mute Fullscreen Copy video url Play / Pause Mute / Unmute Report a problem Language Share Vidverto Player غرفة العمليات تلقت بلاغا بالحريق تلقت غرفة عمليات النجدة ،بلاغا من الأهالى بنشوب حريق داخل شقة سكنية فى مدينة 6 أكتوبر وعلي الفور انتقلت سيارات الاطفاء الي المكان وتمت عملية إخماد الحريق. الاستماع لأقوال قاطني الشقة ويستمع رجال المباحث بمديرية أمن الجيزة، لأقوال شهود العيان وقاطنى الشقة لكشف ملابسات الواقعة وتم اتخاذ الإجراءات القانونية اللازمة تجاه الواقعة. | AA36: https://www.youm7.com/story/2026/4/5/%D8%A5%D8%AE%D9%85%D8%A7%D8%AF-%D8%AD%D8%B1%D9%8A%D9%82-%D8%AF%D8%A7%D8%AE%D9%84-%D8%B4%D9%82%D8%A9-%D8%B3%D9%83%D9%86%D9%8A%D8%A9-%D9%81%D9%89-%D9%85%D8%AF%D9%8A%D9%86%D8%A9-6-%D8%A3%D9%83%D8%AA%D9%88%D8%A8%D8%B1-%D8%AF%D9%88%D9%86/7367075
A37: 35 | B37: ابريل 2026 | C37: 46117 | D37: اقليم القاهرة الكبرى | E37: الجيزة | F37: العجوزة | G37: العجوزة | H37: حريق داخل شقة سكنية | I37: وحدة سكنية | J37: منشأة سكنية | K37: 1 | L37: بعض محتويات الوحدة السكنية | M37: اثاث | N37: قيد التحقيق | O37: قيد التحقيق | P37: قيد التحقيق | Q37: سيارات الاطفاء | R37: =T37+V37 -> 0 | T37: 0 | U37: غير محدد | V37: 0 | W37: غير محدد | Z37: اندلع حريق داخل شقة سكنية فى منطقة العجوزة، وعلى الفور تمت السيطرة عليه دون إصابات وتولت النيابة المختصة التحقيقات. Dubai Dunes in one Minute 00:03 Previous Pause Next 00:52 / 01:48 Mute Fullscreen Copy video url Play / Pause Mute / Unmute Report a problem Language Share Vidverto Player غرفة العمليات تلقت بلاغا بالحريق وتلقت غرفة عمليات النجدة، بلاغا من الأهالى بنشوب حريق داخل شقة سكنية فى العجوزة وعلى الفور انتقلت سيارات الاطفاء إلى المكان وتمت عملية إخماد الحريق. ويستمع رجال المباحث بمديرية أمن الجيزة، لأقوال شهود العيان وقاطنى الشقة لكشف ملابسات الواقعة وتم اتخاذ الإجراءات القانونية اللازمة تجاه الواقعة. | AA37: https://www.youm7.com/story/2026/4/5/%D8%A5%D8%AE%D9%85%D8%A7%D8%AF-%D8%AD%D8%B1%D9%8A%D9%82-%D8%AF%D8%A7%D8%AE%D9%84-%D8%B4%D9%82%D8%A9-%D8%B3%D9%83%D9%86%D9%8A%D8%A9-%D9%81%D9%89-%D8%A7%D9%84%D8%B9%D8%AC%D9%88%D8%B2%D8%A9-%D8%AF%D9%88%D9%86-%D8%A5%D8%B5%D8%A7%D8%A8%D8%A7%D8%AA/7366434
A38: 36 | B38: ابريل 2026 | C38: 46117 | D38: اقليم القناة | E38: الشرقية | F38: الزقازيق | G38: مدينة الزقازيق بطريق الاحرار دائرة مركز ومدينة الزقازيق | H38: نشوب حريق بإحدي القاعات بمدينة الزقازيق بطريق الاحرار دائرة مركز ومدينة الزقازيق | I38: قاعة افراح | J38: منشأة تجارية | K38: 1 | L38: لم يذكر | M38: لم يذكر | N38: قيد التحقيق | O38: قيد التحقيق | P38: قيد التحقيق | Q38: سيارات الاطفاء | R38: =T38+V38 -> 0 | T38: 0 | U38: غير محدد | V38: 0 | W38: غير محدد | Z38: تمكنت قوات الحماية المدنية بالتنسيق والتعاون مع رئاسة مركز ومدينة الزقازيق بمحافظة الشرقية من السيطرة على حريق محدود نشب بقاعة افراح بمدينة الزقازيق بطريق الاحرار وتم الدفع بسيارات الاطفاء وتم السيطرة على الحريق واخمادة دون وقوع إصابات أو خسائر في الأرواح وتم تحرير محضر بالواقعة. التزام تام بقرار العمل عن بعد بالجهات والهيئات والمؤسسات الحكومية بالشرقيةالتزام تام بقرار العمل عن بعد بالجهات والهيئات والمؤسسات الحكومية بالشرقية سمح بالجلوس بالصندوق الخلفي.. القبض على سائق سيارة ربع نقل في الشرقيةسمح بالجلوس بالصندوق الخلفي.. القبض على سائق سيارة ربع نقل في الشرقية تسليم 1522 بطاقة خدمات متكاملة لذوي الإعاقة بالشرقيةتسليم 1522 بطاقة خدمات متكاملة لذوي الإعاقة بالشرقية تلقت الأجهزة الأمنية بالشرقية إخطارا يفيد ورود إشارة بنشوب حريق بإحدي القاعات بمدينة الزقازيق بطريق الاحرار دائرة مركز ومدينة الزقازيق. تم إخطار رجال الحماية المدنية وتم الدفع بعدد من سيارات الإطفاء وتم السيطرة على الحريق واخمادة دون وقوع إصابات أو خسائر بشرية وجاري تحرير محضر بالواقعة واخطار النيابة العامة لمباشرة التحقيق. | AA38: https://www.elbalad.news/6925920
A39: 37 | B39: ابريل 2026 | C39: 46117 | D39: اقليم الدلتا | E39: الغربية | F39: طنطا | G39: قرية ميت حبيش بمركز طنطا | H39: حريق هائل بمصنع خرده بقرية ميت حبيش بمركز طنطا | I39: مصنع خردة | J39: منشأة صناعية | K39: 1 | L39: بعض محتويات المصنع وخسائر مادية تصل الى 3 مليون جنيه | M39: مواد خام | N39: ماس كهربي | O39: قيد التحقيق | P39: ماس كهربائي | Q39: سيارات الاطفاء 3 | R39: =T39+V39 -> 0 | T39: 0 | U39: غير محدد | V39: 0 | W39: غير محدد | Z39: تمكنت قوات الحماية المدنية بالغربية منذ قليل من إخماد نيران حريق هائل بمصنع خرده بقرية ميت حبيش بمركز طنطا إثر ماس كهربائي دون وقوع إصابات وخسائر بشرية بعدما تم الدفع ب3 سيارات مطافىء وتم السيطرة على الموقف وتحرر محضر بالواقعة وأخطرت النيابة العامة للتحقيق. تفاصيل الواقعة وتعود أحداث الواقعة حينما تلقت الاجهزه الامنيه بمديرية أمن الغربية إخطارا من مأمور مركز شرطة طنطا يفيد بورود بلاغ من شرطة النجده حول واقعة حريق هائل بمصنع خرده بقرية ميت حبيش بنطاق دائرة مركز طنطا . إخماد نيران حريق كما انتقلت القيادات الأمنية وقوات من الشرطة السرية والنظامية إلي مكان الحادث للوقوف على آخر تطوراته. كما تم الدفع ب3 سيارات مطافىء لإخماد نيران الحريق دون وقوع إصابات وخسائر بشرية الأمر الذي أدى إلى خساره مالية تصل قيمتها إلي 3 مليون جنيه. خسائر أولية مادية وكلفت إدارة البحث الجنائي بالتحري ظروف وملابسات الواقعة وتحرر محضر بالواقعة وأخطرت النيابة العامة للتحقي | AA39: https://www.elbalad.news/6925466
A40: 38 | B40: ابريل 2026 | C40: 46117 | D40: اقليم القاهرة الكبرى | E40: القاهرة | F40: حدائق القبة | G40: شارع الورشة بمحطة شادر السمك بدائرة قسم حدائق القبة | H40: ورشة سيارات نشوب حريق بفرن دهان سيارات فى شارع الورشة بمحطة شادر السمك بدائرة قسم حدائق القبة | I40: ورشة سيارات+ مصنع أحذية | J40: منشأة صناعية | K40: 2 | L40: التهام محتويات الورشة والمصنع | M40: مواد خام | N40: قيد التحقيق | O40: قيد التحقيق | P40: قيد التحقيق | Q40: سيارة اطفاء | R40: =T40+V40 -> 0 | T40: 0 | U40: غير محدد | V40: 0 | W40: غير محدد | Z40: اندلع حريق داخل ورشة دوكو للسيارات وامتد جزء منها لمصنع أحذية بمساحة 10 أمتار فى منطقة حدائق القبة، وعلى الفور تمت السيطرة عليه دون إصابات وتولت النيابة المختصة التحقيقات. 00:00 Previous Play Next 00:00 / 00:52 Mute Fullscreen Copy video url Play / Pause Mute / Unmute Report a problem Language Share Vidverto Player advertisement غرفة العمليات تلقت بلاغا بالحريق تلقت غرفة عمليات النجدة ،بلاغا من الأهالى بنشوب حريق داخل ورشة دوكو للسيارات فى حدائق القبة وبناء على تعليمات اللواء الدكتور محمد الشربينى مدير الإدارة العامة للحماية المدنية بالقاهرة انتقلت سيارات الاطفاء الي المكان وتمت عملية إخماد الحريق. معاينة الحريق تبين من خلال المعاينة نشوب الحريق داخل ورشة دكو للسيارات وتهشمها وأمتد الحريق على مساحة 10 أمتار داخل مصنع أحذية وتم منع خطر الأمتداد والسيطرة على الحريق بالكامل بمعرفة رجال الحماية المدنية دون وقوع اى اصابات وتم اتخاذ الإجراءات القانونية اللازمة تجاه الواقعة. وفيما اندلع حريق داخل شقة سكنية فى منطقة مصر الجديدة ، وعلى الفور تمت السيطرة عليه دون إصابات وتولت النيابة المختصة التحقيقات. | AA40: https://www.youm7.com/story/2026/4/5/%D9%85%D8%B9%D8%A7%D9%8A%D9%86%D8%A9-%D8%AD%D8%B1%D9%8A%D9%82-%D9%88%D8%B1%D8%B4%D8%A9-%D8%A7%D9%84%D8%B3%D9%8A%D8%A7%D8%B1%D8%A7%D8%AA-%D8%A8%D8%AD%D8%AF%D8%A7%D8%A6%D9%82-%D8%A7%D9%84%D9%82%D8%A8%D8%A9-%D8%B5%D9%88%D8%B1/7367153 | AB40: https://www.youm7.com/story/2026/4/5/%D8%A7%D9%84%D8%B3%D9%8A%D8%B7%D8%B1%D8%A9-%D8%B9%D9%84%D9%89-%D8%AD%D8%B1%D9%8A%D9%82-%D8%AF%D8%A7%D8%AE%D9%84-%D9%88%D8%B1%D8%B4%D8%A9-%D8%B3%D9%8A%D8%A7%D8%B1%D8%A7%D8%AA-%D9%81%D9%89-%D8%AD%D8%AF%D8%A7%D8%A6%D9%82-%D8%A7%D9%84%D9%82%D8%A8%D8%A9-%D8%AF%D9%88%D9%86/7367072
A41: 39 | B41: ابريل 2026 | C41: 46117 | D41: اقليم القاهرة الكبرى | E41: القاهرة | F41: الشرابية | G41: بمنطقة الشرابية | H41: مصنع للملابس وورشة لصيانة السيارات بمنطقة الشرابية | I41: مصنع ملابس وورشة | J41: منشأة صناعية | K41: 2 | L41: هياكل 6 سيارات تفحمت بالكامل، وكابينة كهرباء مدمرة | M41: مركبات | N41: قيد التحقيق | O41: اشتعال النيران بالاقمشة بجوتر مواد بترولية ادى الى امتداد النيران | P41: تسرب مادة قابلة للاشتعال | Q41: سيارة اطفاء | R41: =T41+V41 -> 0 | T41: 0 | U41: غير محدد | V41: 0 | W41: غير محدد | Y41: هياكل 6 سيارات تفحمت بالكامل، وكابينة كهرباء مدمرة | Z41: تسابق قوات الحماية المدنية بالقاهرة، الزمن للسيطرة على حريق هائل نشب، مساء اليوم الأحد، داخل مصنع للملابس وورشة لصيانة السيارات بمنطقة الشرابية، حيث دفعت الإدارة العامة للحماية المدنية بـ 8 سيارات إطفاء لمحاصرة كرات اللهب ومنع امتدادها إلى العقارات السكنية المجاورة فى المنطقة المكتظة بالسكان. تفاصيل حريق مصنع ملابس وورشة سيارات فى الشرابية اليوم أخبار متعلقة النائب العام - صورة أرشيفية النيابة العامة تطلق منصة رقمية لاسترداد الأموال فى قضايا البنك المركزي والدة ضحية «لقمة الموت» تروى لحظات احتراق سندها الوحيد بـ «بنزين الجيران» فى بولاق الدكرور تصوير- محمد القماش كلمة حولت الفرح لمأتم.. والدة «سروجي بولاق»: «الجار وابنه حرقوا سندي حي في الشارع» المتهمون في واقعة فتاة حلوان «خلاف ميراث وليس تحرشًا».. والد «فتاة حلوان» يكشف كواليس فيديو التشاجر مع ابن عمها وبدأت الواقعة بتلقى غرفة عمليات النجدة بلاغًا يفيد بنشوب حريق داخل مصنعًا للملابس وأقمشة سريعة الاشتعال، بجوارها ورشة للسيارات تحتوى على مواد بترولية وزيوت، مما ساعد على انتشار النيران بسرعة كبيرة وتصاعد أدخنة سوداء كثيفة غطت سماء المنطقة. وفقًا لشهود عيان لـ«المصرى اليوم»، فإن الحريق بدأ بشكل مفاجئ وتسبب فى حالة من الذعر بين الأهالى، خاصة مع وجود مواد بلاستيكية وأقمشة ساهمت فى اتساع رقعة النيران لتلتهم محتويات ورشة السيارات المجاورة. وتكثف قوات الإطفاء جهودها حاليًا لعمل «كردون أمني» حول موقع الحادث، وسط تواجد مكثف لسيارات الإسعاف تحسباً لوقوع إصابات نتيجة الاختناق. وحتى الآن، لم يتم تحديد سبب الحريق وعما إذا كان السبب ماسًا كهربائيًا أو وجود شبهة جنائية. | AA41: https://www.almasryalyoum.com/news/details/4238075 | AB41: https://www.almasryalyoum.com/news/details/4239328
A42: 40 | B42: ابريل 2026 | C42: 46117 | D42: اقليم القاهرة الكبرى | E42: القليوبية | F42: بنها | G42: شارع خسرو في حلوان بالقرب من فاملي جاردن | H42: قاعة مناسبات، بعد كوبري الفحص بمدينة بنها | I42: قاعة مناسبات | J42: منشأة تجارية | K42: 1 | L42: بعض محتويات قاعة المناسبات | M42: مادية | N42: قيد التحقيق | O42: اشتعال النيران ببعض المخلفاتمن هيش وبوص ادى الى امتدادها | P42: ارتفاع درجات الحرارة | Q42: سيارة اطفاء | R42: =T42+V42 -> 0 | T42: 0 | U42: غير محدد | V42: 0 | W42: غير محدد | Z42: سيطرت قوات الحماية المدنية بالقاهرة على حريق نشب بشارع خسرو في حلوان بالقرب من فاملي جاردن. النيابة الإدارية توقع مذكرة تفاهم وتعاون مشترك مع المحكمة العربية للتحكيم .. صورالنيابة الإدارية توقع مذكرة تفاهم وتعاون مشترك مع المحكمة العربية للتحكيم .. صور ختام دورة النيابة الإدارية بشأن برنامج التحول الرقمي بمؤسسات الدولةختام دورة النيابة الإدارية بشأن برنامج التحول الرقمي بمؤسسات الدولة النيابة الإدارية تؤكد الالتزام بترشيد الإنفاق وتتوعد بمحاسبة مخالفات المال العامالنيابة الإدارية تؤكد الالتزام بترشيد الإنفاق وتتوعد بمحاسبة مخالفات المال العام ختام ندوة النيابة الإدارية عن مكافحة الفساد والأمن القومي والحوكمةختام ندوة النيابة الإدارية عن مكافحة الفساد والأمن القومي والحوكمة 5 مهام.. تعرف على اختصاصات وحدة قضايا الاستثمار بهيئة النيابة الإدارية5 مهام.. تعرف على اختصاصات وحدة قضايا الاستثمار بهيئة النيابة الإدارية غدا.. النيابة الإدارية تشرف على انتخابات التجديد النصفي للأطباء البيطريينغدا.. النيابة الإدارية تشرف على انتخابات التجديد النصفي للأطباء البيطريين النيابة الإدارية تنجح في استرداد 188 فدانا لصالح الدولةالنيابة الإدارية تنجح في استرداد 188 فدانا لصالح الدولة كيف تقدم شكوى للنيابة الإدارية عبر تليجرام؟.. اعرف الخطواتكيف تقدم شكوى للنيابة الإدارية عبر تليجرام؟.. اعرف الخطوات النيابة الإدارية تعاين حادث سقوط طفل في موقع حفر تحت الإنشاء بأسيوط الجديدة | صورالنيابة الإدارية تعاين حادث سقوط طفل في موقع حفر تحت الإنشاء بأسيوط الجديدة | صور النيابة الإدارية تفعل قناتها الرسمية على تطبيق تليجرام.. لهذا السببالنيابة الإدارية تفعل قناتها الرسمية على تطبيق تليجرام.. لهذا السبب وعلى جانب آخر، تمكنت اليوم الأحد قوات الحماية المدنية بمحافظة القليوبية من السيطرة على حريق نشب في هيش وبوص، بجوار قاعة مناسبات، بعد كوبري الفحص بمدينة بنها، دون وقوع أي خسائر بشرية أو امتداد النيران للمناطق المجاورة. بلاغا بالواقعة وتلقت الأجهزة الأمنية بمديرية أمن القليوبية إخطارًا من شرطة النجدة يفيد بنشوب حريق في هيش وبوص بالمنطقة المشار إليها، وعلى الفور انتقلت قوات الحماية المدنية والأجهزة الأمنية إلى موقع البلاغ. ودفعت الحماية المدنية بسيارة إطفاء، وتمت السيطرة على الحريق وإخماده بالكامل، ومنع امتداده إلى المناطق المحيطة، دون تسجيل أي خسائر. وتحرر المحضر اللازم بالواقعة، وتولت النيابة العامة التحقيق للوقوف على أسباب الحريق وملابساته. | AA42: https://www.elbalad.news/6925873 | AB42: https://www.elbalad.news/6925699 | AC42: https://www.almasryalyoum.com/news/details/4238415
A43: 41 | B43: ابريل 2026 | C43: 46118 | D43: اقليم جنوب الصعيد | E43: اسوان | F43: ادفو | G43: قرية الرمادى التابعة لمركز إدفو شمال أسوان | H43: مخزن لتجميع المواد البترولية بنطاق قرية الرمادى التابعة لمركز إدفو شمال أسوان | I43: مخزن | J43: منشأة تجارية | K43: 1 | L43: بعض محتويات المخزن | M43: مواد خام | N43: قيد التحقيق | O43: اشتعال النيران بالمواد البترولية ادى الى امتدادها | P43: تسرب مادة قابلة للاشتعال | Q43: سيارة اطفاء | R43: =T43+V43 -> 0 | T43: 0 | U43: غير محدد | V43: 0 | W43: غير محدد | Z43: نجحت جهود رجال الحماية المدنية فى السيطرة على حريق محدود اندلع داخل مخزن لتجميع المواد البترولية قبل بيعها فى السوق السوداء مساء اليوم الاثنين، وذلك بنطاق قرية الرمادى التابعة لمركز إدفو شمال أسوان، دون وقوع خسائر فى الأرواح. ودفعت قوات الحماية المدنية بسيارتى إطفاء إلى موقع الحريق، وتمكنت من السيطرة على النيران وإخمادها قبل امتدادها إلى المناطق المجاورة، مع اتخاذ كافة الإجراءات الاحترازية اللازمة. | AA43: https://www.elbalad.news/6926940
A44: 42 | B44: ابريل 2026 | C44: 46118 | D44: اقليم الاسكندرية | E44: الاسكندرية | F44: حي شرق | G44: منطقة سابا باشا التابعة لحي شرق الإسكندرية | H44: طريق الكورنيش نطاق دائرة القسم | I44: سيارة ملاكي | J44: وسيلة نقل | K44: 0 | L44: تفحم المركبة | M44: مركبة | N44: ماس كهربي | O44: ماس كهربي امتد بباقي اجزاء السيارة | P44: ماس كهربائي | Q44: سيارة اطفاء | R44: =T44+V44 -> 0 | T44: 0 | U44: غير محدد | V44: 0 | W44: غير محدد | Z44: تمكنت قوات الحماية المدنية في الإسكندرية من السيطرة على حريق اندلع بسيارة ملاكي، بمنطقة سابا باشا التابعة لحي شرق الإسكندرية دون إصابات، وتم اتخاذ الإجراءات اللازمة. بداية البلاغ البداية عندما تلقت الأجهزة الأمنية بمديرية أمن الإسكندرية إخطارا من مأمور قسم شرطة رمل أول يفيد ورود بلاغ نجدة باشتعال سيارة ملاكي بطريق الكورنيش نطاق دائرة القسم. تفحم سيارة ملاكي بطريق الكورنيش على الفور انتقلت الأجهزة الأمنية ترافقها سيارات الحماية المدنية والإسعاف، وتبين تفحم سيارة، مما أدى إلى احتراقها بسبب ماس بالكهرباء للسيارة، وتمكنت الحماية المدنية من إخماد النيران وأعمال التبريد، وتحرر محضر بالواقعة للعرض على جهات التحقيق. | AA44: https://www.youm7.com/story/2026/4/6/%D8%AA%D9%81%D8%AD%D9%85-%D8%B3%D9%8A%D8%A7%D8%B1%D8%A9-%D9%81%D9%8A-%D8%AD%D8%B1%D9%8A%D9%82-%D8%A8%D9%83%D9%88%D8%B1%D9%86%D9%8A%D8%B4-%D8%A7%D9%84%D8%A5%D8%B3%D9%83%D9%86%D8%AF%D8%B1%D9%8A%D8%A9-%D8%AF%D9%88%D9%86-%D8%A5%D8%B5%D8%A7%D8%A8%D8%A7%D8%AA/7368641
A45: 43 | B45: ابريل 2026 | C45: 46118 | D45: اقليم الاسكندرية | E45: الاسكندرية | F45: حي شرق | G45: طريق الكورنيش بمنطقة سابا باشا في حي شرق الإسكندرية | H45: سيارة ملاكي، مساء اليوم، على طريق الكورنيش بمنطقة سابا باشا في حي شرق الإسكندرية | I45: حريق فى سيارة ملاكي أمام نادي الأطباء بطريق الكورنيش | J45: وسيلة نقل | K45: 1 | L45: احتراق المركبة | M45: لم يذكر | N45: ماس كهربي | O45: حدوث ماس بدائرة الكهرباء الخاصة بالسيارة | P45: ماس كهربائي | Q45: سيارة اطفاء | R45: =T45+V45 -> 0 | T45: 0 | U45: غير محدد | V45: 0 | W45: غير محدد | Z45: تمكنت قوات الحماية المدنية بالإسكندرية من السيطرة على حريق اندلع بسيارة ملاكي، مساء اليوم، على طريق الكورنيش بمنطقة سابا باشا في حي شرق الإسكندرية، وذلك دون وقوع إصابات. تلقت الأجهزة الأمنية بمديرية أمن الإسكندرية، إخطارا من مأمور قسم شرطة الرمل أول يفيد ورود بلاغ نجدة بنشوب حريق فى سيارة ملاكي أمام نادي الأطباء بطريق الكورنيش. على الفور انتقل الى موقع البلاغ مأمور وضباط القسم رفقة قوات الحماية المدنية وسيارات الإسعاف. تبين من المعاينة والفحص اندلاع النيران فجأة في سيارة ملاكى أثناء سيرها بطريق الكورنيش، ورجحت المعاينة المبدئية أن سبب النيران حدوث ماس بدائرة الكهرباء الخاصة بالسيارة. أخبار متعلقة وظائف خالية.. للمترجمين.. فرص عمل برواتب تبدأ من 8000 جنيه محافظ الإسكندرية يبحث مع سفير فرنسا تعزيز التعاون المشترك وفتح آفاق استثمارية جديدة سفير فرنسا يبحث تعزيز التعاون وفتح آفاق استثمارية جديدة في الإسكندرية مع المحافظ «حضر حصة مع الطالبات».. السفير الفرنسى يزور مدرسة جيرار الإسكندرية ويتفقد الأقسام ومسؤولى اللغة الفرنسية (صور) «حضر الحصة مع الطالبات».. سفير فرنسا يزور مدرسة جيرار الإسكندرية ويتفقد أقسامها (صور) تمكنت الحماية المدنية من السيطرة على النيران إخمادها ومنع امتدادها وجار أعمال التبريد لمنع نشوب التي أن مرة اخرى.فيما قام ضباط المرور بتسيير الحركة المرورية وإعادتها لطبيعتها. تحرر المحضر اللازم بالواقعة، وجار العرض على النيابة العامة لمباشرة التحقيق. | AA45: https://www.almasryalyoum.com/news/details/4239313
A46: 44 | B46: ابريل 2026 | C46: 46118 | D46: اقليم القناة | E46: الاسماعلية | F46: ابوصوير | G46: منطقة الجرايشة التابعة لمركز أبو صوير بمحافظة الإسماعيلية | H46: حريق فى منزل من طابق واحد بمنطقة الجرايشة دائرة مركز أبوصوير. | I46: منزل من طابق واحد | J46: منشأة سكنية | K46: 0 | L46: بعض محتويات الوحدة السكنية | M46: اثاث | N46: قيد التحقيق | O46: قيد التحقيق | P46: قيد التحقيق | Q46: سيارة اطفاء | R46: =T46+V46 -> 5 | T46: 5 | U46: غير محدد | V46: 0 | W46: جنا عمرو رأفت (18 عامًا)، وأحمد محمد محمود مصباح (30 عامًا)، ومنى محمد عطية محمد (65 عامًا) بحالات اختناق نتيجة استنشاق الدخان، فيما أصيب محمود أشرف محمود (25 عامًا) باختناق وحروق من الدرجة الأولى متفرقة بالوجه والكفين، كما تعرضت جيهان أشرف محمود مصباح (20 عامًا) لاختناق وحروق من الدرجة الأولى بالوجه والذراعين | Z46: شهدت منطقة الجرايشة التابعة لمركز أبو صوير بمحافظة الإسماعيلية، اندلاع حريق داخل منزل مكوّن من دور واحد، ما أسفر عن إصابة 5 أشخاص بإصابات متنوعة وتم نقل المصابين إلى مستشفى القصاصين التخصصي لإسعافهم ورعايتهم طبيا. 00:12 00:07 / 00:15 Fullscreen Copy video url Play / Pause Mute / Unmute Report a problem Language Share Vidverto Player بلاغ بالحريق وكانت الأجهزة الأمنية بمديرية أمن الإسماعيلية قد تلقت اخطارا من شرطة النجدة يفيد بنشوب حريق فى منزل من طابق واحد بمنطقة الجرايشة دائرة مركز أبوصوير. انتقال القوات وسيارات الإطفاء والاسعاف على الفور انتقلت قوات الحماية المدنية الى مكان الحريق كما تم الدفع بعدد من سيارات الإسعاف برئاسة الدكتور محمد طنطاوى مدير مرفق الإسعاف بمحافظة الإسماعيلية الى مكان الحريق . ونجحت قوات الحماية المدنية فى السيطرة على الحريق ومنع امتداده إلى المنازل المجاورة. أسماء المصابين وأسفر الحادث عن إصابة كل من: جنا عمرو رأفت (18 عامًا)، وأحمد محمد محمود مصباح (30 عامًا)، ومنى محمد عطية محمد (65 عامًا) بحالات اختناق نتيجة استنشاق الدخان، فيما أصيب محمود أشرف محمود (25 عامًا) باختناق وحروق من الدرجة الأولى متفرقة بالوجه والكفين، كما تعرضت جيهان أشرف محمود مصباح (20 عامًا) لاختناق وحروق من الدرجة الأولى بالوجه والذراعين، بالإضافة إلى معاناتها من إعاقة حركية مزمنة. وتم نقل جميع المصابين إلى مستشفى القصاصين لتلقي الإسعافات والرعاية الطبية اللازمة، فيما باشرت الجهات المختصة التحقيق للوقوف على أسباب الحريق وملابساته. | AA46: https://www.youm7.com/story/2026/4/6/%D8%A8%D8%A7%D9%84%D8%A3%D8%B3%D9%85%D8%A7%D8%A1-%D8%A5%D8%B5%D8%A7%D8%A8%D8%A9-5-%D8%A3%D8%B4%D8%AE%D8%A7%D8%B5-%D9%81%D9%8A-%D8%AD%D8%B1%D9%8A%D9%82-%D9%85%D9%86%D8%B2%D9%84-%D8%A8%D8%A3%D8%A8%D9%88-%D8%B5%D9%88%D9%8A%D8%B1-%D9%81%D9%8A/7368651
A47: 45 | B47: ابريل 2026 | C47: 46118 | D47: اقليم القاهرة الكبرى | E47: الجيزة | F47: اوسيم | G47: شقة سكنية فى أوسيم | H47: نشوب حريق داخل شقة سكنية فى أوسيم | I47: وحدة سكنية | J47: منشأة سكنية | K47: 0 | L47: لم يذكر | M47: لم يذكر | N47: قيد التحقيق | O47: قيد التحقيق | P47: قيد التحقيق | Q47: سيارة اطفاء | R47: =T47+V47 -> 0 | T47: 0 | U47: غير محدد | V47: 0 | W47: غير محدد | Z47: اندلع حريق داخل شقة سكنية فى منطقة أوسيم، وعلى الفور تمت السيطرة عليه دون إصابات وتولت النيابة المختصة التحقيقات. غرفة العمليات تلقت بلاغا بالحريق تلقت غرفة عمليات النجدة ،بلاغا من الأهالى بنشوب حريق داخل شقة سكنية فى أوسيم وعلي الفور انتقلت سيارات الاطفاء الي المكان وتمت عملية إخماد الحريق. ويستمع رجال المباحث بمديرية أمن الجيزة ، لأقوال شهود العيان وقاطنى الشقة لكشف ملابسات الواقعة وتم اتخاذ الإجراءات القانونية اللازمة تجاه الواقعة. | AA47: https://www.youm7.com/story/2026/4/6/%D8%A5%D8%AE%D9%85%D8%A7%D8%AF-%D8%AD%D8%B1%D9%8A%D9%82-%D8%AF%D8%A7%D8%AE%D9%84-%D8%B4%D9%82%D8%A9-%D8%B3%D9%83%D9%86%D9%8A%D8%A9-%D9%81%D9%89-%D8%A3%D9%88%D8%B3%D9%8A%D9%85-%D8%AF%D9%88%D9%86-%D8%A5%D8%B5%D8%A7%D8%A8%D8%A7%D8%AA/7368047
A48: 46 | B48: ابريل 2026 | C48: 46118 | D48: اقليم القاهرة الكبرى | E48: الجيزة | F48: حدائق الاهرام | G48: حدائق الاهرام | H48: حريق داخل شقة سكنية فى حدائق الاهرام | I48: وحدة سكنية | J48: منشأة سكنية | K48: 0 | L48: بعض محتويات الوحدة السكنية | M48: اثاث | N48: قيد التحقيق | O48: قيد التحقيق | P48: قيد التحقيق | Q48: سيارة اطفاء | R48: =T48+V48 -> 0 | T48: 0 | U48: غير محدد | V48: 0 | W48: غير محدد | Z48: اندلع حريق داخل شقة سكنية فى منطقة حدائق الاهرام، وعلى الفور تمت السيطرة عليه دون إصابات وتولت النيابة المختصة التحقيقات. غرفة العمليات تلقت بلاغا بالحريق تلقت غرفة عمليات النجدة ،بلاغا من الأهالى بنشوب حريق داخل شقة سكنية فى حدائق الاهرام، وعلي الفور انتقلت سيارات الاطفاء الي المكان وتمت عملية إخماد الحريق. ويستمع رجال المباحث بمديرية أمن الجيزة ، لأقوال شهود العيان وقاطنى الشقة لكشف ملابسات الواقعة وتم اتخاذ الإجراءات القانونية اللازمة تجاه الواقعة. | AA48: https://www.youm7.com/story/2026/4/6/%D8%A5%D8%AE%D9%85%D8%A7%D8%AF-%D8%AD%D8%B1%D9%8A%D9%82-%D8%AF%D8%A7%D8%AE%D9%84-%D8%B4%D9%82%D8%A9-%D8%B3%D9%83%D9%86%D9%8A%D8%A9-%D9%81%D9%89-%D8%AD%D8%AF%D8%A7%D8%A6%D9%82-%D8%A7%D9%84%D8%A3%D9%87%D8%B1%D8%A7%D9%85-%D8%AF%D9%88%D9%86-%D8%A5%D8%B5%D8%A7%D8%A8%D8%A7%D8%AA/7367609
A49: 47 | B49: ابريل 2026 | C49: 46118 | D49: اقليم القاهرة الكبرى | E49: الجيزة | F49: 6 اكتوبر | G49: 6 اكتوبر | H49: نشوب حريق لودر فى مدينة 6 أكتوبر | I49: لودر | J49: وسيلة نقل | K49: 1 | L49: تفحم المركبة (لودر) | M49: مركبة | N49: قيد التحقيق | O49: قيد التحقيق | P49: قيد التحقيق | Q49: سيارة اطفاء | R49: =T49+V49 -> 0 | T49: 0 | U49: غير محدد | V49: 0 | W49: غير محدد | Z49: تفحم لودر بمدينة 6 أكتوبر بعدما اشتغلت به النيران وانتقلت سيارتى إطفاء إلى المكان وتمت السيطرة على الحريق. غرفة العمليات تلقت بلاغا بالحريق تلقت غرفة عمليات النجدة ، بلاغا من الأهالى بنشوب حريق لودر فى مدينة 6 أكتوبر وعلي الفور انتقلت سيارات الاطفاء الي المكان وتمت عملية إخماد الحريق. | AA49: https://www.youm7.com/story/2026/4/6/%D8%AA%D9%81%D8%AD%D9%85-%D9%84%D9%88%D8%AF%D8%B1-%D8%A7%D8%B4%D8%AA%D8%B9%D9%84%D8%AA-%D8%A8%D9%87-%D8%A7%D9%84%D9%86%D9%8A%D8%B1%D8%A7%D9%86-%D9%81%D9%89-%D8%A3%D9%83%D8%AA%D9%88%D8%A8%D8%B1-%D8%A7%D8%B9%D8%B1%D9%81-%D8%A7%D9%84%D8%AA%D9%81%D8%A7%D8%B5%D9%8A%D9%84/7367458
A50: 48 | B50: ابريل 2026 | C50: 46118 | D50: اقليم الدلتا | E50: الدقهلية | F50: قرية ميت جراح بمحافظه الدقهليه | G50: عزبه توريل التابعه لقرية ميت جراح بمحافظه الدقهليه | H50: فرن عيش بلدي بعزبه توريل التابعه لقرية ميت جراح بمحافظه الدقهليه | I50: فرن | J50: منشأة تجارية | K50: 1 | L50: لم يذكر | M50: لم يذكر | N50: قيد التحقيق | O50: قيد التحقيق | P50: قيد التحقيق | Q50: سيارة اطفاء | R50: =T50+V50 -> 6 | T50: 6 | U50: غير محدد | V50: 0 | W50: رتضى فتحي عبدالهادي 66 عاما مقيم عزبة توريل مصاب بحروق من الدرجة الثانية بالوجه والذراعين والبطن والظهر ؛,لوله محمد صادق 60 عاما بحروق من الدرجة الثانية بالذراعين والساق اليسرى وأصيبت سحر محمد صلحى 44 عاما بحروق من الدرجة الأولى بالوجه والذراعين وأصيبت هالة فتحى عبده عبداللطيف 21 عاما حروق من الدرجة الثانية بالوجه والذراعين أحمد إبراهيم مرتضى 4 أعوام بحروق من الدرجة الثانية بالوجه والذراعين وخديجة ابراهيم مرتضى عامين بحروق من الدرجة الثانية بالوجه والذراعين | Z50: حصل "صدى البلد"على اسماء، المصابين فى حريق فرن عيش بلدي. بعزبة توريل بميت جراح وهم مرتضى فتحي عبدالهادي 66 عاما مقيم عزبة توريل مصاب بحروق من الدرجة الثانية بالوجه والذراعين والبطن والظهر ؛,لوله محمد صادق 60 عاما بحروق من الدرجة الثانية بالذراعين والساق اليسرى وأصيبت سحر محمد صلحى 44 عاما بحروق من الدرجة الأولى بالوجه والذراعين وأصيبت هالة فتحى عبده عبداللطيف 21 عاما حروق من الدرجة الثانية بالوجه والذراعين أحمد إبراهيم مرتضى 4 أعوام بحروق من الدرجة الثانية بالوجه والذراعين وخديجة ابراهيم مرتضى عامين بحروق من الدرجة الثانية بالوجه والذراعين إصابة طفل سقط من مكان مرتفع في قرية بالدقهليةإصابة طفل سقط من مكان مرتفع في قرية بالدقهلية الدقهلية.. رفع الإشغالات التي تعوق حركة المرور والسير بسوق كفر البدماصالدقهلية.. رفع الإشغالات التي تعوق حركة المرور والسير بسوق كفر البدماص أهالي سندوب بالدقهلية ينقذون شخصا ألقى بنفسه بمياه البحرأهالي سندوب بالدقهلية ينقذون شخصا ألقى بنفسه بمياه البحر العثور على جثة متحللة لمسن في الدقهليةالعثور على جثة متحللة لمسن في الدقهلية وشب حريق داخل فرن عيش بلدي بعزبه توريل التابعه لقرية ميت جراح بمحافظه الدقهليه مما ادى الى اصابه 6 اشخاص . وتلقت مديريه امن الدقهليه اخطارا من شرطه النجده يفيد بنشوب حريق داخل فرن عيش بلدي بعزبه توريل بميت جراح مما ادى الى اصابه 6 اشخاص باصابات متفرقه . انتقل ضباط المباحث والحماية المدنية وسيارات الاسعاف الى مكان الحادث وتبين ان الاصابات عباره عن حروق متنوعه. | AA50: https://www.elbalad.news/6926295 | AB50: https://www.elbalad.news/6926274 | AC50: https://www.almasryalyoum.com/news/details/4238835
A51: 49 | B51: ابريل 2026 | C51: 46118 | D51: اقليم القاهرة الكبرى | E51: القاهرة | F51: عين شمس | G51: عين شمس | H51: شقة سكنية فى منطقة عين شمس | I51: شقة سكنية | J51: منشأة سكنية | K51: 0 | L51: لم يذكر | M51: لم يذكر | N51: قيد التحقيق | O51: قيد التحقيق | P51: قيد التحقيق | Q51: سيارة اطفاء | R51: =T51+V51 -> 0 | T51: 0 | U51: غير محدد | V51: 0 | W51: غير محدد | Z51: اندلع حريق داخل شقة سكنية فى منطقة عين شمس ، وعلى الفور تمت السيطرة عليه دون إصابات وتولت النيابة المختصة التحقيقات. غرفة العمليات تلقت بلاغا بالحريق تلقت غرفة عمليات النجدة ،بلاغا من الأهالى بنشوب حريق داخل شقة سكنية فى عين شمس وعلي الفور انتقلت سيارات الاطفاء الي المكان وتمت عملية إخماد الحريق. ويستمع رجال المباحث بمديرية أمن القاهرة ، لأقوال شهود العيان وقاطنى الشقة لكشف ملابسات الواقعة وتم اتخاذ الإجراءات القانونية اللازمة تجاه الواقعة. | AA51: https://www.youm7.com/story/2026/4/6/%D8%A5%D8%AE%D9%85%D8%A7%D8%AF-%D8%AD%D8%B1%D9%8A%D9%82-%D8%AF%D8%A7%D8%AE%D9%84-%D8%B4%D9%82%D8%A9-%D8%B3%D9%83%D9%86%D9%8A%D8%A9-%D9%81%D9%89-%D8%B9%D9%8A%D9%86-%D8%B4%D9%85%D8%B3-%D8%AF%D9%88%D9%86-%D8%A5%D8%B5%D8%A7%D8%A8%D8%A7%D8%AA/7367456
A52: 50 | B52: ابريل 2026 | C52: 46118 | D52: اقليم شمال الصعيد | E52: المنيا | F52: مركز المنيا | G52: قرية بهدال التابعة لمركز المنيا | H52: مصنع لصناعة المسلى بقرية بهدال التابعة لمركز المنيا | I52: مصنع | J52: منشأة صناعية | K52: 1 | L52: بعض محتويات المصنع | M52: مواد خام | N52: ماس كهربي | O52: قيد التحقيق | P52: ماس كهربائي | Q52: سيارة اطفاء | R52: =T52+V52 -> 0 | T52: 0 | U52: غير محدد | V52: 0 | W52: غير محدد | Z52: تمكنت قوات الحماية المدنية بالمنيا، من السيطرة على حريق نشب بمصنع لصناعة المسلى بقرية بهدال التابعة لمركز المنيا. UAE 44th National Day - Union Flag 00:49 Previous Pause Next 00:19 / 00:52 Mute Fullscreen Copy video url Play / Pause Mute / Unmute Report a problem Language Share Vidverto Player وتلقت الأجهزة الأمنية بالمنيا، اخطارا من غرفة عمليات النجدة يفيد نشوب حريق بمصنع مسلى، بقرية بهدال التابعة لمركز المنيا، وعلى الفور اننتقلت سيارات الإطفاء إلى مكان البلاغ، وتبين نشوب الحريق بمصنع لإنتاج المسلى، ولم يسفر عن أى خسائر بشرية، وتم السيطرة على الحريق. وأفادت التحريات الأولية، بأن ماس كهربائى سبب وقوع الحادث، ولم يسفر الحادث عنن خسائر بشرية. وتحرر عن الواقعة المحضر اللازم وجار العرض على االنيابة العامة لتباشر التحقيق. | AA52: https://www.youm7.com/story/2026/4/6/%D8%A7%D9%84%D8%B3%D9%8A%D8%B7%D8%B1%D8%A9-%D8%B9%D9%84%D9%89-%D8%AD%D8%B1%D9%8A%D9%82-%D8%A8%D9%85%D8%B5%D9%86%D8%B9-%D9%84%D8%B5%D9%86%D8%A7%D8%B9%D8%A9-%D8%A7%D9%84%D9%85%D8%B3%D9%84%D9%89-%D8%A8%D8%A5%D8%AD%D8%AF%D8%AF%D9%89-%D9%82%D8%B1%D9%89-%D8%A7%D9%84%D9%85%D9%86%D9%8A%D8%A7/7368230 | AB52: https://www.elbalad.news/6926508 | AC52: https://www.almasryalyoum.com/news/details/4238919
A53: 51 | B53: ابريل 2026 | C53: 46118 | D53: اقليم جنوب الصعيد | E53: سوهاج | F53: بندر طهطا | G53: طريق الحريدية ببندر طهطا بمحافظة سوهاج | H53: حريق نشب داخل منزل بناحية طريق الحريدية ببندر طهطا بمحافظة سوهاج | I53: منزل دور أرضي مبني بالبلوك الأبيض | J53: منشأة سكنية | K53: 0 | L53: لم يذكر | M53: لم يذكر | N53: قيد التحقيق | O53: قيد التحقيق | P53: قيد التحقيق | Q53: سيارة اطفاء | R53: =T53+V53 -> 0 | T53: 0 | U53: غير محدد | V53: 0 | W53: محمد شحاتة أحمد عبدالرحيم | Z53: تلقى اللواء دكتور حسن عبدالعزيز، مساعد الوزير مدير أمن سوهاج، بلاغا يفيد بنشوب حريق داخل منزل بدائرة بندر طهطا، وعلى الفور تم إخطار قوات الحماية المدنية التي انتقلت إلى موقع الحادث وتمت السيطرة عليه. تفاصيل الحريق والخسائر وبالفحص، تبين أن الحريق نشب بمنزل ملك المواطن محمد شحاتة أحمد عبدالرحيم، والمكون من دور أرضي مبني بالبلوك الأبيض ومسقوف بالعروق والبوص، ما أسفر عن احتراق بعض محتويات المنزل دون حدوث إصابات بشرية. | AA53: https://www.youm7.com/story/2026/4/6/%D8%A7%D9%84%D8%B3%D9%8A%D8%B7%D8%B1%D8%A9-%D8%B9%D9%84%D9%89-%D8%AD%D8%B1%D9%8A%D9%82-%D9%85%D9%86%D8%B2%D9%84-%D8%A8%D8%B7%D9%87%D8%B7%D8%A7-%D9%81%D9%8A-%D8%B3%D9%88%D9%87%D8%A7%D8%AC-%D8%AF%D9%88%D9%86-%D8%A5%D8%B5%D8%A7%D8%A8%D8%A7%D8%AA/7368639
A54: 52 | B54: ابريل 2026 | C54: 46118 | D54: اقليم الاسكندرية | E54: مطروح | F54: مركز ومدينة مرسي مطروح الطريق الساحلي الدولي | G54: الطريق الدولي الساحلي مطروح الاسكندرية. | H54: حريق في شاحنة بمبرد بها خضروات وفواكة بالطريق الدولي الساحلي مطروح الاسكندرية. | I54: سيارة | J54: وسيلة نقل | K54: 1 | L54: اشتعال النيران بالمركبة | M54: لم يذكر | N54: انفجار كاوتش واشتعلت فيه النار | O54: انفجار كاوتش واشتعلت فيه النار وقامت سيارة تسير خلف السيارة المشتغلة بتنبية السائق علي الفور قام بفصل مبرد الشاحنة المشتعلة عن الجرار وتمت السيطرة علي الحريق | P54: ارتفاع درجات الحرارة | Q54: سيارة اطفاء | R54: =T54+V54 -> 0 | T54: 0 | U54: غير محدد | V54: 0 | W54: غير محدد | Z54: وجه اللواء محمد رجب رئيس مركز ومدينة مرسى مطروح بسرعة التعامل الفوري مع حادث نشوب حريق في شاحنة بمبرد بها خضروات وفواكة بالطريق الدولي الساحلي مطروح الاسكندرية. وأشار رئيس مركز ومدينة مرسى مطروح إلى أنه تم عمل كرودن حول حادث السيارة والتواصل مع قيادة الطريق للإبلاغ عن الحادث ، علي الفور توجه نواب رئيس المدينة لقطاع قري شرق والمدينة ومشاركة مجتمعية من الأهالي ، للتعامل مع حادث اشتعال النار في شاحنة بمبرد بها خضروات وفواكة ، وعودة حركة سير السيارات بالطريق الدولي دون إصابات ووفيات . وتلقت غرفة العمليات وإدارة المرور بلاغًا باشتعال النار في سيارة في شاحنة بمبرد بها خضروات وفواكة ، وانتقل على الفور مجلس المدينة والحماية المدنية والمرور، وسيارات الإسعاف، والمعدات المخصّصة لرفع الحمولة الضخمة التي تسببت في إغلاق جزئي لأحد حارات الطريق الدولي . وبحسب المعاينة الأولية، يرجع سبب الحادث إلى انفجار كاوتش واشتعلت فيه النار وقامت سيارة تسير خلف السيارة المشتغلة بتنبية السائق علي الفور قام بفصل مبرد الشاحنة المشتعلة عن الجرار وتمت السيطرة علي الحريق من خلال رجال الحماية المدنية ، فيما لم تُسجّل أي إصابات أو وفيات في الحادث . وقامت مدينة مرسى مطروح برفع آثار الحادث مع الأهالي وفتح الطريق بالكامل أمام الحركة المرورية، بينما تم تحرير محضر بالواقعة وإحالته إلى النيابة العامة لمباشرة التحقيقات. يأتي ذلك تنفيذًا لتوجيهات اللواء دكتور محمد الزملوط محافظ مطروح بمتابعة فتح الطريق الدولي الساحلي بعد حادث اشتعال سيارة نقل ثقيل بمقطورة محملة بالخضروات وتم فتح الطريق بالكامل أمام الحركة المرورية والتعامل مع الحادث. | AA54: https://www.elbalad.news/6926192 | AB54: https://www.elbalad.news/6926165 | AC54: https://www.almasryalyoum.com/news/details/4238753
A55: 53 | B55: ابريل 2026 | C55: 46119 | D55: اقليم جنوب الصعيد | E55: اسوان | F55: ادفو | G55: منطقة المدافن والكائنة بدائرة مركز شرطة إدفو بأسوان | H55: المدافن بدائرة مركز شرطة إدفو بأسوان | I55: مدافن | J55: منشأة خدمية/ تعليمية | K55: 0 | L55: لم يذكر | M55: لم يذكر | N55: إضرام النيران ببعض الأخشاب بقصد التدفئة تطايرت وإمتدت للأغصان مما أدى لإشتعاله | O55: اشتعال النيران ببعض الاغصان بغرض التدفئة | P55: جنائي | Q55: سيارة اطفاء | R55: =T55+V55 -> 0 | T55: 0 | U55: غير محدد | V55: 0 | W55: غير محدد | Z55: كشفت الأجهزة الأمنية في أسوان ملابسات مقطع فيديو تم تداوله بمواقع التواصل الإجتماعى تضمن زعم أحد الأشخاص بإنتهاك مجهولين حرمة الموتى وإشعال الحريق بأحد المدافن وجثامين المتوفيين بداخلها بأسوان. بالفحص وسؤال التُربى بالمدافن والكائنة بدائرة مركز شرطة إدفو بأسوان ، أقر أن سقف المدفن الظاهر بمقطع الفيديو حدث له إنهيار منذ شهرين فأخطر مالكه وقام بتغطيته ببعض أغصان النخيل ، وحال قيامه بإضرام النيران ببعض الأخشاب بقصد التدفئة تطايرت وإمتدت للأغصان مما أدى لإشتعالها . وعلى الفور، قام بإخماد النيران ولم تصل النيران لجثامين المتوفيين حيث أنها مغطاه بالتراب وبسؤال مالك المدفن المشار إليه ، أيد ما سبق وتم تصوير مقطع فيديو نهاراً يؤيد أقوالهما . أخبار متعلقة السيارة أثناء ضبطها حول مقاعد سيارته لخزانات: إحباط تهريب 516 لتر سولار داخل محطة وقود فى أسوان محافظ أسوان صرف مساعدات مالية عاجلة لعدد من الحالات المستحقة في أسوان اسوان لقاءات جماهيرية لرؤساء المراكز والمدن مع المواطنين فى أسوان أمكن تحديد وضبط القائم على النشر وتبين انه عامل - مقيم بذات الدائرة ، وبمواجهته أقر بقيامه بتصوير مقطع الفيديو المشار إليه (ليلاً) والإدعاء كذباً بإحتراق جثامين المتوفيين ونشره على صفحته بمواقع التواصل الإجتماعى بقصد زيادة المشاهدات وتحقيق أرباح مالية. تم إتخاذ الإجراءات القانونية اللازمة حيال الواقعة. | AA55: https://www.almasryalyoum.com/news/details/4240153
A56: 54 | B56: ابريل 2026 | C56: 46119 | D56: اقليم القاهرة الكبرى | E56: الجيزة | F56: بولاق الدكرور | G56: منطقة بولاق الدكرور | H56: حريق داخل شقة سكنية فى منطقة بولاق الدكرور | I56: وحدة سكنية | J56: منشأة سكنية | K56: 1 | L56: لم يذكر | M56: لم يذكر | N56: تسرب غاز | O56: قيد التحقيق | P56: تسرب مادة قابلة للاشتعال | Q56: سيارة اطفاء | R56: =T56+V56 -> 5 | T56: 5 | U56: غير محدد | V56: 0 | W56: غير محدد | Z56: اندلع حريق داخل شقة سكنية فى منطقة بولاق الدكرور بسبب تسرب غازى، وعلى الفور تمت السيطرة عليه ونتج عنه إصابة 5 أشخاص وتم نقلهم للمستشفى وتولت النيابة المختصة التحقيقات. One minute around the Atlantis - The Palm - Dubai 01:16 Previous Pause Next 00:46 / 01:30 Mute Fullscreen Copy video url Play / Pause Mute / Unmute Report a problem Language Share Vidverto Player غرفة العمليات تتلقى بلاغا بنشوب الحريق تلقت غرفة عمليات النجدة، بلاغا من الأهالى بنشوب حريق داخل شقة سكنية فى بولاق الدكرور وعلي الفور انتقلت سيارات الإطفاء إلى المكان وتمت عملية إخماد الحريق ونتج عنه إصابة 5 أشخاص ونقلوا جميعهم إلى المستشفى. ويستمع رجال المباحث بمديرية أمن الجيزة، لأقوال شهود العيان وقاطنى الشقة لكشف ملابسات الواقعة وتم اتخاذ الإجراءات القانونية اللازمة تجاه الواقعة. | AA56: https://www.youm7.com/story/2026/4/7/%D8%A5%D8%B5%D8%A7%D8%A8%D8%A9-5-%D8%A3%D8%B4%D8%AE%D8%A7%D8%B5-%D8%A5%D8%AB%D8%B1-%D8%AD%D8%B1%D9%8A%D9%82-%D8%AF%D8%A7%D8%AE%D9%84-%D8%B4%D9%82%D8%A9-%D8%B3%D9%83%D9%86%D9%8A%D8%A9-%D9%81%D9%89-%D8%A8%D9%88%D9%84%D8%A7%D9%82/7369849 | AB56: https://www.youm7.com/story/2026/4/7/%D8%A5%D8%AE%D9%85%D8%A7%D8%AF-%D8%AD%D8%B1%D9%8A%D9%82-%D8%AF%D8%A7%D8%AE%D9%84-%D8%B4%D9%82%D8%A9-%D8%B3%D9%83%D9%86%D9%8A%D8%A9-%D9%81%D9%89-%D8%A8%D9%88%D9%84%D8%A7%D9%82-%D8%A7%D9%84%D8%AF%D9%83%D8%B1%D9%88%D8%B1-%D8%AF%D9%88%D9%86-%D8%A5%D8%B5%D8%A7%D8%A8%D8%A7%D8%AA/7368569
A57: 55 | B57: ابريل 2026 | C57: 46119 | D57: اقليم شمال الصعيد | E57: الفيوم | F57: مركز الفيوم | G57: بحى دلة | H57: حريق اندلع داخل غرفة نوم بشقة سكنية بحى دلة | I57: شقة سكنية بحى دلة | J57: منشأة سكنية | K57: 0 | L57: بعض محتويات الوحدة السكنية | M57: اثاث | N57: ماس كهربي | O57: ماس كهربائي اجى الى اشتعال النيران بمحتويات الغرفة | P57: ماس كهربائي | Q57: سيارة اطفاء | R57: =T57+V57 -> 0 | T57: 0 | U57: غير محدد | V57: 0 | W57: غير محدد | Z57: تمكنت قوات الحماية المدنية بمحافظة الفيوم، من السيطرة على حريق اندلع داخل غرفة نوم بشقة سكنية بحى دلة، بدائرة المحافظة، دون وقوع أى إصابات بشرية. وتلقت الأجهزة الأمنية بمديرية أمن الفيوم، إخطارًا يفيد بنشوب حريق داخل شقة سكنية، وعلى الفور انتقلت قوات الحماية المدنية مدعومة بسيارة إطفاء إلى موقع البلاغ. وبالفحص، تبين أن الحريق نشب داخل غرفة نوم بالشقة، نتيجة حدوث ماس كهربائى، ما أدى إلى اشتعال النيران ببعض محتويات الغرفة. أخبار متعلقة محافظ الفيوم يتابع جهود الطب البيطري ويعلن تحصين آلاف الرؤوس وضبط 5.6 طن لحوم غير صالحة تحصين 3012 رأس ماشية ضد الحمى القلاعية والوادي المتصدع وضبط 5.6 طن لحوم فاسدة بالفيوم قرد برتبة «كيّيف».. «كوكو» يخطف الأنظار فى حديقة حيوان الفيوم ويشعل مواقع التواصل قرد برتبة «كيّيف».. «كوكو» يخطف الأنظار فى حديقة حيوان الفيوم ويشعل مواقع التواصل ضبط 2 طن و100 كجم دقيق بلدي مدعم قبل تهريبه للسوق السوداء بالفيوم ضبط 2 طن دقيق بلدي مدعم قبل بيعها بالسوق السوداء في الفيوم وتمكنت قوات الحماية المدنية من السيطرة على الحريق وإخماده قبل امتداده إلى باقى أجزاء الشقة أو العقارات المجاورة، دون وقوع إصابات أو خسائر فى الأرواح. وتم اتخاذ الإجراءات القانونية اللازمة حيال الواقعة، وتحرر محضر بالواقعة، وأخطرت الجهات المختصة لمباشرة التحقيقات. | AA57: https://www.almasryalyoum.com/news/details/4240010
A58: 56 | B58: ابريل 2026 | C58: 46120 | D58: اقليم جنوب الصعيد | E58: اسوان | F58: اسوان | G58: منطقة النفق | H58: شقة سكنية بالطابق الأرضى بمنطقة النفق بمدينة أسوان | I58: وحدة سكنية | J58: منشأة سكنية | K58: 1 | L58: لم يذكر | M58: لم يذكر | N58: قيد التحقيق | O58: قيد التحقيق | P58: قيد التحقيق | Q58: سيارة اطفاء | R58: =T58+V58 -> 0 | T58: 0 | U58: غير محدد | V58: 0 | W58: غير محدد | Z58: تمكنت قوات الحماية المدنية بأسوان من التدخل السريع للسيطرة على حريق اندلع، مساء اليوم، الأربعاء، داخل شقة سكنية بالطابق الأرضى بمنطقة النفق بمدينة أسوان، دون وقوع خسائر بشرية حتى الآن. دفع سيارات الإطفاء والإسعاف ودفعت قوات الحماية المدنية بسيارتى إطفاء إلى موقع الحريق، مدعومة بسيارة إسعاف تحسبًا لوقوع أى إصابات، حيث جرى التعامل الفورى مع النيران لمنع امتدادها إلى العقارات المجاورة. محاولات للسيطرة وحصر الخسائر وجارى حاليًا السيطرة الكاملة على الحريق، مع تنفيذ أعمال التبريد، فيما تواصل الجهات المختصة جهودها لحصر الخسائر وتحديد أسباب اندلاع النيران، واتخاذ الإجراءات القانونية اللازمة. | AA58: https://www.youm7.com/story/2026/4/8/%D8%A7%D9%84%D8%AD%D9%85%D8%A7%D9%8A%D8%A9-%D8%A7%D9%84%D9%85%D8%AF%D9%86%D9%8A%D8%A9-%D8%AA%D8%B3%D9%8A%D8%B7%D8%B1-%D8%B9%D9%84%D9%89-%D8%AD%D8%B1%D9%8A%D9%82-%D8%B4%D9%82%D8%A9-%D8%B3%D9%83%D9%86%D9%8A%D8%A9-%D9%81%D9%89-%D8%A3%D8%B3%D9%88%D8%A7%D9%86/7371086 | AB58: https://www.elbalad.news/6929624
A59: 57 | B59: ابريل 2026 | C59: 46120 | D59: اقليم القاهرة الكبرى | E59: الجيزة | F59: الحوامدية | G59: منطقة الحوامدية | H59: محل تجاري في منطقة الحوامدية | I59: محل تجاري | J59: منشأة تجارية | K59: 0 | L59: لم يذكر | M59: لم يذكر | N59: قيد التحقيق | O59: قيد التحقيق | P59: قيد التحقيق | Q59: سيارة اطفاء | R59: =T59+V59 -> 0 | T59: 0 | U59: غير محدد | V59: 0 | W59: غير محدد | Z59: اشتعل حريق بمحل تجاري في منطقة الحوامدية، وتمكن رجال الحماية المدنية من محاصرة النيران وإخمادها دون إصابات، وتحرر محضر بالواقعة لتتولى النيابة المختصة التحقيق. تفاصيل اشتعال حريق بمحل في الحوامدية ورد بلاغ، يفيد اشتعال حريق بمحل تجاري في الحوامدية، انتقل رجال الحماية المدنية إلى مكان البلاغ، وتمكنوا من محاصرة النيران وإخمادها دون إصابا، قبل امتدادها للعقارات المجاورة، وتم اتخاذ الإجراءات القانونية اللازمة وجاري إجراء التحريات لكشف ملابسات اندلاع الحريق وتحرر محضر بالواقعة لتباشر النيابة المختصة التحقيق. | AA59: https://www.youm7.com/story/2026/4/8/%D8%A7%D8%B4%D8%AA%D8%B9%D8%A7%D9%84-%D8%AD%D8%B1%D9%8A%D9%82-%D8%A8%D9%85%D8%AD%D9%84-%D8%AA%D8%AC%D8%A7%D8%B1%D9%8A-%D9%81%D9%8A-%D8%A7%D9%84%D8%AD%D9%88%D8%A7%D9%85%D8%AF%D9%8A%D8%A9/7370784
A60: 58 | B60: ابريل 2026 | C60: 46120 | D60: اقليم القاهرة الكبرى | E60: الجيزة | F60: المريوطية | G60: المريوطية | H60: حريق داخل شقة سكنية في منطقة المريوطية | I60: وحدة سكنية | J60: منشأة سكنية | K60: 0 | L60: لم يذكر | M60: لم يذكر | N60: قيد التحقيق | O60: قيد التحقيق | P60: قيد التحقيق | Q60: سيارة اطفاء | R60: =T60+V60 -> 0 | T60: 0 | U60: غير محدد | V60: 0 | W60: غير محدد | Z60: اندلع حريق داخل شقة سكنية في منطقة المريوطية، وعلى الفور تمت السيطرة عليه دون وقوع إصابات، وتولت النيابة المختصة التحقيقات. غرفة العمليات تلقت بلاغًا بالحريق تلقت غرفة عمليات النجدة بلاغًا من الأهالي بنشوب حريق داخل شقة سكنية في المريوطية، وعلى الفور انتقلت سيارات الإطفاء إلى المكان، وتمت عملية إخماد الحريق. ويستمع رجال المباحث بمديرية أمن الجيزة إلى أقوال شهود العيان وقاطني الشقة لكشف ملابسات الواقعة، وتم اتخاذ الإجراءات القانونية اللازمة. | AA60: https://www.youm7.com/story/2026/4/8/%D8%A5%D8%AE%D9%85%D8%A7%D8%AF-%D8%AD%D8%B1%D9%8A%D9%82-%D8%AF%D8%A7%D8%AE%D9%84-%D8%B4%D9%82%D8%A9-%D8%B3%D9%83%D9%86%D9%8A%D8%A9-%D9%81%D9%8A-%D8%A7%D9%84%D9%85%D8%B1%D9%8A%D9%88%D8%B7%D9%8A%D8%A9-%D8%AF%D9%88%D9%86-%D8%A5%D8%B5%D8%A7%D8%A8%D8%A7%D8%AA/7370103 | AB60: https://www.elbalad.news/6928789 | AC60: https://www.youm7.com/story/2026/4/11/%D8%A5%D8%AE%D9%85%D8%A7%D8%AF-%D8%AD%D8%B1%D9%8A%D9%82-%D8%AF%D8%A7%D8%AE%D9%84-%D8%B4%D9%82%D8%A9-%D8%B3%D9%83%D9%86%D9%8A%D8%A9-%D9%81%D9%89-%D8%A7%D9%84%D9%85%D8%B1%D9%8A%D9%88%D8%B7%D9%8A%D8%A9-%D8%AF%D9%88%D9%86-%D8%A5%D8%B5%D8%A7%D8%A8%D8%A7%D8%AA/7373323
A61: 59 | B61: ابريل 2026 | C61: 46120 | D61: اقليم القاهرة الكبرى | E61: الجيزة | F61: العياط | G61: العياط | H61: نشوب حريق داخل منزل في منطقة العياط | I61: منزل | J61: منشأة سكنية | K61: 0 | L61: لم يذكر | M61: لم يذكر | N61: قيد التحقيق | O61: قيد التحقيق | P61: قيد التحقيق | Q61: سيارة اطفاء | R61: =T61+V61 -> 0 | T61: 0 | U61: غير محدد | V61: 0 | W61: غير محدد | Z61: اندلع حريق داخل منزل في منطقة العياط، وعلى الفور تمت السيطرة عليه دون وقوع إصابات، وتولت النيابة المختصة التحقيقات. غرفة العمليات تلقت بلاغًا بالحريق تلقت غرفة عمليات النجدة بلاغًا من الأهالي بنشوب حريق داخل منزل في منطقة العياط، وعلى الفور انتقلت سيارات الإطفاء إلى المكان، وتمت عملية إخماد الحريق. ويستمع رجال المباحث بمديرية أمن الجيزة إلى أقوال شهود العيان وقاطني المنزل لكشف ملابسات الواقعة، وتم اتخاذ الإجراءات القانونية اللازمة. | AA61: https://www.youm7.com/story/2026/4/8/%D8%A5%D8%AE%D9%85%D8%A7%D8%AF-%D8%AD%D8%B1%D9%8A%D9%82-%D8%AF%D8%A7%D8%AE%D9%84-%D9%85%D9%86%D8%B2%D9%84-%D9%81%D9%8A-%D8%A7%D9%84%D8%B9%D9%8A%D8%A7%D8%B7-%D8%AF%D9%88%D9%86-%D8%A5%D8%B5%D8%A7%D8%A8%D8%A7%D8%AA/7370099
A62: 60 | B62: ابريل 2026 | C62: 46120 | D62: اقليم القاهرة الكبرى | E62: الجيزة | F62: البدرشين | G62: العياط | H62: حريق محدود في قطار الفيوم – العياط أثناء مروره في مدينة البدرشين جنوب محافظة الجيزة | I62: قطار رقم 143 الفيوم – العياط. | J62: وسيلة نقل | K62: 0 | L62: لم يذكر | M62: لم يذكر | N62: قيد التحقيق | O62: قيد التحقيق | P62: قيد التحقيق | Q62: سيارة اطفاء | R62: =T62+V62 -> 0 | T62: 0 | U62: غير محدد | V62: 0 | W62: غير محدد | Z62: نشب منذ قليل حريق محدود في قطار الفيوم – العياط أثناء مروره في مدينة البدرشين جنوب محافظة الجيزة وأخلي القطار من الركاب وسط تصاعد أدخنة من إحدى عربات القطار. تلقت غرفة عمليات النجدة بلاغا بتصاعد أدخنة من قطار أثناء مروره في مدينة البدرشين، تم الدفع بقوات الحماية المدنية على الفور مدعومة بسيارات الإسعاف وتبين نشوب حريق محدود في القطار رقم 143 الفيوم – العياط. وأخلت القوات القطار من الركاب في العربات القريبة من موقع الحريق لحين إتمام عمليات الإخماد ومنع امتداد النيران لباقي القطار، فيما فرضت قوات الأمن كردونا أمنيا بمحيط الحادث وتجرى التحريات لكشف ملابسات نشوب الحريق. | AA62: https://www.elbalad.news/6929157
A63: 61 | B63: ابريل 2026 | C63: 46120 | D63: اقليم شمال الصعيد | E63: الفيوم | F63: سنورس | G63: منطقة الساحة الشعبية بدائرة مركز سنورس | H63: مخزن مواد غذائية بمنطقة الساحة الشعبية بدائرة مركز سنورس | I63: مخزن | J63: منشأة تجارية | K63: 1 | L63: بعض محتويات المخزن | M63: مواد خام | N63: قيد التحقيق | O63: قيد التحقيق | P63: قيد التحقيق | Q63: سيارة اطفاء | R63: =T63+V63 -> 0 | T63: 0 | U63: غير محدد | V63: 0 | W63: غير محدد | Z63: تمكنت قوات الحماية المدنية بمحافظة الفيوم، منذ قليل، من السيطرة على حريق اندلع داخل مخزن مواد غذائية بمنطقة الساحة الشعبية بدائرة مركز سنورس، دون وقوع أي إصابات أو خسائر بشرية، وتحرر محضر بالواقعة وتولت النيابة التحقيق. One minute around the Atlantis - The Palm - Dubai 01:13 Previous Pause Next 00:25 / 01:30 Mute Fullscreen Copy video url Play / Pause Mute / Unmute Report a problem Language Share Vidverto Player تفاصيل الحريق تلقت الأجهزة الأمنية بمديرية أمن الفيوم إخطارًا من مأمور قسم شرطة سنورس، يفيد بورود إشارة من غرفة عمليات النجدة بنشوب حريق داخل مخزن مواد غذائية بمنطقه الساحه الشعبيه ، بدائرة المركز. وعلي الفور انتقلت قوات الأمن مدعومة بسيارات الحماية المدنية والإسعاف إلى موقع الحريق، حيث تم الدفع بعدد من سيارات الإطفاء، وتمكنت قوات الحمايه المدنيه من محاصرة النيران والسيطرة عليها قبل امتدادها إلى العقارات المجاورة، وتم إخماد الحريق بالكامل، ومنع امتداده إلى المناطق السكنية المجاورة، ولم يسفر عن وقوع إصابات، وتم اتخاذ الإجراءات القانونية اللازمة للوقوف على أسباب اندلاع الحريق، وبيان ما إذا كان هناك شبهة جنائية من عدمه. | AA63: https://www.youm7.com/story/2026/4/8/%D8%A7%D9%84%D8%B3%D9%8A%D8%B7%D8%B1%D8%A9-%D8%B9%D9%84%D9%89-%D8%AD%D8%B1%D9%8A%D9%82-%D9%85%D8%AE%D8%B2%D9%86-%D9%85%D9%88%D8%A7%D8%AF-%D8%BA%D8%B0%D8%A7%D8%A6%D9%8A%D8%A9-%D9%81%D9%89-%D8%B3%D9%86%D9%88%D8%B1%D8%B3-%D8%A8%D8%A7%D9%84%D9%81%D9%8A%D9%88%D9%85-%D8%AF%D9%88%D9%86/7370077 | AB63: https://www.almasryalyoum.com/news/details/4240349
A64: 62 | B64: ابريل 2026 | C64: 46121 | D64: اقليم جنوب الصعيد | E64: اسوان | F64: اسوان | G64: منطقة حى السلام بالسد العالى | H64: مزرعة دواجن بمنطقة حى السلام بالسد العالى | I64: مزرعة دواجن | J64: مزرعة حيوانية | K64: 1 | L64: نفوق نحو 5200 كتكوت داخل المزرعة نتيجة الاختناق والحرارة المرتفعة. | M64: دواجن | N64: قيد التحقيق | O64: اتساع النيران نتيجة الحرارة المرتفعة | P64: ارتفاع درجات الحرارة | Q64: سيارات الاطفاء | R64: =T64+V64 -> 0 | T64: 0 | U64: غير محدد | V64: 0 | W64: غير محدد | Y64: نفوق نحو 5200 كتكوت داخل المزرعة نتيجة الاختناق والحرارة المرتفعة. | Z64: تفاصيل الحريق وخسائر المزرعة تلقت الأجهزة الأمنية بأسوان إخطارًا يفيد بنشوب حريق داخل مزرعة دواجن بمنطقة حى السلام بالسد العالى، وعلى الفور تم الدفع بسيارات الإطفاء إلى موقع البلاغ للسيطرة على النيران ومنع امتدادها للمناطق المجاورة وأسفر الحريق عن نفوق نحو 5200 كتكوت داخل المزرعة نتيجة الاختناق والحرارة المرتفعة. جهود الحماية المدنية للسيطرة على النيران تمكنت قوات الحماية المدنية من السيطرة على الحريق وإخماده قبل امتداده إلى باقى أجزاء المزرعة أو المزارع المجاورة، مع تنفيذ أعمال التبريد لضمان عدم تجدد الاشتعال. التحريات والإجراءات القانونية وباشرت الجهات المختصة تحقيقاتها للوقوف على أسباب اندلاع الحريق، وبيان ما إذا كان هناك شبهة جنائية من عدمه، كما تم اتخاذ الإجراءات القانونية اللازمة حيال الواقعة. | AA64: https://www.youm7.com/story/2026/4/9/%D9%86%D9%81%D9%88%D9%82-5200-%D9%83%D8%AA%D9%83%D9%88%D8%AA-%D9%81%D9%89-%D8%AD%D8%B1%D9%8A%D9%82-%D9%85%D8%B2%D8%B1%D8%B9%D8%A9-%D8%AF%D9%88%D8%A7%D8%AC%D9%86-%D8%A8%D8%A3%D8%B3%D9%88%D8%A7%D9%86/7371332
A65: 63 | B65: ابريل 2026 | C65: 46121 | D65: اقليم القاهرة الكبرى | E65: الجيزة | F65: العياط | G65: الصف | H65: منزل بمنطقة الصف | I65: منزل | J65: منشأة سكنية | K65: 0 | L65: بعض محتويات المنزل | M65: لم يذكر | N65: قيد التحقيق | O65: قيد التحقيق | P65: قيد التحقيق | Q65: سيارة اطفاء | R65: =T65+V65 -> 0 | T65: 0 | U65: غير محدد | V65: 0 | W65: غير محدد | Z65: اندلع حريق داخل منزل فى منطقة الصف، وعلى الفور تمت السيطرة عليه دون إصابات، وتولت النيابة المختصة التحقيقات. غرفة العمليات تلقت بلاغا بالحريق وتلقت غرفة عمليات النجدة، بلاغا من الأهالى بنشوب حريق داخل منزل فى منطقة الصف، وعلي الفور انتقلت سيارات الإطفاء إلى المكان، وتمت عملية إخماد الحريق. ويستمع رجال المباحث بمديرية أمن الجيزة، لأقوال شهود العيان وقاطنى المنزل لكشف ملابسات الواقعة، وتم اتخاذ الإجراءات القانونية اللازمة تجاه الواقعة. | AA65: https://www.youm7.com/story/2026/4/9/%D8%A5%D8%AE%D9%85%D8%A7%D8%AF-%D8%AD%D8%B1%D9%8A%D9%82-%D8%AF%D8%A7%D8%AE%D9%84-%D9%85%D9%86%D8%B2%D9%84-%D9%81%D9%89-%D8%A7%D9%84%D8%B5%D9%81-%D8%AF%D9%88%D9%86-%D8%A5%D8%B5%D8%A7%D8%A8%D8%A7%D8%AA/7371718
A66: 64 | B66: ابريل 2026 | C66: 46121 | D66: اقليم القناة | E66: السويس | F66: غرب السويس | G66: غرب خليج السويس | H66: اندلاع حريق بالصال البحري "السويس 2" التابع لشركة الخدمات البترولية "راكين"والقيام بأعمال الإنقاذ اللازمة وإنقاذ طاقمه ونقل شحنته بعد اندلاع حريق به خلال تواجده بمنطقة الانتظار خارج المجرى الملاحي للقناة بمنطقة غرب خليج السويس | I66: سفينة | J66: وسيلة نقل | K66: 0 | L66: اشتعال النيران ببعض اجزاء السفينة | M66: لم يذكر | N66: قيد التحقيق | O66: قيد التحقيق | P66: قيد التحقيق | Q66: قاطرات الاطفاء البحري | R66: =T66+V66 -> 0 | T66: 0 | U66: غير محدد | V66: 0 | W66: غير محدد | Z66: أعلن الفريق أسامة ربيع رئيس هيئة قناة السويس، نجاح وحدات الإنقاذ البحري التابعة للهيئة في الاستجابة الفورية لطلب استغاثة الصال البحري "السويس 2" التابع لشركة الخدمات البترولية "راكين"والقيام بأعمال الإنقاذ اللازمة وإنقاذ طاقمه ونقل شحنته بعد اندلاع حريق به خلال تواجده بمنطقة الانتظار خارج المجرى الملاحي للقناة بمنطقة غرب خليج السويس. وأوضح الفريق ربيع بأنه بمجرد تلقي مركز مراقبة الملاحة الرئيسي البلاغ من ربان السفينة "RAWAN"باندلاع حريق بالصال البحري "السويس 2" أثناء إتمامه أعمال تداول لشحنة زيت للسفينة وذلك بمنطقة الانتظار E10 خارج المجرى الملاحي للقناة مساء أمس الاربعاء، قامت الهيئة على الفور باتخاذ الإجراءات اللازمة ودفع الوحدات البحرية التابعة لها للتعامل مع الموقف الطارئ. الدفع بقارة الهيئة وأشار رئيس الهيئة بأنه تم الدفع بالقاطرة "أمين زيد" بقوة شد تتراوح من 75 إلى 80 طناً من أحدث قاطرات الهيئة للمشاركة في جهود الإطفاء والقيام بعمليات التبريد اللازمة للسيطرة على الحريق ومنع إندلاعه مرة أخرى ببدن الصال البحري،كما تم الدفع بثلاثة لنشات بحرية تابعة للهيئة لموقع الحادث لمتابعة أعمال نقل الصال لمنطقة آمنة والقيام بإخلاء طاقمه المكون من 4 أشخاص حيث تم إنقاذ ثلاثة أفراد من الطاقم ثم نقلهم إلى مستشفى التأمين الصحي بالسويس براً من خلال سيارات الإسعاف الخاصة بمرفق إسعاف قناة السويس بينما لاتزال عمليات البحث جارية لإنقاذ الشخص الرابع الذي مازال مفقودا حتى الآن وذلك من خلال الوحدات البحرية التابعة للهيئة تحت إشراف مكتب إدارة تحركات بورتوفيق. ووجه رئيس الهيئة رسالة طمأنة بشأن سرعة التعامل مع الموقف الطارئ وعدم تأثيره على سلامة السفن المتواجدة في منطقة الانتظار بغاطس السويس، حيث بدأت السفن في دخولها ضمن قافلة الجنوب في الصباح الباكر في موعدها المُعتاد. وأضاف رئيس الهيئة أن قناة السويس استحدثت مجموعة من الخدمات الملاحية واللوجيستية الجديدة لملائمة احتياجات العملاء في الظروف الاعتيادية والطارئة، مشيراً في هذا الصدد إلى نجاح الوحدات البحرية بالهيئة في نقل شحنة الزيت المتواجدة على الصال البحرى بشكل سريع وآمن إلى الصال البحري آمريكانا التابع لشركة الخدمات البترولية"راكين"، ثم قطر الصال" السويس 2" بأمان إلى ميناء الزيتيات بحلول منتصف الليل. واختتم الفريق ربيع تصريحه بالتأكيد على جاهزية هيئة قناة السويس للتعامل باحترافية مع حالات الطوارئ المحتملة من خلال منظومة متكاملة تزخر بكفاءات ملاحية وخبرات متراكمة في أعمال الإنقاذ البحري ووحدات بحرية متخصصة في أعمال الإنقاذ البحري والتأمين الملاحي ومكافحة التلوث. جدير بالإشارة أن حركة الملاحة بالقناة تشهد اليوم الخميس، عبور 11 سفينة من اتجاه الجنوب، فيما تعبر 19 سفينة من اتجاه الشمال بإجمالي حمولات صافية للقافلتين قدرها 1.5 مليون طن. | AA66: https://www.youm7.com/story/2026/4/9/%D9%88%D8%AD%D8%AF%D8%A7%D8%AA-%D8%A7%D9%84%D8%A5%D9%86%D9%82%D8%A7%D8%B0-%D8%A7%D9%84%D8%A8%D8%AD%D8%B1%D9%89-%D8%A8%D9%82%D9%86%D8%A7%D8%A9-%D8%A7%D9%84%D8%B3%D9%88%D9%8A%D8%B3-%D8%AA%D9%86%D9%82%D8%B0-%D8%B7%D8%A7%D9%82%D9%85-%D8%B5%D8%A7%D9%84-%D8%AE%D8%AF%D9%85%D8%A7%D8%AA-%D8%A8%D8%AD%D8%B1%D9%8A%D8%A9/7371478 | AB66: https://www.elbalad.news/6930138 | AC66: https://www.almasryalyoum.com/news/details/4242055
A67: 65 | B67: ابريل 2026 | C67: 46121 | D67: اقليم الدلتا | E67: المنوفية | F67: شبين الكوم | G67: قرية الماي في شبين الكوم | H67: حريق بمنزل قديم ملحق به حظيرة ماشية بقرية الماي في شبين الكوم | I67: منزل | J67: منشأة سكنية | K67: =-K688 -> 0 | L67: نفوق 2 رأس ماشية وماعز | M67: ماشية | N67: قيد التحقيق | O67: قيد التحقيق | P67: قيد التحقيق | Q67: سيارة اطفاء | R67: =T67+V67 -> 0 | T67: 0 | U67: غير محدد | V67: 0 | W67: غير محدد | Y67: نفوق 2 رأس ماشية وماعز | Z67: تمكنت قوات الحماية المدنية والإطفاء في محافظة المنوفية من السيطرة علي حريق بمنزل قديم ملحق به حظيرة ماشية بقرية الماي في شبين الكوم. تلقي اللواء علاء الجاحر مدير أمن المنوفية إخطارا من شرطة النجدة بنشوب حريق في قرية الماي بمدينة شبين الكوم. اغتصاب طفلتين وحملهما سفاحا من عمهما بالمنوفية.. هذه عقوبة المتهماغتصاب طفلتين وحملهما سفاحا من عمهما بالمنوفية.. هذه عقوبة المتهم مأساة بالمنوفية.. عم يستغل بنات شقيقة داخل منزل العائلةمأساة بالمنوفية.. عم يستغل بنات شقيقة داخل منزل العائلة سقوط عمود إنارة في المنوفية وتحرك سريع لاحتواء الموقفسقوط عمود إنارة في المنوفية وتحرك سريع لاحتواء الموقف اسماء اعتبارية ودور رعاية بعيدا عن المنوفية.. تفاصيل صادمة تنتظر أطفال حمل السفاح لشقيقتين من عمهمااسماء اعتبارية ودور رعاية بعيدا عن المنوفية.. تفاصيل صادمة تنتظر أطفال حمل السفاح لشقيقتين من عمهما بانتقال قوات الحماية المدنية والإطفاء تم السيطرة على الحريق وتبين أن الحريق نشب في منزل قديم ملحق به حظيرة ماشية. وتبين أن الحريق التهم مكونات الحظيرة وتبين نفوق 2 رأس ماشية وماعز وتم السيطرة علي الحريق دون إصابات. فيما تم تحرير محضر بالواقعة وتولت النيابة التحقيق. | AA67: https://www.elbalad.news/6930366 | AB67: https://www.youm7.com/story/2026/4/10/%D8%A7%D9%84%D8%B3%D9%8A%D8%B7%D8%B1%D8%A9-%D8%B9%D9%84%D9%89-%D8%AD%D8%B1%D9%8A%D9%82-%D8%A8%D8%AC%D9%88%D8%A7%D8%B1-%D9%85%D8%AD%D8%B7%D8%A9-%D8%B4%D8%A8%D9%8A%D9%86-%D8%A7%D9%84%D9%83%D9%88%D9%85-%D8%A7%D9%84%D9%82%D8%AF%D9%8A%D9%85%D8%A9-%D9%81%D9%89-%D8%A7%D9%84%D9%85%D9%86%D9%88%D9%81%D9%8A%D8%A9/7372970
A68: 66 | B68: ابريل 2026 | C68: 46121 | D68: اقليم جنوب الصعيد | E68: سوهاج | F68: اخميم | G68: نزل شباب الأزهر بمركز أخميم | H68: عقار تابع لنزل شباب الأزهر بمركز أخميم | I68: منزل | J68: منشأة سكنية | K68: 0 | L68: لم يذكر | M68: لم يذكر | N68: سكب مادة قابلة للاشتعال (بنزين) | O68: سكب مادة قابلة للاشتعال "بنزين" في أماكن متفرقة بالعقار وأشعل النيران | P68: جنائي | Q68: سيارة اطفاء | R68: =T68+V68 -> 0 | T68: 0 | U68: غير محدد | V68: 0 | W68: غير محدد | Z68: نجحت الأجهزة الأمنية بمديرية أمن سوهاج في فك لغز حريق مروع اندلع داخل عقار تابع لنزل شباب الأزهر بمركز أخميم، حيث تبين أن الحريق لم يكن نتيجة ماس كهربائي أو قضاء وقدر، بل كان "خطة شيطانية" نفذها حارس الأمن المكلف بحماية المبنى، للتغطية على جريمة سرقة ارتكبها بحق "العهدة" المسئول عنها. بدأت الواقعة ببلاغ تلقاه مركز شرطة أخميم يفيد بنشوب حريق هائل داخل العقار المشار إليه؛ وعلى الفور هرعت قوات الحماية المدنية وسيارات الإطفاء إلى موقع الحادث، حيث نجحت في السيطرة على النيران التي اندلعت في مخزن للمنظفات والأدوات الكهربائية بـ "بدروم" العقار، قبل أن تمتد إلى 3 غرف ومخزن آخر، مخلفةً وراءها تلفيات واسعة في الأثاث والمفروشات. في البداية، بدا المشهد مأساوياً بعد العثور على حارس الأمن في حالة اختناق جراء الأدخنة، حيث تم إسعافه على الفور، لكن فطنة رجال المباحث وتحرياتهم الدقيقة كشفت وجهاً آخر للحقيقة؛ فبسؤال الحارس وتضييق الخناق عليه، انهار واعترف بارتكابه الواقعة عمداً. الحارس المتهم أقر في اعترافاته بأنه استولى على كمية من الأجهزة الكهربائية والمفروشات من عهدته، وفي محاولة يائسة لإخفاء جريمته وطمس الأدلة، سكب مادة قابلة للاشتعال "بنزين" في أماكن متفرقة بالعقار وأشعل النيران، مدعياً تعرضه للاختناق ليبعد الشبهة عن نفسه ويظهر في ثوب الضحية. تم تحرير المحضر اللازم بالواقعة، وبالعرض على النيابة العامة، باشرت التحقيقات. | AA68: https://www.youm7.com/story/2026/4/10/%D8%A7%D9%84%D8%AC%D8%B1%D9%8A%D9%85%D8%A9-%D9%88%D8%A7%D9%84%D8%AF%D8%AE%D8%A7%D9%86-%D8%AD%D8%A7%D8%B1%D8%B3-%D9%86%D8%B2%D9%84-%D8%B4%D8%A8%D8%A7%D8%A8-%D8%A7%D9%84%D8%A3%D8%B2%D9%87%D8%B1-%D8%A8%D8%B3%D9%88%D9%87%D8%A7%D8%AC-%D9%8A%D8%AD%D8%B1%D9%82-%D8%A7%D9%84%D9%85%D8%A8%D9%86%D9%89-%D9%84%D8%A5%D8%AE%D9%81%D8%A7%D8%A1/7373233 | AB68: https://www.elbalad.news/6931704 | AC68: https://www.elbalad.news/6931937
A69: 67 | B69: ابريل 2026 | C69: 46121 | D69: اقليم جنوب الصعيد | E69: قنا | F69: الوقف | G69: قرية المراشدة، التابعة لمركز الوقف شمال قنا | H69: حريق محدود، فى 3 عربات بقطار القصب فى قرية المراشدة، التابعة لمركز الوقف شمال قن | I69: 3 عربات بقطار القصب | J69: وسيلة نقل | K69: 0 | L69: لم يذكر | M69: لم يذكر | N69: قيد التحقيق | O69: قيد التحقيق | P69: قيد التحقيق | Q69: سيارة اطفاء | R69: =T69+V69 -> 0 | T69: 0 | U69: غير محدد | V69: 0 | W69: غير محدد | Z69: نشب حريق محدود، اليوم الخميس، فى 3 عربات بقطار القصب فى قرية المراشدة، التابعة لمركز الوقف شمال قنا. The Abandoned Village - Sand Invasion 00:00 Previous Pause Next 00:30 / 00:46 Mute Fullscreen Copy video url Play / Pause Mute / Unmute Report a problem Language Share Vidverto Player جهود الأهالي تسيطر على الحريق وتمكنت جهود الأهالي، من السيطرة على الحريق فور نشوبه، فى 3 عربات داخل قطار قصب يمر على خط الديكوفيل بقرية المراشدة التابعة لمركز الوقف شمال محافظة قنا. جاري اتخاذ الإجراءات اللازمة وتابع القطار خط سيره للوصول إلى مصنع قصب السكر. | AA69: https://www.youm7.com/story/2026/4/9/%D9%86%D8%B4%D9%88%D8%A8-%D8%AD%D8%B1%D9%8A%D9%82-%D9%85%D8%AD%D8%AF%D9%88%D8%AF-%D9%81%D9%89-3-%D8%B9%D8%B1%D8%A8%D8%A7%D8%AA-%D8%A8%D9%82%D8%B7%D8%A7%D8%B1-%D9%82%D8%B5%D8%A8-%D8%A8%D9%82%D9%86%D8%A7/7371998
A70: 68 | B70: ابريل 2026 | C70: 46122 | D70: اقليم الاسكندرية | E70: الاسكندرية | F70: سيدي جابر | G70: منطقة كوبري سيدي جابر | H70: حريق اندلع في مدخنة مطعم بمنطقة كوبري سيدي جابر | I70: مدخنة مطعم | J70: منشأة تجارية | K70: 0 | L70: بعض محتويات المطعم | M70: اثاث ومعدات | N70: قيد التحقيق | O70: قيد التحقيق | P70: قيد التحقيق | Q70: سيارة اطفاء | R70: =T70+V70 -> 3 | T70: 3 | U70: غير محدد | V70: 0 | W70: غير محدد | Z70: البداية عندما تلقت الأجهزة الأمنية بمديرية أمن الإسكندرية إخطارا من النجدة يفيد بورود بلاغا اندلاع حريق بمطعم بمنطقة كوبري سيدي جابر دائرة القسم. حريق مدخنة في مطعم بالإسكندرية وعلي الفور انتقلت الأجهزة الأمنية بمديرية أمن الإسكندرية ترافقها سيارات الحماية المدنية والاسعاف الي مكان اليلاغ، وابين اندلاع حريق محدود في مدخنة مطعم ، وتمت السيطرة علي الحريق من قبل قوات الحماية المدنية، وتسبب الحريق في اصابة 3 أشخاص تم إسعاف شخصين منهم بمكان الواقعة ونقل الثالث الي مستشفى رأس التين للعلاج ،وتحرر محضر بالواقعة للعرض علي جهات التحقيق. | AA70: https://www.youm7.com/story/2026/4/10/%D8%A5%D8%B5%D8%A7%D8%A8%D8%A9-3-%D8%A3%D8%B4%D8%AE%D8%A7%D8%B5-%D9%81%D9%8A-%D8%AD%D8%B1%D9%8A%D9%82-%D9%85%D8%AF%D8%AE%D9%86%D8%A9-%D9%85%D8%B7%D8%B9%D9%85-%D8%A8%D8%B3%D9%8A%D8%AF%D9%8A-%D8%AC%D8%A7%D8%A8%D8%B1-%D8%A8%D8%A7%D9%84%D8%A5%D8%B3%D9%83%D9%86%D8%AF%D8%B1%D9%8A%D8%A9/7372775 | AB70: https://www.elbalad.news/6931291 | AC70: https://www.almasryalyoum.com/news/details/4242305
A71: 69 | B71: ابريل 2026 | C71: 46122 | D71: اقليم القاهرة الكبرى | E71: الجيزة | F71: حلوان | G71: عين حلوان | H71: حريق داخل شقة سكنية فى عين حلوان | I71: وحدة سكنية | J71: منشأة سكنية | K71: 0 | L71: انهيار جزئى لواجهة العقار | M71: مادية | N71: تسرب غاز | O71: قيد التحقيق | P71: تسرب مادة قابلة للاشتعال | Q71: سيارة اطفاء | R71: =T71+V71 -> 3 | T71: 3 | U71: غير محدد | V71: 0 | W71: غير محدد | Z71: أصيب 3 أشخاص إثر حريق داخل شقة سكنية فى عين حلوان، وحدث انهيار جزئى لواجهة العقار بسبب تسرب غاز أنبوبة بوتجاز، وتم نقل المصابين إلى المستشفى، والانتهاء من عمليات الإطفاء بالكامل. غرفة العمليات تلقت بلاغا بالحريق تلقت غرفة عمليات النجدة بلاغا من الأهالى بنشوب حريق داخل شقة سكنية فى عين حلوان وبناء على تعليمات اللواء الدكتور محمد الشربينى مدير الإدارة العامة للحماية المدنية بالقاهرة، انتقلت سيارات الإطفاء إلى المكان، وتمت عملية إخماد الحريق. معاينة الحريق وتبين من خلال الفحص حدوث تسرب غاز من أسطوانة بوتجاز وانهيار جزئى لواجهة عقار فى حلوان نتج عنها إصابة 3 أشخاص، وتم نقلهم إلى المستشفى، وقام رجال الحماية المدنية بالسيطرة على الحريق بالكامل ومنع خطر امتداده لباقى العقار، وتم اتخاذ الإجراءات القانونية اللازمة تجاه الواقعة. | AA71: https://www.youm7.com/story/2026/4/10/%D8%A8%D8%B3%D8%A8%D8%A8-%D8%AA%D8%B3%D8%B1%D8%A8-%D8%BA%D8%A7%D8%B2-%D9%85%D9%86-%D8%A3%D8%B3%D8%B7%D9%88%D8%A7%D9%86%D8%A9-%D8%A8%D9%88%D8%AA%D8%AC%D8%A7%D8%B2-%D8%A5%D8%B5%D8%A7%D8%A8%D8%A9-3-%D8%A3%D8%B4%D8%AE%D8%A7%D8%B5-%D8%A5%D8%AB%D8%B1/7372854 | AB71: https://www.youm7.com/story/2026/4/11/%D8%A7%D9%84%D9%85%D8%A8%D8%A7%D8%AD%D8%AB-%D8%AA%D8%B3%D8%AA%D9%85%D8%B9-%D9%84%D8%A3%D9%82%D9%88%D8%A7%D9%84-%D8%B4%D9%87%D9%88%D8%AF-%D8%A7%D9%84%D8%B9%D9%8A%D8%A7%D9%86-%D9%84%D9%83%D8%B4%D9%81-%D9%85%D9%84%D8%A7%D8%A8%D8%B3%D8%A7%D8%AA-%D8%AD%D8%B1%D9%8A%D9%82-%D8%B4%D9%82%D8%A9-%D8%B3%D9%83%D9%86%D9%8A%D8%A9/7373325
A72: 70 | B72: ابريل 2026 | C72: 46122 | D72: اقليم القناة | E72: السويس | F72: السويس | G72: طريق جنيفة الرابط بين محافظات القاهرة الكبرى والسويس | H72: انقلاب واشتعال سيارة نقل طريق جنيفة الرابط بين محافظات القاهرة الكبرى والسويس | I72: سيارة | J72: وسيلة نقل | K72: 0 | L72: اشتعال النيران بالسيارة | M72: لم يذكر | N72: قيد التحقيق | O72: قيد التحقيق | P72: قيد التحقيق | Q72: سيارة اطفاء | R72: =T72+V72 -> 2 | T72: 2 | U72: غير محدد | V72: 0 | W72: غير محدد | Z72: شهد طريق جنيفة الرابط بين محافظات القاهرة الكبرى والسويس حادث انقلاب واشتعال سيارة نقل، ما أدى إلى توقف الحركة المرورية جزئيًا، قبل أن تتدخل قوات الحماية المدنية للسيطرة على النيران وإعادة تسيير الطريق. تلقت الأجهزة المعنية بلاغًا بوقوع الحادث، وعلى الفور تم الدفع بسيارات الإطفاء إلى موقع البلاغ، حيث نجحت القوات في السيطرة على الحريق ومنع امتداده، مع اتخاذ الإجراءات اللازمة لتأمين المنطقة. وقع الحادث في نطاق الحدود الإدارية لمحافظة السويس، وأسفر عن إصابة شخصين جرى نقلهما بسيارات الإسعاف إلى أقرب مستشفى لتلقي العلاج. أخبار متعلقة ضبط كمية من المواد الغذائية واللحوم والدواجن غير صالحة للإستهلاك الادمي ضبط لحوم ودواجن غير صالحة للاستهلاك الآدمي خلال حملة بالسويس إحدى معديات قناة السويس الجديدة «سقطت من المعدية».. شاب ينقذ فتاة من الغرق في قناة السويس ببورسعيد صورة ارشيفية تنويه مهم لأهالي السويس.. قطع التيار الكهربائي عن هذه المناطق غدًا ويكثف رجال الحماية المدنية من جهودهم لرفع آثار الحادث من الطريق، تمهيدًا لإعادة الحركة المرورية إلى طبيعتها بشكل كامل. | AA72: https://www.almasryalyoum.com/news/details/4242534
A73: 71 | B73: ابريل 2026 | C73: 46122 | D73: اقليم القاهرة الكبرى | E73: القليوبية | F73: قسم اول شبرا | G73: مدينة التعاون بدائرة قسم أول شبرا الخيمة | H73: حريق شب داخل شقة سكنية بالطابق الاول علوى بمدينة التعاون بدائرة قسم أول شبرا الخيمة | I73: وحدة سكنية | J73: منشأة سكنية | K73: 0 | L73: لم يذكر | M73: لم يذكر | N73: قيد التحقيق | O73: قيد التحقيق | P73: قيد التحقيق | Q73: سيارة اطفاء | R73: =T73+V73 -> 0 | T73: 0 | U73: غير محدد | V73: 0 | W73: غير محدد | Z73: سيطرت قوات الحماية المدنية بالقليوبية على حريق شب داخل شقة سكنية بمدينة التعاون بدائرة قسم أول شبرا الخيمة، في محافظة القليوبية تم تحرير محضر بالواقعة وتولت النيابة العامة التحقيق. تلقي مدير إدارة الحماية المدنية بالقليوبية إخطارًا من غرفة عمليات الحماية المدنية بورود بلاغ بنشوب حريق داخل شقة سكنية بالطابق الاول علوى بدائرة قسم اول شبرا الخيمة. على الفور انتقلت قوات الحماية المدنية وتم الدفع بسيارات الإطفاء مدعمة بسيارات الاسعاف وتم السيطرة علي الحريق ومنع امتداده لباقي المبنى والعقارات المجاورة وفرض كردون أمنى بمحيط نشوب الحريق حفاظا على أرواح وسلامة المواطنين. أخبار متعلقة حريق مخزن مخلفات بلاستيك بالخانكة بدون خسائر بشرية .. السيطرة على حريق بمخزن بلاستيك بشبرا الخيمة حريق شقة فى شبرا الخيمة - صورة أرشيفية السيطرة على حريق بشقة في برج سكني بالقليوبية حريق بمحيط نقابة الصيادلة بالقليوبية حريق في محيط نقابة الصيادلة بالقليوبية.. والحماية المدنية تخمده وبالمعاينة الأولية، تبين أن الحريق نشب داخل الشقة سكنية بالطابق الاول علوى بمدينة التعاون بشبرا الخيمة. تم تحرير محضر بالواقعة وتولت النيابة العامة التحقيق وأمرت بانتداب المعمل الجنائي لبيان سبب الحريق واستعجال تحريات المباحث. | AA73: https://www.almasryalyoum.com/news/details/4242563 | AB73: https://www.elbalad.news/6932365
A74: 72 | B74: ابريل 2026 | C74: 46122 | D74: اقليم الدلتا | E74: المنوفية | F74: شبين الكوم | G74: هيئة السكة الحديد بالقرب من محطة قطار شبين الكوم القديم شبين الكوم.. | H74: نشوب حريق في بعض الغرف التابعة لهيئة السكة الحديد بالقرب من محطة قطار شبين الكوم القديم شبين الكوم.. | I74: بعض الغرف التابعة لهيئة السكة الحديد | J74: منشأة خدمية/ تعليمية | K74: 0 | L74: لم يذكر | M74: لم يذكر | N74: قيد التحقيق | O74: الحريق اشتعل في الهيش والبوص وامتد إلي الغرف | P74: ارتفاع درجات الحرارة | Q74: سيارة اطفاء | R74: =T74+V74 -> 0 | T74: 0 | U74: غير محدد | V74: 0 | W74: غير محدد | Z74: تمكنت قوات الحماية المدنية والاطفاء في محافظة المنوفية من السيطرة علي حريق ببعض الغرف التابعة لهيئة السكة الحديد بالقرب من محطة قطار شبين الكوم القديمة. تلقي اللواء علاء الجاحر مدير أمن المنوفية اخطارا من مركز شرطة شبين الكوم بنشوب حريق في بعض الغرف التابعة لهيئة السكة الحديد بالقرب من محطة قطار شبين الكوم القديم شبين الكوم.. شرخ بعظام الجمجمة .. ضبط شخص صطدم آخرا بإسكوتر كهربائي في المنوفيةشرخ بعظام الجمجمة .. ضبط شخص صطدم آخرا بإسكوتر كهربائي في المنوفية إزالات فورية للتعديات علي الأراضي الزراعية والمتغيرات المكانية في المنوفيةإزالات فورية للتعديات علي الأراضي الزراعية والمتغيرات المكانية في المنوفية بعمر يوم.. العثور على رضيع أمام مسجد في المنوفيةبعمر يوم.. العثور على رضيع أمام مسجد في المنوفية بعد واقعة المنوفية.. السجن المشدد عقوبة الإجهاض في القانونبعد واقعة المنوفية.. السجن المشدد عقوبة الإجهاض في القانون بانتقال قوات الحماية المدنية والاطفاء تم السيطرة علي الحريق وتبين أن الحريق اشتعل في الهيش والبوص وامتد إلي الغرف وتم السيطرة علي الحريق دون إصابات بشرية أو وفيات. وتم تحرير محضر بالواقعة وتولت النيابة العامة التحقيق. | AA74: https://www.elbalad.news/6931513
A75: 73 | B75: ابريل 2026 | C75: 46123 | D75: اقليم الاسكندرية | E75: الاسكندرية | F75: العامرية | G75: طريق برج العرب غرب الإسكندرية | H75: اشتعال النيران فى سيارة نقل ثقيل أعلى كوبرى استاد برج العرب بدائرة قسم ثان العامرية | I75: انقلاب سيارة نقل ثقيل واشتعال النيران بها | J75: وسيلة نقل | K75: 1 | L75: التهام النيران المركبة بالكامل | M75: مركبة | N75: انقلاب السيارة | O75: اختلال عجلة القيادة واصطدامها بجانب الطريق، ومن ثم انقلاب السيارة واشتعال النيران بها | P75: حادث مركبة | Q75: سيارة اطفاء | R75: =T75+V75 -> 0 | T75: 0 | U75: غير محدد | V75: 0 | W75: غير محدد | Z75: هد طريق برج العرب غرب الإسكندرية، فى ساعة مبكرة من صباح اليوم السبت، انقلاب سيارة نقل ثقيل واشتعال النيران بها، مما أدى إلى التهامها بالكامل، وذلك دون وقوع إصابات. بدأت الواقعة بتلقى الأجهزة الأمنية بمديرية أمن الإسكندرية إخطارا من مأمور قسم شرطة العامرية ثان، يفيد بورود بلاغ نجدة باشتعال النيران فى سيارة نقل ثقيل أعلى كوبرى استاد برج العرب بدائرة القسم. على الفور انتقل إلى موقع البلاغ مأمور وضباط القسم رفقة قوات الحماية المدنية وسيارات الإسعاف وضباط المرور، وكشفت المعاينة الأولية أنه أثناء سير السيارة بالطريق المشار إليه، حاول قائدها تخطى سيارة كانت تسير بجانبه، مما أدى لاختلال عجلة القيادة بيده واصطدامه بجانب الطريق، ومن ثم انقلاب السيارة. أخبار متعلقة تالجو وروسى وتحيا مصر.. جدول مواعيد قطارات «الإسكندرية - القاهرة» اليوم 11 أبريل 2026 "تالجو وروسي".. مواعيد قطارات «الإسكندرية - القاهرة» اليوم 11 أبريل 2026 «بلا حبال أمان ولا فرق إنقاذ من الغرق».. الاسكندرية تحذر المواطنين من النزول لـ 27 شاطئاً حفاظا على سلامتهم (الأسماء) «الناس هتروح فين؟!».. 27 شاطئًا محظورًا بالإسكندرية بسبب غياب الأمان بعد آخر انخفاض فى البنوك.. سعر الدولار مقابل الجنيه المصرى اليوم السبت 11-4-2026 بعد آخر انخفاض فى البنوك.. سعر الدولار مقابل الجنيه المصرى اليوم السبت 11-4-2026 وأضافت المعاينة أنه عقب انقلاب السيارة وبفعل قوة الارتطام، اشتعلت النيران بخزان الوقود، مما أدى لالتهام السيارة بالكامل دون وقوع أى إصابات. جرى محاصرة النيران وإخمادها، وإزالة آثار الحريق وإعادة الحركة المرورية لطبيعتها، وتحرر المحضر اللازم بالواقعة، وجار العرض على النيابة العامة لمباشرة التحقيق. | AA75: https://www.almasryalyoum.com/news/details/4242822
A76: 74 | B76: ابريل 2026 | C76: 46123 | D76: اقليم القاهرة الكبرى | E76: الجيزة | F76: المنيب | G76: المنيب | H76: مخلفات ونخيل وأشجار داخل أرض زراعية فى مزرعة القرب من كوبري القصبجي على طريق مصر–أسيوط الزراعي منطقة المنيب | I76: ارض زراعية | J76: مزرعة نباتية / زراعية | K76: 0 | L76: لم يذكر | M76: لم يذكر | N76: قيد التحقيق | O76: قيد التحقيق | P76: قيد التحقيق | Q76: سيارة اطفاء | R76: =T76+V76 -> 0 | T76: 0 | U76: غير محدد | V76: 0 | W76: غير محدد | Z76: تمكن رجال الحماية المدنية من السيطرة على حريق مخلفات ونخيل وأشجار داخل أرض زراعية فى مزرعة بمنطقة المنيب وتم منع خطر امتدادها. One minute around the Atlantis - The Palm - Dubai 00:00 Previous Pause Next 00:23 / 01:30 Mute Fullscreen Copy video url Play / Pause Mute / Unmute Report a problem Language Share Vidverto Player وكان حريق نشب فى مخلفات وأشجار ونخيل فى قطعة أرض زراعية فى مزرعة بمنطقة المنيب وانتقلت سيارات الإطفاء إلى المكان لمحاولة السيطرة على الحريق. وتلقت غرفة عمليات النجدة، بلاغا من الأهالى بنشوب حريق داخل أرض زراعية فى المنيب وعلى الفور انتقلت سيارات الإطفاء إلى المكان وتبين اندلاع النيران فى أشجار ونخيل ومخالفات على مساحة كبيرة فى المنيب ويقوم رجال الحماية المدنية بمحاولات السيطرة على الحريق ومنع امتداده للمجاورات. | AA76: https://www.youm7.com/story/2026/4/11/%D8%A7%D9%84%D8%AD%D9%85%D8%A7%D9%8A%D8%A9-%D8%A7%D9%84%D9%85%D8%AF%D9%86%D9%8A%D8%A9-%D8%AA%D8%B3%D9%8A%D8%B7%D8%B1-%D8%B9%D9%84%D9%89-%D8%AD%D8%B1%D9%8A%D9%82-%D8%A3%D8%B4%D8%AC%D8%A7%D8%B1-%D8%A7%D9%84%D9%85%D9%86%D9%8A%D8%A8/7373339 | AB76: https://www.youm7.com/story/2026/4/11/%D8%A7%D9%84%D8%AD%D9%85%D8%A7%D9%8A%D8%A9-%D8%A7%D9%84%D9%85%D8%AF%D9%86%D9%8A%D8%A9-%D8%AA%D9%83%D8%AB%D9%81-%D8%AC%D9%87%D9%88%D8%AF%D9%87%D8%A7-%D9%84%D8%A5%D8%AE%D9%85%D8%A7%D8%AF-%D8%AD%D8%B1%D9%8A%D9%82-%D8%A7%D9%84%D9%85%D9%86%D9%8A%D8%A8-%D9%88%D9%85%D9%86%D8%B9-%D8%A7%D9%85%D8%AA%D8%AF%D8%A7%D8%AF%D9%87-%D9%81%D9%8A%D8%AF%D9%8A%D9%88/7373337 | AC76: https://www.youm7.com/story/2026/4/11/%D8%B4%D8%A7%D9%87%D8%AF-%D8%AD%D8%B1%D9%8A%D9%82-%D8%B6%D8%AE%D9%85-%D9%8A%D9%84%D8%AA%D9%87%D9%85-%D9%85%D8%AE%D9%84%D9%81%D8%A7%D8%AA-%D9%88%D8%A3%D8%B4%D8%AC%D8%A7%D8%B1-%D9%81%D9%8A-%D8%A7%D9%84%D9%85%D9%86%D9%8A%D8%A8-%D9%88%D8%AA%D8%AD%D8%B1%D9%83-%D8%B9%D8%A7%D8%AC%D9%84/7373336 | AD76: https://www.youm7.com/story/2026/4/11/%D8%A7%D9%84%D8%AF%D9%81%D8%B9-%D8%A8%D9%804-%D8%B3%D9%8A%D8%A7%D8%B1%D8%A7%D8%AA-%D9%84%D8%A5%D8%B7%D9%81%D8%A7%D8%A1-%D8%AD%D8%B1%D9%8A%D9%82-%D9%85%D8%AE%D9%84%D9%81%D8%A7%D8%AA-%D9%88%D8%A3%D8%B4%D8%AC%D8%A7%D8%B1-%D9%81%D9%89-%D9%85%D9%86%D8%B7%D9%82%D8%A9-%D8%A7%D9%84%D9%85%D9%86%D9%8A%D8%A8/7373328 | AE76: https://www.youm7.com/story/2026/4/11/%D8%A7%D9%84%D9%86%D9%8A%D8%A7%D8%A8%D8%A9-%D8%AA%D8%A8%D8%A7%D8%B4%D8%B1-%D8%A7%D9%84%D8%AA%D8%AD%D9%82%D9%8A%D9%82-%D9%81%D9%89-%D8%AD%D8%B1%D9%8A%D9%82-%D9%85%D8%B2%D8%B1%D8%B9%D8%A9-%D8%A8%D8%A7%D9%84%D9%85%D9%86%D9%8A%D8%A8/7374268 | AF76: https://www.youm7.com/story/2026/4/11/%D8%A7%D9%86%D8%AF%D9%84%D8%A7%D8%B9-%D8%AD%D8%B1%D9%8A%D9%82-%D9%85%D8%AE%D9%84%D9%81%D8%A7%D8%AA-%D9%88%D8%A3%D8%B4%D8%AC%D8%A7%D8%B1-%D9%81%D9%89-%D9%85%D9%86%D8%B7%D9%82%D8%A9-%D8%A7%D9%84%D9%85%D9%86%D9%8A%D8%A8-%D8%B5%D9%88%D8%B1/7373321 | AG76: https://www.almasryalyoum.com/news/details/4242676 | AH76: https://www.almasryalyoum.com/news/details/4242669 | AI76: https://www.almasryalyoum.com/news/details/4242661 | AJ76: https://www.almasryalyoum.com/news/details/4242639 | AK76: https://www.elbalad.news/6931839 | AL76: https://www.elbalad.news/6931905 | AM76: https://www.almasryalyoum.com/news/details/4243134
A77: 75 | B77: ابريل 2026 | C77: 46123 | D77: اقليم القاهرة الكبرى | E77: الجيزة | F77: الحوامدية | G77: الحوامدية | H77: حريق اشتعل بمخزن، وامتد لواجهة محل كشري في الحوامدية | I77: مخزن | J77: منشأة تجارية | K77: 1 | L77: بعض محتويات المخزن وواجهة محل مجاور | M77: مادية | N77: قيد التحقيق | O77: اشتعال النيران بمخزن بالطابق الأول، وامتداده لواجهة محل كشري، بالطابق الأرضي بالعقار | P77: قيد التحقيق | Q77: سيارة اطفاء | R77: =T77+V77 -> 0 | T77: 0 | U77: غير محدد | V77: 0 | W77: غير محدد | Z77: سيطر رجال الحماية المدنية بالجيزة، على حريق اشتعل بمخزن، وامتد لواجهة محل كشري في الحوامدية، وجاري تكثيف التحريات لكشف ملابسات اشتعاله، وأخطرت النيابة للتحقيق. Wadi Rum fly over... 01:21 Previous Pause Next 00:12 / 01:41 Mute Fullscreen Copy video url Play / Pause Mute / Unmute Report a problem Language Share Vidverto Player بلاغ باشتعال حريق بمخزن أعلى محل كشري تلقت غرفة النجدة بمديرية أمن الجيزة، بلاغا باندلاع حريق بمخزن، أعلى محل في الحوامدية، انتقل رجال المباحث لمكان البلاغ، وتبين من خلال الفحص اشتعال النيران بمخزن بالطابق الأول، وامتداده لواجهة محل كشري، بالطابق الأرضي بالعقار، وتم الاستعانة برجال الحماية المدنية، حيث تمكنوا من إخماد الحريق. الاستماع لأقوال العاملين بالمحل ويستمع رجال المباحث لأقوال العاملين بالمحل، لكشف سبب اندلاعه، تمهيدا لإجراء معاينة وإخطار النيابة المختصة للتحقيق. | AA77: https://www.youm7.com/story/2026/4/11/%D8%A7%D9%84%D8%B3%D9%8A%D8%B7%D8%B1%D8%A9-%D8%B9%D9%84%D9%89-%D8%AD%D8%B1%D9%8A%D9%82-%D8%A7%D8%B4%D8%AA%D8%B9%D9%84-%D8%A8%D9%85%D8%AE%D8%B2%D9%86-%D9%88%D9%88%D8%A7%D8%AC%D9%87%D8%A9-%D9%85%D8%AD%D9%84-%D9%83%D8%B4%D8%B1%D9%89-%D9%81%D9%89-%D8%A7%D9%84%D8%AD%D9%88%D8%A7%D9%85%D8%AF%D9%8A%D8%A9/7373768 | AB77: https://www.youm7.com/story/2026/4/11/%D8%A7%D9%84%D8%AD%D9%85%D8%A7%D9%8A%D8%A9-%D8%A7%D9%84%D9%85%D8%AF%D9%86%D9%8A%D8%A9-%D8%AA%D8%B3%D9%8A%D8%B7%D8%B1-%D8%B9%D9%84%D9%89-%D8%AD%D8%B1%D9%8A%D9%82-%D8%A8%D9%85%D8%AE%D8%B2%D9%86-%D8%A3%D8%B9%D9%84%D9%89-%D9%85%D8%AD%D9%84-%D9%83%D8%B4%D8%B1%D9%8A-%D9%81%D9%8A/7373720 | AC77: https://www.elbalad.news/6932297 | AD77: https://www.almasryalyoum.com/news/details/4243341 | AE77: https://www.youm7.com/story/2026/4/12/%D8%AA%D8%AD%D8%B1%D9%8A%D8%A7%D8%AA-%D9%84%D9%83%D8%B4%D9%81-%D8%B3%D8%A8%D8%A8-%D8%A7%D8%B4%D8%AA%D8%B9%D8%A7%D9%84-%D8%AD%D8%B1%D9%8A%D9%82-%D8%A8%D9%85%D8%AE%D8%B2%D9%86-%D9%88%D9%85%D8%AD%D9%84-%D9%81%D9%89-%D8%A7%D9%84%D8%AD%D9%88%D8%A7%D9%85%D8%AF%D9%8A%D8%A9/7374877
A78: 76 | B78: ابريل 2026 | C78: 46123 | D78: اقليم القاهرة الكبرى | E78: الجيزة | F78: الوراق | G78: الوراق | H78: حريق اشتعل بمحل تجاري، بمنطقة الوراق | I78: محل تجاري | J78: منشأة تجارية | K78: 1 | L78: بعض محتويات المحل | M78: مادية | N78: قيد التحقيق | O78: قيد التحقيق | P78: قيد التحقيق | Q78: سيارة اطفاء | R78: =T78+V78 -> 0 | T78: 0 | U78: غير محدد | V78: 0 | W78: غير محدد | Z78: سيطر رجال الحماية المدنية بالجيزة، على حريق اشتعل بمحل تجاري، بمنطقة الوراق، صباح اليوم السبت، دون إصابات، وتم اتخاذ الإجراءات القانونية اللازمة، وباشرت النيابة التحقيق. Wadi Rum fly over... 01:30 Previous Pause Next 00:24 / 01:41 Mute Fullscreen Copy video url Play / Pause Mute / Unmute Report a problem Language Share Vidverto Player بلاغ باشتعال حريق بمحل تجاري ورد بلاغ لمديرية أمن الجيزة، باشتعال الحريق في محل تجاري بالوراق، انتقلت قوة أمنية لمكان البلاغ، وتم الاستعانة برجال الحماية المدنية، الذين تمكنوا من إخماد النيران دون إصابات. تحريات لكشف سبب الحريق استمع رجال المباحث لأقوال مالكا لمحل، وجاري تكثيف التحريات لكشف سبب اشتعاله، وتحرر محضر بالواقعة، لتتولى النيابة المختصة التحقيق. | AA78: https://www.youm7.com/story/2026/4/11/%D8%A5%D8%AE%D9%85%D8%A7%D8%AF-%D8%AD%D8%B1%D9%8A%D9%82-%D8%A7%D8%B4%D8%AA%D8%B9%D9%84-%D8%A8%D9%85%D8%AD%D9%84-%D8%AA%D8%AC%D8%A7%D8%B1%D9%89-%D8%AF%D9%88%D9%86-%D8%A5%D8%B5%D8%A7%D8%A8%D8%A7%D8%AA-%D9%81%D9%89-%D8%A7%D9%84%D9%88%D8%B1%D8%A7%D9%82-%D8%B5%D9%88%D8%B1/7373500 | AB78: https://www.elbalad.news/6932365
A79: 77 | B79: ابريل 2026 | C79: 46123 | D79: اقليم القاهرة الكبرى | E79: الجيزة | F79: اطفيح | G79: منزل بمدينة اطفيح | H79: منزل باطفيح | I79: منزل | J79: منشأة سكنية | K79: 0 | L79: لم يذكر | M79: لم يذكر | N79: قيد التحقيق | O79: قيد التحقيق | P79: قيد التحقيق | Q79: سيارة اطفاء | R79: =T79+V79 -> 0 | T79: 0 | U79: غير محدد | V79: 0 | W79: غير محدد | Z79: اندلع حريق داخل منزل فى منطقة أطفيح، وعلى الفور تمت السيطرة عليه دون إصابات وتولت النيابة المختصة التحقيقات. غرفة العمليات تلقت بلاغا بالحريق تلقت غرفة عمليات النجدة ،بلاغا من الأهالى بنشوب حريق داخل منزل فى منطقة أطفيح ، وعلي الفور انتقلت سيارات الاطفاء الي المكان وتمت عملية إخماد الحريق. ويستمع رجال المباحث بمديرية أمن الجيزة، لأقوال شهود العيان وقاطنى المنزل لكشف ملابسات الواقعة، وتم اتخاذ الإجراءات القانونية اللازمة تجاه الواقعة. | AA79: https://www.youm7.com/story/2026/4/11/%D8%A5%D8%AE%D9%85%D8%A7%D8%AF-%D8%AD%D8%B1%D9%8A%D9%82-%D8%AF%D8%A7%D8%AE%D9%84-%D9%85%D9%86%D8%B2%D9%84-%D9%81%D9%89-%D8%A3%D8%B7%D9%81%D9%8A%D8%AD-%D8%AF%D9%88%D9%86-%D8%A5%D8%B5%D8%A7%D8%A8%D8%A7%D8%AA/7374113 | AB79: https://www.youm7.com/story/2026/4/11/%D8%A5%D8%AE%D9%84%D8%A7%D8%A1-%D8%A7%D9%84%D9%85%D8%B1%D8%B6%D9%89-%D9%85%D9%86-%D8%A3%D8%AD%D8%AF-%D8%B7%D9%88%D8%A7%D8%A8%D9%82-%D9%85%D8%B3%D8%AA%D8%B4%D9%81%D9%89-%D8%A7%D9%84%D9%82%D8%B5%D8%B1-%D8%A7%D9%84%D8%B9%D9%8A%D9%86%D9%89-%D9%84%D8%AD%D9%8A%D9%86-%D8%A7%D9%86%D8%AA%D9%87%D8%A7%D8%A1/7374065 | AC79: https://www.youm7.com/story/2026/4/11/%D8%A5%D8%AE%D9%85%D8%A7%D8%AF-%D8%AD%D8%B1%D9%8A%D9%82-%D9%85%D8%AD%D8%AF%D9%88%D8%AF-%D8%AF%D8%A7%D8%AE%D9%84-%D9%85%D8%B3%D8%AA%D8%B4%D9%81%D9%89-%D8%A7%D9%84%D9%82%D8%B5%D8%B1-%D8%A7%D9%84%D8%B9%D9%8A%D9%86%D9%89/7374061
A80: 78 | B80: ابريل 2026 | C80: 46123 | D80: اقليم القاهرة الكبرى | E80: القاهرة | F80: مصر القديمة | G80: مستشفى قصر العيني بحي مصر القديمة | H80: حريق محدود نشب بوحدة التكييف المركزي أعلى سطح مبنى الاستقبال بمستشفى قصر العيني بحي مصر القديمة | I80: وحدة التكييف المركزي بالدور السادس أعلى سطح الاستقبال | J80: منشأة خدمية/ تعليمية | K80: 0 | L80: احتراق وحدة التكييف المركزي وبعض الاثاث المجاور | M80: اثاث وتجهيزات | N80: ماس كهربي | O80: نشوب حريق في وحدة التكييف المركزي بالدور السادس أعلى سطح الاستقبال | P80: ماس كهربائي | Q80: سيارات الاطفاء | R80: =T80+V80 -> 0 | T80: 0 | U80: غير محدد | V80: 0 | W80: غير محدد | Z80: بدأت الواقعة بتلقي مركز السيطرة للشبكة الوطنية للطوارئ والسلامة العامة بمحافظة القاهرة بلاغاً يفيد بنشوب حريق في وحدة التكييف المركزي بالدور السادس أعلى سطح الاستقبال. وعلى الفور، انتقلت الأجهزة التنفيذية ومسئولو حي مصر القديمة إلى موقع البلاغ بالتنسيق مع الجهات المعنية. ​4 سيارات إطفاء لإخماد النيران ​دفعت الإدارة العامة للحماية المدنية بـ 4 سيارات إطفاء تمكنت من محاصرة النيران ومنع امتدادها لباقي طوابق المبنى أو الأقسام المجاورة. وتجري حالياً أعمال التبريد المكثف لضمان عدم تجدد اشتعال النيران، وسط تواجد أمني وتنفيذي بمحيط المستشفى. ​لجنة هندسية ومعاينة جنائية ​وفي إطار الإجراءات القانونية والفنية، قرر محافظ القاهرة تشكيل لجنة هندسية متخصصة لبيان مدى تأثر مبنى المستشفى بالحريق من الناحية الإنشائية. كما وجه المحافظ بسرعة إزالة آثار الحريق فور انتهاء النيابة العامة والبحث الجنائي من المعاينة والوقوف على الأسباب الفنية لاندلاع النيران. | AA80: https://www.youm7.com/story/2026/4/11/%E2%80%8B%D9%85%D8%AD%D8%A7%D9%81%D8%B8-%D8%A7%D9%84%D9%82%D8%A7%D9%87%D8%B1%D8%A9-%D8%A7%D9%84%D8%B3%D9%8A%D8%B7%D8%B1%D8%A9-%D8%B9%D9%84%D9%89-%D8%AD%D8%B1%D9%8A%D9%82-%D8%AA%D9%83%D9%8A%D9%8A%D9%81-%D9%82%D8%B5%D8%B1-%D8%A7%D9%84%D8%B9%D9%8A%D9%86%D9%8A-%D8%AF%D9%88%D9%86-%D8%A5%D8%B5%D8%A7%D8%A8%D8%A7%D8%AA/7374132 | AB80: https://www.youm7.com/story/2026/4/11/%D8%A7%D9%84%D9%85%D8%A8%D8%A7%D8%AD%D8%AB-%D8%AA%D8%B3%D8%AA%D9%85%D8%B9-%D9%84%D8%A3%D9%82%D9%88%D8%A7%D9%84-%D8%B4%D9%87%D9%88%D8%AF-%D8%A7%D9%84%D8%B9%D9%8A%D8%A7%D9%86-%D9%84%D9%83%D8%B4%D9%81-%D9%85%D9%84%D8%A7%D8%A8%D8%B3%D8%A7%D8%AA-%D8%AD%D8%B1%D9%8A%D9%82-%D9%85%D8%B3%D8%AA%D8%B4%D9%81%D9%89-%D9%82%D8%B5%D8%B1/7374089 | AC80: https://www.youm7.com/story/2026/4/11/%D8%AA%D9%81%D8%A7%D8%B5%D9%8A%D9%84-%D8%A7%D9%84%D8%B3%D9%8A%D8%B7%D8%B1%D8%A9-%D8%B9%D9%84%D9%89-%D8%AD%D8%B1%D9%8A%D9%82-%D9%85%D8%AD%D8%AF%D9%88%D8%AF-%D8%A8%D8%A7%D9%84%D9%82%D8%B5%D8%B1-%D8%A7%D9%84%D8%B9%D9%8A%D9%86%D9%89-%D9%88%D8%A7%D8%B3%D8%AA%D9%85%D8%B1%D8%A7%D8%B1-%D8%A7%D8%B3%D8%AA%D9%82%D8%A8%D8%A7%D9%84-%D8%A7%D9%84%D9%85%D8%B1%D8%B6%D9%89/7374252 | AD80: https://www.youm7.com/story/2026/4/11/%D8%AD%D8%B1%D9%8A%D9%82-%D9%82%D8%B5%D8%B1-%D8%A7%D9%84%D8%B9%D9%8A%D9%86%D9%89-%D8%B1%D8%A6%D9%8A%D8%B3-%D8%AC%D8%A7%D9%85%D8%B9%D8%A9-%D8%A7%D9%84%D9%82%D8%A7%D9%87%D8%B1%D8%A9-%D9%8A%D9%83%D8%B4%D9%81-%D8%A7%D9%84%D8%AA%D9%81%D8%A7%D8%B5%D9%8A%D9%84-%D9%83%D8%A7%D9%85%D9%84%D8%A9/7374266 | AE80: https://www.youm7.com/story/2026/4/11/%D8%A8%D8%B9%D8%AF-%D8%AD%D8%B1%D9%8A%D9%82-%D9%85%D8%AD%D8%AF%D9%88%D8%AF-%D8%A8%D8%B7%D9%88%D8%A7%D8%B1%D8%A6-%D9%82%D8%B5%D8%B1-%D8%A7%D9%84%D8%B9%D9%8A%D9%86%D9%89-%D8%B1%D8%A6%D9%8A%D8%B3-%D8%AC%D8%A7%D9%85%D8%B9%D8%A9-%D8%A7%D9%84%D9%82%D8%A7%D9%87%D8%B1%D8%A9-%D9%8A%D8%B7%D9%85%D8%A6%D9%86/7374221 | AF80: https://www.youm7.com/story/2026/4/11/%D8%A7%D9%84%D9%85%D8%B9%D8%A7%D9%8A%D9%86%D8%A9-%D9%85%D8%A7%D8%B3-%D9%83%D9%87%D8%B1%D8%A8%D9%89-%D9%88%D8%B1%D8%A7%D8%A1-%D8%AD%D8%B1%D9%8A%D9%82-%D9%85%D8%AD%D8%AF%D9%88%D8%AF-%D8%A8%D8%B3%D8%B7%D8%AD-%D9%88%D8%A8%D8%AF%D9%88%D8%B1%D9%85-%D9%85%D8%B3%D8%AA%D8%B4%D9%81%D9%89-%D9%82%D8%B5%D8%B1/7374169 | AG80: https://www.youm7.com/story/2026/4/11/%D8%AD%D8%B1%D9%8A%D9%82-%D9%85%D8%B3%D8%AA%D8%B4%D9%81%D9%89-%D9%82%D8%B5%D8%B1-%D8%A7%D9%84%D8%B9%D9%8A%D9%86%D9%89-%D8%B9%D9%85%D9%8A%D8%AF-%D8%A7%D9%84%D9%83%D9%84%D9%8A%D8%A9-%D8%A7%D8%B3%D8%AA%D9%85%D8%B1%D8%A7%D8%B1-%D8%AA%D9%82%D8%AF%D9%8A%D9%85-%D8%A7%D9%84%D8%AE%D8%AF%D9%85%D8%A7%D8%AA-%D9%84%D9%84%D9%85%D8%B1%D8%B6%D9%89/7374158 | AH80: https://www.youm7.com/story/2026/4/11/%D8%A7%D9%84%D8%B3%D9%8A%D8%B7%D8%B1%D8%A9-%D8%B9%D9%84%D9%89-%D8%AD%D8%B1%D9%8A%D9%82-%D9%85%D8%B3%D8%AA%D8%B4%D9%81%D9%8A%D8%A7%D8%AA-%D9%82%D8%B5%D8%B1-%D8%A7%D9%84%D8%B9%D9%8A%D9%86%D9%89-%D9%88%D8%B1%D8%A6%D9%8A%D8%B3-%D8%A7%D9%84%D8%AC%D8%A7%D9%85%D8%B9%D8%A9-%D9%88%D8%B9%D9%85%D9%8A%D8%AF-%D8%A7%D9%84%D9%83%D9%84%D9%8A%D8%A9/7374152 | AI80: https://www.elbalad.news/6932830 | AJ80: https://www.elbalad.news/6932713 | AK80: https://www.elbalad.news/6932585 | AL80: https://www.elbalad.news/6932719 | AM80: https://www.elbalad.news/6932556 | AN80: https://www.almasryalyoum.com/news/details/4243324 | AO80: https://www.elbalad.news/6932701 | AP80: https://www.almasryalyoum.com/news/details/4243259 | AQ80: https://www.almasryalyoum.com/news/details/4243232 | AR80: https://www.almasryalyoum.com/news/details/4243143 | AS80: https://www.almasryalyoum.com/news/details/4243139 | AT80: https://www.almasryalyoum.com/news/details/4243133
A81: 79 | B81: ابريل 2026 | C81: 46123 | D81: اقليم وسط الصعيد | E81: الوادي الجديد | F81: الخارجة | G81: منطقة عين ياسين بزمام مركز الخارجة | H81: مزارع النخيل فى منطقة تسمى عين ياسين بزمام مركز الخارجة | I81: مزارع النخيل | J81: مزرعة نباتية / زراعية | K81: 1 | L81: التهام النيران عدد من أشجار النخيل ومساحات من الحشائش الجافة بمحيط زراعات النخيل | M81: زراعي | N81: قيد التحقيق | O81: التهمت النيران عدد من أشجار النخيل ومساحات من الحشائش الجافة بمحيط زراعات النخيل | P81: ارتفاع درجات الحرارة | Q81: سيارات الاطفاء | R81: =T81+V81 -> 0 | T81: 0 | U81: غير محدد | V81: 0 | W81: غير محدد | Z81: سيطرت قوات الحماية المدنية فى الوادى الجديد على حريق اندلع فى مزارع النخيل فى منطقة تسمى عين ياسين بزمام مركز الخارجة، اليوم السبت. كان اللواء وليد منصور مدير أمن الوادى الجديد، قد تلقى بلاغاً يفيد نشوب حريق فى منطقة زراعات ونخيل جنوب مدينة الخارجة، وعلى الفور انتقلت سيارات الحماية المدنية والإطفاء التابعة للسيطرة على الحريق الذى التهم عدد من أشجار النخيل ومساحات من الحشائش الجافة بمحيط زراعات النخيل جار حصرها. وتواصل الحماية المدنية السيطرة وإخماد الحريق خشية امتداده إلى حظائر الماشية وعنابر الدواجن وأشجار النخيل ومساحات القمح بالمناطق المجاورة. أخبار متعلقة توريد أكثر من 170 ألف طن من القمح حتى الآن في الوادي الجديد صوامع الخارجة تستقبل 170 ألف طن قمح من مزارعي الوادي الجديد محافظ الوادى الجديد تفتتح مركز الخدمة التموينية المطور بقرية القصر بالداخلة وبتكلفة 12.2 مليون جنيه مجهز بأحدث التقنيات.. افتتاح مركز الخدمة التموينية المطور بقرية القصر في الوادي الجديد بالتعاون مع هيئة الطاقة الذرية ،،، محافظ الوادي الجديد تتابع نتائج تجربة إكثار أصناف القمح عالية الجودة الكشف عن نتائج تجربة لإكثار أصناف قمح عالية الإنتاج في الوادي الجديد وتم تحرير محضر بالواقعة واخطرت النيابة العامة لمباشرة التحقيقات. 00:00 Play Mute Fullscreen Copy video url Play / Pause Mute / Unmute Report a problem Language Share Vidverto Player advertisement | AA81: https://www.almasryalyoum.com/news/details/4242999
A82: 80 | B82: ابريل 2026 | C82: 46123 | D82: اقليم جنوب الصعيد | E82: قنا | F82: نجع حمادي | G82: قرية الشرقي بهجورة التابعة لمركز نجع حمادي شمال قنا | H82: حريق نشب بمنزلين، في قرية الشرقي بهجورة التابعة لمركز نجع حمادي شمال قنا | I82: منزلين | J82: منشأة سكنية | K82: 0 | L82: التهام بعض محتويات المنزلين | M82: اثاث | N82: قيد التحقيق | O82: قيد التحقيق | P82: قيد التحقيق | Q82: سيارة اطفاء | R82: =T82+V82 -> 0 | T82: 0 | U82: غير محدد | V82: 0 | W82: غير محدد | Z82: تمكنت قوات الحماية المدينة بقنا، اليوم السبت، من السيطرة على حريق نشب داخل منزلين، في قرية الشرقي بهجورة التابعة لمركز نجع حمادي شمال قنا، دون إصابات. Dubai Dunes in one Minute 01:20 Previous Pause Next 00:08 / 01:48 Mute Fullscreen Copy video url Play / Pause Mute / Unmute Report a problem Language Share Vidverto Player نشوب حريق داخل منزلين تلقت الأجهزة الأمنية بمديرية أمن قنا، إخطارًا من غرفة العمليات يفيد السيطرة على حريق نشب داخل منزلين، في قرية الشرقي بهجورة التابعة لمركز نجع حمادي شمال قنا. تحرر محضر بالواقعة وأخطرت الجهات المختصة لتتولى التحقيقات والتي كلفت وحدة المباحث بالتحري حول الواقعة وكشف ملابساتها وتم السيطرة على الحريق قبل امتداده للأماكن المجاورة. | AA82: https://www.youm7.com/story/2026/4/11/%D8%A7%D9%84%D8%B3%D9%8A%D8%B7%D8%B1%D8%A9-%D8%B9%D9%84%D9%89-%D8%AD%D8%B1%D9%8A%D9%82-%D8%AF%D8%A7%D8%AE%D9%84-%D9%85%D9%86%D8%B2%D9%84%D9%8A%D9%86-%D9%81%D9%8A-%D9%86%D8%AC%D8%B9-%D8%AD%D9%85%D8%A7%D8%AF%D9%8A-%D8%A8%D9%82%D9%86%D8%A7/7374163
A83: 81 | B83: ابريل 2026 | C83: 46124 | D83: اقليم جنوب الصعيد | E83: اسوان | F83: بنبان | G83: مشروع الرقبة بمنطقة بنبان للطاقة الشمسية، بمحافظة أسوان | H83: مخزن بمشروع الرقبة بمنطقة بنبان للطاقة الشمسية، بمحافظة أسوان | I83: مخزن | J83: منشأة تجارية | K83: 1 | L83: خسائر مادية في بعض شاشات الطاقة الشمسية | M83: معدات | N83: قيد التحقيق | O83: قيد التحقيق | P83: قيد التحقيق | Q83: سيارات الاطفاء | R83: =T83+V83 -> 0 | T83: 0 | U83: غير محدد | V83: 0 | W83: غير محدد | Z83: شهد مشروع الرقبة بمنطقة بنبان للطاقة الشمسية، بمحافظة أسوان، نشوب حريق في عدد من شاشات الطاقة الشمسية، داخل مخزن، ما استدعى تحرك قوات الحماية المدنية للسيطرة على الموقف. One minute around the Atlantis - The Palm - Dubai 00:00 Previous Pause Next 00:50 / 01:30 Mute Fullscreen Copy video url Play / Pause Mute / Unmute Report a problem Language Share Vidverto Player السيطرة على الحريق دفعت قوات الحماية المدنية بـ4 سيارات إطفاء إلى موقع الحريق، وتمكنت من محاصرة النيران وإخمادها في وقت قياسي، قبل امتدادها لباقي مكونات المشروع. الخسائر الأولية أسفر الحريق عن خسائر مادية في بعض شاشات الطاقة الشمسية، دون وقوع أي إصابات بين العاملين أو المتواجدين بالموقع، وفقًا للتقارير الأولية. التحقيقات الجارية وتكثف الأجهزة الأمنية من تحرياتها حاليًا لبيان أسباب وملابسات الحريق، وبيان ما إذا كان هناك شبهة جنائية من عدمه، مع اتخاذ الإجراءات اللازمة. | AA83: https://www.youm7.com/story/2026/4/12/%D8%A7%D9%84%D8%B3%D9%8A%D8%B7%D8%B1%D8%A9-%D8%B9%D9%84%D9%89-%D8%AD%D8%B1%D9%8A%D9%82-%D8%B4%D8%A7%D8%B4%D8%A7%D8%AA-%D8%A7%D9%84%D8%B7%D8%A7%D9%82%D8%A9-%D8%A7%D9%84%D8%B4%D9%85%D8%B3%D9%8A%D8%A9-%D9%81%D9%89-%D9%85%D8%B4%D8%B1%D9%88%D8%B9-%D8%A7%D9%84%D8%B1%D9%82%D8%A8%D8%A9-%D8%A8%D8%A3%D8%B3%D9%88%D8%A7%D9%86/7375199 | AB83: https://www.almasryalyoum.com/news/details/4244041
A84: 82 | B84: ابريل 2026 | C84: 46124 | D84: اقليم القاهرة الكبرى | E84: الجيزة | F84: الهرم | G84: الهرم | H84: صالة ألعاب رياضية بمنطقة الهرم | I84: صالة العاب رياضية | J84: منشأة تجارية | K84: 0 | L84: لم يذكر | M84: لم يذكر | N84: قيد التحقيق | O84: قيد التحقيق | P84: قيد التحقيق | Q84: سيارة اطفاء بالاضافة لعمليات التبريد | R84: =T84+V84 -> 0 | T84: 0 | U84: غير محدد | V84: 0 | W84: غير محدد | Z84: تمكن رجال الحماية المدنية من السيطرة على حريق داخل صالة ألعاب رياضية بمنطقة الهرم بدون وقوع أي إصابات. تلقت غرفة عمليات الحماية المدنية إشارة من إدارة شرطة النجدة بتصاعد ادخنة داخل صالة العاب رياضية فى الهرم . وانتقل رجال الحماية المدنية الي المكان وتبين بالفحص نشوب حريق بصالة ألعاب رياضية دون إصابات. وتمكن رجال الإطفاء على محاصرة النيران وتنفيذ عملية التبريد بعدها لمنع تجدد الحريق. | AA84: https://www.youm7.com/story/2026/4/12/%D8%A5%D8%AE%D9%85%D8%A7%D8%AF-%D8%AD%D8%B1%D9%8A%D9%82-%D8%AF%D8%A7%D8%AE%D9%84-%D8%B5%D8%A7%D9%84%D8%A9-%D8%A3%D9%84%D8%B9%D8%A7%D8%A8-%D8%B1%D9%8A%D8%A7%D8%B6%D9%8A%D8%A9-%D9%81%D9%8A-%D8%A7%D9%84%D9%87%D8%B1%D9%85-%D8%AF%D9%88%D9%86-%D8%A5%D8%B5%D8%A7%D8%A8%D8%A7%D8%AA/7375131
A85: 83 | B85: ابريل 2026 | C85: 46124 | D85: اقليم القاهرة الكبرى | E85: الجيزة | F85: الهرم | G85: الهرم | H85: محل تجاري بمنطقة الهرم | I85: محل تجاري | J85: منشأة تجارية | K85: 0 | L85: بعض محتويات المحل | M85: مادية | N85: قيد التحقيق | O85: قيد التحقيق | P85: قيد التحقيق | Q85: سيارة اطفاء | R85: =T85+V85 -> 0 | T85: 0 | U85: غير محدد | V85: 0 | W85: غير محدد | Z85: اشتعل حريق بمحل تجاري، في منطقة الهرم ، وتمكن رجال الحماية المدنية من محاصرة النيران وإخمادها دون إصابات، وتحرر محضر بالواقعة، لتتولى النيابة المختصة التحقيق. Wadi Rum fly over... 01:29 Previous Pause Next 00:04 / 01:41 Mute Fullscreen Copy video url Play / Pause Mute / Unmute Report a problem Language Share Vidverto Player تفاصيل اشتعال حريق بمحل في الهرم ورد بلاغ، يفيد باشتعال حريق بمحل تجاري، في الهرم، انتقل رجال الحماية المدنية إلى مكان البلاغ، وتمكنوا من محاصرة النيران وإخمادها دون إصابات، قبل امتدادها للعقارات المجاورة. تحريات لكشف سبب الحريق تم اتخاذ الإجراءات القانونية اللازمة، وجاري إجراء التحريات لكشف ملابسات اندلاع الحريق، وتحرر محضر بالواقعة، لتباشر النيابة المختصة التحقيق. | AA85: https://www.youm7.com/story/2026/4/12/%D8%A7%D9%84%D8%AD%D9%85%D8%A7%D9%8A%D8%A9-%D8%A7%D9%84%D9%85%D8%AF%D9%86%D9%8A%D8%A9-%D8%AA%D8%AE%D9%85%D8%AF-%D8%AD%D8%B1%D9%8A%D9%82%D8%A7-%D8%A7%D8%B4%D8%AA%D8%B9%D9%84-%D8%A8%D9%85%D8%AD%D9%84-%D8%AA%D8%AC%D8%A7%D8%B1%D9%89-%D9%81%D9%89-%D8%A7%D9%84%D9%87%D8%B1%D9%85/7374684
A86: 84 | B86: ابريل 2026 | C86: 46124 | D86: اقليم شمال الصعيد | E86: الفيوم | F86: مركز الفيوم | G86: ميدان عبد المنعم رياض بالفيوم | H86: سيارة نقل محملة بالمواشى أثناء تواجدها بميدان عبد المنعم رياض، أحد الميادين الحيوية بالمحافظة | I86: سيارة نقل | J86: وسيلة نقل | K86: 1 | L86: لم يذكر | M86: لم يذكر | N86: ماس كهربائى أو ارتفاع درجة حرارة بعض أجزاء السيارة | O86: قيد التحقيق | P86: ارتفاع درجات الحرارة | Q86: سيارات الاطفاء 10 | R86: =T86+V86 -> 0 | T86: 0 | U86: غير محدد | V86: 0 | W86: غير محدد | Z86: نجحت قوات الحماية المدنية بمحافظة الفيوم فى السيطرة على حريق اندلع داخل سيارة نقل محملة بالمواشى أثناء تواجدها بميدان عبد المنعم رياض، أحد الميادين الحيوية بالمحافظة، دون وقوع أى خسائر فى الأرواح أو نفوق بين الماشية. كانت غرفة عمليات النجدة قد تلقت بلاغًا بنشوب حريق مفاجئ فى سيارة مواشى بالميدان، ما تسبب فى حالة من الذعر بين المواطنين والمارة، خاصة مع تصاعد ألسنة اللهب وكثافة الأدخنة. وعلى الفور، دفعت قوات الحماية المدنية بعدد 10 سيارات إطفاء إلى موقع الحريق، وانتقلت الأجهزة الأمنية مدعومة بسيارات الإسعاف تحسبًا لوجود مصابين، كما تم فرض كردون أمنى بمحيط الحادث وإجراء تحويلات مرورية لتسهيل حركة سيارات الإطفاء ومنع التكدسات. أخبار متعلقة محافظ الفيوم يزور دير الأنبا إبرام بالعزب للتهنئة بعيد القيامة المجيد محافظ الفيوم يزور دير الأنبا إبرام بالعزب للتهنئة بعيد القيامة المجيد تحرير 5 محاضر مخالفات تموينية بالفيوم وضبط كميات كبيرة من البنزين والسولار وغلق مستودع بوتاجاز تحرير 5 محاضر مخالفات تموينية وضبط كميات كبيرة من البنزين والسولار بالفيوم تعليم الفيوم يطلق الصالون الثقافي ويعلن خطة طموحة لصناعة جيل مبدع خلال أبريل ومايو 2026 «تعليم الفيوم» يطلق الصالون الثقافي ويعلن خطة طموحة لصناعة جيل مبدع خلال أبريل ومايو 2026 وبذلت قوات الحماية المدنية جهودًا مكثفة للسيطرة على النيران، حيث جرى محاصرة الحريق ومنع امتداده إلى السيارات المجاورة أو المحال القريبة، خاصة فى ظل الطبيعة المزدحمة للميدان. وتمكنت القوات من إخماد الحريق خلال وقت وجيز، مع تنفيذ عمليات التبريد اللازمة لضمان عدم تجدد الاشتعال، وسط إشادة من الأهالى بسرعة الاستجابة والتعامل مع الحادث. وكشفت المعاينة الأولية أن الحريق لم يسفر عن أى خسائر فى الماشية أو إصابات بشرية، فيما يرجح أن يكون سببه ماس كهربائى أو ارتفاع درجة حرارة بعض أجزاء السيارة، وجارٍ استكمال الفحص الفنى لتحديد الأسباب الدقيقة. وتم اتخاذ الإجراءات القانونية اللازمة وتحرير محضر بالواقعة، فيما تواصل الجهات المختصة التحقيقات للوقوف على ملابسات الحريق والتأكد من توافر اشتراطات السلامة داخل هذه المركبات، منعًا لتكرار مثل هذه الحوادث. | AA86: https://www.almasryalyoum.com/news/details/4244019
A87: 85 | B87: ابريل 2026 | C87: 46124 | D87: اقليم القاهرة الكبرى | E87: القاهرة | F87: باب الشعرية | G87: درب الشيخ الصائم من شارع الجيش بائرة قسم باب الشعرية | H87: مصنع احذية داخل وحدة سكنية | I87: وحدة سكنية | J87: منشأة سكنية | K87: 0 | L87: لم يذكر | M87: لم يذكر | N87: قيد التحقيق | O87: قيد التحقيق | P87: قيد التحقيق | Q87: سيارة اطفاء | R87: =T87+V87 -> 0 | T87: 0 | U87: غير محدد | V87: 0 | W87: غير محدد | Z87: يستمع رجال المباحث لأقوال شهود العيان لكشف ملابسات واقعة اندلاع النيران داخل مصنع أحذية فى منطقة باب الشعرية وجمع المعلومات والبيانات اللازمة حول الواقعة. One minute around the Atlantis - The Palm - Dubai 01:20 Previous Pause Next 00:28 / 01:30 Mute Fullscreen Copy video url Play / Pause Mute / Unmute Report a problem Language Share Vidverto Player السيطرة على حريق مصنع أحذية تمكن رجال الحماية المدنية من السيطرة على حريق داخل مصنع أحذية فى باب الشعرية دون إصابات. غرفة العمليات تلقت بلاغا بالحريق تلقت غرفة العمليات بلاغا يفيد بنشوب حريق بشقة فى درب الشيخ الصائم من شارع الجيش بائرة قسم باب الشعرية، وبناء على تعليمات اللواء الدكتور محمد الشربينى مدير الإدارة العامة للحماية المدنية بالقاهرة انتقلت سيارات الإطفاء إلي المكان. | AA87: https://www.youm7.com/story/2026/4/12/%D8%A7%D9%84%D9%85%D8%A8%D8%A7%D8%AD%D8%AB-%D8%AA%D8%B3%D8%AA%D9%85%D8%B9-%D9%84%D8%A3%D9%82%D9%88%D8%A7%D9%84-%D8%B4%D9%87%D9%88%D8%AF-%D8%A7%D9%84%D8%B9%D9%8A%D8%A7%D9%86-%D8%A8%D8%AD%D8%B1%D9%8A%D9%82-%D9%85%D8%B5%D9%86%D8%B9-%D8%A3%D8%AD%D8%B0%D9%8A%D8%A9-%D8%A8%D8%A7%D8%A8-%D8%A7%D9%84%D8%B4%D8%B9%D8%B1%D9%8A%D8%A9/7374724 | AB87: https://www.youm7.com/story/2026/4/12/%D8%A7%D9%84%D8%B3%D9%8A%D8%B7%D8%B1%D8%A9-%D8%B9%D9%84%D9%89-%D8%AD%D8%B1%D9%8A%D9%82-%D9%85%D8%B5%D9%86%D8%B9-%D8%A3%D8%AD%D8%B0%D9%8A%D8%A9-%D9%81%D9%89-%D8%A8%D8%A7%D8%A8-%D8%A7%D9%84%D8%B4%D8%B9%D8%B1%D9%8A%D8%A9-%D8%AF%D9%88%D9%86-%D8%A5%D8%B5%D8%A7%D8%A8%D8%A7%D8%AA/7374676 | AC87: https://www.elbalad.news/6933112 | AD87: https://www.almasryalyoum.com/news/details/4243611
A88: 86 | B88: ابريل 2026 | C88: 46125 | D88: اقليم الاسكندرية | E88: البحيرة | F88: كوم حمادة | G88: قرية كفر غرين التابعة لمجلس قرية النجيلة بدائرة كوم حماده | H88: مصنع بلاستيك بقرية كفر غرين التابعة لمجلس قرية النجيلة | I88: مصنع | J88: منشأة صناعية | K88: 1 | L88: التهام بعض محتويات المصنع | M88: موا خام + معدات | N88: قيد التحقيق | O88: قيد التحقيق | P88: قيد التحقيق | Q88: سيارات الاطفاء 8 | R88: =T88+V88 -> 0 | T88: 0 | U88: غير محدد | V88: 0 | W88: غير محدد | Z88: تلقى اللواء محمد عمارة مدير أمن البحيرة بلاغا من مأمور مركز شرطة كوم حمادة بنشوب حريق داخل مصنع بلاستيك بقرية كفر غرين التابعة لمجلس قرية النجيلة بدائرة المركز. الدفع بسيارات الحماية المدنية انتقلت على الفور الأجهزة الأمنية لموقع الحادث وتم الدفع بعدد 8 سيارات إطفاء، وتم السيطرة على الحريق وإخمادة ومنع إمتداده إلى الأماكن المجاورة. وتحرر عن ذلك المحضر اللازم تمهيدا لإحالتة للنيابة العامة للتحقيق ومعرفة أسباب وملابسات الواقعة. | AA88: https://www.youm7.com/story/2026/4/13/%D8%A7%D9%84%D8%B3%D9%8A%D8%B7%D8%B1%D8%A9-%D8%B9%D9%84%D9%89-%D8%AD%D8%B1%D9%8A%D9%82-%D8%AF%D8%A7%D8%AE%D9%84-%D9%85%D8%B5%D9%86%D8%B9-%D8%A8%D9%84%D8%A7%D8%B3%D8%AA%D9%8A%D9%83-%D8%A8%D9%83%D9%88%D9%85-%D8%AD%D9%85%D8%A7%D8%AF%D8%A9-%D9%81%D9%89-%D8%A7%D9%84%D8%A8%D8%AD%D9%8A%D8%B1%D8%A9/7376003 | AB88: https://www.almasryalyoum.com/news/details/4244561
A89: 87 | B89: ابريل 2026 | C89: 46125 | D89: اقليم القاهرة الكبرى | E89: الجيزة | F89: البدرشين | G89: البدرشين | H89: شقة سكنية بمنطقة البدرشين | I89: وحدة سكنية | J89: منشأة سكنية | K89: 0 | L89: بعض محتويات الوحدة السكنية | M89: اثاث | N89: قيد التحقيق | O89: قيد التحقيق | P89: قيد التحقيق | Q89: سيارة اطفاء | R89: =T89+V89 -> 0 | T89: 0 | U89: غير محدد | V89: 0 | W89: غير محدد | Z89: اندلع حريق داخل شقة سكنية فى منطقة البدرشين، وعلى الفور تمت السيطرة عليه دون إصابات وتولت النيابة المختصة التحقيقات. غرفة العمليات تلقت بلاغا بالحريق تلقت غرفة عمليات النجدة، بلاغا من الأهالى بنشوب حريق داخل شقة سكنية فى البدرشين وعلي الفور انتقلت سيارات الإطفاء إلى المكان وتمت عملية إخماد الحريق. ويستمع رجال المباحث بمديرية أمن الجيزة، لأقوال شهود العيان وقاطنى الشقة لكشف ملابسات الواقعة وتم اتخاذ الإجراءات القانونية اللازمة تجاه الواقعة. | AA89: https://www.youm7.com/story/2026/4/13/%D8%A5%D8%AE%D9%85%D8%A7%D8%AF-%D8%AD%D8%B1%D9%8A%D9%82-%D8%AF%D8%A7%D8%AE%D9%84-%D8%B4%D9%82%D8%A9-%D8%B3%D9%83%D9%86%D9%8A%D8%A9-%D9%81%D9%89-%D8%A7%D9%84%D8%A8%D8%AF%D8%B1%D8%B4%D9%8A%D9%86-%D8%AF%D9%88%D9%86-%D8%A5%D8%B5%D8%A7%D8%A8%D8%A7%D8%AA/7376177
A90: 88 | B90: ابريل 2026 | C90: 46125 | D90: اقليم القاهرة الكبرى | E90: الجيزة | F90: ابوالنمرس | G90: ابوالنمرس | H90: وحدة سكنية بابوالنمرس | I90: وحدة سكنية | J90: منشأة سكنية | K90: 0 | L90: لم يذكر | M90: لم يذكر | N90: قيد التحقيق | O90: قيد التحقيق | P90: قيد التحقيق | Q90: سيارة اطفاء | R90: =T90+V90 -> 0 | T90: 0 | U90: غير محدد | V90: 0 | W90: غير محدد | Z90: اندلع حريق داخل شقة سكنية فى منطقة أبو النمرس، وعلى الفور تمت السيطرة عليه دون إصابات، وتولت النيابة المختصة التحقيقات. UAE 44th National Day - Union Flag 00:00 Previous Pause Next 00:12 / 00:52 Mute Fullscreen Copy video url Play / Pause Mute / Unmute Report a problem Language Share Vidverto Player غرفة العمليات تلقت بلاغا بالحريق تلقت غرفة عمليات النجدة بلاغا من الأهالى بنشوب حريق داخل شقة سكنية فى أبو النمرس، وعلي الفور انتقلت سيارات الإطفاء إلي المكان وتمت عملية إخماد الحريق. الاستماع لأقوال سكان الشقة ويستمع رجال المباحث بمديرية أمن الجيزة، لأقوال شهود العيان وقاطنى الشقة لكشف ملابسات الواقعة، وتم اتخاذ الإجراءات القانونية اللازمة تجاه الواقعة. | AA90: https://www.youm7.com/story/2026/4/13/%D8%A5%D8%AE%D9%85%D8%A7%D8%AF-%D8%AD%D8%B1%D9%8A%D9%82-%D8%AF%D8%A7%D8%AE%D9%84-%D8%B4%D9%82%D8%A9-%D8%B3%D9%83%D9%86%D9%8A%D8%A9-%D9%81%D9%89-%D8%A3%D8%A8%D9%88-%D8%A7%D9%84%D9%86%D9%85%D8%B1%D8%B3-%D8%AF%D9%88%D9%86-%D8%A5%D8%B5%D8%A7%D8%A8%D8%A7%D8%AA/7375724
A91: 89 | B91: ابريل 2026 | C91: 46125 | D91: اقليم القاهرة الكبرى | E91: الجيزة | F91: اوسيم | G91: اوسيم | H91: وحدة سكنية باوسيم | I91: وحدة سكنية | J91: منشأة سكنية | K91: 0 | L91: لم يذكر | M91: لم يذكر | N91: قيد التحقيق | O91: قيد التحقيق | P91: قيد التحقيق | Q91: سيارة اطفاء | R91: =T91+V91 -> 0 | T91: 0 | U91: غير محدد | V91: 0 | W91: غير محدد | Z91: اندلع حريق داخل شقة سكنية فى منطقة أوسيم ، وعلى الفور تمت السيطرة عليه دون إصابات وتولت النيابة المختصة التحقيقات. غرفة العمليات تلقت بلاغا بالحريق تلقت غرفة عمليات النجدة ،بلاغا من الأهالى بنشوب حريق داخل شقة سكنية فى أوسيم وعلي الفور انتقلت سيارات الاطفاء الي المكان وتمت عملية إخماد الحريق. ويستمع رجال المباحث بمديرية أمن الجيزة ، لأقوال شهود العيان وقاطنى الشقة لكشف ملابسات الواقعة وتم اتخاذ الإجراءات القانونية اللازمة تجاه الواقعة. | AA91: https://www.youm7.com/story/2026/4/13/%D8%A5%D8%AE%D9%85%D8%A7%D8%AF-%D8%AD%D8%B1%D9%8A%D9%82-%D8%AF%D8%A7%D8%AE%D9%84-%D8%B4%D9%82%D8%A9-%D8%B3%D9%83%D9%86%D9%8A%D8%A9-%D9%81%D9%89-%D8%A3%D9%88%D8%B3%D9%8A%D9%85-%D8%AF%D9%88%D9%86-%D8%A5%D8%B5%D8%A7%D8%A8%D8%A7%D8%AA/7375569
A92: 90 | B92: ابريل 2026 | C92: 46125 | D92: اقليم القاهرة الكبرى | E92: الجيزة | F92: حلوان | G92: حلوان | H92: وحدة سكنية بحلوان | I92: وحدة سكنية | J92: منشأة سكنية | K92: 0 | L92: لم يذكر | M92: لم يذكر | N92: قيد التحقيق | O92: قيد التحقيق | P92: قيد التحقيق | Q92: سيارات الاطفاء 3 | R92: =T92+V92 -> 1 | T92: 0 | U92: غير محدد | V92: 1 | W92: غير محدد | Z92: تمكن رجال الحماية المدنية من السيطرة على حريق داخل شقة سكنية فى منطقة حلوان ، بعدما انتقلت قوات الحماية المدنية وتمت السيطرة عليه، ونتج عنه وفاة شخص ونقل إلى المشرحة. غرفة العمليات تتلقى بلاغا بالطريق تلقت غرفة عمليات شرطة النجدة، بلاغا يفيد بنشوب حريق داخل شقة سكنية فى حلوان، وتم الدفع بـ 3 سيارات إطفاء لمكان الحريق، وفرض كردون أمنى بمحيط الحريق لمحاصرته ومنع امتداده وتمت السيطرة عليه ونتج عنها وفاة شخص ونقل الى المستشفى و تم اتخاذ الإجراءات القانونية اللازمة تجاه الواقعة. | AA92: https://www.youm7.com/story/2026/4/13/%D9%85%D8%B5%D8%B1%D8%B9-%D8%B4%D8%AE%D8%B5-%D8%A5%D8%AB%D8%B1-%D8%AD%D8%B1%D9%8A%D9%82-%D8%B4%D9%82%D8%A9-%D8%B3%D9%83%D9%86%D9%8A%D8%A9-%D9%81%D9%89-%D9%85%D9%86%D8%B7%D9%82%D8%A9-%D8%AD%D9%84%D9%88%D8%A7%D9%86/7375565
A93: 91 | B93: ابريل 2026 | C93: 46125 | D93: اقليم القاهرة الكبرى | E93: الجيزة | F93: بولاق الدكرور | G93: صفط اللين | H93: حريق بشقة سكنية في صفط اللبن ببولاق الدكرور | I93: وحدة سكنية | J93: منشأة سكنية | K93: 0 | L93: لم يذكر | M93: لم يذكر | N93: قيد التحقيق | O93: قيد التحقيق | P93: قيد التحقيق | Q93: سيارات الاطفاء | R93: =T93+V93 -> 0 | T93: 0 | U93: غير محدد | V93: 0 | W93: غير محدد | Z93: تلقت غرفة النجدة بمديرية أمن الجيزة، بلاغا باشتعال حريق بشقة سكنية في صفط اللبن ببولاق الدكرور، فتم الدفع على الفور بسيارات إطفاء لمكان البلاغ، وتمكن رجال الحماية المدنية من إخماد النيران دون إصابات. الاستماع لأقوال شهود عيان تم اتخاذ الإجراءات القانونية اللازمة، وجاري تكثيف التحريات والاستماع لأقوال شهود عيان، لكشف ملابسات اشتعال الحريق، وتحرر محضر بالواقعة، وتولت النيابة المختصة التحقيق. | AA93: https://www.youm7.com/story/2026/4/13/%D8%A7%D9%84%D8%B3%D9%8A%D8%B7%D8%B1%D8%A9-%D8%B9%D9%84%D9%89-%D8%AD%D8%B1%D9%8A%D9%82-%D8%A7%D8%B4%D8%AA%D8%B9%D9%84-%D8%A8%D8%B4%D9%82%D8%A9-%D8%B3%D9%83%D9%86%D9%8A%D8%A9-%D9%81%D9%8A-%D8%B5%D9%81%D8%B7-%D8%A7%D9%84%D9%84%D8%A8%D9%86-%D8%A8%D8%A8%D9%88%D9%84%D8%A7%D9%82/7376516
A94: 92 | B94: ابريل 2026 | C94: 46125 | D94: اقليم القاهرة الكبرى | E94: الجيزة | F94: كرداسة | G94: كرداسة | H94: حريق داخل شقة سكنية فى كرداسة | I94: وحدة سكنية | J94: منشأة سكنية | K94: 0 | L94: لم يذكر | M94: لم يذكر | N94: قيد التحقيق | O94: قيد التحقيق | P94: قيد التحقيق | Q94: سيارات الاطفاء | R94: =T94+V94 -> 2 | T94: 1 | U94: غير محدد | V94: 1 | W94: غير محدد | Z94: تلقت غرفة عمليات النجدة، بلاغا من الأهالى بنشوب حريق داخل شقة سكنية فى كرداسة وعلي الفور انتقلت سيارات الاطفاء الي المكان وتمت عملية إخماد الحريق ونتج عنها وفاة ربة منزل وأصيب نجلها وتم نقلهم الى المستشفى. ويستمع رجال المباحث بمديرية أمن الجيزة، لأقوال شهود العيان وقاطنى الشقة لكشف ملابسات الواقعة وتم اتخاذ الإجراءات القانونية اللازمة تجاه الواقعة. | AA94: https://www.youm7.com/story/2026/4/13/%D9%85%D8%B5%D8%B1%D8%B9-%D8%B1%D8%A8%D8%A9-%D9%85%D9%86%D8%B2%D9%84-%D9%88%D8%A5%D8%B5%D8%A7%D8%A8%D8%A9-%D9%86%D8%AC%D9%84%D9%87%D8%A7-%D8%A8%D8%AD%D8%B1%D9%8A%D9%82-%D8%B4%D9%82%D8%A9-%D8%B3%D9%83%D9%86%D9%8A%D8%A9-%D9%81%D9%89-%D9%83%D8%B1%D8%AF%D8%A7%D8%B3%D8%A9/7376371
A95: 93 | B95: ابريل 2026 | C95: 46125 | D95: اقليم الدلتا | E95: الدقهلية | F95: المنصورة | G95: مستشفى جامعة المنصورة | H95: حريق داخل غرفة مخصصة لحفظ الاوراق القديمة داخل قسم 13 بـ جامعة المنصورة | I95: غرفة | J95: منشأة خدمية/ تعليمية | K95: 0 | L95: لم يذكر | M95: لم يذكر | N95: قيد التحقيق | O95: اندلع الحريق داخل غرفة مخصصة لحفظ الأوراق القديمة | P95: قيد التحقيق | Q95: سيارات الاطفاء | R95: =T95+V95 -> 0 | T95: 0 | U95: غير محدد | V95: 0 | W95: غير محدد | Z95: تمكنت قوات الحماية المدنية من السيطرة على حريق محدود نشب داخل قسم 13 بـ جامعة المنصورة، دون وقوع أي إصابات بشرية. Wadi Rum fly over... 00:00 Previous Pause Next 01:24 / 01:41 Mute Fullscreen Copy video url Play / Pause Mute / Unmute Report a problem Language Share Vidverto Player وتبين أن الحريق اندلع داخل غرفة مخصصة لحفظ الأوراق القديمة، حيث جرى التعامل معه بسرعة وكفاءة من قبل قوات الإطفاء، ومنع امتداده إلى باقي المبنى. وأكدت الجهات المعنية أن الحادث لم يسفر عن أي خسائر في الأرواح، فيما تم اتخاذ الإجراءات اللازمة للتأكد من سلامة الموقع بالكامل. كما انتظم العمل داخل القسم بشكل طبيعي عقب السيطرة على الحريق، دون تأثر سير العملية الإدارية أو التعليمية. | AA95: https://www.youm7.com/story/2026/4/13/%D8%A7%D9%84%D8%B3%D9%8A%D8%B7%D8%B1%D8%A9-%D8%B9%D9%84%D9%89-%D8%AD%D8%B1%D9%8A%D9%82-%D9%85%D8%AD%D8%AF%D9%88%D8%AF-%D8%A8%D9%85%D8%B3%D8%AA%D8%B4%D9%81%D9%89-%D8%AC%D8%A7%D9%85%D8%B9%D8%A9-%D8%A7%D9%84%D9%85%D9%86%D8%B5%D9%88%D8%B1%D8%A9/7376329 | AB95: elbalad.news/6934683 | AC95: https://www.almasryalyoum.com/news/details/4244739
A96: 94 | B96: ابريل 2026 | C96: 46125 | D96: اقليم الدلتا | E96: الغربية | F96: كفر الزيات | G96: كفر الزيات | H96: شركة الإسكندرية للزيوت والصابون بكفر الزيات. | I96: مبني بشركة الاسكندرية للزيةت العطرية | J96: منشأة تجارية | K96: 0 | L96: لم يذكر | M96: لم يذكر | N96: قيد التحقيق | O96: قيد التحقيق | P96: قيد التحقيق | Q96: سيارات الاطفاء بالاضافة الى عمليات التبريد | R96: =T96+V96 -> 0 | T96: 0 | U96: غير محدد | V96: 0 | W96: غير محدد | Z96: شهدت شركة الإسكندرية للزيوت والصابون بكفر الزيات بمحافظة الغربية نشوب حريق داخل أحد المباني دون وقوع إصابات انتقلت الحماية المدنية لمكان البلاغ وتم إخماد النيران. Wadi Rum fly over... 00:00 Previous Pause Next 00:47 / 01:41 Mute Fullscreen Copy video url Play / Pause Mute / Unmute Report a problem Language Share Vidverto Player إجراء عمليات التبريد خشية تجدد النيران تلقت الأجهزة الأمنية بمديرية أمن الغربية إخطارا بنشوب حريق داخل شركة الإسكندرية للزيوت والصابون بكفر الزيات. انتقلت عدد من سيارات المطافي لمكان البلاغ وتبين نشوب حريق في أحد مباني الشركة، تم إخماد الحريق وإجراء عمليات التبريد خشية تجدد النيران مرة أخرى. | AA96: https://www.youm7.com/story/2026/4/13/%D8%A7%D9%84%D8%B3%D9%8A%D8%B7%D8%B1%D8%A9-%D8%B9%D9%84%D9%89-%D8%AD%D8%B1%D9%8A%D9%82-%D8%AF%D8%A7%D8%AE%D9%84-%D8%B4%D8%B1%D9%83%D8%A9-%D8%A7%D9%84%D8%A5%D8%B3%D9%83%D9%86%D8%AF%D8%B1%D9%8A%D8%A9-%D9%84%D9%84%D8%B2%D9%8A%D9%88%D8%AA-%D9%88%D8%A7%D9%84%D8%B5%D8%A7%D8%A8%D9%88%D9%86-%D8%A8%D8%A7%D9%84%D8%BA%D8%B1%D8%A8%D9%8A%D8%A9/7376532
A97: 95 | B97: ابريل 2026 | C97: 46125 | D97: اقليم القاهرة الكبرى | E97: القاهرة | F97: اول السلام | G97: منطقه الحرفيين بدائرة قسم السلام أول | H97: مخزن قطع غيار سيارات بالطابق الارضى ف شارع المشغل فى منطقه الحرفيين بدائرة قسم السلام أول | I97: مخزن | J97: منشأة تجارية | K97: 1 | L97: لم يذكر | M97: لم يذكر | N97: قيد التحقيق | O97: قيد التحقيق | P97: قيد التحقيق | Q97: سيارة اطفاء | R97: =T97+V97 -> 0 | T97: 0 | U97: غير محدد | V97: 0 | W97: غير محدد | Z97: تمكن رجال الحماية المدنية من السيطرة على حريق داخل مخزن قطع غيار سيارات فى منطقة السلام دون إصابات. UAE 44th National Day - Union Flag 00:00 Previous Pause Next 00:31 / 00:52 Mute Fullscreen Copy video url Play / Pause Mute / Unmute Report a problem Language Share Vidverto Player rrrr غرفة العمليات تلقت بلاغا بالحريق ورد بلاغ لغرفة العمليات يفيد بنشوب حريق فى مخزن قطع غيار سيارات بالطابق الارضى ف شارع المشغل فى منطقه الحرفيين بدائرة قسم السلام أول وبناء على تعليمات اللواء الدكتور محمد الشربينى مدير الإدارة العامة للحماية المدنية بالقاهرة انتقلت سيارات الاطفاء الي المكان. 4444r تفاصيل الحريق وبالانتقال والفحص، تبين نشوب حريق فى مخزن بالكامل قطع غيار سيارات (أنصاص سيارات) سماوى (غير مسقوف) بالطابق الارضى لا يعلوه طوابق (غير مرخص) مساحته (٣٠٠)متر وتم الاطفاء بمعرفه القوات وجارى التبريد فيما لم يسفر الحريق عن ثمه وجود أشخاص محتجزين أو مصابين وتم اتخاذ الإجراءات القانونية اللازمة تجاه الواقعة. | AA97: https://www.youm7.com/story/2026/4/13/%D8%A7%D9%84%D8%B3%D9%8A%D8%B7%D8%B1%D8%A9-%D8%B9%D9%84%D9%89-%D8%AD%D8%B1%D9%8A%D9%82-%D9%85%D8%AE%D8%B2%D9%86-%D9%82%D8%B7%D8%B9-%D8%BA%D9%8A%D8%A7%D8%B1-%D8%B3%D9%8A%D8%A7%D8%B1%D8%A7%D8%AA-%D9%81%D9%89-%D8%A7%D9%84%D8%B3%D9%84%D8%A7%D9%85-%D8%AF%D9%88%D9%86/7375580 | AB97: https://www.youm7.com/story/2026/4/13/%D8%A7%D9%84%D9%85%D8%A8%D8%A7%D8%AD%D8%AB-%D8%AA%D8%B3%D8%AA%D9%85%D8%B9-%D9%84%D8%A3%D9%82%D9%88%D8%A7%D9%84-%D8%B4%D9%87%D9%88%D8%AF-%D8%A7%D9%84%D8%B9%D9%8A%D8%A7%D9%86-%D9%84%D9%83%D8%B4%D9%81-%D9%85%D9%84%D8%A7%D8%A8%D8%B3%D8%A7%D8%AA-%D8%AD%D8%B1%D9%8A%D9%82-%D9%88%D8%B1%D8%B4%D8%A9-%D8%A7%D9%84%D8%B3%D9%84%D8%A7%D9%85/7375571 | AC97: https://www.youm7.com/story/2026/4/13/4-%D8%B3%D9%8A%D8%A7%D8%B1%D8%A7%D8%AA-%D8%AA%D8%AD%D8%A7%D9%88%D9%84-%D8%A5%D8%AE%D9%85%D8%A7%D8%AF-%D8%AD%D8%B1%D9%8A%D9%82-%D8%AF%D8%A7%D8%AE%D9%84-%D9%88%D8%B1%D8%B4%D8%A9-%D9%81%D9%8A-%D8%A7%D9%84%D8%B3%D9%84%D8%A7%D9%85/7375568 | AD97: https://www.youm7.com/story/2026/4/13/%D8%A7%D9%84%D8%B3%D9%8A%D8%B7%D8%B1%D8%A9-%D8%B9%D9%84%D9%89-%D8%AD%D8%B1%D9%8A%D9%82-%D8%AF%D8%A7%D8%AE%D9%84-%D9%88%D8%B1%D8%B4%D8%A9-%D8%A8%D9%85%D9%86%D8%B7%D9%82%D8%A9-%D8%A7%D9%84%D8%AD%D8%B1%D9%81%D9%8A%D9%8A%D9%86-%D9%81%D9%89-%D8%A7%D9%84%D8%B3%D9%84%D8%A7%D9%85/7375563
A98: 96 | B98: ابريل 2026 | C98: 46125 | D98: اقليم القاهرة الكبرى | E98: القاهرة | F98: المعادي | G98: المعادي | H98: غية حمام أعلى سطح عقار في منطقة المعادى | I98: غية حمام بسطح عقار | J98: منشأة سكنية | K98: 0 | L98: لم يذكر | M98: لم يذكر | N98: قيد التحقيق | O98: قيد التحقيق | P98: قيد التحقيق | Q98: سيارات الاطفاء 2 وسلم هيدروليكي | R98: =T98+V98 -> 0 | T98: 0 | U98: غير محدد | V98: 0 | W98: غير محدد | Z98: نجح رجال الحماية المدنية، فى السيطرة على حريق غية حمام أعلى سطح عقار في منطقة المعادى ، بعدما انتقلت قوات الحماية المدنية وتمت السيطرة عليه بدون وقوع أى إصابات. غرفة العمليات تلقت بلاغا بالحريق وتلقت غرفة عمليات شرطة النجدة، بلاغا يفيد بنشوب حريق أعلى عقار في المعادى ، وتم الدفع بسيارتين وسلم هيدروليكى لمكان الحريق، وتم فرض كردون أمني بمحيط الحريق لمحاصرته ومنع امتداده وتمت السيطرة عليه ، وتمت عملية الإخماد دون إصابات. | AA98: https://www.youm7.com/story/2026/4/13/%D8%A5%D8%AE%D9%85%D8%A7%D8%AF-%D8%AD%D8%B1%D9%8A%D9%82-%D9%84%D8%BA%D9%8A%D8%A9-%D8%AD%D9%85%D8%A7%D9%85-%D8%A3%D8%B9%D9%84%D9%89-%D8%B3%D8%B7%D8%AD-%D8%B9%D9%82%D8%A7%D8%B1-%D8%A8%D8%A7%D9%84%D9%85%D8%B9%D8%A7%D8%AF%D9%89/7376171
A99: 97 | B99: ابريل 2026 | C99: 46125 | D99: اقليم القاهرة الكبرى | E99: القليوبية | F99: طوخ | G99: طوخ | H99: مبنى مكون من طابق واحد يحتوي على أخشاب وبقايا خردة بدائرة مركز طوخ في القليوبية | I99: مخزن اخشاب | J99: منشأة تجارية | K99: 1 | L99: بعض محتويات المخزن | M99: مواد خام | N99: قيد التحقيق | O99: قيد التحقيق | P99: قيد التحقيق | Q99: سيارة اطفاء | R99: =T99+V99 -> 0 | T99: 0 | U99: غير محدد | V99: 0 | W99: غير محدد | Z99: تمكنت قوات الحماية المدنية بالقليوبية، من السيطرة علي حريق نشب داخل مبنى مكون من طابق واحد يحتوي على أخشاب وبقايا خردة بدائرة مركز طوخ في القليوبية، دون وقوع أي خسائر بشرية، ومنع امتداد الحريق للمناطق المجاورة، وتحرر محضر بالواقعة وتولت الجهات المعنية التحقيق. بلاغ للأجهزة الأمنية بنشوب الحريق تلقت مديرية أمن القليوبية، إخطارا من عمليات الحماية المدنية بالقليوبية، يفيد ورود بلاغا بنشوب حريق داخل مبنى مكون من طابق واحد يحتوي على أخشاب وبقايا خردة، بدائرة مركز طوخ. | AA99: https://www.youm7.com/story/2026/4/13/5-%D8%B3%D9%8A%D8%A7%D8%B1%D8%A7%D8%AA-%D8%A5%D8%B7%D9%81%D8%A7%D8%A1-%D8%AA%D8%B3%D9%8A%D8%B7%D8%B1-%D8%B9%D9%84%D9%89-%D8%AD%D8%B1%D9%8A%D9%82-%D8%A8%D9%85%D8%A8%D9%86%D9%89-%D8%A8%D9%87-%D8%A3%D8%AE%D8%B4%D8%A7%D8%A8-%D9%88%D8%AE%D8%B1%D8%AF%D8%A9/7376155 | AB99: https://www.elbalad.news/6934564 | AC99: https://www.almasryalyoum.com/news/details/4244624 | AD99: https://www.elbalad.news/6935210#google_vignette
A100: 98 | B100: ابريل 2026 | C100: 46125 | D100: اقليم القاهرة الكبرى | E100: القليوبية | F100: قليوب | G100: قليوب | H100: معرض أجهزة كهربائية بمدينة قليوب | I100: معرض | J100: منشأة تجارية | K100: 0 | L100: بعض محتويات المعرض | M100: مادية | N100: قيد التحقيق | O100: قيد التحقيق | P100: قيد التحقيق | Q100: سيارات الاطفاء 3 | R100: =T100+V100 -> 0 | T100: 0 | U100: غير محدد | V100: 0 | W100: غير محدد | Z100: تمكنت قوات الحماية المدنية بالقليوبية، من السيطرة علي حريق نشب بمعرض أجهزة كهربائية بمدينة قليوب، دون وقوع ثمة إصابات أو خسائر بشرية، ومنع امتداد الحريق للمناطق المجاورة، وتحرر محضر بالواقعة وتولت النيابة التحقيق. بلاغ للأجهزة الأمنية بنشوب الحريق تلقت مديرية أمن القليوبية، إخطارا من عمليات الحماية المدنية، يفيد ورود بلاغ بنشوب حريق بمعرض أجهزة كهربائية بمدينة قليوب. انتقال فوري لرجال الحماية المدنية والدفع بسيارات الإطفاء انتقلت علي الفور انتقلت قوات الحماية المدنية بالقليوبية، وجرى الدفع بـ3 سيارات إطفاء لموقع الحريق، وبفضل جهود رجال الحماية المدنية بالقليوبية تم السيطرة على الحريق ومنع امتداده للمناطق المجاورة، دون وقوع ثمة إصابات أو خسائر بشرية. وكشفت المعاينة الأولية نشوب حريق بمعرض أجهزة كهربائية بمدينة قليوب، وتحرر محضر بالواقعة وتولت النيابة التحقيق. | AA100: https://www.youm7.com/story/2026/4/13/%D8%A7%D9%84%D8%B3%D9%8A%D8%B7%D8%B1%D8%A9-%D8%B9%D9%84%D9%89-%D8%AD%D8%B1%D9%8A%D9%82-%D8%A8%D9%85%D8%B9%D8%B1%D8%B6-%D8%A3%D8%AC%D9%87%D8%B2%D8%A9-%D9%83%D9%87%D8%B1%D8%A8%D8%A7%D8%A6%D9%8A%D8%A9-%D8%A8%D9%82%D9%84%D9%8A%D9%88%D8%A8-%D8%AF%D9%88%D9%86-%D8%AE%D8%B3%D8%A7%D8%A6%D8%B1-%D8%A8%D8%B4%D8%B1%D9%8A%D8%A9/7375592 | AB100: https://www.elbalad.news/6934157 | AC100: https://www.almasryalyoum.com/news/details/4244407
...
