Workbook
Name _FilterDatabase_0: Data!$A$2:$AB$2221
Name _FilterDatabase_0_0: Data!$A$2:$AMA$2229

Sheet stat
A2: المسار الجغرافي (الاقاليم) وفقا للتقسيم الشهري
B3: ابريل 2026 | C3: مايو 2026 | D3: يونيو 2026 | E3: الاجمالي
A4: اقليم القاهرة الكبرى | B4: =COUNTIFS(Data!$B:$B,B$3,Data!$D:$D,$A4) -> 128 | C4: =COUNTIFS(Data!$B:$B,C$3,Data!$D:$D,$A4) -> 129 | D4: =COUNTIFS(Data!$B:$B,D$3,Data!$D:$D,$A4) -> 100 | E4: =SUM(B4:D4) -> 357
A5: اقليم الدلتا | B5: =COUNTIFS(Data!$B:$B,B$3,Data!$D:$D,$A5) -> 38 | C5: =COUNTIFS(Data!$B:$B,C$3,Data!$D:$D,$A5) -> 41 | D5: =COUNTIFS(Data!$B:$B,D$3,Data!$D:$D,$A5) -> 39 | E5: =SUM(B5:D5) -> 118
A6: اقليم جنوب الصعيد | B6: =COUNTIFS(Data!$B:$B,B$3,Data!$D:$D,$A6) -> 38 | C6: =COUNTIFS(Data!$B:$B,C$3,Data!$D:$D,$A6) -> 34 | D6: =COUNTIFS(Data!$B:$B,D$3,Data!$D:$D,$A6) -> 39 | E6: =SUM(B6:D6) -> 111
A7: اقليم شمال الصعيد | B7: =COUNTIFS(Data!$B:$B,B$3,Data!$D:$D,$A7) -> 16 | C7: =COUNTIFS(Data!$B:$B,C$3,Data!$D:$D,$A7) -> 21 | D7: =COUNTIFS(Data!$B:$B,D$3,Data!$D:$D,$A7) -> 17 | E7: =SUM(B7:D7) -> 54
A8: اقليم الاسكندرية | B8: =COUNTIFS(Data!$B:$B,B$3,Data!$D:$D,$A8) -> 20 | C8: =COUNTIFS(Data!$B:$B,C$3,Data!$D:$D,$A8) -> 16 | D8: =COUNTIFS(Data!$B:$B,D$3,Data!$D:$D,$A8) -> 15 | E8: =SUM(B8:D8) -> 51
A9: اقليم القناة | B9: =COUNTIFS(Data!$B:$B,B$3,Data!$D:$D,$A9) -> 14 | C9: =COUNTIFS(Data!$B:$B,C$3,Data!$D:$D,$A9) -> 16 | D9: =COUNTIFS(Data!$B:$B,D$3,Data!$D:$D,$A9) -> 14 | E9: =SUM(B9:D9) -> 44
A10: اقليم وسط الصعيد | B10: =COUNTIFS(Data!$B:$B,B$3,Data!$D:$D,$A10) -> 9 | C10: =COUNTIFS(Data!$B:$B,C$3,Data!$D:$D,$A10) -> 6 | D10: =COUNTIFS(Data!$B:$B,D$3,Data!$D:$D,$A10) -> 3 | E10: =SUM(B10:D10) -> 18
A11: الاجمالي | B11: =SUM(B4:B10) -> 263 | C11: =SUM(C4:C10) -> 263 | D11: =SUM(D4:D10) -> 227 | E11: =SUM(E4:E10) -> 753
A16: المسار الجغرافي (المحافظات) وفقا للتقسيم الشهري
B17: ابريل 2026 | C17: مايو 2026 | D17: يونيو 2026 | E17: الاجمالي
A18: الجيزة | B18: =COUNTIFS(Data!$B:$B,B$17,Data!$E:$E,$A18) -> 74 | C18: =COUNTIFS(Data!$B:$B,C$17,Data!$E:$E,$A18) -> 66 | D18: =COUNTIFS(Data!$B:$B,D$17,Data!$E:$E,$A18) -> 50 | E18: =SUM(B18:D18) -> 190
A19: القاهرة | B19: =COUNTIFS(Data!$B:$B,B$17,Data!$E:$E,$A19) -> 34 | C19: =COUNTIFS(Data!$B:$B,C$17,Data!$E:$E,$A19) -> 45 | D19: =COUNTIFS(Data!$B:$B,D$17,Data!$E:$E,$A19) -> 31 | E19: =SUM(B19:D19) -> 110
A20: القليوبية | B20: =COUNTIFS(Data!$B:$B,B$17,Data!$E:$E,$A20) -> 20 | C20: =COUNTIFS(Data!$B:$B,C$17,Data!$E:$E,$A20) -> 18 | D20: =COUNTIFS(Data!$B:$B,D$17,Data!$E:$E,$A20) -> 19 | E20: =SUM(B20:D20) -> 57
A21: الاسكندرية | B21: =COUNTIFS(Data!$B:$B,B$17,Data!$E:$E,$A21) -> 15 | C21: =COUNTIFS(Data!$B:$B,C$17,Data!$E:$E,$A21) -> 12 | D21: =COUNTIFS(Data!$B:$B,D$17,Data!$E:$E,$A21) -> 13 | E21: =SUM(B21:D21) -> 40
A22: سوهاج | B22: =COUNTIFS(Data!$B:$B,B$17,Data!$E:$E,$A22) -> 9 | C22: =COUNTIFS(Data!$B:$B,C$17,Data!$E:$E,$A22) -> 5 | D22: =COUNTIFS(Data!$B:$B,D$17,Data!$E:$E,$A22) -> 23 | E22: =SUM(B22:D22) -> 37
A23: الغربية | B23: =COUNTIFS(Data!$B:$B,B$17,Data!$E:$E,$A23) -> 13 | C23: =COUNTIFS(Data!$B:$B,C$17,Data!$E:$E,$A23) -> 11 | D23: =COUNTIFS(Data!$B:$B,D$17,Data!$E:$E,$A23) -> 11 | E23: =SUM(B23:D23) -> 35
A24: الدقهلية | B24: =COUNTIFS(Data!$B:$B,B$17,Data!$E:$E,$A24) -> 10 | C24: =COUNTIFS(Data!$B:$B,C$17,Data!$E:$E,$A24) -> 13 | D24: =COUNTIFS(Data!$B:$B,D$17,Data!$E:$E,$A24) -> 11 | E24: =SUM(B24:D24) -> 34
A25: المنوفية | B25: =COUNTIFS(Data!$B:$B,B$17,Data!$E:$E,$A25) -> 8 | C25: =COUNTIFS(Data!$B:$B,C$17,Data!$E:$E,$A25) -> 11 | D25: =COUNTIFS(Data!$B:$B,D$17,Data!$E:$E,$A25) -> 14 | E25: =SUM(B25:D25) -> 33
A26: قنا | B26: =COUNTIFS(Data!$B:$B,B$17,Data!$E:$E,$A26) -> 13 | C26: =COUNTIFS(Data!$B:$B,C$17,Data!$E:$E,$A26) -> 13 | D26: =COUNTIFS(Data!$B:$B,D$17,Data!$E:$E,$A26) -> 5 | E26: =SUM(B26:D26) -> 31
A27: الفيوم | B27: =COUNTIFS(Data!$B:$B,B$17,Data!$E:$E,$A27) -> 8 | C27: =COUNTIFS(Data!$B:$B,C$17,Data!$E:$E,$A27) -> 12 | D27: =COUNTIFS(Data!$B:$B,D$17,Data!$E:$E,$A27) -> 9 | E27: =SUM(B27:D27) -> 29
A28: اسوان | B28: =COUNTIFS(Data!$B:$B,B$17,Data!$E:$E,$A28) -> 12 | C28: =COUNTIFS(Data!$B:$B,C$17,Data!$E:$E,$A28) -> 12 | D28: =COUNTIFS(Data!$B:$B,D$17,Data!$E:$E,$A28) -> 4 | E28: =SUM(B28:D28) -> 28
A29: الشرقية | B29: =COUNTIFS(Data!$B:$B,B$17,Data!$E:$E,$A29) -> 8 | C29: =COUNTIFS(Data!$B:$B,C$17,Data!$E:$E,$A29) -> 8 | D29: =COUNTIFS(Data!$B:$B,D$17,Data!$E:$E,$A29) -> 2 | E29: =SUM(B29:D29) -> 18
... A44: شمال سيناء | B44: =COUNTIFS(Data!$B:$B,B$17,Data!$E:$E,$A44) -> 0 | C44: =COUNTIFS(Data!$B:$B,C$17,Data!$E:$E,$A44) -> 1 | D44: =COUNTIFS(Data!$B:$B,D$17,Data!$E:$E,$A44) -> 1 | E44: =SUM(B44:D44) -> 2
A45: الاجمالي | B45: =SUM(B18:B44) -> 263 | C45: =SUM(C18:C44) -> 263 | D45: =SUM(D18:D44) -> 227 | E45: =SUM(E18:E44) -> 753
A51: المسار الجغرافي (المحافظات) لتصنيف مكان الواقعة
B52: منشأة سكنية | C52: منشأة تجارية | D52: منشأة صناعية | E52: وسيلة نقل | F52: مزرعة نباتية / زراعية | G52: منشأة خدمية/ تعليمية | H52: مزرعة حيوانية | I52: مخلفات / منطقة مفتوحة | J52: بنية تحتية | K52: منشأة دينية | L52: اخري | M52: الاجمالي
A53: الجيزة | B53: =COUNTIFS(Data!$J:$J,B$52,Data!$E:$E,$A53) -> 111 | C53: =COUNTIFS(Data!$J:$J,C$52,Data!$E:$E,$A53) -> 43 | D53: =COUNTIFS(Data!$J:$J,D$52,Data!$E:$E,$A53) -> 10 | E53: =COUNTIFS(Data!$J:$J,E$52,Data!$E:$E,$A53) -> 6 | F53: =COUNTIFS(Data!$J:$J,F$52,Data!$E:$E,$A53) -> 3 | G53: =COUNTIFS(Data!$J:$J,G$52,Data!$E:$E,$A53) -> 5 | H53: =COUNTIFS(Data!$J:$J,H$52,Data!$E:$E,$A53) -> 1 | I53: =COUNTIFS(Data!$J:$J,I$52,Data!$E:$E,$A53) -> 5 | ... L53: =COUNTIFS(Data!$J:$J,L$52,Data!$E:$E,$A53) -> 0 | M53: =SUM(B53:L53) -> 190
A54: القاهرة | B54: =COUNTIFS(Data!$J:$J,B$52,Data!$E:$E,$A54) -> 40 | C54: =COUNTIFS(Data!$J:$J,C$52,Data!$E:$E,$A54) -> 40 | D54: =COUNTIFS(Data!$J:$J,D$52,Data!$E:$E,$A54) -> 13 | E54: =COUNTIFS(Data!$J:$J,E$52,Data!$E:$E,$A54) -> 6 | F54: =COUNTIFS(Data!$J:$J,F$52,Data!$E:$E,$A54) -> 1 | G54: =COUNTIFS(Data!$J:$J,G$52,Data!$E:$E,$A54) -> 7 | H54: =COUNTIFS(Data!$J:$J,H$52,Data!$E:$E,$A54) -> 0 | I54: =COUNTIFS(Data!$J:$J,I$52,Data!$E:$E,$A54) -> 2 | ... L54: =COUNTIFS(Data!$J:$J,L$52,Data!$E:$E,$A54) -> 0 | M54: =SUM(B54:L54) -> 110
A55: القليوبية | B55: =COUNTIFS(Data!$J:$J,B$52,Data!$E:$E,$A55) -> 15 | C55: =COUNTIFS(Data!$J:$J,C$52,Data!$E:$E,$A55) -> 21 | D55: =COUNTIFS(Data!$J:$J,D$52,Data!$E:$E,$A55) -> 8 | E55: =COUNTIFS(Data!$J:$J,E$52,Data!$E:$E,$A55) -> 1 | F55: =COUNTIFS(Data!$J:$J,F$52,Data!$E:$E,$A55) -> 1 | G55: =COUNTIFS(Data!$J:$J,G$52,Data!$E:$E,$A55) -> 3 | H55: =COUNTIFS(Data!$J:$J,H$52,Data!$E:$E,$A55) -> 1 | I55: =COUNTIFS(Data!$J:$J,I$52,Data!$E:$E,$A55) -> 1 | ... L55: =COUNTIFS(Data!$J:$J,L$52,Data!$E:$E,$A55) -> 1 | M55: =SUM(B55:L55) -> 57
A56: الاسكندرية | B56: =COUNTIFS(Data!$J:$J,B$52,Data!$E:$E,$A56) -> 12 | C56: =COUNTIFS(Data!$J:$J,C$52,Data!$E:$E,$A56) -> 11 | D56: =COUNTIFS(Data!$J:$J,D$52,Data!$E:$E,$A56) -> 2 | E56: =COUNTIFS(Data!$J:$J,E$52,Data!$E:$E,$A56) -> 8 | F56: =COUNTIFS(Data!$J:$J,F$52,Data!$E:$E,$A56) -> 0 | G56: =COUNTIFS(Data!$J:$J,G$52,Data!$E:$E,$A56) -> 1 | H56: =COUNTIFS(Data!$J:$J,H$52,Data!$E:$E,$A56) -> 0 | I56: =COUNTIFS(Data!$J:$J,I$52,Data!$E:$E,$A56) -> 3 | ... L56: =COUNTIFS(Data!$J:$J,L$52,Data!$E:$E,$A56) -> 0 | M56: =SUM(B56:L56) -> 40
A57: سوهاج | B57: =COUNTIFS(Data!$J:$J,B$52,Data!$E:$E,$A57) -> 23 | C57: =COUNTIFS(Data!$J:$J,C$52,Data!$E:$E,$A57) -> 3 | D57: =COUNTIFS(Data!$J:$J,D$52,Data!$E:$E,$A57) -> 2 | E57: =COUNTIFS(Data!$J:$J,E$52,Data!$E:$E,$A57) -> 1 | F57: =COUNTIFS(Data!$J:$J,F$52,Data!$E:$E,$A57) -> 3 | G57: =COUNTIFS(Data!$J:$J,G$52,Data!$E:$E,$A57) -> 0 | H57: =COUNTIFS(Data!$J:$J,H$52,Data!$E:$E,$A57) -> 3 | I57: =COUNTIFS(Data!$J:$J,I$52,Data!$E:$E,$A57) -> 1 | ... L57: =COUNTIFS(Data!$J:$J,L$52,Data!$E:$E,$A57) -> 1 | M57: =SUM(B57:L57) -> 37
A58: الغربية | B58: =COUNTIFS(Data!$J:$J,B$52,Data!$E:$E,$A58) -> 6 | C58: =COUNTIFS(Data!$J:$J,C$52,Data!$E:$E,$A58) -> 14 | D58: =COUNTIFS(Data!$J:$J,D$52,Data!$E:$E,$A58) -> 8 | E58: =COUNTIFS(Data!$J:$J,E$52,Data!$E:$E,$A58) -> 2 | F58: =COUNTIFS(Data!$J:$J,F$52,Data!$E:$E,$A58) -> 3 | G58: =COUNTIFS(Data!$J:$J,G$52,Data!$E:$E,$A58) -> 0 | H58: =COUNTIFS(Data!$J:$J,H$52,Data!$E:$E,$A58) -> 0 | I58: =COUNTIFS(Data!$J:$J,I$52,Data!$E:$E,$A58) -> 1 | ... L58: =COUNTIFS(Data!$J:$J,L$52,Data!$E:$E,$A58) -> 0 | M58: =SUM(B58:L58) -> 35
A59: الدقهلية | B59: =COUNTIFS(Data!$J:$J,B$52,Data!$E:$E,$A59) -> 21 | C59: =COUNTIFS(Data!$J:$J,C$52,Data!$E:$E,$A59) -> 7 | D59: =COUNTIFS(Data!$J:$J,D$52,Data!$E:$E,$A59) -> 0 | E59: =COUNTIFS(Data!$J:$J,E$52,Data!$E:$E,$A59) -> 1 | F59: =COUNTIFS(Data!$J:$J,F$52,Data!$E:$E,$A59) -> 1 | G59: =COUNTIFS(Data!$J:$J,G$52,Data!$E:$E,$A59) -> 1 | H59: =COUNTIFS(Data!$J:$J,H$52,Data!$E:$E,$A59) -> 2 | I59: =COUNTIFS(Data!$J:$J,I$52,Data!$E:$E,$A59) -> 0 | ... L59: =COUNTIFS(Data!$J:$J,L$52,Data!$E:$E,$A59) -> 0 | M59: =SUM(B59:L59) -> 34
A60: المنوفية | B60: =COUNTIFS(Data!$J:$J,B$52,Data!$E:$E,$A60) -> 9 | C60: =COUNTIFS(Data!$J:$J,C$52,Data!$E:$E,$A60) -> 9 | D60: =COUNTIFS(Data!$J:$J,D$52,Data!$E:$E,$A60) -> 0 | E60: =COUNTIFS(Data!$J:$J,E$52,Data!$E:$E,$A60) -> 3 | F60: =COUNTIFS(Data!$J:$J,F$52,Data!$E:$E,$A60) -> 1 | G60: =COUNTIFS(Data!$J:$J,G$52,Data!$E:$E,$A60) -> 2 | H60: =COUNTIFS(Data!$J:$J,H$52,Data!$E:$E,$A60) -> 4 | I60: =COUNTIFS(Data!$J:$J,I$52,Data!$E:$E,$A60) -> 5 | ... L60: =COUNTIFS(Data!$J:$J,L$52,Data!$E:$E,$A60) -> 0 | M60: =SUM(B60:L60) -> 33
A61: قنا | B61: =COUNTIFS(Data!$J:$J,B$52,Data!$E:$E,$A61) -> 10 | C61: =COUNTIFS(Data!$J:$J,C$52,Data!$E:$E,$A61) -> 6 | D61: =COUNTIFS(Data!$J:$J,D$52,Data!$E:$E,$A61) -> 1 | E61: =COUNTIFS(Data!$J:$J,E$52,Data!$E:$E,$A61) -> 1 | F61: =COUNTIFS(Data!$J:$J,F$52,Data!$E:$E,$A61) -> 4 | G61: =COUNTIFS(Data!$J:$J,G$52,Data!$E:$E,$A61) -> 1 | H61: =COUNTIFS(Data!$J:$J,H$52,Data!$E:$E,$A61) -> 5 | I61: =COUNTIFS(Data!$J:$J,I$52,Data!$E:$E,$A61) -> 2 | ... L61: =COUNTIFS(Data!$J:$J,L$52,Data!$E:$E,$A61) -> 0 | M61: =SUM(B61:L61) -> 31
A62: الفيوم | B62: =COUNTIFS(Data!$J:$J,B$52,Data!$E:$E,$A62) -> 12 | C62: =COUNTIFS(Data!$J:$J,C$52,Data!$E:$E,$A62) -> 5 | D62: =COUNTIFS(Data!$J:$J,D$52,Data!$E:$E,$A62) -> 1 | E62: =COUNTIFS(Data!$J:$J,E$52,Data!$E:$E,$A62) -> 3 | F62: =COUNTIFS(Data!$J:$J,F$52,Data!$E:$E,$A62) -> 1 | G62: =COUNTIFS(Data!$J:$J,G$52,Data!$E:$E,$A62) -> 1 | H62: =COUNTIFS(Data!$J:$J,H$52,Data!$E:$E,$A62) -> 5 | I62: =COUNTIFS(Data!$J:$J,I$52,Data!$E:$E,$A62) -> 1 | ... L62: =COUNTIFS(Data!$J:$J,L$52,Data!$E:$E,$A62) -> 0 | M62: =SUM(B62:L62) -> 29
A63: اسوان | B63: =COUNTIFS(Data!$J:$J,B$52,Data!$E:$E,$A63) -> 3 | C63: =COUNTIFS(Data!$J:$J,C$52,Data!$E:$E,$A63) -> 6 | D63: =COUNTIFS(Data!$J:$J,D$52,Data!$E:$E,$A63) -> 1 | E63: =COUNTIFS(Data!$J:$J,E$52,Data!$E:$E,$A63) -> 4 | F63: =COUNTIFS(Data!$J:$J,F$52,Data!$E:$E,$A63) -> 5 | G63: =COUNTIFS(Data!$J:$J,G$52,Data!$E:$E,$A63) -> 4 | H63: =COUNTIFS(Data!$J:$J,H$52,Data!$E:$E,$A63) -> 1 | I63: =COUNTIFS(Data!$J:$J,I$52,Data!$E:$E,$A63) -> 1 | ... L63: =COUNTIFS(Data!$J:$J,L$52,Data!$E:$E,$A63) -> 0 | M63: =SUM(B63:L63) -> 28
A64: الشرقية | B64: =COUNTIFS(Data!$J:$J,B$52,Data!$E:$E,$A64) -> 4 | C64: =COUNTIFS(Data!$J:$J,C$52,Data!$E:$E,$A64) -> 4 | D64: =COUNTIFS(Data!$J:$J,D$52,Data!$E:$E,$A64) -> 5 | E64: =COUNTIFS(Data!$J:$J,E$52,Data!$E:$E,$A64) -> 1 | F64: =COUNTIFS(Data!$J:$J,F$52,Data!$E:$E,$A64) -> 1 | G64: =COUNTIFS(Data!$J:$J,G$52,Data!$E:$E,$A64) -> 3 | H64: =COUNTIFS(Data!$J:$J,H$52,Data!$E:$E,$A64) -> 0 | I64: =COUNTIFS(Data!$J:$J,I$52,Data!$E:$E,$A64) -> 0 | ... L64: =COUNTIFS(Data!$J:$J,L$52,Data!$E:$E,$A64) -> 0 | M64: =SUM(B64:L64) -> 18
...

Sheet Data
A1: بيانات الواقعة | R1: بيانات المتضررين | Y1: ملاحظات | Z1: بيانات المصادر
A2: رقم الواقعة | B2: التصنيف الشهري | C2: تاريخ الواقعة | D2: اﻹقليم | E2: المحافظة | F2: الدائرة | G2: منطقة الواقعة كما ذكر بالخبر | H2: مكان الواقعة التفصيلي كما ذكر بالخبر | I2: مكان الواقعة بيان العنصر المتضرر | J2: تصنيف مكان الواقعة | K2: عدد الوحدات/المنشات المتضررة | L2: الخسائر غير البشرية | M2: تصنيف الخسائر غير البشرية | N2: سبب حدوث الواقعة كما ورد بالخبر | O2: طريقة حدوث الحريق | P2: تصنيف سبب الواقعة | Q2: وسيلة اطفاء الحريق | R2: اجمالي عدد المتضررين | S2: تصنيف الخسائر البشرية | T2: عدد المصابين | U2: البيانات الشخصية | V2: عدد المتوفيين | W2: البيانات الشخصية | X2: رقم المحضر | Y2: ملاحظات | Z2: نص الخبر | AA2: مصدر 1 | AB2: مصدر 2 | AC2: مصدر 3 | AD2: مصدر 4 | AE2: مصدر 5 | AF2: مصدر 6 | AG2: مصدر 7 | AH2: مصدر 8 | AI2: مصدر 9 | AJ2: مصدر 10 | AK2: مصدر 11 | AL2: مصدر 12 | AM2: مصدر 13 | AN2: مصدر 14 | AO2: مصدر 15 | AP2: مصدر 16 | AQ2: مصدر 17 | AR2: مصدر 18 | AS2: مصدر 19 | AT2: مصدر 20 | AU2: مصدر 21 | AV2: مصدر 22 | AW2: مصدر 23 | AX2: مصدر 24 | AY2: مصدر 25 | AZ2: مصدر 26 | BA2: مصدر 27
A3: 1 | B3: ابريل 2026 | C3: 46113 | D3: اقليم جنوب الصعيد | E3: الاقصر | F3: اسنا | G3: منطقة نجع الحلة - شرق ملعب الحلة | H3: زراعات النخيل في مجلس قروى النمسا بمنطقة نجع الحلة شرق ملعب الحلة | I3: زراعات نخيل | J3: مزرعة نباتية / زراعية | K3: 1 | L3: كرم نخيل ممتد | M3: نخيل | N3: قيد التحقيق | O3: قيد التحقيق | P3: قيد التحقيق | Q3: سيارات الإطفاء | R3: =T3+V3 -> 0 | T3: 0 | U3: غير محدد | V3: 0 | W3: غير محدد | Y3: ساهمت سرعة الرياح وارتفاع درجات الحرارة في زيادة سرعة انتشار النيران | Z3: نجح رجال الحماية المدنية بمركز ومدينة إسنا جنوب محافظة الأقصر، عصر اليوم الأربعاء، في السيطرة على حريق نشب في عدد من زراعات النخيل في مجلس قروى النمسا بمنطقة نجع الحلة شرق ملعب الحلة، دون مصابين أو خسائر بشرية، وتم اتخاذ الإجراءات القانونية اللازمة تجاه الواقعة وتولت النيابة العامة التحقيق. Wadi Rum fly over... 00:00 Previous Pause Next 01:04 / 01:41 Mute Fullscreen Copy video url Play / Pause Mute / Unmute Report a problem Language Share Vidverto Player بداية الواقعة باندلاع النيران في زراعات النخيل بجوار منازل قرية النمسا بدأت تفاصيل الواقعة بتلقى غرفة النجدة بمركز ومدينة إسنا جنوب الأقصر، إخطاراً من أهالى نجع الحلة شرق ملعب الحلة التابعة لمجلس قروى النمسا، يفيد باندلاع النيران في عدد من أشجار النخيل بالنجع بالقرب من المنازل، وعلى الفور انتقلت سيارتا إطفاء لموقع الحريق للسيطرة على النيران قبل امتدادها للمنازل المجاورة، وتم اتخاذ الإجراءات القانونية اللازمة تجاه الواقعة وتولت النيابة العامة التحقيق. السيطرة على حريق في زراعات النخيل بقرية النمسا جنوب الأقصر السيطرة على حريق في زراعات النخيل بقرية النمسا جنوب الأقصر حريق في زراعات النخيل بقرية النمسا جنوب الأقصر حريق في زراعات النخيل بقرية النمسا جنوب الأقصر سيارة إطفاء للسيطرة على حريق فى زراعات النخيل بقرية النمسا سيارة إطفاء للسيطرة على حريق فى زراعات النخيل بقرية النمسا | AA3: https://www.youm7.com/story/2026/4/1/%D8%A7%D9%84%D8%B3%D9%8A%D8%B7%D8%B1%D8%A9-%D8%B9%D9%84%D9%89-%D8%AD%D8%B1%D9%8A%D9%82-%D9%81%D9%89-%D8%B2%D8%B1%D8%A7%D8%B9%D8%A7%D8%AA-%D8%A7%D9%84%D9%86%D8%AE%D9%8A%D9%84-%D8%A8%D9%82%D8%B1%D9%8A%D8%A9-%D8%A7%D9%84%D9%86%D9%85%D8%B3%D8%A7-%D8%AC%D9%86%D9%88%D8%A8-%D8%A7%D9%84%D8%A3%D9%82%D8%B5%D8%B1/7361712 | AB3: elbalad.news/6921294
A4: 2 | B4: ابريل 2026 | C4: 46113 | D4: اقليم القاهرة الكبرى | E4: الجيزة | F4: اوسيم | G4: منطقة اوسيم | H4: منزل بمنطقة اوسيم | I4: منزل | J4: منشأة سكنية | K4: 1 | L4: التهام بعض محتويات المنزل | M4: اثاث | N4: قيد التحقيق | O4: قيد التحقيق | P4: قيد التحقيق | Q4: سيارات الاطفاء | R4: =T4+V4 -> 0 | T4: 0 | U4: غير محدد | V4: 0 | W4: غير محدد | Z4: اندلع حريق داخل منزل فى منطقة أوسيم ، وعلى الفور تمت السيطرة عليه دون إصابات وتولت النيابة المختصة التحقيقات. 00:00 Previous Play Next 00:00 / 01:41 Mute Fullscreen Copy video url Play / Pause Mute / Unmute Report a problem Language Share Vidverto Player غرفة العمليات تلقت بلاغا بالحريق تلقت غرفة عمليات النجدة ،بلاغا من الأهالى بنشوب حريق داخل منزل فى منطقة أوسيم ، وعلي الفور انتقلت سيارات الاطفاء الي المكان وتمت عملية إخماد الحريق. ويستمع رجال المباحث بمديرية أمن الجيزة ، لأقوال شهود العيان وقاطنى المنزل لكشف ملابسات الواقعة وتم اتخاذ الإجراءات القانونية اللازمة تجاه الواقعة. | AA4: https://www.youm7.com/story/2026/4/1/%D8%A5%D8%AE%D9%85%D8%A7%D8%AF-%D8%AD%D8%B1%D9%8A%D9%82-%D8%AF%D8%A7%D8%AE%D9%84-%D9%85%D9%86%D8%B2%D9%84-%D9%81%D9%89-%D8%A3%D9%88%D8%B3%D9%8A%D9%85-%D8%AF%D9%88%D9%86-%D8%A5%D8%B5%D8%A7%D8%A8%D8%A7%D8%AA/7362096
A5: 3 | B5: ابريل 2026 | C5: 46113 | D5: اقليم القاهرة الكبرى | E5: الجيزة | F5: المنيب | G5: المنيب | H5: شقة سكنية بالمنيب | I5: وحدة سكنية | J5: منشأة سكنية | K5: 1 | L5: بعض محتويات الوحدة السكنية | M5: اثاث | N5: قيد التحقيق | O5: قيد التحقيق | P5: قيد التحقيق | Q5: سيارات الاطفاء | R5: =T5+V5 -> 0 | T5: 0 | U5: غير محدد | V5: 0 | W5: غير محدد | Z5: اندلع حريق داخل شقة سكنية فى منطقة المنيب ، وعلى الفور تمت السيطرة عليه دون إصابات وتولت النيابة المختصة التحقيقات. 00:00 Previous Play Next 00:00 / 01:41 Mute Fullscreen Copy video url Play / Pause Mute / Unmute Report a problem Language Share Vidverto Player advertisement غرفة العمليات تلقت بلاغا بالحريق تلقت غرفة عمليات النجدة ،بلاغا من الأهالى بنشوب حريق داخل شقة سكنية فى المنيب وعلي الفور انتقلت سيارات الاطفاء الي المكان وتمت عملية إخماد الحريق. ويستمع رجال المباحث بمديرية أمن الجيزة ، لأقوال شهود العيان وقاطنى الشقة لكشف ملابسات الواقعة وتم اتخاذ الإجراءات القانونية اللازمة تجاه الواقعة. | AA5: https://www.youm7.com/story/2026/4/1/%D8%A5%D8%AE%D9%85%D8%A7%D8%AF-%D8%AD%D8%B1%D9%8A%D9%82-%D8%AF%D8%A7%D8%AE%D9%84-%D8%B4%D9%82%D8%A9-%D8%B3%D9%83%D9%86%D9%8A%D8%A9-%D9%81%D9%89-%D8%A7%D9%84%D9%85%D9%86%D9%8A%D8%A8-%D8%AF%D9%88%D9%86-%D8%A5%D8%B5%D8%A7%D8%A8%D8%A7%D8%AA/7362066
A6: 4 | B6: ابريل 2026 | C6: 46113 | D6: اقليم القاهرة الكبرى | E6: الجيزة | F6: الهرم | G6: شقة سكنية بالهرم | H6: شقة سكنية بالهرم | I6: وحدة سكنية | J6: منشأة سكنية | K6: 1 | L6: بعض المحتويات | M6: اثاث | N6: قيد التحقيق | O6: قيد التحقيق | P6: قيد التحقيق | Q6: سيارات الإطفاء | R6: =T6+V6 -> 0 | T6: 0 | U6: غير محدد | V6: 0 | W6: غير محدد | Z6: اندلع حريق داخل شقة سكنية فى منطقة الهرم، وعلى الفور تمت السيطرة عليه دون إصابات وتولت النيابة المختصة التحقيقات. 00:14 00:11 / 00:54 Fullscreen Copy video url Play / Pause Mute / Unmute Report a problem Language Share Vidverto Player غرفة العمليات تلقت بلاغا بالحريق تلقت غرفة عمليات النجدة ،بلاغا من الأهالى بنشوب حريق داخل شقة سكنية فى الهرم وعلى الفور انتقلت سيارات الإطفاء إلى المكان، وتمت عملية إخماد الحريق. ويستمع رجال المباحث بمديرية أمن الجيزة لأقوال شهود العيان وقاطنى الشقة لكشف ملابسات الواقعة، وتم اتخاذ الإجراءات القانونية اللازمة تجاه الواقعة. | AA6: https://www.youm7.com/story/2026/4/1/%D8%A5%D8%AE%D9%85%D8%A7%D8%AF-%D8%AD%D8%B1%D9%8A%D9%82-%D8%AF%D8%A7%D8%AE%D9%84-%D8%B4%D9%82%D8%A9-%D8%B3%D9%83%D9%86%D9%8A%D8%A9-%D9%81%D9%89-%D8%A7%D9%84%D9%87%D8%B1%D9%85-%D8%AF%D9%88%D9%86-%D8%A5%D8%B5%D8%A7%D8%A8%D8%A7%D8%AA/7361065
A7: 5 | B7: ابريل 2026 | C7: 46113 | D7: اقليم القاهرة الكبرى | E7: القاهرة | F7: الزيتون | G7: سراي القبة | H7: مصنع للملابس مصنع ملابس بالطابق الأرضي، أسفل عقار مكون من 11 طابق بمحل البلاغ حيث أن الطابق الأرضي على مساحة 2500 متر تقريباً مقسم إلى 3 مخازن (مخزن أجهزة كمبيوتر مصنع ومخزن ملابس - مخزن شاشات و قطع غيار كمبيوتر). سراي القية | I7: غرفة الكهرباء الملاصقة لغرفة الكمبيوتر داخل المصنع | J7: منشأة صناعية | K7: 1 | L7: التهام محتويات المصنع بالكامل | M7: معدات ومواد خام | N7: ماس كهربي | O7: اندلاع النيران ب غرفة الكهرباء الملاصقة لغرفة الكمبيوتر داخل المصنع | P7: ماس كهربائي | Q7: سيارات الإطفاء وفرق الانقاذ وسلم هيدروليكي و 17 سيارة إطفاء وإنقاذ وخزانات مياه | R7: =T7+V7 -> 26 | T7: 17 | U7: غير محدد | V7: 9 | W7: غير محدد | Y7: نشب الحريق فى غرفة الكهرباء الملاصقة لغرفة الكمبيوتر داخل المصنع | Z7: نشب حريق هائل داخل مصنع ومخازن ملابس وأقمشة بمنطقة سرايا القبة فى الزيتون بمحافظة القاهرة، ونتج عنها وفاة 8 أشخاص وإصابة 17 آخرين، وتم نقلهم الى المستشفى ، وقام رجال الحماية المدنية ببذل جهودا كبيرة حتى تمت السيطرة على الحريق الذى استمر لمدة 10 ساعات وقام رجال الحماية بمحاصرة النيران بالكامل وإجراء عمليات التبريد. غرفة العمليات تلقت بلاغا بالحريق تلقت غرفة العمليات بلاغا يفيد بنشوب حريق بمصنع أسفل عقار أبراج سراي القبة أمام محطة مترو سراي القبة - دائرة قسم الزيتون وبناء على تعليمات اللواء الدكتور محمد الشربينى مدير الإدارة العامة للحماية المدنية بالقاهرة انتقلت سيارات الاطفاء الي المكان وتمت عملية إخماد النيران بالكامل مع 10 ساعات مع عمليات الإخماد وسط جهود مضنية وكبيرة بذلها رجال الحماية حتى تم القضاء على النيران فى المصنع . الدفع بـ 17 سيارة إطفاء وإنقاذ للسيطرة على الحريق دفعت الإدارة العامة للحماية المدنية بالقاهرة ب 17 سيارة إطفاء وإنقاذ وخزانات مياه لمحاصرة الحريق من كافة الاتجاهات ومنع خطر إمتداه إلى المجاورات حتى لا يتفاقم الحريق . إنقاذ 17 شخصا من داخل الحريق قامت فرق الحماية المدنية والانقاذ بعمليات إنقاذ ل 17 شخصا محاصر داخل نيران حريق مصنع ملابس سرايا القبة واستعان رجال الحماية المدنية بمعداتهم الحديثة واستخدام الطرق العلمية اللازمة حتى قاموا بانقاذهم جميعا من داخل النيران التى التهمت معظم محتويات المكان من ملابس وأقمشة ومعدات فصل المرافق عن المكان قامت الأجهزة المعنية بعمليات فصل للمرافق سواء كهربا أو غاز عن المكان حتى يتم تسهيل عمليات السيطرة على الحريق ومحاصرته من كافة الاتجاهات ومنع امتدادها للعقارات المجاورة. جهودا كبيرة لرجال الحماية المدنية بذل رجال الحماية المدنية جهودا كبيرة فى عمليات إخماد الحريق وحدثت بينهم حالات اختناق وبمجرد اخذ قسط من الراحة يعود مرة أخرى إلى المكان ليتم مقاومة الحريق الذى استمر ل 10 ساعات كاملة فى عمليات السيطرة عليه وسطر رجال الحماية المدنية ملحمة حتى تمت عمليات الاخماد الاستعانة لودر لعمل فتحات استعان رجال الحماية المدنية بلودر تابع للمحافظة لعمل فتحات فى مصنع ملابس السرايا حتى يتثنى لرجال الحماية المدنية إجراء عمليات البحث عن محتجزين والسيطرة على الحريق ومنع امتداد النيران فى المبنى والعقارات السكنية المجاورة له. القبض على صاحب المصنع والتحقيق معه تمكنت الأجهزة الأمنية من القبض على صاحب المصنع فى واقعة حريق المصنع والمخازن الذى نتج عنه وفاة وإصابة اشخاص ونقلوا جميعهم الى المستشفى معاينة الحريق النهائية كشفت معاينة حريق مصنع ملابس سرايا القبة ،أنه بمجرد تلقى بلاغا بنشوب حريق فى المصنع دفعت إدارة الحماية المدنية بغرق إنقاذ وحماية وبصحبتهم 17 سيارة إطفاء وإنقاذ وخزان وسلم هيدروليكى . وأضافت المعاينة، أنه نشب الحريق بمصنع ملابس بالطابق الأرضي، أسفل عقار مكون من 11 طابق بمحل البلاغ حيث أن الطابق الأرضي على مساحة 2500 متر تقريباً مقسم إلى 3 مخازن (مخزن أجهزة كمبيوتر مصنع ومخزن ملابس - مخزن شاشات و قطع غيار كمبيوتر). وكشفت المعاينة عن وجود 17 محتجزين داخل المصنع، وتلقوا الرعاية الصحية وبحاله جيده و تم إستخراج 3 متوفيين بمعرفة القوات وأن المصنع له مدخل واحد فقط ، و من عدمه وجود ثمة تهوية والوسائل تامين بالمصنع، و تم عمل فتحات بمعرفة قوات إنقاذ البريي الإدارة و ذلك من الحوائط الجانبية المطلة على المصنع لسهولة عملية الإقتحام و الإطفاء . كما أوضحت المعاينة أن الحريق استغرق عملية الإطفاء حوالي 10ساعات (من الساعة 5 مساءاً و حتى الساعة 3 صباحاً) وتم الإطفاء بالكامل بمعرفة القوات، ومنع إمتداد النيران للمجاورات جاري التبريد. تلقت غرفة العمليات بلاغا يفيد بنشوب حريق بمصنع اسفل عقار أبراج سراي القبة أمام محطة مترو سراي القبة - دائرة قسم الزيتون وبناء على تعليمات اللواء الدكتور محمد الشربينى مدير الإدارة العامة للحماية المدنية بالقاهرة انتقلت سيارات الاطفاء الي المكان وتمت عملية إخماد النيران بالكامل مع 10 ساعات مع عمليات الإخماد وسط جهود مضنية وكبيرة بذلها رجال الحماية حتى تم القضاء على النيران فى المصنع. | AA7: https://www.youm7.com/story/2026/4/1/%D8%A8%D8%B9%D8%AF-%D8%AD%D8%B1%D9%8A%D9%82-%D9%85%D8%B5%D9%86%D8%B9-%D8%B3%D8%B1%D8%A7%D9%8A%D8%A7-%D8%A7%D9%84%D9%82%D8%A8%D8%A9-%D8%A7%D9%84%D8%B4%D8%B9%D8%A8-%D8%A7%D9%84%D8%AC%D9%85%D9%87%D9%88%D8%B1%D9%8A-%D9%8A%D9%86%D8%A7%D8%B4%D8%AF-%D8%B1%D8%A6%D9%8A%D8%B3-%D8%A7%D9%84%D8%AD%D9%89/7362021 | AB7: https://www.youm7.com/story/2026/4/1/%D9%86%D9%86%D8%B4%D8%B1-%D8%A7%D9%84%D8%AA%D9%82%D8%B1%D9%8A%D8%B1-%D8%A7%D9%84%D8%A3%D9%88%D9%84%D9%89-%D9%84%D9%84%D8%A3%D8%AF%D9%84%D8%A9-%D8%A7%D9%84%D8%AC%D9%86%D8%A7%D8%A6%D9%8A%D8%A9-%D9%81%D9%89-%D9%88%D8%A7%D9%82%D8%B9%D8%A9-%D8%AD%D8%B1%D9%8A%D9%82-%D9%85%D8%B5%D9%86%D8%B9-%D8%B3%D8%B1%D8%A7%D9%8A%D8%A7/7361911 | AC7: https://www.youm7.com/story/2026/4/1/%D8%B3%D8%B1-%D8%B3%D9%8A%D8%A7%D8%B1%D8%A9-%D9%85%D8%A7%D9%84%D9%83-%D9%85%D8%B5%D9%86%D8%B9-%D8%B3%D8%B1%D8%A7%D9%8A%D8%A7-%D8%A7%D9%84%D9%82%D8%A8%D8%A9-%D9%81%D9%89-%D8%A7%D8%B1%D8%AA%D9%81%D8%A7%D8%B9-%D8%B9%D8%AF%D8%AF-%D8%A7%D9%84%D8%B6%D8%AD%D8%A7%D9%8A%D8%A7/7361905 | AD7: https://www.youm7.com/story/2026/4/1/%D9%85%D9%84%D8%AD%D9%85%D8%A9-%D8%A8%D8%B7%D9%88%D9%84%D9%8A%D8%A9-%D8%A7%D9%84%D8%AD%D9%85%D8%A7%D9%8A%D8%A9-%D8%A7%D9%84%D9%85%D8%AF%D9%86%D9%8A%D8%A9-%D8%AA%D9%86%D8%AC%D8%AD-%D9%81%D9%89-%D8%A7%D9%84%D8%B3%D9%8A%D8%B7%D8%B1%D8%A9-%D8%B9%D9%84%D9%89-%D8%AD%D8%B1%D9%8A%D9%82-%D8%B3%D8%B1%D8%A7%D9%8A%D8%A7/7361463 | AE7: https://www.youm7.com/story/2026/4/1/%D9%85%D8%B9%D9%84%D9%88%D9%85%D8%A7%D8%AA-%D8%B9%D9%86-%D8%AD%D8%B1%D9%8A%D9%82-%D9%85%D8%B5%D9%86%D8%B9-%D9%85%D9%84%D8%A7%D8%A8%D8%B3-%D8%A7%D9%84%D8%AD%D9%84%D9%85%D9%8A%D8%A9-%D8%A8%D8%B9%D8%AF-%D8%B2%D9%8A%D8%A7%D8%AF%D8%A9-%D8%B9%D8%AF%D8%AF-%D8%A7%D9%84%D9%85%D8%B5%D8%A7%D8%A8%D9%8A%D9%86/7361457 | AF7: https://www.youm7.com/story/2026/4/1/%E2%80%8B%D8%B5%D8%AD%D8%A9-%D8%A7%D9%84%D9%82%D8%A7%D9%87%D8%B1%D8%A9-%D8%A7%D8%B3%D8%AA%D9%82%D8%B1%D8%A7%D8%B1-%D8%AD%D8%A7%D9%84%D8%A9-%D9%85%D8%B5%D8%A7%D8%A8%D9%89-%D8%AD%D8%B1%D9%8A%D9%82-%D8%A7%D9%84%D8%B2%D9%8A%D8%AA%D9%88%D9%86-%D9%88%D8%A7%D9%84%D9%85%D8%AD%D8%A7%D9%81%D8%B8-%D9%8A%D9%88%D8%AC%D9%87-%D8%A8%D8%AA%D9%88%D9%81%D9%8A%D8%B1/7361437 | AG7: https://www.youm7.com/story/2026/4/1/%D8%A7%D8%B1%D8%AA%D9%81%D8%A7%D8%B9-%D8%B9%D8%AF%D8%AF-%D8%A7%D9%84%D9%85%D8%AA%D9%88%D9%81%D9%8A%D9%86-%D9%84%D9%80-8-%D9%88%D8%A5%D8%B5%D8%A7%D8%A8%D8%A9-17-%D8%A2%D8%AE%D8%B1%D9%8A%D9%86-%D8%A8%D8%AD%D8%B1%D9%8A%D9%82-%D9%85%D8%B5%D9%86%D8%B9/7361375 | AH7: https://www.youm7.com/story/2026/4/1/%D8%A7%D8%B3%D8%AA%D9%85%D8%B1%D8%A7%D8%B1-%D8%B9%D9%85%D9%84%D9%8A%D8%A7%D8%AA-%D8%AA%D8%A8%D8%B1%D9%8A%D8%AF-%D8%AD%D8%B1%D9%8A%D9%82-%D9%85%D8%B5%D9%86%D8%B9-%D9%88%D9%85%D8%AE%D8%B2%D9%86-%D8%AD%D9%84%D9%85%D9%8A%D8%A9-%D8%A7%D9%84%D8%B2%D9%8A%D8%AA%D9%88%D9%86-%D9%85%D9%86%D8%B9%D8%A7-%D9%84%D8%AA%D8%AC%D8%AF%D8%AF/7361098 | AI7: https://www.youm7.com/story/2026/4/1/%D8%A7%D9%84%D9%86%D9%8A%D8%A7%D8%A8%D8%A9-%D8%AA%D8%A3%D9%85%D8%B1-%D8%A8%D8%AA%D8%B4%D9%83%D9%8A%D9%84-%D9%84%D8%AC%D9%86%D8%A9-%D9%85%D9%86-%D9%85%D8%AD%D8%A7%D9%81%D8%B8%D8%A9-%D8%A7%D9%84%D9%82%D8%A7%D9%87%D8%B1%D8%A9-%D9%84%D9%85%D8%B9%D8%A7%D9%8A%D9%86%D8%A9-%D8%B9%D9%82%D8%A7%D8%B1-%D8%A7%D9%84%D8%B2%D9%8A%D8%AA%D9%88%D9%86/7360970 | AJ7: https://www.youm7.com/story/2026/4/1/%D8%A7%D9%84%D9%86%D9%8A%D8%A7%D8%A8%D8%A9-%D8%AA%D8%B3%D8%AA%D8%B9%D9%84%D9%85-%D8%B9%D9%86-%D8%A7%D9%84%D8%AD%D8%A7%D9%84%D8%A9-%D8%A7%D9%84%D8%B5%D8%AD%D9%8A%D8%A9-%D9%84%D9%85%D8%B5%D8%A7%D8%A8%D9%89-%D8%AD%D8%B1%D9%8A%D9%82-%D9%85%D8%B5%D9%86%D8%B9-%D9%85%D9%84%D8%A7%D8%A8%D8%B3-%D8%B3%D8%B1%D8%A7%D9%89/7360956 | AK7: https://www.youm7.com/story/2026/4/1/%D8%A7%D9%84%D9%86%D9%8A%D8%A7%D8%A8%D8%A9-%D8%AA%D8%B7%D9%84%D8%A8-%D8%AA%D8%AD%D8%B1%D9%8A%D8%A7%D8%AA-%D8%A7%D9%84%D9%85%D8%A8%D8%A7%D8%AD%D8%AB-%D8%AD%D9%88%D9%84-%D8%AD%D8%B1%D9%8A%D9%82-%D9%85%D8%B5%D9%86%D8%B9-%D9%85%D9%84%D8%A7%D8%A8%D8%B3-%D8%B3%D8%B1%D8%A7%D9%89-%D8%A7%D9%84%D9%82%D8%A8%D8%A9/7360950 | AL7: https://www.youm7.com/story/2026/4/1/%D8%A7%D9%84%D9%86%D9%8A%D8%A7%D8%A8%D8%A9-%D8%AA%D8%B7%D9%84%D8%A8-%D8%AA%D9%82%D8%B1%D9%8A%D8%B1-%D8%A7%D9%84%D8%B5%D9%81%D8%A9-%D8%A7%D9%84%D8%AA%D8%B4%D8%B1%D9%8A%D8%AD%D9%8A%D8%A9-%D9%84%D8%AC%D8%AB%D8%AB-%D8%B6%D8%AD%D8%A7%D9%8A%D8%A7-%D8%AD%D8%B1%D9%8A%D9%82-%D9%85%D8%B5%D9%86%D8%B9-%D9%85%D9%84%D8%A7%D8%A8%D8%B3/7360945 | AM7: https://www.youm7.com/story/2026/4/1/%D8%A8%D8%AB-%D9%85%D8%A8%D8%A7%D8%B4%D8%B1-%D8%A7%D8%B3%D9%81%D8%B1-%D8%B9%D9%86-3-%D9%88%D9%81%D9%8A%D8%A7%D8%AA-%D8%AA%D9%81%D8%A7%D8%B5%D9%8A%D9%84-%D8%AD%D8%B1%D9%8A%D9%82-%D9%85%D8%B5%D9%86%D8%B9-%D9%88%D9%85%D8%AE%D8%B2%D9%86/7360889 | AN7: https://www.almasryalyoum.com/news/details/4234601 | AO7: https://www.almasryalyoum.com/news/details/4235286 | AP7: https://www.almasryalyoum.com/news/details/4235247 | AQ7: https://www.elbalad.news/6921891 | AR7: https://www.elbalad.news/6922738 | AS7: https://www.elbalad.news/6922358 | AT7: https://www.elbalad.news/6922274 | AU7: almasryalyoum.com/news/details/4235797 | AV7: https://www.almasryalyoum.com/news/details/4235467 | AW7: https://www.youm7.com/story/2026/4/3/%D8%A8%D8%AA%D9%87%D9%85%D8%A9-%D8%A7%D9%84%D8%A5%D9%87%D9%85%D8%A7%D9%84-%D8%AD%D8%A8%D8%B3-%D9%85%D8%B3%D8%A4%D9%88%D9%84%D9%8A-%D9%85%D8%B5%D9%86%D8%B9-%D8%B3%D8%B1%D8%A7%D9%8A%D8%A7-%D8%A7%D9%84%D9%82%D8%A8%D8%A9-%D8%A7%D9%84%D9%85%D8%AD%D8%AA%D8%B1%D9%82-4-%D8%A3%D9%8A%D8%A7%D9%85/7364787 | AX7: https://www.youm7.com/story/2026/4/6/%D8%AA%D8%AC%D8%AF%D9%8A%D8%AF-%D8%AD%D8%A8%D8%B3-%D9%85%D8%B3%D8%A4%D9%88%D9%84%D9%89-%D9%85%D8%B5%D9%86%D8%B9-%D8%B3%D8%B1%D8%A7%D9%8A%D8%A7-%D8%A7%D9%84%D9%82%D8%A8%D8%A9-15-%D9%8A%D9%88%D9%85%D8%A7/7367845 | AY7: https://www.almasryalyoum.com/news/details/4238437 | AZ7: https://www.almasryalyoum.com/news/details/4241190 | BA7: https://www.almasryalyoum.com/news/details/4269229
A8: 6 | B8: ابريل 2026 | C8: 46113 | D8: اقليم جنوب الصعيد | E8: سوهاج | F8: ساقلتة | G8: منزل بنجع ابوحجر قرية سفلاق | H8: الدور الأول علوي بمنزل أحد المواطنين بناحية نجع أبو حجر التابعة لقرية سفلاق بدائرة مركز ساقلتة | I8: منزل | J8: منشأة سكنية | K8: 0 | L8: محتويات الطابق الأول، ما أسفر عن احتراق عداد الكهرباء، وتلف غرفة نوم ومطبخ، إضافة إلى احتراق المفروشات من ستائر وسجاد وموكيت. | M8: عداد الكهرباء + اثاث | N8: قيد التحقيق | O8: قيد التحقيق | P8: ماس كهربائي | Q8: سيارات الإطفاء | R8: =T8+V8 -> 0 | T8: 0 | U8: غير محدد | V8: 0 | W8: غير محدد | Z8: تمكنت قوات الحماية المدنية، من السيطرة على حريق اندلع بالدور الأول علوي بمنزل أحد المواطنين بناحية نجع أبو حجر التابعة لقرية سفلاق بدائرة مركز ساقلتة، دون وقوع إصابات بشرية، مع حدوث خسائر مادية. The Istanbul Winter Express 00:00 Previous Pause Next 00:53 / 02:18 Mute Fullscreen Copy video url Play / Pause Mute / Unmute Report a problem Language Share Vidverto Player تفاصيل الواقعة ترجع تفاصيل الواقعة عقب تلقى اللواء دكتور حسن عبدالعزيز، مساعد وزير مدير أمن سوهاج، بلاغا بنشوب حريق داخل منزل بناحية نجع أبو حجر، وعلى الفور تم إخطار قوات الحماية المدنية، وانتقلت الأجهزة المعنية إلى موقع الحريق للسيطرة عليه. الفحص والمعاينة وبالفحص تبين أن الحريق نشب بمنزل المواطن جمال إبراهيم قواطين حسين، وامتد إلى محتويات الطابق الأول، ما أسفر عن احتراق عداد الكهرباء، وتلف غرفة نوم ومطبخ، إضافة إلى احتراق المفروشات من ستائر وسجاد وموكيت. السيطرة على الحريق تم الدفع بسيارات الإطفاء والتي تمكنت من السيطرة على الحريق ومنع امتداده إلى المنازل المجاورة تم إتخاذ كافة الإجراءات القانوينة اللازمة حيال الواقعة ، وجارٍ تحديد سبب الحريق بواسطة الجهات الأمنية المختصة. | AA8: https://www.youm7.com/story/2026/4/1/%D8%A7%D9%84%D8%B3%D9%8A%D8%B7%D8%B1%D8%A9-%D8%B9%D9%84%D9%89-%D8%AD%D8%B1%D9%8A%D9%82-%D9%81%D9%8A-%D8%B3%D8%A7%D9%82%D9%84%D8%AA%D9%87-%D8%AF%D9%88%D9%86-%D8%A5%D8%B5%D8%A7%D8%A8%D8%A7%D8%AA/7361479
A9: 7 | B9: ابريل 2026 | C9: 46113 | D9: اقليم الاسكندرية | E9: مطروح | F9: علم الروم | G9: منطقة علم الروم - بمدينة مرسى مطروح، | H9: حريق بسيارة نقل بالقرب من مسجد الغفران | I9: سيارة نقل | J9: وسيلة نقل | K9: 1 | L9: احتراق المركبة | M9: محتويات المركبة | N9: قيد التحقيق | O9: قيد التحقيق | P9: حادث مركبة | Q9: سيارة اطفاء | R9: =T9+V9 -> 0 | T9: 0 | U9: غير محدد | V9: 0 | W9: غير محدد | Z9: شهدت منطقة علم الروم بمدينة مرسى مطروح، اندلاع حريق بسيارة نقل بالقرب من مسجد الغفران، ما أثار حالة من القلق بين الأهالي، دون وقوع أي إصابات بشرية. وتلقت الأجهزة المعنية بلاغًا بنشوب الحريق، وعلى الفور انتقلت قوات الحماية المدنية إلى موقع الحادث، وتم الدفع بسيارات الإطفاء التي نجحت في السيطرة على النيران وإخمادها قبل امتدادها إلى المناطق المجاورة. وتم اتخاذ الإجراءات اللازمة، وجار فحص أسباب الحريق للتأكد من ملابساته، فيما أكد شهود عيان أن سرعة تدخل قوات الإطفاء ساهمت في احتواء الموقف ومنع وقوع خسائر أكبر | AA9: https://www.almasryalyoum.com/news/details/4234536
A10: 8 | B10: ابريل 2026 | C10: 46114 | D10: اقليم جنوب الصعيد | E10: اسوان | F10: قرية بنبان | G10: منطقة الشيخ فضل - التابعة لقرية بنبان | H10: حريق محدود في باخرة سياحية أمام منطقة الشيخ فضل التابعة لقرية بنبان | I10: باخرة سياحية | J10: وسيلة نقل | K10: 1 | L10: احتراق بعض اجزاء الباخرة | M10: اثاث | N10: قيد التحقيق | O10: قيد التحقيق | P10: قيد التحقيق | Q10: فرق الإنقاذ النهري | R10: =T10+V10 -> 0 | T10: 0 | U10: غير محدد | V10: 0 | W10: غير محدد | Z10: تلقت غرفة عمليات الحماية المدنية بأسوان، بلاغاً يفيد بنشوب حريق في باخرة سياحية كانت تقل على متنها 50 سائحاً من جنسيات مختلفة وعلى الفور، انتقلت فرق الإنقاذ النهري وقوات الحماية المدنية إلى موقع البلاغ، حيث تم التدخل السريع للسيطرة على النيران قبل امتدادها إلى أجزاء أخرى من الباخرة. سلامة الركاب أكدت مصادر أمنية أن الحادث لم يسفر عن وقوع أي إصابات أو خسائر في الأرواح، مشيرة إلى أن الطاقم والركاب جميعهم بخير. وقد تم تأمين الركاب بالكامل ونقلهم إلى موقع آمن بعيداً عن منطقة الحريق. استئناف الرحلة وبعد التأكد من إخماد الحريق تماماً وتأمين الباخرة، تقرر استكمال الرحلة السياحية للركاب دون أي عوائق، حيث حرصت الجهات المعنية على توفير كافة سبل الراحة والأمان للسائحين لمتابعة برنامجهم السياحي المعتاد. الإجراءات القانونية وتتولى الأجهزة الأمنية حالياً استكمال الإجراءات القانونية اللازمة، حيث تجري المعاينة الفنية للوقوف على أسباب اندلاع الحريق وتحديد ملابسات الواقعة، وسط متابعة دقيقة من الجهات المختصة لضمان تطبيق كافة معايير السلامة المهنية في الفنادق العائمة. | AA10: https://www.youm7.com/story/2026/4/2/%D8%AD%D8%B1%D9%8A%D9%82-%D9%85%D8%AD%D8%AF%D9%88%D8%AF-%D9%81%D9%89-%D8%A8%D8%A7%D8%AE%D8%B1%D8%A9-%D8%B3%D9%8A%D8%A7%D8%AD%D9%8A%D8%A9-%D8%A8%D8%A3%D8%B3%D9%88%D8%A7%D9%86/7363838 | AB10: https://www.elbalad.news/6922536
A11: 9 | B11: ابريل 2026 | C11: 46114 | D11: اقليم جنوب الصعيد | E11: اسوان | F11: قسم ثان اسوان | G11: سيارة فنطاس محملة بالمواد البترولية وامتداد النيران لسيارة أخرى - بقطعة أرض فضاء - بمحافظة أسوان. | H11: سيارة فنطاس بدائرة قسم ثان محتفظة اسوان | I11: تفحم 2 سيارة + قطعة ارض فضاء | J11: وسيلة نقل | K11: 3 | L11: احتراق 2 سيارة | M11: مركبتين | N11: ماس كهربائي أدى لانفجار الحريق | O11: ماس كهربي | P11: ماس كهربائي | Q11: سيارة اطفاء | R11: =T11+V11 -> 0 | T11: 0 | U11: غير محدد | V11: 0 | W11: غير محدد | Z11: نجحت الأجهزة الأمنية بوزارة الداخلية في كشف لغز مقطع فيديو وصور جرى تداولها على نطاق واسع عبر منصات التواصل الاجتماعي، توثق لحظات مرعبة لنشوب حريق هائل في سيارة "فنطاس" محملة بالمواد البترولية وامتداد النيران لسيارة أخرى بقطعة أرض فضاء بمحافظة أسوان. الحادث الذي بدا في ظاهره "قدراً"، تحول بيقظة رجال الأمن إلى خيط رفيع كشف عن نشاط إجرامي يهدد اقتصاد الدولة. بالفحص والتحري، تبين أن الواقعة شهدتها دائرة قسم ثان أسوان في 31 مارس المنقضي، حيث اشتعلت النيران في سيارة "فنطاس" كانت متوقفة في قطعة أرض فضاء، لتلتهم النيران سيارة "ربع نقل" كانت تجاورها، مما أسفر عن تفحم السيارتين بالكامل دون وقوع إصابات بشرية. ولم تقف الأجهزة الأمنية عند حد إطفاء الحريق، بل بدأت في تتبع هوية أصحاب المركبات غير المرقمة. وتمكن رجال المباحث من تحديد وضبط مالك السيارتين، وهو مقيم بدائرة قسم شرطة أول أسوان. وبمواجهته، فجر مفاجأة من العيار الثقيل؛ حيث أقر بأنه كان يستخدم سيارة "الفنطاس" بدون لوحات معدنية لتجميع المواد البترولية من محطات الوقود، تمهيداً لإعادة بيعها في السوق السوداء بأسعار مضاعفة، وأنه أثناء عملية التعبئة حدث ماس كهربائي أدى لانفجار الحريق وضياع "بضاعته المحرمة". وفي تحرك سريع لردع "تجار الأزمات"، شنت مديرية أمن أسوان حملات مكبرة استهدفت أوكار تجميع المواد البترولية ومحطات الوقود المتواطئة في حجبها عن المواطنين. وأسفرت هذه الملحمة الأمنية عن ضبط أكثر من 10 أطنان من المواد البترولية قبل تهريبها للسوق السوداء، مما وجه ضربة قاصمة لمافيا التهريب في الصعيد. تم اتخاذ الإجراءات القانونية اللازمة حيال المتهم، وإحالته للنيابة العامة لمباشرة التحقيقات، لتؤكد وزارة الداخلية مرة أخرى أنها بالمرصاد لكل من تسول له نفسه التلاعب بأقوات المصريين أو استغلال الأزمات لتحقيق أرباح غير مشروعة. | AA11: https://www.youm7.com/story/2026/4/2/%D8%AD%D8%B1%D9%8A%D9%82-%D9%81%D9%86%D8%B7%D8%A7%D8%B3-%D8%A3%D8%B3%D9%88%D8%A7%D9%86-%D9%83%D9%8A%D9%81-%D9%81%D8%B6%D8%AD-%D8%A7%D9%84%D9%85%D8%A7%D8%B3-%D8%A7%D9%84%D9%83%D9%87%D8%B1%D8%A8%D8%A7%D8%A6%D9%89-%D9%85%D8%A7%D9%81%D9%8A%D8%A7-%D8%A7%D9%84%D9%88%D9%82%D9%88%D8%AF/7363429 | AB11: https://www.elbalad.news/6922172 | AC11: https://www.almasryalyoum.com/news/details/4235717
A12: 10 | B12: ابريل 2026 | C12: 46114 | D12: اقليم القاهرة الكبرى | E12: الجيزة | F12: البدرشين | G12: منطقة البدرشين | H12: حريق بكابل كهرباء فى منطقة البدرشي | I12: كابل كهرباء | J12: بنية تحتية | K12: 0 | L12: نفحم كابل الكهرباء | M12: مادية | N12: ماس كهربي نتيجة الامطار | O12: ماس كهربي | P12: ماس كهربائي | Q12: سيارة اطفاء | R12: =T12+V12 -> 0 | T12: 0 | U12: غير محدد | V12: 0 | W12: غير محدد | Z12: تمكن رجال الحماية المدنية، من السيطرة على حريق نشب فى كابل كهرباء بسبب الأمطار فى منطقة البدرشين دون إصابات. Dubai Dunes in one Minute 01:23 Previous Pause Next 00:50 / 01:48 Mute Fullscreen Copy video url Play / Pause Mute / Unmute Report a problem Language Share Vidverto Player غرفة العمليات تلقت بلاغا بالحريق تلقت غرفة عمليات النجدة، بلاغا يفيد بنشوب حريق في منطقة البدرشسن وعلي الفور انتقلت الأجهزة الأمنية مدعومة بسيارتي إطفاء وتم فرض كردون أمني لمحاصرة النيران ومنع امتدادها إلي المجاورات وتمت السيطرة على الحريق دون وقوع إصابات. وكشفت التحريات الأولية أن الحريق نشب بكابل كهرباء بسبب الامطار نتيجة ماس ولا شبهة جنائية في الواقعة، وتم إتخاذ كافة الإجراءات القانونية اللازمة تجاه الواقعة. | AA12: https://www.youm7.com/story/2026/4/2/%D8%A8%D8%B3%D8%A8%D8%A8-%D8%A7%D9%84%D8%A3%D9%85%D8%B7%D8%A7%D8%B1-%D8%A7%D8%AE%D9%85%D8%A7%D8%AF-%D8%AD%D8%B1%D9%8A%D9%82-%D9%83%D8%A7%D8%A8%D9%84-%D9%83%D9%87%D8%B1%D8%A8%D8%A7%D8%A1-%D9%81%D9%8A-%D9%85%D9%86%D8%B7%D9%82%D8%A9-%D8%A7%D9%84%D8%A8%D8%AF%D8%B1%D8%B4%D9%8A%D9%86/7363177
A13: 11 | B13: ابريل 2026 | C13: 46114 | D13: اقليم القاهرة الكبرى | E13: الجيزة | F13: المنصورية | G13: المنصورية - فى الجيزة | H13: مخزن خردة بالمنصورية | I13: مخزن | J13: منشأة تجارية | K13: 1 | L13: بعض محتويات المخزن | M13: خردة | N13: قيد التحقيق | O13: قيد التحقيق | P13: قيد التحقيق | Q13: سيارات الاطفاء | R13: =T13+V13 -> 0 | T13: 0 | U13: غير محدد | V13: 0 | W13: غير محدد | Z13: يستمع رجال المباحث بمديرية أمن الجيزة لأقوال شهود العيان لكشف ملابسات حريق مخزن خردة فى المنصورية فى الجيزة مع تفريغ كاميرات المراقبة للوقوف على ملابسات الواقعة. Wadi Rum fly over... 00:00 Previous Pause Next 00:22 / 01:41 Mute Fullscreen Copy video url Play / Pause Mute / Unmute Report a problem Language Share Vidverto Player وتمكن رجال الحماية المدنية من السيطرة على حريق داخل مخزن خردة فى منطقة المنصورية بالجيزة دون اصابات، بعدما انتقلت قوات الحماية المدنية وتمت السيطرة عليه. غرفة العمليات تلقت بلاغا بالحريق تلقت غرفة عمليات شرطة النجدة، بلاغا يفيد بنشوب حريق داخل مخزن خردة فى المنصورية ، وتم الدفع بـ 3 سيارات إطفاء لمكان الحريق، وفرض كردون أمنى بمحيط الحريق لمحاصرته ومنع امتداده وتمت السيطرة عليه . | AA13: https://www.youm7.com/story/2026/4/2/%D8%A7%D9%84%D9%85%D8%A8%D8%A7%D8%AD%D8%AB-%D8%AA%D8%B3%D8%AA%D9%85%D8%AA%D8%B9-%D9%84%D8%A3%D9%82%D9%88%D8%A7%D9%84-%D8%B4%D9%87%D9%88%D8%AF-%D8%A7%D9%84%D8%B9%D9%8A%D8%A7%D9%86-%D9%84%D9%83%D8%B4%D9%81-%D9%85%D9%84%D8%A7%D8%A8%D8%B3%D8%A7%D8%AA-%D8%AD%D8%B1%D9%8A%D9%82-%D9%85%D8%AE%D8%B2%D9%86-%D8%AE%D8%B1%D8%AF%D8%A9/7363214
A14: 12 | B14: ابريل 2026 | C14: 46114 | D14: اقليم القاهرة الكبرى | E14: الجيزة | F14: العمرانية | G14: شقة سكنية فى منطقة العمرانية | H14: شقة سكنية فى منطقة العمرانية | I14: وحدة سكنية | J14: منشأة سكنية | K14: 1 | L14: لم يذكر | M14: لم يذكر | N14: قيد التحقيق | O14: قيد التحقيق | P14: قيد التحقيق | Q14: سيارة اطفاء | R14: =T14+V14 -> 0 | T14: 0 | U14: غير محدد | V14: 0 | W14: غير محدد | Z14: اندلع حريق داخل شقة سكنية فى منطقة العمرانية ، وعلى الفور تمت السيطرة عليه دون إصابات وتولت النيابة المختصة التحقيقات. 00:00 Previous Play Next 00:00 / 00:00 Mute Fullscreen Copy video url Play / Pause Mute / Unmute Report a problem Language Share Vidverto Player غرفة العمليات تلقت بلاغا بالحريق تلقت غرفة عمليات النجدة، بلاغا من الأهالى بنشوب حريق داخل شقة سكنية فى العمرانية، وعلي الفور انتقلت سيارات الإطفاء إلي المكان، وتمت عملية إخماد الحريق. ويستمع رجال المباحث بمديرية أمن الجيزة، لأقوال شهود العيان وقاطنى الشقة لكشف ملابسات الواقعة، وتم اتخاذ الإجراءات القانونية اللازمة تجاه الواقعة. | AA14: https://www.youm7.com/story/2026/4/2/%D8%A5%D8%AE%D9%85%D8%A7%D8%AF-%D8%AD%D8%B1%D9%8A%D9%82-%D8%AF%D8%A7%D8%AE%D9%84-%D8%B4%D9%82%D8%A9-%D8%B3%D9%83%D9%86%D9%8A%D8%A9-%D9%81%D9%89-%D8%A7%D9%84%D8%B9%D9%85%D8%B1%D8%A7%D9%86%D9%8A%D8%A9-%D8%AF%D9%88%D9%86-%D8%A5%D8%B5%D8%A7%D8%A8%D8%A7%D8%AA/7364082
A15: 13 | B15: ابريل 2026 | C15: 46114 | D15: اقليم القاهرة الكبرى | E15: الجيزة | F15: امبابة | G15: منطقة إمبابة | H15: منزل بامبابة | I15: منزل | J15: منشأة سكنية | K15: 0 | L15: لم يذكر | M15: لم يذكر | N15: ماس كهربي نتيجة الامطار | O15: ماس كهربي ادى الى اندلاع النيران | P15: ماس كهربائي | Q15: سيارة اطفاء | R15: =T15+V15 -> 0 | T15: 0 | U15: غير محدد | V15: 0 | W15: غير محدد | Z15: اندلع حريق داخل منزل فى منطقة إمبابة بسبب ماس كهربى ناتج عن الأمطار ، وعلى الفور تمت السيطرة عليه دون إصابات وتولت النيابة المختصة التحقيقات. The Istanbul Winter Express 01:48 Previous Pause Next 00:33 / 02:18 Mute Fullscreen Copy video url Play / Pause Mute / Unmute Report a problem Language Share Vidverto Player غرفة العمليات تلقت بلاغا بالحريق تلقت غرفة عمليات النجدة ،بلاغا من الأهالى بنشوب حريق داخل منزل فى منطقة إمبابة ، وعلي الفور انتقلت سيارات الاطفاء الي المكان وتمت عملية إخماد الحريق. ويستمع رجال المباحث بمديرية أمن الجيزة، لأقوال شهود العيان وقاطنى المنزل لكشف ملابسات الواقعة، وتم اتخاذ الإجراءات القانونية اللازمة تجاه الواقعة. | AA15: https://www.youm7.com/story/2026/4/2/%D8%A8%D8%B3%D8%A8%D8%A8-%D8%A7%D9%84%D8%A3%D9%85%D8%B7%D8%A7%D8%B1-%D8%A5%D8%AE%D9%85%D8%A7%D8%AF-%D8%AD%D8%B1%D9%8A%D9%82-%D8%AF%D8%A7%D8%AE%D9%84-%D9%85%D9%86%D8%B2%D9%84-%D9%81%D9%89-%D8%A5%D9%85%D8%A8%D8%A7%D8%A8%D8%A9-%D8%AF%D9%88%D9%86-%D8%A5%D8%B5%D8%A7%D8%A8%D8%A7%D8%AA/7363200
A16: 14 | B16: ابريل 2026 | C16: 46114 | D16: اقليم شمال الصعيد | E16: الفيوم | F16: مركز طامية | G16: مبنى مجلس مدينة طامية. | H16: حريق ببرج سكنى مجاور لمبنى مجلس مدينة طامية. | I16: برج سكني | J16: منشأة سكنية | K16: 1 | L16: احتراق بعض محتويات الوحدات السكنية | M16: اثاث | N16: ماس كهربي | O16: ماس كهربي | P16: ماس كهربائي | Q16: سيارات الاطفاء | R16: =T16+V16 -> 0 | T16: 0 | U16: غير محدد | V16: 0 | W16: غير محدد | Z16: تمكنت قوات الحماية المدنية بمحافظة الفيوم، من السيطرة علي حريق شب ببرج سكني مكون من 6 طوابق بسبب ماس كهربائي دون وقوع إصابات، وتم تحرير محضر بالواقعة وتولت النيابة التحقيق. UAE 44th National Day - Union Flag 00:00 Previous Pause Next 00:34 / 00:52 Mute Fullscreen Copy video url Play / Pause Mute / Unmute Report a problem Language Share Vidverto Player تفاصيل الواقعة كانت شرطة النجدة بمحافظة الفيوم، تلقت بلاغا بنشوب حريق ببرج سكني بمدينة طامية بجوار مبني مجلس المدينة، وعلي الفور انتقلت قوة من الشرطة وسيارات الإسعاف والحماية المدنية الي مكان البلاغ، وتبين أن المبني مكون من 6 طوابق والحريق في الطابق الثالث، وتم السيطرة علي الحريق وإخماد النيران، ولم يسفر عن وقوع إصابات، وتحرر محضر بالواقعة وتولت النيابة التحقيق. | AA16: https://www.youm7.com/story/2026/4/2/%D8%A7%D9%84%D8%B3%D9%8A%D8%B7%D8%B1%D8%A9-%D8%B9%D9%84%D9%8A-%D8%AD%D8%B1%D9%8A%D9%82-%D8%A8%D8%A8%D8%B1%D8%AC-%D8%B3%D9%83%D9%86%D9%8A-%D9%81%D9%89-%D8%A7%D9%84%D9%81%D9%8A%D9%88%D9%85-%D8%AF%D9%88%D9%86-%D8%A5%D8%B5%D8%A7%D8%A8%D8%A7%D8%AA/7363256 | AB16: https://www.almasryalyoum.com/news/details/4235636
A17: 15 | B17: ابريل 2026 | C17: 46114 | D17: اقليم القاهرة الكبرى | E17: القاهرة | F17: قسم مصر الجديدة | G17: كابينة كهرباء 26 شارع بغداد - بدائرة قسم مصر الجديدة | H17: حريق بكابل كهرباء بداخل كابينة كهرباء 26 شارع بغداد بدائرة قسم مصر الجديدة | I17: منور عقار | J17: منشأة سكنية | K17: 1 | L17: تفحم كابينة الكهرباء | M17: كابينة كهرباء | N17: قيد التحقيق | O17: قيد التحقيق | P17: قيد التحقيق | Q17: فرق الانقاذ النهري قوات الحماية المدنية | R17: =T17+V17 -> 0 | T17: 0 | U17: غير محدد | V17: 0 | W17: غير محدد | Z17: تمكن رجال الحماية المدنية من السيطرة على حريق كابينة كهرباء بمنطقة مصر الجديدة دون وقوع اى إصابات . غرفة العمليات تلقت بلاغا بالحريق ورد بلاغ لغرفة العمليات، يفيد بنشوب حريق في كابينة كهرباء 26 شارع بغداد بدائرة قسم مصر الجديدة وبناء على تعليمات اللواء الدكتور محمد الشربينى مدير الإدارة العامة للحماية المدنية بالقاهرة انتقلت سيارات الاطفاء الي المكان. تفاصيل الحريق وبالانتقال والفحص تبين نشوب حريق ب كابل كهرباء بمنور عقار مكون من ( ٣ ) طوابق وتم الاطفاء و التبريد بمعرفه قوات الحماية المدنية فيكا لم يسفر الحريق عن ثمه مصابين او محتجزين وقام عمال شركة الكهرباء باتخاذ اللازم وتم اتخاذ الإجراءات القانونية اللازمة تجاه الواقعة. | AA17: https://www.youm7.com/story/2026/4/2/%D8%A7%D9%84%D8%B3%D9%8A%D8%B7%D8%B1%D8%A9-%D8%B9%D9%84%D9%89-%D8%AD%D8%B1%D9%8A%D9%82-%D9%83%D8%A7%D8%A8%D9%8A%D9%86%D8%A9-%D9%83%D9%87%D8%B1%D8%A8%D8%A7%D8%A1-%D8%A8%D9%85%D9%86%D8%B7%D9%82%D8%A9-%D9%85%D8%B5%D8%B1-%D8%A7%D9%84%D8%AC%D8%AF%D9%8A%D8%AF%D8%A9/7363183
A18: 16 | B18: ابريل 2026 | C18: 46114 | D18: اقليم القاهرة الكبرى | E18: القاهرة | F18: بولاق الدكرور | G18: شقة سكنية - منطقة بولاق الدكرور | H18: وحدة سكنية | I18: وحدة سكنية | J18: منشأة سكنية | K18: 0 | L18: بعض محتويات الوحدة السكنية | M18: اثاث | N18: قيد التحقيق | O18: قيد التحقيق | P18: قيد التحقيق | Q18: سيارة اطفاء 3 | R18: =T18+V18 -> 1 | T18: 1 | U18: غير محدد | V18: 0 | W18: غير محدد | Z18: تمكن رجال الحماية المدنية من السيطرة على حريق داخل شقة سكنية منطقة بولاق الدكرور، بعدما انتقلت قوات الحماية المدنية، وتمت السيطرة عليه، ونتج عنه إصابة شخص ونقل إلى المستشفى. Wadi Rum fly over... 00:00 Previous Pause Next 00:20 / 01:41 Mute Fullscreen Copy video url Play / Pause Mute / Unmute Report a problem Language Share Vidverto Player غرفة العمليات تلقت بلاغا بالحريق تلقت غرفة عمليات شرطة النجدة، بلاغا يفيد بنشوب حريق داخل شقة سكنية فى منطقة بولاق الدكرور ، وتم الدفع بـ 3 سيارات إطفاء لمكان الحريق، وفرض كردون أمنى بمحيط الحريق لمحاصرته ومنع امتداده وتمت السيطرة. | AA18: https://www.youm7.com/story/2026/4/2/%D8%A5%D8%B5%D8%A7%D8%A8%D8%A9-%D8%B4%D8%AE%D8%B5-%D8%A5%D8%AB%D8%B1-%D8%AD%D8%B1%D9%8A%D9%82-%D8%B4%D9%82%D8%A9-%D8%B3%D9%83%D9%86%D9%8A%D8%A9-%D9%81%D9%89-%D8%A8%D9%88%D9%84%D8%A7%D9%82-%D8%A7%D9%84%D8%AF%D9%83%D8%B1%D9%88%D8%B1/7363591
A19: 17 | B19: ابريل 2026 | C19: 46114 | D19: اقليم القاهرة الكبرى | E19: القليوبية | F19: بنها | G19: منطقة كوبري الفحص بمدينة بنها | H19: مطبخ شقة سكنية الطابق الـ11 ببرج سكني بمنطقة كوبري الفحص بمدينة بنها | I19: مطبخ بوحدة سكنية | J19: منشأة سكنية | K19: 0 | L19: بعض محتويات الوحدة السكنية | M19: اثاث | N19: قيد التحقيق | O19: اندلاع الحريق بمطبخ الشقة وامتداده الى باقي الشقة | P19: قيد التحقيق | Q19: سيارة اطفاء | R19: =T19+V19 -> 0 | T19: 0 | U19: غير محدد | V19: 0 | W19: غير محدد | Z19: تمكنت قوات الحماية المدنية بالقليوبية، من السيطرة على حريق نشب بمطبخ شقة سكنية الطابق الـ11 ببرج سكني بمنطقة كوبري الفحص بمدينة بنها، ومنع امتداده للمناطق المجاورة، دون خسائر بشرية أو ثمة إصابات، وتحرر محضر بالواقعة، وتولت الجهات المعنية التحقيقات. The Istanbul Winter Express 00:00 Previous Pause Next 00:35 / 02:18 Mute Fullscreen Copy video url Play / Pause Mute / Unmute Report a problem Language Share Vidverto Player بلاغ للأجهزة الأمنية بنشوب حريق بشقة في بنها تلقت مديرية أمن القليوبية، إخطارا من عمليات النجدة، يفيد ورود بلاغ من الأهالي بنشوب حريق بشقة ببرج سكني بمنطقة كوبري الفحص القديم بمدينة بنها. انتقال فوري لرجال الحماية المدنية والدفع بسيارات الإطفاء انتقلت على الفور قوات الحماية المدنية بالقليوبية، وجرى الدفع بسيارتي إطفاء لمكان البلاغ، كما انتقلت سيارة إسعاف تابعة لفرع هيئة الإسعاف بالقليوبية، وبفضل جهود رجال الحماية المدنية بالقليوبية، تم السيطرة على الحريق ومنع امتداده للمناطق المجاورة، دون وقوع ثمة إصابات أو خسائر بشرية، وبالمعاينة والفحص تبين نشوب الحريق بمطبخ الشقة، وتحرر محضر بالواقعة، وتولت الجهات المعنية التحقيقات. | AA19: https://www.youm7.com/story/2026/4/2/%D8%A7%D9%84%D8%AD%D9%85%D8%A7%D9%8A%D8%A9-%D8%A7%D9%84%D9%85%D8%AF%D9%86%D9%8A%D8%A9-%D8%A8%D8%A7%D9%84%D9%82%D9%84%D9%8A%D9%88%D8%A8%D9%8A%D8%A9-%D8%AA%D8%B3%D9%8A%D8%B7%D8%B1-%D8%B9%D9%84%D9%89-%D8%AD%D8%B1%D9%8A%D9%82-%D8%A8%D9%85%D8%B7%D8%A8%D8%AE-%D8%B4%D9%82%D8%A9-%D8%B3%D9%83%D9%86%D9%8A%D8%A9-%D9%81%D9%89/7363596 | AB19: https://www.elbalad.news/6922243 | AC19: https://www.elbalad.news/6922244 | AD19: https://www.almasryalyoum.com/news/details/4235871
A20: 18 | B20: ابريل 2026 | C20: 46114 | D20: اقليم القاهرة الكبرى | E20: القليوبية | F20: قسم ثان شبرا الخيمة | G20: شارع ترعة الشابوري - دائرة قسم ثان شبرا الخيمة | H20: مصنع ملابس بمنطقة شارع ترعة الشابوري دائرة قسم ثان شبرا الخيمة | I20: مصنع | J20: منشأة صناعية | K20: 1 | L20: بعض محتويات المصنع | M20: مواد خام | N20: قيد التحقيق | O20: قيد التحقيق | P20: قيد التحقيق | Q20: 9 سيارات الاطفاء وسيارة اسعاف | R20: =T20+V20 -> 0 | T20: 0 | U20: غير محدد | V20: 0 | W20: غير محدد | Z20: تمكنت قوات الحماية المدنية بالقليوبية من السيطرة على حريق داخل مصنع ملابس بمنطقة شارع ترعة الشابوري دائرة قسم ثان شبرا الخيمة، دون وقوع ثمة إصابات أو خسائر بشرية، وتحرر محضر بالواقعة، وتولت النيابة العامة التحقيق. Dubai Dunes in one Minute 00:27 Previous Pause Next 00:19 / 01:48 Mute Fullscreen Copy video url Play / Pause Mute / Unmute Report a problem Language Share Vidverto Player بلاغ للأجهزة الأمنية بنشوب الحريق تلقى اللواء أشرف جاب الله مدير أمن القليوبية، إخطارا من اللواء هيثم شحاته مدير إدارة الحماية المدنية بالقليوبية، يفيد بورود بلاغ لغرفة عمليات الحماية المدنية، بنشوب حريق بمصنع ملابس أسفل عقار بدائرة قسم ثان شبرا الخيمة. انتقال فوري لرجال الحماية المدنية والدفع بـ 9 سيارات إطفاء انتقلت قوات الحماية المدنية، وجرى الدفع بـ9 سيارات إطفاء، مدعمة بسيارات الإسعاف وبفضل جهود رجال قوات الحماية المدنية تم السيطرة علي الحريق ومنع امتداده لباقي المبنى والعقارات المجاورة، وفرض كردون أمنى بمحيط نشوب الحريق حفاظا على أرواح وسلامة المواطنين. تحرير محضر بالواقعة وانتداب المعمل الجنائي لبيان سبب الحريق وكشفت المعاينة الأولية نشوب حريق في مصنع ملابس بالطابق الأول علوى بعقار سكنى بمنطقة ترعة الشابوري بدائرة قسم ثان شبرا الخيمة، وتم تحرير محضر بالواقعة وتولت النيابة العامة التحقيق، وأمرت بانتداب المعمل الجنائي لبيان سبب الحريق، واستعجال تحريات المباحث، وسؤال شهود العيان. | AA20: https://www.youm7.com/story/2026/4/2/9-%D8%B3%D9%8A%D8%A7%D8%B1%D8%A7%D8%AA-%D8%A5%D8%B7%D9%81%D8%A7%D8%A1-%D8%AA%D9%81%D8%A7%D8%B5%D9%8A%D9%84-%D8%A7%D9%84%D8%B3%D9%8A%D8%B7%D8%B1%D8%A9-%D8%B9%D9%84%D9%89-%D8%AD%D8%B1%D9%8A%D9%82-%D8%A8%D9%85%D8%B5%D9%86%D8%B9-%D9%85%D9%84%D8%A7%D8%A8%D8%B3-%D8%A3%D8%B3%D9%81%D9%84/7363676
A21: 19 | B21: ابريل 2026 | C21: 46114 | D21: اقليم وسط الصعيد | E21: الوادي الجديد | F21: مركز الداخلة | G21: مدينة موط التابعة لمركز الداخلة | H21: شقة سكنية الشقة رقم 7 بالعمارة 174، مدخل «ب» بمدينة موط التابعة لمركز الداخلة | I21: وحدة سكنية | J21: منشأة سكنية | K21: 0 | L21: بعض محتويات الوحدة السكنية | M21: اثاث | N21: سرب غاز من أسطوانة بوتاجاز | O21: قيد التحقيق | P21: تسرب مادة قابلة للاشتعال | Q21: سيارات الاطفاء والحماية المدنية | R21: =T21+V21 -> 0 | T21: 0 | U21: غير محدد | V21: 0 | W21: غير محدد | Z21: سيطرت قوات الحماية المدنية والإطفاء بمحافظة الوادى الجديد، اليوم الخميس، على حريق اندلع داخل شقة سكنية بمدينة موط التابعة لمركز الداخلة، دون تسجيل إصابات بشرية، بعدما جرى التعامل السريع مع البلاغ واحتواء النيران قبل امتدادها إلى وحدات مجاورة. تلقى اللواء وليد منصور، مدير أمن الوادى الجديد، إخطارًا من إدارة الحماية المدنية يفيد بنشوب حريق داخل شقة سكنية بمدينة موط. وبالفحص، تبين اندلاع النيران فى الشقة رقم 7 بالعمارة 174، مدخل «ب»، نتيجة تسرب غاز من أسطوانة بوتاجاز. انتقلت قوات الحماية المدنية والإطفاء إلى موقع البلاغ، ونجحت فى السيطرة على الحريق ومنع توسعه، فيما جرى تحرير محضر بالواقعة، وإخطار النيابة العامة لمباشرة التحقيقات والوقوف على ملابسات الحادث. | AA21: https://www.almasryalyoum.com/news/details/4236236
A22: 20 | B22: ابريل 2026 | C22: 46114 | D22: اقليم جنوب الصعيد | E22: سوهاج | F22: مركز ساقلتة | G22: قرية سفلاق التابعة لدائرة مركز ساقلته | H22: حريق نشب بالدور الأول العلوي لمنزل بناحية نجع أبو حجر بقرية سفلاق التابعة لدائرة مركز ساقلته | I22: منزل | J22: منشأة سكنية | K22: 0 | L22: لم يذكر | M22: لم يذكر | N22: قيد التحقيق | O22: قيد التحقيق | P22: قيد التحقيق | Q22: سيارة اطفاء | R22: =T22+V22 -> 0 | T22: 0 | U22: جمال إبراهيم قواطين حسين | V22: 0 | W22: غير محدد | Y22: انحصرت التلفيات في تلف عداد الكهرباء، واحتراق غرفة نوم ومطبخ بالكامل، بالإضافة إلى احتراق بعض المفروشات من ستائر وسجاد وموكيت | Z22: تمكنت قوات الحماية المدنية بسوهاج من السيطرة على حريق نشب بالدور الأول العلوي لمنزل المواطن جمال إبراهيم قواطين حسين، بناحية نجع أبو حجر بقرية سفلاق التابعة لدائرة مركز ساقلته، دون وقوع أي إصابات بشرية. Dubai Dunes in one Minute 00:00 Previous Pause Next 01:45 / 01:48 Mute Fullscreen Copy video url Play / Pause Mute / Unmute Report a problem Language Share Vidverto Player ترجع الواقعة عقب تلقى اللواء الدكتور حسن عبدالعزيز، مساعد الوزير مدير أمن سوهاج، بلاغا بنشوب حريق داخل أحد المنازل بدائرة مركز ساقلته، وعلى الفور تم الدفع بسيارات الإطفاء إلى موقع البلاغ. السيطرة على الحريق بالانتقال والفحص، تمكنت قوات الحماية المدنية من السيطرة على الحريق وإخماده قبل امتداده إلى المنازل المجاورة، بمشاركة سيارات إطفاء ساقلته وسفلاق. انحصرت التلفيات في تلف عداد الكهرباء، واحتراق غرفة نوم ومطبخ بالكامل، بالإضافة إلى احتراق بعض المفروشات من ستائر وسجاد وموكيت، دون تسجيل أي خسائر في الأرواح. تم إخطار مركز الشرطة، لتحديد سبب الحريق من خلال الجهات المختصة، واتخاذ الإجراءات القانونية اللازمة. | AA22: https://www.youm7.com/story/2026/4/2/%D8%A7%D9%84%D8%B3%D9%8A%D8%B7%D8%B1%D8%A9-%D8%B9%D9%84%D9%89-%D8%AD%D8%B1%D9%8A%D9%82-%D8%A8%D9%85%D9%86%D8%B2%D9%84-%D9%81%D9%89-%D8%B3%D9%88%D9%87%D8%A7%D8%AC-%D8%AF%D9%88%D9%86-%D8%A5%D8%B5%D8%A7%D8%A8%D8%A7%D8%AA/7363267
A23: 21 | B23: ابريل 2026 | C23: 46115 | D23: اقليم الاسكندرية | E23: الاسكندرية | F23: العامرية | G23: منطقة العامرية بجانب مزلقان النجار نطاق دائرة القسم | H23: مخزن للخردة | I23: مخزن | J23: منشأة تجارية | K23: 2 | L23: احتراق عدد 2 سيارة ومحتويات المخزن | M23: خردة | N23: قيد التحقيق | O23: قيد التحقيق | P23: قيد التحقيق | Q23: سيارات الاطفاء والحماية المدنية | R23: =T23+V23 -> 0 | T23: 0 | U23: غير محدد | V23: 0 | W23: غير محدد | Z23: تمكنت قوات الحماية المدنية في محافظة الإسكندرية من السيطرة على حريق نشب بمخزن للخردة وتقطيع الكاوتش بمنطقة العامرية وتم اتخاذ الإجراءات اللازمة. بداية البلاغ البداية عندما تلقت الأجهزة الأمنية بمديرية أمن الإسكندرية إخطارا من مأمور قسم شرطة عامرية ثاني يفيد ورود بلاغ النجدة باشتعال النيران في مخزن بجانب مزلقان النجار نطاق دائرة القسم . حريق بمخزن خردة في العامرية وعلى الفور انتقلت الأجهزة الأمنية ترافقها سيارات الحماية المدنية والاسعاف الي مكان وتبين احتراق سيارتين إحداهما ملاكى والآخري ميكروباص وتفحم محتويات بالمكان ،وتمت السيطرة علي الحريق قبل امتدادها الي الأماكن المجاورة وتحرر محضر بالواقعة للعرض علي جهات التحقيق | AA23: https://www.youm7.com/story/2026/4/3/%D8%A7%D9%84%D8%B3%D9%8A%D8%B7%D8%B1%D8%A9-%D8%B9%D9%84%D9%8A-%D8%AD%D8%B1%D9%8A%D9%82-%D8%A8%D9%85%D8%AE%D8%B2%D9%86-%D8%AE%D8%B1%D8%AF%D8%A9-%D9%81%D9%8A-%D8%A7%D9%84%D8%B9%D8%A7%D9%85%D8%B1%D9%8A%D8%A9-%D8%A7%D9%84%D8%A5%D8%B3%D9%83%D9%86%D8%AF%D8%B1%D9%8A%D8%A9-%D8%AF%D9%88%D9%86-%D8%A5%D8%B5%D8%A7%D8%A8%D8%A7%D8%AA/7365225 | AB23: https://www.elbalad.news/6923763 | AC23: https://www.almasryalyoum.com/news/details/4236810
A24: 22 | B24: ابريل 2026 | C24: 46115 | D24: اقليم القناة | E24: الشرقية | F24: الزقازيق | G24: حريق باحد الكافيهات بجوار مستشفى الاحرار بمدينة الزقازيق | H24: كافية بجوار مستشفى الأحرار بالزقازيق | I24: كافيه | J24: منشأة تجارية | K24: 1 | L24: احتراق محتويات الكافيه بالكامل | M24: اثاث | N24: قيد التحقيق | O24: قيد التحقيق | P24: قيد التحقيق | Q24: سيارة اطفاء | R24: =T24+V24 -> 0 | T24: 0 | U24: غير محدد | V24: 0 | W24: غير محدد | Z24: تمكنت قوات الحماية المدنية بالشرقية من السيطرة على حريق نشب بأحد الكافيهات بجوار مستشفى الاحرار بمدينة الزقازيق دون وقوع إصابات وجاري تحرير محضر بالواقعة واخطار النيابة العامة لمباشرة التحقيق والوقوف على أسباب الحريق. كانوا بيهزروا .. القبض على المتهمين بالسخرية من شخص من ذوى الهمم بالشرقيةكانوا بيهزروا .. القبض على المتهمين بالسخرية من شخص من ذوى الهمم بالشرقية اعتباراً من الأحد القادم.. الشرقية تبدأ تطبيق نظام العمل عن بُعداعتباراً من الأحد القادم.. الشرقية تبدأ تطبيق نظام العمل عن بُعد القبض على المتهم بسرقة خلاط مياه من داخل مسجد بالشرقيةالقبض على المتهم بسرقة خلاط مياه من داخل مسجد بالشرقية فيما تلقت الأجهزة الأمنية بالشرقية إخطارا يفيد ورود إشارة من شرطة النجدة يفيد نشوب حريق بأحد الاماكن الترفيهية بجوار مستشفى الاحرار بمدينة الزقازيق وتم إخطار قوات الحماية المدنية والتي دفعت بعدد من سيارات الإطفاء. ومن جانبها دفعت قوات الحماية المدنية بسيارات الاطفاء وتم السيطرة على الحريق واخمادة دون وقوع إصابات وتبين نشوب الحريق بأحد الكافيهات بجوار مستشفى الاحرار بمدينة الزقازيق وجاري تحرير محضر بالواقعة واخطار النيابة العامة لمباشرة التحقيق والوقوف على أسباب الحريق. | AA24: https://www.elbalad.news/6923398
A25: 23 | B25: ابريل 2026 | C25: 46115 | D25: اقليم القناة | E25: الشرقية | F25: الزقازيق | G25: منطقة ألعاب أطفال بجوار مستشفى الأحرار بمدينة الزقازيق بمحافظة الشرقية | H25: منطقة ألعاب أطفال مكونة من طابق واحد | I25: منطقة العاب اطفال من طابق واحد | J25: منشأة خدمية/ تعليمية | K25: 1 | L25: تلفيات مادية | M25: مادية | N25: قيد التحقيق | O25: قيد التحقيق | P25: قيد التحقيق | Q25: 3 سيارات الاطفاء والحماية المدنية | R25: =T25+V25 -> 0 | T25: 0 | U25: غير محدد | V25: 0 | W25: غير محدد | Z25: اندلع حريق، اليوم، داخل منطقة ألعاب أطفال مكونة من طابق واحد بجوار مستشفى الأحرار بمدينة الزقازيق بمحافظة الشرقية، وتمكنت قوات الحماية المدنية من السيطرة عليه دون وقوع خسائر بشرية. Dubai Dunes in one Minute 01:26 Previous Pause Next 00:24 / 01:48 Mute Fullscreen Copy video url Play / Pause Mute / Unmute Report a problem Language Share Vidverto Player بلاغا لمديرية أمن الشرقية تلقت الأجهزة الأمنية بمديرية أمن الشرقية إخطارًا يفيد بنشوب حريق بمنطقة ألعاب أطفال بالقرب من مستشفى الأحرار، وعلى الفور انتقلت قوات الحماية المدنية مدعومة بـ3 سيارات إطفاء إلى موقع البلاغ، حيث جرى التعامل السريع مع ألسنة اللهب ومحاصرتها لمنع امتدادها إلى الأماكن المجاورة. السيطرة على النيران وتمكنت قوات الإطفاء من السيطرة الكاملة على الحريق وإخماده خلال وقت قصير، فيما أسفر الحادث عن تلفيات مادية محدودة، وتم تحرير محضر بالواقعة وتم اتخاذ الإجراءات القانونية اللازمة، مع بدء الجهات المختصة في فحص موقع الحادث للوقوف على أسباب اندلاع الحريق وملابساته. | AA25: https://www.youm7.com/story/2026/4/3/%D8%A7%D9%84%D8%B3%D9%8A%D8%B7%D8%B1%D8%A9-%D8%B9%D9%84%D9%89-%D8%AD%D8%B1%D9%8A%D9%82-%D9%85%D9%86%D8%B7%D9%82%D8%A9-%D8%A3%D9%84%D8%B9%D8%A7%D8%A8-%D8%A3%D8%B7%D9%81%D8%A7%D9%84-%D8%A8%D8%AC%D9%88%D8%A7%D8%B1-%D9%85%D8%B3%D8%AA%D8%B4%D9%81%D9%89-%D8%A7%D9%84%D8%A3%D8%AD%D8%B1%D8%A7%D8%B1-%D8%A8%D8%A7%D9%84%D8%B2%D9%82%D8%A7%D8%B2%D9%8A%D9%82/7364905 | AB25: https://www.almasryalyoum.com/news/details/4236636
A26: 24 | B26: ابريل 2026 | C26: 46115 | D26: اقليم القناة | E26: الشرقية | F26: العاشر من رمضان | G26: أعلى نزلة كوبري السويدي بالعاشر من رمضان في الاتجاه المؤدي إلى القاهرة | H26: اشتعال النيران بونش رفع | I26: ونش رفع | J26: وسيلة نقل | K26: 1 | L26: احتراق الونش | M26: مركبة | N26: قيد التحقيق | O26: قيد التحقيق | P26: قيد التحقيق | Q26: سيارة اطفاء | R26: =T26+V26 -> 1 | T26: 0 | U26: غير محدد | V26: 1 | W26: غير محدد | Y26: أسفر الحريق عن انفجار إطار الونش، ما أدى إلى وفاة شخص في موقع الحادث | Z26: لقي شخص مصرعه إثر نشوب حريق في ونش رفع أعلى نزلة كوبري السويدي في الاتجاه المؤدي إلى القاهرة، وذلك عقب انفجار أحد إطارات الونش نتيجة الحريق. بلاغ لمديرية أمن الشرقية وتلقت الأجهزة الأمنية بمديرية أمن الشرقية ، بلاغا يفيد باندلاع حريق في ونش رفع وعلى الفور تم الدفع بقوات الحماية المدنية للتعامل مع الحادث والسيطرة على النيران ومنع امتدادها إلى المناطق المجاورة. مصرع شخص إثر انفجار إطار ونش وأسفر الحريق عن انفجار إطار الونش، ما أدى إلى وفاة شخص في موقع الحادث، وتم نقل الجثمان الى مستشفى العاشر الجامعي تحت تصرف جهات التحقيق. وتحرر محضر بالواقعة، وجارٍ اتخاذ الإجراءات القانونية اللازمة للوقوف على ملابسات الحادث وأسبابه. | AA26: https://www.youm7.com/story/2026/4/3/%D9%85%D8%B5%D8%B1%D8%B9-%D8%B4%D8%AE%D8%B5-%D9%81%D9%8A-%D8%AD%D8%B1%D9%8A%D9%82-%D9%88%D9%86%D8%B4-%D8%B1%D9%81%D8%B9-%D8%A8%D8%B9%D8%AF-%D8%A7%D9%86%D9%81%D8%AC%D8%A7%D8%B1-%D8%A5%D8%B7%D8%A7%D8%B1-%D8%A8%D8%A7%D9%84%D8%B9%D8%A7%D8%B4%D8%B1/7365037
