Workbook

Sheet DATA
C1: المسار الزمني | F1: المسار الجغرافي | J1: بيانات العقار | N1: بيانات واقعة الانهيار | R1: بيانات المصابين | V1: بيانات القتلى | Z1: بيانات القرارات السابقة | AC1: بيانات الاجراءات/القرارات اللاحقة للانهيار | AH1: ملاحظات | AI1: بيانات المصادر
A2: اسم المتدرب/ة | B2: كود مسلسل للواقعة | C2: التاريخ | D2: التقسيم الشهري | E2: التقسيم الجغرافي | F2: المحافظة | G2: الدائرة | H2: تصنيف المكان | I2: بيانات تفصيلية لمكان الواقعة كما وردت بالخبر | J2: نوع المنشأة | K2: تصنيف المنشأة | L2: طريقة البناء | M2: بيانات أخري للعقار كما وردت بالخبر | N2: نوع الانهيار | O2: بيانات الجزء المنهار كما ورد بالخبر | P2: سبب الانهيار | Q2: اثار مادية مترتبة علي الواقعة | R2: العدد الإجمالي | S2: ذكور | T2: اناث | U2: بيانات المصابين كما وردت بالخبر | V2: العدد الإجمالي | W2: ذكور | X2: اناث | Y2: بيانات القتلي كما وردت بالخبر | Z2: قرار سابق بترميم او ازالة كما ورد بالخبر | AA2: قرار سابق بترميم او ازالة | AB2: وضع القرار السابق | AC2: بيانات الدعم الرسمي | AD2: اجراءات/قرارات السلطات المحلية | AE2: نوع القرار | AF2: اجراءات السلطات الجنائية | AG2: رقم محضر عن الواقعة | AI2: النص المصدر | AJ2: رابط رسمي 1 | AK2: رابط رسمي 2 | AL2: رابط رسمي 3 | AM2: رابط رسمي 4 | AN2: رابط رسمي 5 | AO2: رابط رسمي 6 | AP2: رابط رسمي 7 | AQ2: رابط صحفي 1 | AR2: رابط صحفي 2 | AS2: رابط صحفي 3 | AT2: رابط صحفي 4 | AU2: رابط صحفي 5
A3: محمود | B3: 1 | C3: 46023 | D3: يناير 2026 | E3: محافظات الصعيد | F3: سوهاج | G3: أخميم | H3: ريفي | I3: قرية جزيرة محروس | J3: منزل | K3: منشأة سكنية خالية | L3: بناء قديم | M3: منزل مبني بالطوب اللبن | N3: كلي | O3: انهيار طابقين | P3: قدم العقار وتهالكه | Q3: لم يسفر الانهيار عن أي إصابات أو أضرار بالمنازل المجاورة. | R3: 0 | S3: 0 | T3: 0 | U3: غير محدد | V3: 0 | W3: 0 | X3: 0 | Y3: غير محدد | Z3: غير محدد | AA3: غير محدد | AB3: غير محدد | AC3: غير محدد | AD3: جارٍ متابعة الموقف ميدانيًا من قبل الجهات المختصة للتأكد من عدم وجود أي خطورة على العقارات المجاورة، | AE3: معاينة | AF3: اخطار/ بلاغ / تحرير محضر | AG3: غير محدد | AI3: انهيار منزل قديم فى قرية بأخميم سوهاج دون إصابات الخميس، 01 يناير 2026 03:44 م انهيار منزل قديم فى قرية بأخميم سوهاج دون إصابات انهيار منزل فيسبوكفيسبوك واتسابواتساب X سوهاج أحمد عبدالعال شهدت قرية جزيرة محروس التابعة لمركز أخميم بمحافظة سوهاج، اليوم الخميس، انهيار منزل قديم مكون من طابقين، دون وقوع أى إصابات أو خسائر فى الأرواح. UAE 44th National Day - Union Flag 00:23 Previous Pause Next 00:15 / 00:52 Mute Fullscreen Copy video url Play / Pause Mute / Unmute Report a problem Language Share Vidverto Player إخطار أمني ومعاينة الموقع وتلقى اللواء الدكتور حسن عبد العزيز مدير أمن سوهاج، إخطارا من الجهات المعنية يفيد بانهيار منزل مبني بالطوب اللبن بقرية جزيرة محروس، دائرة مركز شرطة أخميم شرقى سوهاج، حيث تبين أن المنزل غير مأهول بالسكان ومتهالك منذ فترة. فحص ومعاينة العقار المنهار وبالانتقال والفحص، تبين أن المنزل ملك المواطن محمد العربي بكري عبد الجليل، وهو منزل قديم وخالى من السكان، ولم يسفر الانهيار عن أي إصابات أو أضرار بالمنازل المجاورة. اتخاذ الإجراءات القانونية وتم اتخاذ الإجراءات اللازمة حيال الواقعة، وجارٍ متابعة الموقف ميدانيًا من قبل الجهات المختصة للتأكد من عدم وجود أي خطورة على العقارات المجاورة، مع تحرير المحضر اللازم بالواقعة تمهيدا للعرض على جهات التحقيق المختصة. | AJ3: https://www.youm7.com/story/2026/1/1/%D8%A7%D9%86%D9%87%D9%8A%D8%A7%D8%B1-%D9%85%D9%86%D8%B2%D9%84-%D9%82%D8%AF%D9%8A%D9%85-%D9%81%D9%89-%D9%82%D8%B1%D9%8A%D8%A9-%D8%A8%D8%A3%D8%AE%D9%85%D9%8A%D9%85-%D8%B3%D9%88%D9%87%D8%A7%D8%AC-%D8%AF%D9%88%D9%86-%D8%A5%D8%B5%D8%A7%D8%A8%D8%A7%D8%AA/7254522
A4: محمود | B4: 2 | C4: 46027 | D4: يناير 2026 | E4: المحافظات المركزية | F4: القاهرة | G4: العتبة | H4: حضري | I4: محطة مترو العتبة | J4: محطة مترو | K4: منشأة خدمية | L4: بناء حديث | M4: غير محدد | N4: جزئي | O4: أثناء التعامل مع مصعد معطل في المحطة سقط بشكل مفاجئ | P4: اعطال فنية | R4: 2 | S4: 2 | T4: 0 | U4: عمال الصيانة | V4: 0 | W4: 0 | X4: 0 | Y4: غير محدد | Z4: غير محدد | AA4: غير محدد | AB4: غير محدد | AC4: غير محدد | AD4: الوقوف على أسباب الحادث وملابساته، | AE4: معاينة | AF4: غير محدد | AI4: تفاصيل سقوط مصعد بمحطة مترو العتبة وإصابة فنيين أثناء الصيانة الإثنين، 05 يناير 2026 09:03 م تفاصيل سقوط مصعد بمحطة مترو العتبة وإصابة فنيين أثناء الصيانة تفاصيل سقوط مصعد بمحطة مترو العتبة وإصابة فنيين أثناء الصيانة فيسبوكفيسبوك واتسابواتساب X ▶ 1:25 / 0:00 1x كتب سيد الخلفاوى ​أوضح مصدر مسؤول بوزارة النقل تفاصيل الحادث الذي وقع مساء اليوم بمحطة مترو العتبة التابعة للخط الثاني، مؤكداً أن الواقعة حدثت أثناء إجراء أعمال صيانة دورية لأحد المصاعد الكهربائية بالمحطة. ​تفاصيل الحادث والحالة الصحية للمصابين ​أشار المصدر إلى أنه أثناء التعامل مع المصعد المعطل، سقط بشكل مفاجئ، مما أسفر عن إصابة اثنين من عمال الصيانة التابعين للشركة المختصة، وفور وقوع الحادث، تم التدخل السريع ونقل المصابين إلى أقرب مستشفى لتلقي الإسعافات الأولية والرعاية الطبية اللازمة. ​توضيح بشأن سلامة الركاب وحالة المصعد ​طمأن المصدر جمهور الركاب، مؤكداً أن الحادث لم يسفر عن أي إصابات بين المواطنين أو مستخدمي المترو. وأوضح أن المصعد كان خارج الخدمة ومتوقفاً عن العمل منذ فترة طويلة بسبب وجود عطل فني به، وهو ما جعل منطقة العمل بعيدة عن حركة الركاب المعتادة داخل المحطة. ​رد على الأنباء المتداولة و​يأتى هذا التصريح رداً على ما تم تداوله من أنباء عبر بعض الصفحات حول سقوط مصعد بالمحطة ووقوع إصابات، حيث حسم المصدر الجدل ببيان حقيقة أن الإصابات انحصرت في طاقم الصيانة فقط نتيجة خلل أثناء العمل الفني، وليس نتيجة عطل مفاجئ أثناء استخدام الجمهور للمصعد. | AJ4: https://www.youm7.com/story/2026/1/5/%D8%AA%D9%81%D8%A7%D8%B5%D9%8A%D9%84-%D8%B3%D9%82%D9%88%D8%B7-%D9%85%D8%B5%D8%B9%D8%AF-%D8%A8%D9%85%D8%AD%D8%B7%D8%A9-%D9%85%D8%AA%D8%B1%D9%88-%D8%A7%D9%84%D8%B9%D8%AA%D8%A8%D8%A9-%D9%88%D8%A5%D8%B5%D8%A7%D8%A8%D8%A9-%D9%81%D9%86%D9%8A%D9%8A%D9%86-%D8%A3%D8%AB%D9%86%D8%A7%D8%A1-%D8%A7%D9%84%D8%B5%D9%8A%D8%A7%D9%86%D8%A9/7259094
A5: محمود | B5: 3 | C5: 46029 | D5: يناير 2026 | E5: محافظات الدلتا | F5: القليوبية | G5: القناطر الخيرية | H5: حضري | I5: شارع سويلم المتفرع من شارع ميدان الأزهر بمدينة القناطر الخيرية | J5: منزل | K5: منشأة سكنية خالية | L5: بناء قديم | M5: مبنى سكني قديم مقام على حوائط حاملة وأسقف خشبية بارتفاع دورين، | N5: جزئي | O5: مبنى سكني قديم مقام على حوائط حاملة وأسقف خشبية بارتفاع دورين، وهو خالٍ من السكان، | P5: قدم العقار وتهالكه | R5: 0 | S5: 0 | T5: 0 | U5: غير محدد | V5: 0 | W5: 0 | X5: 0 | Y5: غير محدد | Z5: غير محدد | AA5: غير محدد | AB5: غير محدد | AC5: غير محدد | AD5: وجه محافظ القليوبية بتشكيل لجنة فنية هندسية للانتقال إلى موقع انهيار مبنى قديم خالٍ من السكان بناحية شارع سويلم المتفرع من شارع ميدان الأزهر بمدينة القناطر الخيرية، لمعاينة الموقع ميدانيًا وبيان مدى تأثير الانهيار على العقارات المجاورة، واتخاذ ما يلزم من إجراءات فنية وقانونية عاجلة. | AE5: معاينة | AF5: غير محدد | AI5: محافظ القليوبية يُوجّه بتشكيل لجنة هندسية بعد انهيار جزء من مبنى قديم بالقناطر الخيرية صور الأربعاء 07/يناير/2026 - 11:30 م printer طباعة شارك انهيار عقار انهيار عقار إبراهيم الهواري وجّه المهندس أيمن عطية، محافظ القليوبية، بتشكيل لجنة فنية هندسية للانتقال إلى موقع انهيار مبنى قديم خالٍ من السكان بناحية شارع سويلم المتفرع من شارع ميدان الأزهر بمدينة القناطر الخيرية، لمعاينة الموقع ميدانيًا وبيان مدى تأثير الانهيار على العقارات المجاورة، واتخاذ ما يلزم من إجراءات فنية وقانونية عاجلة. محافظ القليوبية يمازح الأقباط في عيد الميلاد ويؤكد عمق الوحدة الوطنيةمحافظ القليوبية يمازح الأقباط في عيد الميلاد ويؤكد عمق الوحدة الوطنية مدير الصحة بالقليوبية يتابع خطة التأمين الطبي للمواطنين خلال احتفالات عيد الميلادمدير الصحة بالقليوبية يتابع خطة التأمين الطبي للمواطنين خلال احتفالات عيد الميلاد ضبط 24 مخالفة في حملة تموينية بالقليوبيةضبط 24 مخالفة في حملة تموينية بالقليوبية حبس المتهمين بالسطو على آخرين وسرقة كمية كبيرة من السجائر بالقليوبيةحبس المتهمين بالسطو على آخرين وسرقة كمية كبيرة من السجائر بالقليوبية وكان قد انهار جزء من مبنى سكني قديم مقام على حوائط حاملة وأسقف خشبية بارتفاع دورين، وهو خالٍ من السكان، ولم يسفر الحادث عن أي إصابات أو أضرار مادية. تأمين العقارات كما شدد المحافظ على ضرورة تأمين محيط العقار المنهار بالكامل، وفصل المرافق عن الموقع حفاظًا على سلامة المواطنين، مع سرعة رفع الأنقاض وإزالة آثار الانهيار، والتنسيق مع الجهات المعنية لمتابعة الحالة الإنشائية للعقارات المجاورة واتخاذ الإجراءات الوقائية اللازمة حيال أي مبانٍ قد تمثل خطورة داهمة، وذلك في إطار حرص المحافظة على سلامة المواطنين وسلامة الممتلكات. | AJ5: https://www.elbalad.news/6827585 | AK5: https://www.youm7.com/story/2026/1/7/%D9%85%D8%AD%D8%A7%D9%81%D8%B8-%D8%A7%D9%84%D9%82%D9%84%D9%8A%D9%88%D8%A8%D9%8A%D8%A9-%D9%8A%D8%B4%D9%83%D9%84-%D9%84%D8%AC%D9%86%D8%A9-%D9%87%D9%86%D8%AF%D8%B3%D9%8A%D8%A9-%D8%A8%D8%B9%D8%AF-%D8%A7%D9%86%D9%87%D9%8A%D8%A7%D8%B1-%D8%AC%D8%B2%D8%A1-%D9%85%D9%86-%D9%85%D8%A8%D9%86%D9%89/7261435 | AL5: https://www.almasryalyoum.com/news/details/4169720
A6: محمود | B6: 4 | C6: 46033 | D6: يناير 2026 | E6: محافظات الدلتا | F6: القليوبية | G6: بنها | H6: حضري | I6: مبنى قديم بشارع بنك مصر بمدينة بنها | J6: منزل | K6: منشأة سكنية خالية | L6: بناء قديم | M6: مبنى قديم بشارع بنك مصر بمدينة بنها، صادر له قرار إزالة كونه خطر داهم من لجنة المنشآت، خال من السكان | N6: جزئي | P6: قدم العقار وتهالكه | R6: 0 | S6: 0 | T6: 0 | U6: غير محدد | V6: 0 | W6: 0 | X6: 0 | Y6: غير محدد | Z6: صادر له قرار إزالة كونه خطر داهم من لجنة المنشآت | AA6: ازالة | AB6: لم يتم تنفيذه | AC6: غير محدد | AD6: وجّه المهندس أيمن عطية، محافظ القليوبية، بتشكيل لجنة فنية هندسية للانتقال إلى موقع انهيار جزئي من مبنى قديم بشارع بنك مصر بمدينة بنها، صادر له قرار إزالة كونه خطر داهم من لجنة المنشآت، لمعاينة الموقع ميدانيًا وبيان مدى تأثير الانهيار على العقارات المجاورة، واتخاذ ما يلزم من إجراءات فنية وقانونية عاجلة. | AE6: معاينة | AF6: غير محدد | AI6: انهيار جزئي لعقار قديم خال من السكان ببنها ومحافظ القليوبية يشكل لجنة لمعاينته الأحد، 11 يناير 2026 04:13 م انهيار جزئي لعقار قديم خال من السكان ببنها ومحافظ القليوبية يشكل لجنة لمعاينته انهيار جزئي لعقار قديم ببنها فيسبوكفيسبوك واتسابواتساب X القليوبية إبراهيم سالم وجّه المهندس أيمن عطية، محافظ القليوبية، بتشكيل لجنة فنية هندسية للانتقال إلى موقع انهيار جزئي من مبنى قديم بشارع بنك مصر بمدينة بنها، صادر له قرار إزالة كونه خطر داهم من لجنة المنشآت، لمعاينة الموقع ميدانيًا وبيان مدى تأثير الانهيار على العقارات المجاورة، واتخاذ ما يلزم من إجراءات فنية وقانونية عاجلة. المبنى خالٍ من السكان ولم يسفر الحادث عن أي إصابات أو أضرار مادية وكشفت محافظة القليوبية، في بيان لها، أنه كان المبنى خالٍ من السكان، ولم يسفر الحادث عن أي إصابات أو أضرار مادية. تأمين محيط العقار بالكامل وفصل المرافق عن الموقع وشدد المحافظ، على ضرورة تأمين محيط العقار بالكامل، وفصل المرافق عن الموقع حفاظًا على سلامة المواطنين، مع سرعة رفع الأنقاض وإزالة آثار الانهيار، والتنسيق مع الجهات المعنية لمتابعة الحالة الإنشائية للعقارات المجاورة، واتخاذ الإجراءات الوقائية اللازمة حيال أي مبانٍ قد تمثل خطورة داهمة، حرصًا على سلامة المواطنين وسلامة الممتلكات. | AJ6: https://www.youm7.com/story/2026/1/11/%D8%A7%D9%86%D9%87%D9%8A%D8%A7%D8%B1-%D8%AC%D8%B2%D8%A6%D9%8A-%D9%84%D8%B9%D9%82%D8%A7%D8%B1-%D9%82%D8%AF%D9%8A%D9%85-%D8%AE%D8%A7%D9%84-%D9%85%D9%86-%D8%A7%D9%84%D8%B3%D9%83%D8%A7%D9%86-%D8%A8%D8%A8%D9%86%D9%87%D8%A7-%D9%88%D9%85%D8%AD%D8%A7%D9%81%D8%B8-%D8%A7%D9%84%D9%82%D9%84%D9%8A%D9%88%D8%A8%D9%8A%D8%A9/7265258 | AK6: https://www.almasryalyoum.com/news/details/4172377 | AL6: https://www.elbalad.news/6831388
A7: محمود | B7: 5 | C7: 46033 | D7: يناير 2026 | E7: محافظات الدلتا | F7: دمياط | G7: عزبة البرج | H7: حضري | I7: ملعب كفر حميدو بمدينة عزبة البرج | J7: ملعب كرة قدم | K7: منشأة رياضية /ترفيهية | L7: بناء قديم | N7: جزئي | O7: انهيار جزء من السور المواجه لنهر النيل | P7: سوء الاحوال الجوية | R7: 0 | S7: 0 | T7: 0 | U7: غير محدد | V7: 0 | W7: 0 | X7: 0 | Y7: غير محدد | Z7: غير محدد | AA7: غير محدد | AB7: غير محدد | AC7: غير محدد | AD7: أصدر وكيل وزارة الشباب والرياضة بدمياط قرارا عاجل بإيقاف تشغيل الملعب ووقف النشاط الرياضي بالكامل، وذلك حفاظًا على سلامة المواطنين لحين الانتهاء من أعمال الصيانة ورفع الكفاءة، مع التأكيد على الالتزام الكامل بتطبيق اشتراطات الأمن والسلامة داخل المنشآت الرياضية. | AE7: معاينة | AF7: غير محدد | AI7: بعد انهيار سور الملعب.. وقف النشاط الرياضي بأحد ملاعب دمياط الأحد، 11 يناير 2026 02:22 م بعد انهيار سور الملعب.. وقف النشاط الرياضي بأحد ملاعب دمياط وكيل الشباب والرياضة بدمياط يتفقد ملاعب المحافظة فيسبوكفيسبوك واتسابواتساب X دمياط - هيثم مراد تابع الدكتور محمد فوزي وكيل وزارة الشباب والرياضة بدمياط، الموقف الطارئ الذي شهده ملعب كفر حميدو بمدينة عزبة البرج، عقب انهيار جزء من السور المواجه لنهر النيل نتيجة شدة الرياح دون وقوع أي إصابات بين المترددين على الملعب. 00:00 Previous Play Next 00:00 / 01:48 Mute Fullscreen Copy video url Play / Pause Mute / Unmute Report a problem Language Share Vidverto Player وقف النشاط الرياضي للملعب وإحالة المسؤولين للتحقيق ومن جانبه أصدر الدكتور محمد فوزي وكيل وزارة الشباب والرياضة بدمياط قرارا عاجل بإيقاف تشغيل الملعب ووقف النشاط الرياضي بالكامل، وذلك حفاظًا على سلامة المواطنين لحين الانتهاء من أعمال الصيانة ورفع الكفاءة، مع التأكيد على الالتزام الكامل بتطبيق اشتراطات الأمن والسلامة داخل المنشآت الرياضية. كما تقرر إيقاف المسئول عن الملاعب وتحويله للتحقيق، للوقوف على أسباب عدم الالتزام بإجراءات الأمن والسلامة، واتخاذ الإجراءات القانونية اللازمة حيال أي تقصير. لجنة لمتابعة الملاعب المفتوحة داخل دمياط علي جانب آخر أصدر وكيل الشباب والرياضة بدمياط تعليماته بشأن تشكيل لجنة لمتابعة ومراجعة جميع الملاعب المفتوحة المتواجدة داخل المحافظة، مؤكداً أن سلامة المواطنين والمنشآت الرياضية تأتي على رأس أولويات المديرية، مشددًا على أن أعمال الصيانة ستتم بشكل عاجل لإعادة تشغيل الملعب في أقرب وقت، وفقًا للمعايير الفنية المعتمدة. | AJ7: https://www.youm7.com/story/2026/1/11/%D8%A8%D8%B9%D8%AF-%D8%A7%D9%86%D9%87%D9%8A%D8%A7%D8%B1-%D8%B3%D9%88%D8%B1-%D8%A7%D9%84%D9%85%D9%84%D8%B9%D8%A8-%D9%88%D9%82%D9%81-%D8%A7%D9%84%D9%86%D8%B4%D8%A7%D8%B7-%D8%A7%D9%84%D8%B1%D9%8A%D8%A7%D8%B6%D9%8A-%D8%A8%D8%A3%D8%AD%D8%AF-%D9%85%D9%84%D8%A7%D8%B9%D8%A8-%D8%AF%D9%85%D9%8A%D8%A7%D8%B7/7265018
A8: محمود | B8: 6 | C8: 46034 | D8: يناير 2026 | E8: مدن القناة | F8: الإسماعيلية | G8: حى ثان الإسماعيلية | H8: حضري | I8: شارع شل بمنطقة الشهداء فى حى ثان الإسماعيلية بمحافظة الإسماعيلية | J8: منزل | K8: منشأة سكنية خالية | L8: بناء قديم | M8: عقار قديم ومهجور مبنى من الطوب اللبن | N8: جزئي | P8: قدم العقار وتهالكه | R8: 0 | S8: 0 | T8: 0 | U8: غير محدد | V8: 0 | W8: 0 | X8: 0 | Y8: غير محدد | Z8: وقع في منطقة منشية الشهداء التابعة لحي ثان في محافظة الإسماعيلية، كان قد صدر له قرار إزالة. | AA8: ازالة | AB8: لم يتم تنفيذه | AC8: غير محدد | AD8: وشرعت الأجهزة المختصة في فحص العقارات المجاورة للتأكد من سلامتها الإنشائية، مع إعداد تقرير فني للوقوف على أسباب الانهيار، واتخاذ الإجراءات القانونية اللازمة حيال الواقعة. | AE8: معاينة | AF8: غير محدد | AI8: سقوط جزء من عقار قديم فى الإسماعيلية دون خسائر بشرية الإثنين، 12 يناير 2026 09:20 ص سقوط جزء من عقار قديم فى الإسماعيلية دون خسائر بشرية العقار المنهار فيسبوكفيسبوك واتسابواتساب X الإسماعيلية - صبرى غانم شهد شارع شل فى حى ثان الإسماعيلية بمحافظة الإسماعيلية سقوط جزء من عقار قديم ومهجور مبنى من الطوب اللبن دون خسائر بشرية. Wadi Rum fly over... 01:10 Previous Pause Next 00:32 / 01:41 Unmute Fullscreen Copy video url Play / Pause Mute / Unmute Report a problem Language Share Vidverto Player بلاغ بسقوط جزء من العقار تلقت الشبكة الوطنية للطوارئ والسلامة العامة بمحافظة الإسماعيلية بلاغا من أحد المواطنين يفيد بسقوط جزء من منزل مهجور فى شارع شل التابع لحى ثان الإسماعيلية دون خسائر فىى الأرواح أو إصابات. تحرك الأجهزة التنفيذية والأمنية بالمحافظة على الفور انتقلت الأجهزة الأمنية والتنفيذية التابعة لحي ثان الإسماعيلية، وتم فصل المرافق عن المنزل، كما قام مسؤلو الحى بواسطة معدات الحى لهدم باقى الأجزاء من العقار حفاظا على الأرواح. وقرر مسؤلو محافظة الإسماعيلية بتشكيل لجنة فنية وهندسية لمعاينة العقار وإعداد تقرير بذلك. | AJ8: https://www.youm7.com/story/2026/1/12/%D8%B3%D9%82%D9%88%D8%B7-%D8%AC%D8%B2%D8%A1-%D9%85%D9%86-%D8%B9%D9%82%D8%A7%D8%B1-%D9%82%D8%AF%D9%8A%D9%85-%D9%81%D9%89-%D8%A7%D9%84%D8%A5%D8%B3%D9%85%D8%A7%D8%B9%D9%8A%D9%84%D9%8A%D8%A9-%D8%AF%D9%88%D9%86-%D8%AE%D8%B3%D8%A7%D8%A6%D8%B1-%D8%A8%D8%B4%D8%B1%D9%8A%D8%A9/7265774 | AK8: https://www.elbalad.news/6831976 | AL8: https://www.elbalad.news/6831973 | AM8: https://www.vetogate.com/5571622
A9: محمود | B9: 7 | C9: 46034 | D9: يناير 2026 | E9: محافظات الدلتا | F9: الدقهلية | G9: ميت غمر | H9: حضري | I9: شارع بورسعيد امام سور المحلج. | J9: منزل | K9: منشأة سكنية مشغولة | L9: بناء قديم | M9: منزل من طابق واحد | N9: جزئي | O9: انهيار سقف خشب على شخص بمنزل مكون من طابق واحد | P9: سوء الاحوال الجوية | R9: 0 | S9: 0 | T9: 0 | U9: غير محدد | V9: 1 | W9: 1 | X9: 0 | Y9: طارق احمد محمود الصبرى 62 عاما مقيم ميت غمر | Z9: غير محدد | AA9: غير محدد | AB9: غير محدد | AC9: غير محدد | AD9: بالانتقال والفحص تبين سقوط سقف خشبي داخل منزل مكوّن من طابق واحد بشارع بورسعيد أمام سور المحلج. | AE9: معاينة | AF9: اخطار/ بلاغ / تحرير محضر | AI9: سقط عليه سقف... مصرع شخص بأحد المراكز بالدقهلية الإثنين 12/يناير/2026 - 04:12 م printer طباعة شارك ارشيفيه ارشيفيه همت الحسينى لقى شخص مصرعه إثر انهيار جزء من مبنى بمدينة ميت غمر بالدقهلية. تلقت مديرية أمن الدقهلية إخطارا من شرطة النجدة يفيد بوقوع حادث انهيار سقف خشب على شخص بمنزل مكون من طابق واحد بشارع بورسعيد امام سور المحلج. محافظ الدقهلية يستقبل وفد الكنيسة في إطار الاحتفالات بالعام الجديدمحافظ الدقهلية يستقبل وفد الكنيسة في إطار الاحتفالات بالعام الجديد الدقهلية: تحرير 32 محضر متنوعا في حملة رقابية على المخابزالدقهلية: تحرير 32 محضر متنوعا في حملة رقابية على المخابز مصرع شخص وإصابة اثنين آخرين في حادث تصادم بالدقهليةمصرع شخص وإصابة اثنين آخرين في حادث تصادم بالدقهلية محافظ الدقهلية يشدد خلال اجتماع لجنة الإعلانات على الالتزام بالمواصفات المقررةمحافظ الدقهلية يشدد خلال اجتماع لجنة الإعلانات على الالتزام بالمواصفات المقررة وانتقل ضباط المباحث وسيارات الاسعاف الى مكان الواقعه وتبين أن المتوفى يدعى طارق احمد محمود الصبرى 62 عاما مقيم ميت غمر. وان السقف أنهار عليه ولقى مصرعه على الفور. وتم نقل الجثة إلى مستشفى ميت غمر وتحرر محضر بالواقعة وتولت النيابة التحقيق. | AJ9: https://www.elbalad.news/6832566 | AK9: https://www.shorouknews.com/news/view.aspx?cdate=12012026&id=837273ff-febb-42d3-bb40-ec6f641bcf31
A10: محمود | B10: 8 | C10: 46034 | D10: يناير 2026 | E10: محافظات الصعيد | F10: سوهاج | G10: دار السلام | H10: ريفي | I10: قرية الخيام | J10: منزل | K10: منشأة سكنية مشغولة | L10: بناء قديم | M10: المنزل مكون من دور أرضي ودور علوي، ومبني بالطين ومسقوف بالعروق الخشبية، وقديم ومتهالك، | N10: كلي | O10: انهيار كلي للمنزل | P10: قدم العقار وتهالكه | R10: 6 | S10: 3 | T10: 3 | U10: أُصيبت نجلة المتوفاه هدى برهام زمباعي 50 سنة | V10: 1 | W10: 0 | X10: 1 | Y10: رتيبة عباس أحمد، 80 سنة | Z10: غير محدد | AA10: غير محدد | AB10: غير محدد | AC10: غير محدد | AD10: كما تم إخطار الجهات المختصة لإجراء المعاينة الهندسية اللازمة، لبيان أسباب الانهيار، وما إذا كان ناتجًا عن تهالك المبنى أو عوامل إنشائية أخرى، تمهيدًا لاتخاذ الإجراءات القانونية اللازمة حيال الواقعة. | AE10: معاينة | AF10: اخطار/ بلاغ / تحرير محضر | AI10: مصرع سيدة وإصابة ابنتها في انهيار منزل بدار السلام سوهاج الإثنين، 12 يناير 2026 02:43 م مصرع سيدة وإصابة ابنتها في انهيار منزل بدار السلام سوهاج مصرع سيدة وإصابة نجلتها في إنهيار منزل فيسبوكفيسبوك واتسابواتساب X سوهاج أحمد عبدالعال لقيت سيدة مسنة مصرعها فور وصولها المستشفى، وأصيبت نجلتها، على إثر انهيار منزل بقرية الخيام التابعة لمركز دار السلام جنوب شرق محافظة سوهاج، وتم استخراج عدد من الأشخاص من أسفل الأنقاض على قيد الحياة وتم تقديم الإسعافات الأولية اللازمة لهم بمكان الواقعة. The Istanbul Winter Express 02:06 Previous Pause Next 01:57 / 02:18 Unmute Fullscreen Copy video url Play / Pause Mute / Unmute Report a problem Language Share Vidverto Player بلاغ عاجل وتحرك أمني ترجع الواقعة عقب تلقى اللواء دكتور حسن عبدالعزيز مساعد الوزير مدير أمن سوهاج بلاغا يفيد بانهيار منزل بدائرة مركز دار السلام، وعلى الفور انتقلت قوات الأمن والحماية المدنية إلى مكان الواقعة. تفاصيل الضحايا أسفر الحادث عن مصرع رتيبة عباس أحمد، 80 سنة، بينما أُصيبت نجلتها هدى برهام زمباعي، 50 سنة، وتم نقل المصابة لتلقي العلاج اللازم، تحت تصرف الجهات الطبية المختصة. إنقاذ 5 أشخاص أحياء وتمكنت قوات الحماية المدنية من استخراج 5 أشخاص على قيد الحياة من أسفل أنقاض المنزل المنهار، وسط جهود مكثفة لرفع الركام والتأكد من عدم وجود ضحايا آخرين. وتبين من الفحص أن المنزل مكون من دور أرضي ودور علوي، ومبني بالطين ومسقوف بالعروق الخشبية، وقديم ومتهالك، ما يرجح أن يكون سبب الانهيار هو تهالك المبنى. كردون أمني واستمرار الفحص وتم فرض كردون أمني بمحيط المنزل حفاظًا على سلامة المواطنين، مع الدفع بالمعدات اللازمة، واستمرار أعمال الفحص بمعرفة الجهات المختصة لبيان أسباب الانهيار، واتخاذ الإجراءات القانونية اللازمة. | AJ10: https://www.youm7.com/story/2026/1/12/%D9%85%D8%B5%D8%B1%D8%B9-%D8%B3%D9%8A%D8%AF%D8%A9-%D9%88%D8%A5%D8%B5%D8%A7%D8%A8%D8%A9-%D8%A7%D8%A8%D9%86%D8%AA%D9%87%D8%A7-%D9%81%D9%8A-%D8%A7%D9%86%D9%87%D9%8A%D8%A7%D8%B1-%D9%85%D9%86%D8%B2%D9%84-%D8%A8%D8%AF%D8%A7%D8%B1-%D8%A7%D9%84%D8%B3%D9%84%D8%A7%D9%85-%D8%B3%D9%88%D9%87%D8%A7%D8%AC/7266341 | AK10: https://www.youm7.com/story/2026/1/12/%D8%A7%D9%86%D9%87%D9%8A%D8%A7%D8%B1-%D9%85%D9%86%D8%B2%D9%84-%D8%A8%D9%82%D8%B1%D9%8A%D8%A9-%D8%A7%D9%84%D8%AE%D9%8A%D8%A7%D9%85-%D8%A8%D8%AF%D8%A7%D8%B1-%D8%A7%D9%84%D8%B3%D9%84%D8%A7%D9%85-%D9%81%D9%89-%D8%B3%D9%88%D9%87%D8%A7%D8%AC-%D9%88%D8%A5%D9%86%D9%82%D8%A7%D8%B0-5/7266239 | AL10: https://www.elbalad.news/6832452
A11: محمود | B11: 9 | C11: 46035 | D11: يناير 2026 | E11: المحافظات المركزية | F11: الجيزة | G11: منشأة القناطر | H11: حضري | I11: منطقة المنصورية | J11: منزل | K11: منشأة سكنية خالية | L11: بناء قديم | M11: منزل قديم | N11: جزئي | O11: انهيار حائط منزل قديم | P11: قدم العقار وتهالكه | R11: 1 | S11: 0 | T11: 1 | U11: أم | V11: 1 | W11: 0 | X11: 1 | Y11: طفلة | Z11: غير محدد | AA11: غير محدد | AB11: غير محدد | AC11: غير محدد | AD11: غير محدد | AE11: معاينة | AF11: اخطار/ بلاغ / تحرير محضر | AI11: انهيار حائط منزل يودي بحياة طفلة ويصيب والدتها بمنشأة القناطر طه أحمد الثلاثاء 13/يناير/2026 - 10:28 م صورة أرشيفية صورة أرشيفية شارك شهدت منطقة المنصورية في منشأة القناطر، بمحافظة الجيزة، حادث انهيار حائط منزل قديم، ما أسفر عن مصرع طفلة وإصابة والدتها وتم نقل الجثة إلى ثلاجة المستشفى تحت تصرف الجهات المختصة. تفاصيل الواقعة وكانت البداية عندما تلقت مديرية أمن الجيزة، بلاغا يفيد مصرع طفلة وإصابة والدتها بمنطقة المنصورية في منشأة القناطر، وبإجراء التحريات الأولية، تبين لرجال المباحث أن حائط منزل قديم سقط علي طفلة ووالدتها. وعلى الفور، انتقلت قوات الأمن لمواقع الحادث، وتمكنت قوات الحماية المدنية في محافظة الجيزة، من رفع ركام الحائط حيث تم العثور علي الطفلة متوفاة والدتها التي تبين اصابتها، وتم نقل الجثة إلى ثلاجة المستشفى العام. وتم اتخاذ الإجراءات القانونية اللازمة، وتولت النيابة المختصة التحقيق لكشف ملابسات الحادث. | AJ11: https://www.algomhor.com/344924 | AK11: https://www.youm7.com/story/2026/1/13/%D8%B3%D9%82%D9%88%D8%B7-%D8%AD%D8%A7%D8%A6%D8%B7-%D9%8A%D9%86%D9%87%D9%89-%D8%AD%D9%8A%D8%A7%D8%A9-%D8%B7%D9%81%D9%84%D8%A9-%D9%81%D9%89-%D8%A7%D9%84%D9%85%D9%86%D8%B5%D9%88%D8%B1%D9%8A%D8%A9-%D8%A8%D9%85%D9%86%D8%B4%D8%A3%D8%A9-%D8%A7%D9%84%D9%82%D9%86%D8%A7%D8%B7%D8%B1/7268124
A12: محمود | B12: 10 | C12: 46036 | D12: يناير 2026 | E12: محافظات الدلتا | F12: القليوبية | G12: شبرا الخيمة | H12: حضري | I12: داخل أحد مصانع الشنط والأحذية بمنطقة إبراهيم بك بشبرا الخيمة بمحافظة القليوبية | J12: مصنع | K12: منشأة تجارية | L12: بناء حديث | M12: أحد مصانع الشنط والأحذية بمنطقة إبراهيم بك بشبرا الخيمة بمحافظة القليوبية | N12: جزئي | O12: سقوط أسانسير | P12: اعطال فنية | R12: 1 | S12: 0 | T12: 1 | U12: غير محدد | V12: 1 | W12: 0 | X12: 1 | Y12: سيدة تبلغ من العمر 38 عاما | Z12: غير محدد | AA12: غير محدد | AB12: غير محدد | AC12: غير محدد | AD12: غير محدد | AE12: معاينة | AF12: اخطار/ بلاغ / تحرير محضر | AI12: مصرع عاملة وإصابة أخرى سقط بهما أسانسير مصنع في شبرا الخيمة الأربعاء 14-01-2026 17:02 كتب: عبد الحكم الجندي سقوط اسانسير سقوط اسانسير تصوير : آخرون Arrow-up A A Arrow-down facebook-icon X-icon whatsapp-icon Copy تمكنت مديرية أمن القليوبية، من كشف غموض حادث سقوط أسانسير داخل أحد المصانع بمنطقة إبراهيم بك بشبرا الخيمة في محافظة القليوبية، والذي أسفر عن مصرع عاملة وإصابة أخرى خلال تأدية عملهما، في المصنع وتم نقل المصابة والمتوفاة لمستشفى ناصر التخصصي، وتحرر محضر بالواقعة، وتولت النيابة التحقيقات. وتلقت الأجهزة الأمنية بالقليوبية، بلاغا بسقوط أسانسير داخل أحد مصانع الشنط والأحذية بمنطقة إبراهيم بك بشبرا الخيمة بمحافظة القليوبية، والذى أسفر عن مصرع عاملة وإصابة أخرى خلال تأدية عملهما. أخبار متعلقة سقوط اسانسير إصابة شخص سقط به أسانسير فى مدينة العبور جامعة بنها - صورة أرشيفية مجلس جامعة بنها يوافق على قبول «أسانسير» كتبرع من الهيئة العربية للتصنيع حادث أسانسير جامعة بنها وزير التعليم العالي يصل جامعة بنها لمتابعة تحقيقات «أسانسير الموت» وانتقلت الأجهزة الأمنية على الفور، وبالمعاينة والفحص تبين أن واير الأسانسير تعرض للانقطاع خلال نقل عاملتين بضاعة داخل المصنع، ما أدى إلى سقوط الأسانسير بشكل مفاجئ، وأسفر عن مصرع إحدى العاملتين، وتبلغ من العمر 38 عاما، في الحال متأثرة بإصابتها، بينما أصيبت عاملة أخرى بإصابات متفرقة. وتم نقل المصابة والمتوفاة إلى مستشفى ناصر العام، تحت تصرف جهات التحقيق المختصة، فيما تم إيداع جثمان المتوفاة بالمشرحة، وتباشر الجهات المختصة التحقيق في الواقعة للوقوف على أسباب الحادث وملابساته، حيث أمرت بانتداب المختصين لفحص الأسانسير وبيان مدى الالتزام باشتراطات السلامة المهنية داخل المصنع، كما كلفت المباحث الجنائية بإجراء التحريات اللازمة، واتخاذ الإجراءات القانونية حيال الواقعة. | AJ12: https://www.almasryalyoum.com/news/details/4174798 | AK12: https://www.youm7.com/story/2026/1/14/%D8%AA%D9%81%D8%A7%D8%B5%D9%8A%D9%84-%D9%85%D8%B5%D8%B1%D8%B9-%D8%B9%D8%A7%D9%85%D9%84%D8%A9-%D9%88%D8%A5%D8%B5%D8%A7%D8%A8%D8%A9-%D8%A3%D8%AE%D8%B1%D9%89-%D8%B3%D9%82%D8%B7-%D8%A8%D9%87%D9%85%D8%A7-%D8%A3%D8%B3%D8%A7%D9%86%D8%B3%D9%8A%D8%B1-%D9%85%D8%B5%D9%86%D8%B9-%D8%A8%D8%B4%D8%A8%D8%B1%D8%A7/7269118
A13: محمود | B13: 11 | C13: 46036 | D13: يناير 2026 | E13: محافظات الدلتا | F13: القليوبية | G13: شبرا الخيمة | H13: حضري | I13: أسانسير داخل أحد العقارات بمنطقة شبرا الخيمة | J13: عقار | K13: منشأة سكنية مشغولة | L13: بناء حديث | M13: أحد العقارات بمنطقة شبرا الخيمة | N13: جزئي | O13: سقوط أسانسير داخل أحد العقارات بمنطقة شبرا الخيمة | P13: اعطال فنية | R13: 1 | S13: 1 | T13: 0 | U13: غير محدد | V13: 1 | W13: 1 | X13: 0 | Y13: غير محدد | Z13: غير محدد | AA13: غير محدد | AB13: غير محدد | AC13: غير محدد | AD13: غير محدد | AE13: معاينة | AF13: اخطار/ بلاغ / تحرير محضر | AI13: التصريح بدفن جثة شخص لقى مصرعه إثر سقوط أسانسير بشبرا الخيمة الأربعاء 14/يناير/2026 - 01:24 م printer طباعة شارك جثةجثة إبراهيم الهواري أصدرت جهات التحقيق المختصة بمحافظة القليوبية، قرارًا بالتصريح بدفن جثة الشخص الذي لقي مصرعه، إثر سقوط أسانسير داخل أحد العقارات بمنطقة شبرا الخيمة، عقب الانتهاء من تقرير الصفة التشريحية. وقررت جهات التحقيق، تكليف المباحث الجنائية، بإجراء التحريات اللازمة حول ملابسات الواقعة وظروفها، إلى جانب الاستعلام عن الحالة الصحية للمصاب وسؤال شهود العيان للوقوف على تفاصيل الحادث. بلاغا بالواقعة وكانت غرفة عمليات النجدة بمديرية أمن القليوبية قد تلقت بلاغًا يفيد بسقوط أسانسير داخل أحد العقارات بدائرة قسم شرطة شبرا الخيمة، ما أسفر عن مصرع شخص وإصابة آخر. محافظ القليوبية: إزالة 99% من أعمال المرحلة محافظ القليوبية: إزالة 99% من أعمال المرحلة "د" من ممشى أهل مصر قطع المياه عن الحي الثاني بمدينة العبور بالقليوبية لمدة 5 ساعاتقطع المياه عن الحي الثاني بمدينة العبور بالقليوبية لمدة 5 ساعات ضبط 8 طن دقيق بلدي مدعم قبل بيعمها في السوق السوداء بالقليوبيةضبط 8 طن دقيق بلدي مدعم قبل بيعمها في السوق السوداء بالقليوبية حيث انتقلت الأجهزة الأمنية وقوات الإسعاف إلى موقع الحادث، وتم نقل الجثمان إلى مشرحة المستشفى، والمصاب لتلقي العلاج، وتحرير محضر بالواقعة تمهيدًا لاتخاذ الإجراءات القانونية اللازمة. | AJ13: https://www.elbalad.news/6834849 | AK13: https://www.cairo24.com/2353113
A14: محمود | B14: 12 | C14: 46037 | D14: يناير 2026 | E14: محافظات الصعيد | F14: أسيوط | G14: أبوتيج | H14: ريفي | I14: انهيار منزل مكوّن من طابقين بقرية البلايزة مأهول بالسكان، | J14: منزل | K14: منشأة سكنية مشغولة | L14: بناء قديم | N14: جزئي | O14: انهيار منزل مكون من طابقين بقرية البلايزة التابعة لمركز أبوتيج في أسيوط | P14: قدم العقار وتهالكه | R14: 3 | S14: 2 | T14: 1 | U14: حامد علي محمد، 85 سنة، بكدمات متفرقة بالجسم. سميرة حامد علي، 47 سنة، باشتباه كسر في الذراع الأيسر. شعبان حامد علي، 58 سنة، باشتباه كسر في الساق الأيسر. | V14: 0 | W14: 0 | X14: 0 | Y14: غير محدد | Z14: غير محدد | AA14: غير محدد | AB14: غير محدد | AC14: غير محدد | AD14: غير محدد | AE14: معاينة | AF14: اخطار/ بلاغ / تحرير محضر | AI14: إصابة 3 أشخاص فى انهيار منزل من طابقين بقرية البلايزة أبوتيج أسيوط الخميس، 15 يناير 2026 11:45 ص إصابة 3 أشخاص فى انهيار منزل من طابقين بقرية البلايزة أبوتيج أسيوط انهيار منزل فيسبوكفيسبوك واتسابواتساب X أسيوط – هيثم البدري أُصيب 3 أشخاص، صباح اليوم، إثر انهيار منزل مكوّن من طابقين بقرية البلايزة التابعة لمركز أبوتيج بمحافظة أسيوط، وتم نقل المصابين إلى مستشفى أبوتيج المركزي لتلقي العلاج اللازم وإجراء الإسعافات الأولية. تلقى اللواء وائل نصار، مدير أمن أسيوط، إخطارًا من غرفة عمليات النجدة، يفيد بورود بلاغ من مأمور مركز شرطة أبوتيج بوقوع حادث انهيار منزل بقرية البلايزة ووجود مصابين. وعلى الفور، انتقلت قوات الأمن، وقوات الحماية المدنية، ورجال الشرطة، وهيئة الإسعاف، والجهات التنفيذية إلى موقع الحادث. The Abandoned Village - Sand Invasion 00:42 Previous Pause Next 00:25 / 00:46 Unmute Fullscreen Copy video url Play / Pause Mute / Unmute Report a problem Language Share Vidverto Player إخطار أمني وانتقال الأجهزة المعنية. تلقى اللواء وائل نصار، مدير أمن أسيوط، إخطارًا من غرفة عمليات النجدة، يفيد بورود بلاغ من مأمور مركز شرطة أبوتيج بوقوع حادث انهيار منزل بقرية البلايزة ووجود مصابين. وعلى الفور، انتقلت قوات الأمن، وقوات الحماية المدنية، ورجال الشرطة، وهيئة الإسعاف، والجهات التنفيذية إلى موقع الحادث. أسماء المصابين وحالاتهم. وكشفت التحريات الأولية، عقب الفحص والمعاينة، عن إصابة كل من: حامد علي محمد، 85 سنة، بكدمات متفرقة بالجسم. سميرة حامد علي، 47 سنة، باشتباه كسر في الذراع الأيسر. شعبان حامد علي، 58 سنة، باشتباه كسر في الساق الأيسر. نقل المصابين وبدء التحقيقات. وتم نقل المصابين إلى مستشفى أبوتيج المركزي لتلقي الرعاية الطبية اللازمة، فيما جرى تحرير محضر بالواقعة، وأُخطرت النيابة العامة التي باشرت التحقيق للوقوف على أسباب الانهيار واتخاذ الإجراءات القانونية اللازمة. | AJ14: https://www.youm7.com/story/2026/1/15/%D8%A5%D8%B5%D8%A7%D8%A8%D8%A9-3-%D8%A3%D8%B4%D8%AE%D8%A7%D8%B5-%D9%81%D9%89-%D8%A7%D9%86%D9%87%D9%8A%D8%A7%D8%B1-%D9%85%D9%86%D8%B2%D9%84-%D9%85%D9%86-%D8%B7%D8%A7%D8%A8%D9%82%D9%8A%D9%86-%D8%A8%D9%82%D8%B1%D9%8A%D8%A9-%D8%A7%D9%84%D8%A8%D9%84%D8%A7%D9%8A%D8%B2%D8%A9/7269803 | AK14: https://gate.ahram.org.eg/News/5460720.aspx | AL14: https://www.elbalad.news/6835954
A15: محمود | B15: 13 | C15: 46038 | D15: يناير 2026 | E15: محافظات الصعيد | F15: أسوان | G15: إدفو | H15: حضري | I15: مدينة إدفو شمال محافظة أسوان | J15: منزل | K15: منشأة سكنية مشغولة | L15: بناء قديم | N15: جزئي | O15: سقوط حائط منزل | P15: قدم العقار وتهالكه | R15: 0 | S15: 0 | T15: 0 | U15: غير محدد | V15: 1 | W15: 1 | X15: 0 | Y15: الشاب محمد بدرى عبد العال، 30 سنة | Z15: غير محدد | AA15: غير محدد | AB15: غير محدد | AC15: غير محدد | AD15: تبين وفاة الشاب محمد . ب. ع 30 سنة، متأثرًا بإصاباته. | AE15: معاينة | AF15: اخطار/ بلاغ / تحرير محضر | AI15: سقوط حائط منزل يُنهى حياة شاب بإدفو شمال أسوان الجمعة، 16 يناير 2026 11:49 ص سقوط حائط منزل يُنهى حياة شاب بإدفو شمال أسوان سيارة اسعاف لنقل المصابين فيسبوكفيسبوك واتسابواتساب X أسوان – عبد الله صلاح لقى شاب مصرعه إثر سقوط حائط أحد المنازل عليه، بمدينة إدفو شمال محافظة أسوان، اليوم، الجمعة، فى حادث مأساوى أسفر عن وفاة شاب يبلغ من العمر 30 عامًا. The Istanbul Winter Express 01:57 Previous Pause Next 00:30 / 02:18 Unmute Fullscreen Copy video url Play / Pause Mute / Unmute Report a problem Language Share Vidverto Player تفاصيل الواقعة تلقت الأجهزة الأمنية، إخطارًا يفيد بسقوط حائط منزل على شخص، وعلى الفور انتقلت سيارات الإسعاف وقوات الأمن إلى موقع الحادث، حيث تبين وفاة الشاب محمد بدرى عبد العال، 30 سنة، متأثرًا بإصاباته. الإجراءات القانونية تم نقل الجثمان إلى مشرحة إدفو تحت تصرف جهات التحقيق، التى باشرت التحقيق للوقوف على أسباب الواقعة، واتخاذ الإجراءات القانونية اللازمة حيال الحادث. | AJ15: https://www.youm7.com/story/2026/1/16/%D8%B3%D9%82%D9%88%D8%B7-%D8%AD%D8%A7%D8%A6%D8%B7-%D9%85%D9%86%D8%B2%D9%84-%D9%8A%D9%8F%D9%86%D9%87%D9%89-%D8%AD%D9%8A%D8%A7%D8%A9-%D8%B4%D8%A7%D8%A8-%D8%A8%D8%A5%D8%AF%D9%81%D9%88-%D8%B4%D9%85%D8%A7%D9%84-%D8%A3%D8%B3%D9%88%D8%A7%D9%86/7270968 | AK15: https://www.elbalad.news/6837021
A16: محمود | B16: 14 | C16: 46038 | D16: يناير 2026 | E16: محافظات الصعيد | F16: قنا | G16: فرشوط | H16: ريفي | I16: قرية الكوم الأحمر التابعة لمركز فرشوط شمال محافظة قنا. | J16: منزل | K16: منشأة سكنية خالية | L16: بناء قديم | M16: انهيار جزئي لمنزل من الطوب اللبن | N16: جزئي | O16: انهيار جزئي لمنزل من الطوب اللبن أثناء هدم المنزل | P16: اعمال انشائية او هدم داخل العقار | R16: 3 | S16: 3 | T16: 0 | U16: تصادف مرورهم بالشارع أثناء الهدم | V16: 0 | W16: 0 | X16: 0 | Y16: غير محدد | Z16: غير محدد | AA16: غير محدد | AB16: غير محدد | AC16: غير محدد | AD16: تبين أنه الانهيار حدث أثناء عملية هدم للمنزل. | AE16: معاينة | AF16: اخطار/ بلاغ / تحرير محضر | AI16: إصابة 3 أشخاص فى انهيار جزئى لمنزل بقنا الجمعة، 16 يناير 2026 11:47 ص إصابة 3 أشخاص فى انهيار جزئى لمنزل بقنا انهيار منزل - ارشيفية فيسبوكفيسبوك واتسابواتساب X قنا صابر سعيد أصيب 3 أشخاص، اليوم الجمعة، في انهيار جزئي لمنزل من الطوب اللبن، بقرية الكوم الأحمر التابعة لمركز فرشوط شمال محافظة قنا. The Istanbul Winter Express 01:56 Previous Pause Next 01:47 / 02:18 Unmute Fullscreen Copy video url Play / Pause Mute / Unmute Report a problem Language Share Vidverto Player الانهيار خلال هدم المنزل تلقت الأجهزة الأمنية بمديرية أمن قنا، إخطارًا من غرفة العمليات يفيد إصابة 3 أشخاص في انهيار جزئي لمنزل من الطوب اللبن، بقرية الكوم الأحمر التابعة لمركز فرشوط شمال محافظة قنا، وتبين أنه الانهيار حدث أثناء عملية هدم للمنزل. تحرر محضر بالواقعة وأخطرت الجهات المختصة لتتولى التحقيقات والتي كلفت وحدة المباحث بالتحري حول الواقعة وكشف ملابساتها ونقل المصابين إلى مستشفى فرشوط. | AJ16: https://www.youm7.com/story/2026/1/16/%D8%A5%D8%B5%D8%A7%D8%A8%D8%A9-3-%D8%A3%D8%B4%D8%AE%D8%A7%D8%B5-%D9%81%D9%89-%D8%A7%D9%86%D9%87%D9%8A%D8%A7%D8%B1-%D8%AC%D8%B2%D8%A6%D9%89-%D9%84%D9%85%D9%86%D8%B2%D9%84-%D8%A8%D9%82%D9%86%D8%A7/7270978 | AK16: https://www.soutalsaeid.com/47045 | AL16: https://akhbarelyom.com/news/newdetails/4758402/1/%D8%A5%D8%B5%D8%A7%D8%A8%D8%A9-3-%D8%A3%D8%B4%D8%AE%D8%A7%D8%B5-%D9%81%D9%8A-%D8%A7%D9%86%D9%87%D9%8A%D8%A7%D8%B1-%D8%AC%D8%B2%D8%A6%D9%8A-%D9%84%D9%85%D9%86%D8%B2%D9%84-%D8%A8%D9%82%D9%86%D8%A7
A17: محمود | B17: 15 | C17: 46039 | D17: يناير 2026 | E17: محافظات الصعيد | F17: قنا | G17: مركز نقادة | H17: ريفي | I17: قرية حاجر المنشية التابعة لمركز نقادة جنوب قنا. | J17: منزل | K17: منشأة سكنية خالية | L17: بناء قديم | M17: انهيار منزل من الطوب اللبن بقرية حاجر المنشية التابعة لمركز نقادة جنوب قنا. | N17: كلي | O17: انهيار منزل من الطوب اللبن | P17: قدم العقار وتهالكه | R17: 2 | S17: 1 | T17: 1 | U17: غير محدد | V17: 0 | W17: 0 | X17: 0 | Y17: غير محدد | Z17: غير محدد | AA17: غير محدد | AB17: غير محدد | AC17: غير محدد | AD17: تبين إصابة شخصين إثر انهيار منزل من الطوب اللبن بقرية حاجر المنشية التابعة لمركز نقادة، وجرى نقلهما إلى مستشفى طوخ بنقادة لتلقي العلاج اللازم. | AE17: معاينة | AF17: اخطار/ بلاغ / تحرير محضر | AI17: إصابة شخصين في حادث انهيار منزل من الطوب اللبن بقنا السبت، 17 يناير 2026 03:11 م إصابة شخصين في حادث انهيار منزل من الطوب اللبن بقنا انهيار منزل - أرشيفية فيسبوكفيسبوك واتسابواتساب X قنا صابر سعيد أصيب شخصان، اليوم السبت، في حادث انهيار منزل من الطوب اللبن بقرية حاجر المنشية التابعة لمركز نقادة جنوب قنا. Error loading media UAE 44th National Day - Union Flag Copy video url Play / Pause Mute / Unmute Report a problem Language Share Vidverto Player نقل المصابين إلى المستشفى تلقت الأجهزة الأمنية بمديرية أمن قنا، إخطارًا من غرفة العمليات يفيد إصابة شخصين حادث انهيار منزل من الطوب اللبن بقرية حاجر المنشية التابعة لمركز نقادة جنوب قنا، وعلى الفور تم الدفع بسيارتي إسعاف لنقل المصابين. تحرر محضر بالواقعة وأخطرت الجهات المختصة لتتولى التحقيقات والتي كلفت وحدة المباحث بالتحري حول الواقعة وكشف ملابساتها ونقل المصابين إلى مستشفى طوخ. | AJ17: https://www.youm7.com/story/2026/1/17/%D8%A5%D8%B5%D8%A7%D8%A8%D8%A9-%D8%B4%D8%AE%D8%B5%D9%8A%D9%86-%D9%81%D9%8A-%D8%AD%D8%A7%D8%AF%D8%AB-%D8%A7%D9%86%D9%87%D9%8A%D8%A7%D8%B1-%D9%85%D9%86%D8%B2%D9%84-%D9%85%D9%86-%D8%A7%D9%84%D8%B7%D9%88%D8%A8-%D8%A7%D9%84%D9%84%D8%A8%D9%86-%D8%A8%D9%82%D9%86%D8%A7/7272353 | AK17: https://www.cairolive24.com/2212779 | AL17: https://www.soutalsaeid.com/47081
A18: محمود | B18: 16 | C18: 46045 | D18: يناير 2026 | E18: محافظات الدلتا | F18: الشرقية | G18: فاقوس | H18: حضري | I18: مبنى "سينما النصر" القديمة بمدينة فاقوس التابعة لمحافظة الشرقية | J18: سينما قديمة | K18: منشأة رياضية /ترفيهية | L18: بناء قديم | M18: أن المبنى قديم وغير مأهول بالسكان وتتم به أعمال هدم، | N18: جزئي | O18: انهيار جزء من مبنى السينما القديم بمدينة فاقوس. | P18: قدم العقار وتهالكه | R18: 4 | S18: 2 | T18: 2 | U18: غير محدد | V18: 1 | W18: 1 | X18: 0 | Y18: أحمد صابر الحداد، 21 عامًا، مقيم بمنطقة المنشية الجديدة | Z18: غير محدد | AA18: غير محدد | AB18: غير محدد | AC18: غير محدد | AD18: جرى الدفع بالمعدات اللازمة من قبل الأجهزة التنفيذية بالمدينة لاستكمال أعمال الهدم، | AE18: ازالة | AF18: اخطار/ بلاغ / تحرير محضر | AI18: مصرع شاب إثر إنهيار جزء من مبنى سينما قديم في الشرقية الجمعة 23-01-2026 23:56 كتب: وليد صالح اسعاف اسعاف تصوير : آخرون Arrow-up A A Arrow-down facebook-icon X-icon whatsapp-icon Copy لقى شاب فى العقد الثانى من عمره مصرعه، متأثراً بالإصابات التى لحقت به، إثر وقوع حادث إنهيار جزء من مبنى سينما قديم «خاص بالأهالي»، بنطاق مدينة فاقوس بمحافظة الشرقية. كانت تلقت الأجهزة الأمنية بالشرقية، إخطاراً يفيد بشأن ما تبلغ لقسم شرطة فاقوس، بانهيار مبنى السينما القديم، بجوار شارع المجيدى، بدائرة القسم. على الفور انتقلت الأجهزة الأمنية، والأجهزة التنفيذية إلى موقع الحادث، وتم الدفع بسيارات الإسعاف تحسباً لوقوع مصابين، وبالفحص تبين أن المبنى قديم وخاص بالأهالى، وأثناء القيام بأعمال الهدم انهارت منه أجزاء، ما أسفر فى وفاة «أحمد. ص » 21 عاماً، ومقيم بدائرة القسم. أخبار متعلقة سيارة إسعاف في مصر - صورة أرشيفية طالب يفقد قدميه في حادث تصادم قطار بـ«تروسيكل» بالشرقية سيارة إسعاف - صورة أرشيفية إصابة 13 عاملاً في حادث انقلاب سيارة بالشرقية ضبط 36 طن دواجن مجهولة المصدر وغير صالحة للاستهلاك الآدمى بمركز بلبيس فى الشرقية ضبط 36 طن دواجن مجهولة المصدر وغير صالحة للاستهلاك الآدمى بمركز بلبيس فى الشرقية وعلى الفور تم فرض كردون بمحيط المبنى حفاظاً على سلامة المارة، وجرى الدفع بالمعدات اللازمة من قبل الأجهزة التنفيذية بالمدينة لاستكمال أعمال الهدم، وتم التحفظ على الجثة بثلاجة حفظ الموتى بالمستشفى تحت تصرف النيابة العامة، وتم تحرير المحضر اللازم للعرض على النيابة العامة لتولى التحقيقات. | AJ18: https://www.almasryalyoum.com/news/details/4182072 | AK18: https://www.youm7.com/story/2026/1/24/%D9%85%D8%B5%D8%B1%D8%B9-%D8%B4%D8%A7%D8%A8-%D8%A5%D8%AB%D8%B1-%D8%A7%D9%86%D9%87%D9%8A%D8%A7%D8%B1-%D8%AC%D8%B2%D8%A1-%D9%85%D9%86-%D9%85%D8%A8%D9%86%D9%89-%D8%A7%D9%84%D8%B3%D9%8A%D9%86%D9%85%D8%A7-%D8%A7%D9%84%D9%82%D8%AF%D9%8A%D9%85-%D8%A8%D9%81%D8%A7%D9%82%D9%88%D8%B3/7279862 | AL18: https://www.masrawy.com/news/news_regions/details/2026/1/24/2930861/-%D8%B3%D9%8A%D9%86%D9%85%D8%A7-%D8%A7%D9%84%D9%86%D8%B5%D8%B1-%D8%AA%D9%86%D9%87%D8%A7%D8%B1-%D9%81%D9%88%D9%82-5-%D8%A3%D8%B5%D8%AF%D9%82%D8%A7%D8%A1-%D8%A8%D8%A7%D9%84%D8%B4%D8%B1%D9%82%D9%8A%D8%A9-%D9%85%D8%B5%D8%B1%D8%B9-%D8%B4%D8%A7%D8%A8-%D9%88%D9%86%D8%AC%D8%A7%D8%A9-%D8%B1%D9%81%D8%A7%D9%82%D9%87
A19: محمود | B19: 17 | C19: 46045 | D19: يناير 2026 | E19: محافظات الصعيد | F19: قنا | G19: قنا | H19: حضري | I19: منطقة الحصواية في مدينة قنا | J19: منزل | K19: منشأة سكنية مشغولة | L19: بناء قديم | M19: منزل من طابق واحد غير مأهول بالسكان في منطقة الحصواية بقنا | N19: كلي | O19: انهيار منزل من طابق واحد مأهول بالسكان | P19: قدم العقار وتهالكه | R19: 0 | S19: 0 | T19: 0 | U19: تم استخراجهم جميعا دون إصابات | V19: 0 | W19: 0 | X19: 0 | Y19: غير محدد | Z19: غير محدد | AA19: غير محدد | AB19: غير محدد | AC19: غير محدد | AD19: وتبين بعد الفحص انهيار منزل مكون من طابق واحد والعناية الإلهية أنقذت سكانه، تم استخراجهم جميعا دون إصابات في منطقة الحصواية. | AE19: معاينة | AF19: اخطار/ بلاغ / تحرير محضر | AI19: انهيار منزل بمنطقة الحصواية فى قنا دون إصابات الجمعة، 23 يناير 2026 03:41 م انهيار منزل بمنطقة الحصواية فى قنا دون إصابات انهيار منزل فيسبوكفيسبوك واتسابواتساب X قنا صابر سعيد تعرض غير مأهول بالسكان، للانهيار في منطقة الحصواية في مدينة قنا، دون إصابات. Dubai Dunes in one Minute 01:33 Previous Pause Next 00:04 / 01:48 Unmute Fullscreen Copy video url Play / Pause Mute / Unmute Report a problem Language Share Vidverto Player انتقال الأجهزة التنفيذية لمكان الانهيار وتلقت الأجهزة الأمنية بمديرية أمن قنا، إخطارًا من غرفة العمليات يفيد انهيار منزل من طابق واحد غير مأهول بالسكان في منطقة الحصواية بقنا، وعلى الفور انتقلت الأجهزة التنفيذية إلى مكان الواقعة. وتحرر محضر بالواقعة وأخطرت الجهات المختصة لتتولى التحقيقات والتي كلفت وحدة المباحث بالتحري حول الواقعة وكشف ملابساتها وجاري رفع آثار الانهيار من جانب الطريق. | AJ19: https://www.youm7.com/story/2026/1/23/%D8%A7%D9%86%D9%87%D9%8A%D8%A7%D8%B1-%D9%85%D9%86%D8%B2%D9%84-%D8%A8%D9%85%D9%86%D8%B7%D9%82%D8%A9-%D8%A7%D9%84%D8%AD%D8%B5%D9%88%D8%A7%D9%8A%D8%A9-%D9%81%D9%89-%D9%82%D9%86%D8%A7-%D8%AF%D9%88%D9%86-%D8%A5%D8%B5%D8%A7%D8%A8%D8%A7%D8%AA/7279501 | AK19: https://www.masrawy.com/news/news_regions/details/2026/1/23/2930613/%D8%B3%D9%82%D8%B7-%D8%A8%D8%A7%D9%84%D9%83%D8%A7%D9%85%D9%84-%D8%A7%D9%86%D9%87%D9%8A%D8%A7%D8%B1-%D9%85%D9%86%D8%B2%D9%84-%D8%A8%D9%85%D9%86%D8%B7%D9%82%D8%A9-%D8%A7%D9%84%D8%AD%D8%B5%D9%88%D8%A7%D9%8A%D8%A9-%D9%81%D9%8A-%D8%A8%D9%86%D8%AF%D8%B1-%D9%82%D9%86%D8%A7 | AL19: https://www.cairo24.com/2358428
A20: محمود | B20: 18 | C20: 46047 | D20: يناير 2026 | E20: المحافظات المركزية | F20: القاهرة | G20: منشأة ناصر | H20: حضري | I20: شارع التوحيد، منطقة الدويقة، حي منشأة ناصر، محافظة القاهرة. | J20: عقار | K20: منشأة سكنية مشغولة | L20: بناء قديم | M20: عقار سكني مكون من طابقين (أرضي وطابق أول)بمنطقة الدويقة شرق القاهرة | N20: جزئي | O20: انهيار جزئي لعقار سكني بمنطقة الدويقة شرق القاهرة | P20: قدم العقار وتهالكه | Q20: تضررت بعض المنازل المجاورة ببعض الشروخ | R20: 3 | S20: 2 | T20: 1 | U20: تم إنقاذهم من تحت المبني المنهار | V20: 0 | W20: 0 | X20: 0 | Y20: غير محدد | Z20: غير محدد | AA20: غير محدد | AB20: غير محدد | AC20: غير محدد | AD20: بدأت أعمال الفحص للتأكد من سلامة المباني المجاورة، مع اتخاذ الإجراءات اللازمة لمنع تعرض المواطنين للخطر. | AE20: معاينة | AF20: اخطار/ بلاغ / تحرير محضر | AI20: بعد استخراج اثنين مصابين.. البحث عن شخص ثالث في انهيار عقار بالدويقة الأحد 25/يناير/2026 - 09:31 م printer طباعة شارك انهيار عقار بالدويقة انهيار عقار بالدويقة إسلام دياب تبحث قوات الانقاذ بالقاهرة عن شخص ثالث تحت أنقاض عقار منهار بالدويقة بمنشأة ناصر في محافظة القاهرة، مساء اليوم الأحد، نتج عنه إصابة اثنين. أسرعت سيارات الإسعاف وقوات الإنقاذ بالقاهرة إلى موقع الحادث لمحاولة إخراج المصابين، ونقلهم إلى المستشفى لتلقي العلاج اللازم. رئيس مجلس الدولة يزور شيخ الأزهر.. لهذا السببرئيس مجلس الدولة يزور شيخ الأزهر.. لهذا السبب مجلس الدولة يوقع بروتوكول أكاديمي مع الجامعات الأوروبية بمصرمجلس الدولة يوقع بروتوكول أكاديمي مع الجامعات الأوروبية بمصر أحكام المحاكم التأديبية بمجلس الدولة رادعة لكل إساءة استخدام سلطة الوظيفة العامةأحكام المحاكم التأديبية بمجلس الدولة رادعة لكل إساءة استخدام سلطة الوظيفة العامة مجلس الدولة يوصي بإلغاء قرار منع السيدات من السفر للسعوديةمجلس الدولة يوصي بإلغاء قرار منع السيدات من السفر للسعودية حظر تصوير أجندات الأحكام بمجلس الدولة وإلغاء الباركود بجلسات المحاكمحظر تصوير أجندات الأحكام بمجلس الدولة وإلغاء الباركود بجلسات المحاكم بعد تعيينه في مجلس النواب.. السيرة الذاتية لـ المستشار عادل عزب رئيس مجلس الدولة السابقبعد تعيينه في مجلس النواب.. السيرة الذاتية لـ المستشار عادل عزب رئيس مجلس الدولة السابق زيارة رئيس مجلس الدولة لـ البابا تواضروس للتهنئة بعيد الميلادزيارة رئيس مجلس الدولة لـ البابا تواضروس للتهنئة بعيد الميلاد ورد بلاغ إلى قوات النجدة بانهيار عقار بالدويقة بمنشأة ناصر، وسط محاولات لاستخراج المصابين من أسفل الأنقاض، وتم استخراج مصابين اثنين حتى الآن. | AJ20: https://www.almasryalyoum.com/news/details/4183458 | AK20: https://m.akhbarelyom.com/news/newdetails/4763225/1/%D8%B9%D9%82%D8%A7%D8%B1-%D8%A7%D9%84%D8%AF%D9%88%D9%8A%D9%82%D8%A9-%D8%A7%D9%84%D9%85%D9%86%D9%87%D8%A7%D8%B1/amp | AL20: https://m.akhbarelyom.com/news/newdetails/4763225/1/%D8%B9%D9%82%D8%A7%D8%B1-%D8%A7%D9%84%D8%AF%D9%88%D9%8A%D9%82%D8%A9-%D8%A7%D9%84%D9%85%D9%86%D9%87%D8%A7%D8%B1/amp
A21: محمود | B21: 19 | C21: 46047 | D21: يناير 2026 | E21: محافظات الصعيد | F21: سوهاج | G21: قسم أول سوهاج | H21: حضري | I21: شارع الحرية أمام قسم أولسوهاج، دون إصابات بشرية | J21: عقار | K21: منشأة سكنية خالية | L21: بناء قديم | N21: جزئي | O21: سقوط أجزاء من الحائط الخارجي للعقار | P21: عقار مخالف فنيا | Q21: تلفيات بسيطة بسيارتين ملاكى كانتا متوقفتين أسفل العقار | R21: 0 | S21: 0 | T21: 0 | U21: غير محدد | V21: 0 | W21: 0 | X21: 0 | Y21: غير محدد | Z21: صادر له قراري إزالة وإخلاء سابقين نظرًا لخطورة حالته الإنشائية | AA21: ازالة واخلاء | AB21: تنفيذ جزئي | AC21: غير محدد | AD21: ، انتقلت قيادات الوحدة المحلية، وقوات الحماية المدنية، ومسؤولو حي شرق سوهاج إلى مكان الواقعة، حيث تم فرض كردون أمني بمحيط العقار حفاظًا على سلامة المواطنين، ومنع اقتراب المارة والسيارات من موقع الانهيار، إلى حين الانتهاء من أعمال الفحص والتأمين. | AE21: ازالة | AF21: اخطار/ بلاغ / تحرير محضر | AI21: انهيار جزئى لحائط عقار فى سوهاج الأحد 25-01-2026 15:04 كتب: أحمد محي الصور الأولى لحادث انهيار أجزاء من عقار بالدقهلية - صورة أرشيفية الصور الأولى لحادث انهيار أجزاء من عقار بالدقهلية - صورة أرشيفية تصوير : آخرون Arrow-up A A Arrow-down facebook-icon X-icon whatsapp-icon Copy تعرض حائط أحد العقارات القديمة لانهيار جزئى، بشارع الحرية أمام قسم أولسوهاج، دون إصابات بشرية. البداية كانت عندما تلقت الأجهزة المختصة فى محافظة سوهاج بلاغ بوقوع انهيار جزئى بحائط عقار صادر له قرارى إزالة وإخلاء، والكائن بشارع الحرية بدائرة قسم أول سوهاج. على الفور انتقلت الجهات المختصة إلى موقع البلاغ، وأسفر الانهيار عن حدوث تلفيات بسيطة بسيارتين ملاكى كانتا متوقفتين أسفل العقار، دون إصابات. أخبار متعلقة ضبط طالبة تنتحل صفة طبيبة انتحلت صفة طبيبة.. ضبط طالبة تدير مركز تجميل وهميًا بسوهاج مسرح جامعة سوهاج الجديد «فراجما» يفتتح العروض على المسرح الجديد لجامعة سوهاج تسمم غذائى بعد تحسن حالتهم.. خروج ربة منزل وأطفالها الـ4 المصابين «باشتباه تسمم» من مستشفى سوهاج تم تحرير محضر بالواقعة وأخطرت الجهات المختصة لتتولى التحقيقات | AJ21: https://www.almasryalyoum.com/news/details/4183229 | AK21: https://www.elbalad.news/6847133
A22: محمود | B22: 20 | C22: 46048 | D22: يناير 2026 | E22: محافظات الصعيد | F22: الأقصر | G22: إسنا | H22: ريفي | I22: قرية جزيرة الكروم التابعة لوحدة الكيمان بمركز ومدينة إسنا جنوب الأقصر | J22: منزل | K22: منشأة سكنية مشغولة | L22: بناء قديم | M22: منزل مكون من طابقين مبنى بالطوب اللبن والمتهالك منذ عدة سنوات | N22: جزئي | O22: انهيار جزئي لمنزل مكون من طابقين مبنى بالطوب اللبن والمتهالك منذ عدة سنوات | P22: قدم العقار وتهالكه | Q22: أسفر الحادث عن خسائر مادية شملت جهاز عروسة وممتلكات أسرتين بالكامل تم دفنهم تحت الأنقاض | R22: 0 | S22: 0 | T22: 0 | U22: غير محدد | V22: 0 | W22: 0 | X22: 0 | Y22: غير محدد | Z22: غير محدد | AA22: غير محدد | AB22: غير محدد | AC22: بحث تقديم المساعدات العاجلة للأسر المتضررة | AD22: خطار الجهات المختصة لمعاينة العقار وبيان أسباب الانهيار، إلى جانب بحث تقديم المساعدات العاجلة للأسر المتضررة. | AE22: معاينة | AF22: اخطار/ بلاغ / تحرير محضر | AH22: المنزل كان مأهول بالسكان، ولكن وقت الإنهيار لم يتواجد أحد داخله وغادر السكان المنزل قبل إنهياره، ولم يسفر عن خسائر بشرية أو إصابات بين الأهالى ملحوظة أخري جزء الخبر الثاني من آخر رابط لليوم السابع إنهيار منزل آيل للسقوط في مدينة إسنا دون مصابين بشارع البحر وكان قد شهد مركز ومدينة إسنا جنوب محافظة الأقصر، إنهيار منزل آيل للسقوط بشارع البحر في المدينة دون مصابين أو خسائر بشرية، حيث أن المنزل متهالك ومغلق منذ عدة سنوات ولا يسكن داخله أحد، وتم إتخاذ الإجراءات اللازمة وحرر محضر بالواقعة وتولت النيابة التحقيق. بداية تفاصيل الواقعة بتلقى غرفة العمليات بمجلس مدينة إسنا، إخطاراً من الأهالى بشارع البحر يفيد بسقوط منزل قديم متهالك وخالى من السكان منذ عدة سنوات، وعلى الفور انتقل فريق من المجلس وقوة أمنية من مركز شرطة إسنا لموقع الحادث، وتبين أن المنزل من طابقين وقديم كان خالى تماماً من السكان، وتم عمل كردون حوله لحين رفع الركام عقب انهياره في الساعات الأولى ، دون مصابين أو خسائر بشرية. | AI22: النيابة تحقق فى واقعة انهيار جزئى لمنزل بالطوب اللبن فى مدينة إسنا.. صور الإثنين، 26 يناير 2026 12:27 م النيابة تحقق فى واقعة انهيار جزئى لمنزل بالطوب اللبن فى مدينة إسنا.. صور إنهيار جزئي لمنزل بالطوب اللبن من طابقين دون مصابين فيسبوكفيسبوك واتسابواتساب X الأقصر – أحمد مرعى شهدت قرية جزيرة الكروم التابعة لوحدة الكيمان بمركز ومدينة إسنا جنوب الأقصر، اليوم الإثنين، انهيار جزئي لمنزل مكون من طابقين مبنى بالطوب اللبن والمتهالك منذ عدة سنوات، وذلك دون مصابين أو خسائر بشرية بين المواطنين، وتم اتخاذ الإجراءات القانونية اللازمة تجاه الواقعة وتولت النيابة العامة للتحقيق. بداية الواقعة بتفاجئ الأهالى بإنهيار المنزل من طابقين بجزيرة الكروم دون إصابات بدأت تفاصيل الواقعة بتلقى غرفة النجدة بمركز ومدينة إسنا، إخطاراً من الأهالى يفيد بوقوع إنهيار جزئي في منزل داخل قرية جزيرة الكروم التابعة لوحدة الكيمان بمركز ومدينة إسنا، وانتقلت على الفور قوة من مجلس المدينة ومعدات المجلس لموقع الحادث، وتبين أن المنزل مكون من طابقين مبنى بالطوب اللبن والمتهالك منذ عدة سنوات. وبالفحص من قبل رجال مركز ومدينة إسنا، ورجال الشرطة والإسعاف تبين أن المنزل كان مأهول بالسكان، ولكن وقت الإنهيار لم يتواجد أحد داخله وغادر السكان المنزل قبل إنهياره، ولم يسفر عن خسائر بشرية أو إصابات بين الأهالى، وتم إتخاذ الإجراءات القانونية اللازمة تجاه الواقعة وتولت النيابة العامة للتحقيق. خسائر مادية بتضرر جهاز عروسة وممتلكات أسرتين في إنهيار المنزل وتبين من خلال فحص رجال مجلس المدينة، إنه أسفر الحادث عن خسائر مادية شملت جهاز عروسة وممتلكات أسرتين بالكامل، وبالمعاينة الأولية تبين أن المنزل ملك المواطن "عبد الوهاب عبد النعيم رمضان"، وهو مسن يقيم بمفرده بالدور الأرضي، فيما يقطن الدور الثاني نجله ربيع عبد الوهاب (58 عامًا) وأسرته المكونة من أربعة أفراد، بالإضافة إلى نجله الآخر البكري عبد الوهاب، وقد أدى الانهيار إلى تهدم كامل محتويات المنزل ودفنها أسفل الأنقاض. وتم فرض كردون أمني بمحيط المنزل المنهار، مع اتخاذ الإجراءات القانونية اللازمة، وإخطار الجهات المختصة لمعاينة العقار وبيان أسباب الانهيار، إلى جانب بحث تقديم المساعدات العاجلة للأسر المتضررة، في إطار الدور المجتمعي للدولة في دعم الأسر الأولى بالرعاية. | AJ22: https://www.youm7.com/story/2026/1/26/%D8%A7%D9%84%D9%86%D9%8A%D8%A7%D8%A8%D8%A9-%D8%AA%D8%AD%D9%82%D9%82-%D9%81%D9%89-%D9%88%D8%A7%D9%82%D8%B9%D8%A9-%D8%A7%D9%86%D9%87%D9%8A%D8%A7%D8%B1-%D8%AC%D8%B2%D8%A6%D9%89-%D9%84%D9%85%D9%86%D8%B2%D9%84-%D8%A8%D8%A7%D9%84%D8%B7%D9%88%D8%A8-%D8%A7%D9%84%D9%84%D8%A8%D9%86-%D9%81%D9%89/7282306 | AK22: https://www.youm7.com/story/2026/1/26/%D8%A7%D9%86%D9%87%D9%8A%D8%A7%D8%B1-%D8%AC%D8%B2%D8%A6%D9%89-%D9%84%D9%85%D9%86%D8%B2%D9%84-%D8%A8%D8%A7%D9%84%D8%B7%D9%88%D8%A8-%D8%A7%D9%84%D9%84%D8%A8%D9%86-%D9%81%D9%89-%D8%AC%D8%B2%D9%8A%D8%B1%D8%A9-%D8%A7%D9%84%D9%83%D8%B1%D9%88%D9%85-%D8%A8%D9%85%D8%AF%D9%8A%D9%86%D8%A9-%D8%A5%D8%B3%D9%86%D8%A7/7282265 | AL22: https://www.almasryalyoum.com/news/details/4183967 | AM22: https://www.youm7.com/story/2026/1/26/%D8%A7%D9%86%D9%87%D9%8A%D8%A7%D8%B1-%D8%AC%D8%B2%D8%A6%D9%89-%D9%84%D9%85%D9%86%D8%B2%D9%84-%D8%A8%D8%A7%D9%84%D8%B7%D9%88%D8%A8-%D8%A7%D9%84%D9%84%D8%A8%D9%86-%D9%81%D9%89-%D8%AC%D8%B2%D9%8A%D8%B1%D8%A9-%D8%A7%D9%84%D9%83%D8%B1%D9%88%D9%85-%D8%A8%D9%85%D8%AF%D9%8A%D9%86%D8%A9-%D8%A5%D8%B3%D9%86%D8%A7/7282265
A23: محمود | B23: 21 | C23: 46050 | D23: يناير 2026 | E23: محافظات الصعيد | F23: قنا | G23: قسم شرطة قنا | H23: ريفي | I23: تعرض منزل من الطوب اللبن، للانهيار في قرية المحروسة التابعة لمركز قنا | J23: منزل | K23: منشأة سكنية مشغولة | L23: بناء قديم | M23: منزل قديم مكون من طابقين ومبنى من الطوب اللبن | N23: كلي | O23: انهيار المنزل المكون من طابقين | P23: قدم العقار وتهالكه | R23: 0 | S23: 0 | T23: 0 | U23: غير محدد | V23: 0 | W23: 0 | X23: 0 | Y23: غير محدد | Z23: غير محدد | AA23: غير محدد | AB23: غير محدد | AC23: غير محدد | AD23: انتقلت الأجهزة المعنية إلى مكان المنزل المنهار، لمتابعة الموقف وإخلاء المنزل المجاور كإجراء احترازى، لضمان سلامة المواطنين، مع واتخاذ الإجراءات اللازمة. | AE23: اخلاء | AF23: اخطار/ بلاغ / تحرير محضر | AI23: انهيار منزل غير مأهول بالسكان في قرية المحروسة بـ قنا الأربعاء 28/يناير/2026 - 10:43 م printer طباعة شارك انهيار منزل بقناانهيار منزل بقنا شهدت قرية المحروسة التابعة لمركز قنا، انهيار منزل مكون من طابقين وغير مأهول بالسكان، دون وقوع أي إصابات أو ضحايا بين الأهالي. تلقت أجهزة الأمن بقنا، إخطاراً من غرفة العمليات، يفيد انهيار طابق مكون من طابقين في قرية المحروسة، دون وقوع أي إصابات أو ضحايا. محافظ قنا يبحث مع القيادات التنفيذية أنسب السبل لتسريع تقنين وضع اليدمحافظ قنا يبحث مع القيادات التنفيذية أنسب السبل لتسريع تقنين وضع اليد محافظ قنا: إقامة 9 معارض محافظ قنا: إقامة 9 معارض "أهلًا رمضان" لتوفير السلع الأساسية بأسعار مخفضة محافظ قنا يقرر حظر وقوف جرارات القصب على الطرق الرئيسية بنقادةمحافظ قنا يقرر حظر وقوف جرارات القصب على الطرق الرئيسية بنقادة زراعة قنا: صرف 86% من الأسمدة الشتوية بنجع حمادي والالتزام بكارت الفلاح شرط أساسيزراعة قنا: صرف 86% من الأسمدة الشتوية بنجع حمادي والالتزام بكارت الفلاح شرط أساسي وتبين أن المنزل مبنى من الطوب اللبن ومكون من طابقين، وجرى إخلائه من السكان نتيجة حدوث تصدعات وانهيارات بجدران المنزل. وانتقلت الأجهزة المعنية إلى مكان المنزل المنهار، لمتابعة الموقف وإخلاء المنزل المجاور كإجراء احترازى، لضمان سلامة المواطنين، مع واتخاذ الإجراءات اللازمة. وتحرر محضر بالواقعة وأخطرت الجهات المختصة لمباشرة التحقيقات واتخاذ الإجراءات القانونية اللازمة. | AJ23: https://www.elbalad.news/6851532
A24: محمود | B24: 22 | C24: 46052 | D24: يناير 2026 | E24: محافظات الصعيد | F24: قنا | G24: مركز نجع حمادي | H24: ريفي | I24: قرية أولاد نجم التابعة لمركز نجع حمادي شمال قنا. | J24: منزل | K24: منشأة سكنية مشغولة | L24: بناء قديم | N24: جزئي | O24: انهيار سور تابع لأحد جيرانهما أثناء تواجدهم بالمنزل عليهما بقرية أولاد نجم التابعة لمركز نجع حمادي | P24: قدم العقار وتهالكه | R24: 2 | S24: 0 | T24: 2 | U24: المصابتين هما: ن.م.ع، تبلغ من العمر 60 عامًا، وابنتها دنيا، تبلغ من العمر 20 عامًا، | V24: 0 | W24: 0 | X24: 0 | Y24: غير محدد | Z24: غير محدد | AA24: غير محدد | AB24: غير محدد | AC24: غير محدد | AD24: وبعد الفحص تبين إصابة أم وابنتها إثر انهيار سور عليهما في قرية أولاد نجم مركز نجع حمادي، | AE24: معاينة | AF24: اخطار/ بلاغ / تحرير محضر | AI24: إصابة سيدة وابنتها إثر انهيار سور منزل جارهم بقرية أولاد نجم في نجع حمادي السبت 31 يناير 2026 12:32 ص أُصيبت سيدة وابنتها، اليوم الجمعة، إثر انهيار سور تابع لأحد جيرانهما عليهما بقرية أولاد نجم التابعة لمركز نجع حمادي، شمالي محافظة قنا، وتم نقلهما إلى المستشفى لتلقي العلاج اللازم. وتبين أن المصابتين هما: ن.م.ع، تبلغ من العمر 60 عامًا، وابنتها دنيا، تبلغ من العمر 20 عامًا، حيث انهار عليهما سور تابع لمنزل جارهم أثناء تواجدهما بجواره داخل القرية. وكانت الأجهزة الأمنية بمديرية أمن قنا قد تلقت إخطارًا من مركز شرطة نجع حمادي، يفيد بانهيار سور على سيدة وابنتها بقرية أولاد نجم بدائرة المركز. وبالانتقال والفحص، جرى انتشال المصابتين من أسفل السور، ونقلهما إلى مستشفى نجع حمادي العام، وتم وضعهما تحت الملاحظة الطبية لتلقي الرعاية اللازمة. وتحرر محضر بالواقعة، وأُخطرت الجهات المختصة لمباشرة التحقيقات، فيما كُلفت وحدة المباحث بالتحري حول الواقعة وكشف ملابساتها. | AJ24: https://betawqit-elnagaa.com/%D8%A5%D8%B5%D8%A7%D8%A8%D8%A9-%D8%B3%D9%8A%D8%AF%D8%A9-%D9%88%D8%A7%D8%A8%D9%86%D8%AA%D9%87%D8%A7-%D8%A5%D8%AB%D8%B1-%D8%A7%D9%86%D9%87%D9%8A%D8%A7%D8%B1-%D8%B3%D9%88%D8%B1-%D9%85%D9%86%D8%B2%D9%84/ | AK24: https://www.youm7.com/story/2026/1/28/%D8%A8%D8%B9%D8%AF-%D8%A5%D8%AE%D9%84%D8%A7%D8%A1-%D8%B3%D9%83%D8%A7%D9%86%D9%87-%D8%A7%D9%86%D9%87%D9%8A%D8%A7%D8%B1-%D9%85%D9%86%D8%B2%D9%84-%D9%85%D9%86-%D8%A7%D9%84%D8%B7%D9%88%D8%A8-%D8%A7%D9%84%D9%84%D8%A8%D9%86-%D8%AF%D9%88%D9%86-%D8%A5%D8%B5%D8%A7%D8%A8%D8%A7%D8%AA/7285405 | AL24: https://www.cairo24.com/2362650
A25: محمود | B25: 23 | C25: 46053 | D25: يناير 2026 | E25: المحافظات المركزية | F25: الاسكندرية | G25: حي وسط | H25: حضري | I25: شارع شجرة الدر أمام مدرسة النهضة النوبية، نطاق قسم شرطة محرم بك | J25: بناء قديم | K25: منشأة سكنية مشغولة | L25: بناء قديم | N25: جزئي | O25: انهيار أجزاء من عقار قديم على شخص أثناء مروره | P25: قدم العقار وتهالكه | R25: 0 | S25: 0 | T25: 0 | U25: غير محدد | V25: 1 | W25: 1 | X25: 0 | Y25: «مهاب، ى، م» 19 سنة، الذى تصادف مروره أسفل العقار وقت وقوع الحادث. | Z25: صادر له قرار ترميم رقم 182 لسنة 1997 | AA25: ترميم | AB25: لم يتم تنفيذه | AC25: غير محدد | AD25: وبالمعاينة تبين أن العقار مكون من طابق أرضي و3 أدوار علوية، وصادر له قرار ترميم رقم 182 لسنة 1997، ويضم شقتين بالطابقين الأول والثاني، فيما سقطت أجزاء منه على الطريق العام. | AE25: معاينة | AF25: اخطار/ بلاغ / تحرير محضر | AI25: 5 قرارات من النيابة في واقعة مصرع شاب إثر انهيار حائط عقار قديم بالاسكندرية السبت 31-01-2026 14:19 كتب: ناصر الشرقاوي جثة فى مشرحة جثة فى مشرحة تصوير : آخرون Arrow-up A A Arrow-down facebook-icon X-icon whatsapp-icon Copy تجرى نيابة محرم بك بالاسكندرية، التحقيق في مصرع شاب، إثر انهيار أجزاء من عقار قديم عليه فى منطقة غربال التابعة لحى وسط بالمحافظة. وأمرت النيابة بندب مفتش الصحة لتوقيع الكشف الطبى على جثة المتوفى، واستدعاء ملاك العقار لسؤالهم، واستدعاء مسؤولى حى وسط، مع التحفظ على ملف العقار بالحى وإحضاره إلى سراى النيابة خشية التلاعب فيه، وسرعة إجراء تحريات المباحث حول الواقعة. ووفق التحريات المبدئية، تبين أن العقار صادر له قرار ترميم منذ عدة سنوات لم ينفذ. أخبار متعلقة ركود فى سوق الذهب بالمحافظات ما بين الركود والترقب.. «المصرى اليوم» ترصد حركة البيع والشراء بمحلات الذهب فى المحافظات (صور) أسعار الياميش فى أسواق الاسكندرية أسعار الياميش فى أسواق الاسكندرية الأرصاد تكشف حالة الطقس اتحاد «أغسطس مع طوبة».. بيان مهم بشأن حالة الطقس: الحرارة تقترب من 30 تلقت الأجهزة الأمنية فى الاسكندرية إخطارًا يفيد بانهيار أجزاء من عقار قديم بشارع شجرة الدر أمام مدرسة النهضة النوبية، نطاق قسم شرطة محرم بك، ووجود حالة وفاة. وعلى الفور انتقل إلى موقع البلاغ مأمور وضباط قسم شرطة محرم بك رفقة قوات الحماية المدنية والأجهزة التنفيذية بحى وسط. وتبين من المعاينة والفحص أن العقار المشار إليه بناء قديم مكون من طابق أرضى وثلاثة أدوار، صادر له قرار ترميم رقم 182 لسنة 1997، ويضم شقتين فى كل من الطابقين الأول والثانى. وأسفر الانهيار عن مصرع «مهاب، ى، م» 19 سنة، الذى تصادف مروره أسفل العقار وقت وقوع الحادث. وتم نقل الجثمان إلى مشرحة كوم الدكة تحت تصرف النيابة العامة، فيما وضعت الأجهزة التنفيذية الحواجز حول العقار لحماية المارة والسيارات، وتحرر المحضر اللازم بالواقعة. | AJ25: https://www.almasryalyoum.com/news/details/4187780 | AK25: https://www.masrawy.com/news/news_regions/details/2026/1/30/2934669/%D8%AA%D8%B5%D8%A7%D8%AF%D9%81-%D9%85%D8%B1%D9%88%D8%B1%D9%87-%D8%A3%D8%B3%D9%81%D9%84%D9%87-%D9%85%D8%B5%D8%B1%D8%B9-%D8%B4%D8%A7%D8%A8-%D8%A5%D8%AB%D8%B1-%D8%A7%D9%86%D9%87%D9%8A%D8%A7%D8%B1-%D8%A3%D8%AC%D8%B2%D8%A7%D8%A1-%D9%85%D9%86-%D8%B9%D9%82%D8%A7%D8%B1-%D9%81%D9%8A-%D8%A7%D9%84%D8%A5%D8%B3%D9%83%D9%86%D8%AF%D8%B1%D9%8A%D8%A9 | AL25: https://gate.ahram.org.eg/News/5481140.aspx
A26: محمود | B26: 24 | C26: 46053 | D26: يناير 2026 | E26: محافظات الدلتا | F26: الغربية | G26: طنطا | H26: حضري | I26: داخل أحد النوادى الخاصة بمدينة طنطا | J26: نادي رياضي | K26: منشأة رياضية /ترفيهية | L26: بناء حديث | N26: جزئي | O26: سقوط عارضة ألعاب رياضية | P26: اعطال فنية | R26: 0 | S26: 0 | T26: 0 | U26: غير محدد | V26: 1 | W26: 1 | X26: 0 | Y26: ابراهيم الخطيب 13 عام | Z26: غير محدد | AA26: غير محدد | AB26: غير محدد | AC26: غير محدد | AD26: غير محدد | AE26: معاينة | AF26: اخطار/ بلاغ / تحرير محضر | AI26: بعد وفاته داخل نادى خاص بطنطا.. التصريح بدفن جثمان صغير بعد سقوط عارضة عليه السبت 31-01-2026 11:16 كتب: التصريح بدفن جثمان صغير بعد سقوط عارضة عليه التصريح بدفن جثمان صغير بعد سقوط عارضة عليه تصوير : آخرون Arrow-up A A Arrow-down facebook-icon X-icon whatsapp-icon Copy صرحت جهات التحقيق بدفن جثمان طالب يدعى ابراهيم الخطيب توفى داخل أحد النوادى الخاصة بمدينة طنطا بعد سقوط عارضة ألعاب رياضية عليه. يذكر أن الطفل المتوفيطالب فى المرحلة الإعداديةأصيب بنزيف فى المخداخل أحد النوادى الخاصة بمدينة طنطا بعد ما سقطتعارضة ألعاب رياضية عليه أثناء تواجده داخل أروقة الناديولكن لم تفلح المحاولات فى إنقاذه ويتوفى فى الحال وسط انهيار أسرته التى أكدت سقوط عارضة عليه ووفاتهمتاثرا بإصابته. وكانت الأجهزة الأمنية بمديرية أمن الغربية قد تلقت إخطارًا يفيد بورود بلاغ باستقبال مستشفى طنطا العام للطفل إبراهيم 13عاما طالب بالصف الأول الإعدادى مصابً بنزيف حاد بالمخ وكسر بقاع الجمجمة ووصولهإلى مستشفى طنطا العام جثة هامدة. أخبار متعلقة صفعها على وجهها.. قرار عاجل من النيابة بشأن المتهم بالتعدى على والدته بطنطا صفعها على وجهها.. قرار عاجل من النيابة بشأن المتهم بالتعدى على والدته بطنطا في الغربية وتكثف جهات التحقيق عملها لكشف ملابسات الواقعة بعد استدعاء أسرة الطفل لسؤالهم عن ظروف وملابسات الحادث وكذلك مسئولى النادى الخاص وتفريغ كاميرات المراقبة التى رصدت الحادث وقت وقوعه واستمرار التحقيقات قال مصدر بمديرية الشباب والرياضة للمصرى اليوم النادى يخضع للإشراف الكامل من وزارة الشباب والرياضة، وهناك متابعة دورية على النوادى الخاصة لمتابعة اشتراطات الأمان، | AJ26: https://www.almasryalyoum.com/news/details/4187656 | AK26: https://www.youm7.com/story/2026/1/31/%D8%A7%D9%84%D8%AA%D8%B5%D8%B1%D9%8A%D8%AD-%D8%A8%D8%AF%D9%81%D9%86-%D8%B7%D9%81%D9%84-%D8%B3%D9%82%D8%B7%D8%AA-%D8%B9%D9%84%D9%8A%D9%87-%D8%B9%D8%A7%D8%B1%D8%B6%D8%A9-%D9%81%D9%8A-%D9%86%D8%A7%D8%AF%D9%8A-%D8%B4%D9%87%D9%8A%D8%B1-%D8%A8%D8%B7%D9%86%D8%B7%D8%A7/7287641 | AL26: https://www.almasryalyoum.com/news/details/4187737 | AM26: https://www.youm7.com/story/2026/1/31/%D8%A7%D9%84%D8%AA%D8%B5%D8%B1%D9%8A%D8%AD-%D8%A8%D8%AF%D9%81%D9%86-%D8%B7%D9%81%D9%84-%D8%B3%D9%82%D8%B7%D8%AA-%D8%B9%D9%84%D9%8A%D9%87-%D8%B9%D8%A7%D8%B1%D8%B6%D8%A9-%D9%81%D9%8A-%D9%86%D8%A7%D8%AF%D9%8A-%D8%B4%D9%87%D9%8A%D8%B1-%D8%A8%D8%B7%D9%86%D8%B7%D8%A7/7287641
A27: محمود | B27: 25 | C27: 46053 | D27: يناير 2026 | E27: المحافظات المركزية | F27: القاهرة | G27: التجمع الخامس | H27: حضري | I27: داخل محطة وقود موبيل الكائنة في القطعة 18 بالخدمات الأولى في التجمع الخامس بمدينة القاهرة | J27: محطة وقود وبها محلات | K27: منشأة خدمية | L27: بناء حديث | N27: جزئي | O27: تبين أن الهبوط الأرضي أدى إلى الانهيار الكامل لمحلين تجاريين داخل المحطة، أحدهما لبيع الزهور والآخر لبيع الحلويات، أثناء تواجد عدد من العاملين بداخلهما. | P27: اعمال انشائية/انهيار/هدم عقار مجاور | Q27: تبين أن الهبوط الأرضي أدى إلى الانهيار الكامل لمحلين تجاريين داخل المحطة، أحدهما لبيع الزهور والآخر لبيع الحلويات، أثناء تواجد عدد من العاملين بداخلهما. | R27: 4 | S27: 4 | T27: 0 | U27: غير محدد | V27: 0 | W27: 0 | X27: 0 | Y27: غير محدد | Z27: غير محدد | AA27: غير محدد | AB27: غير محدد | AC27: غير محدد | AD27: وبالانتقال والفحص تبين حدوث هبوط أرضي داخل محطة وقود موبايل بعمق (15) مترا مما أسفر عن انهيار كامل لمحل لبيع الورد ومحل لبيع الحلويات داخل المحطة، كما نتج عن الحادث إصابة شخصين وتم نقلهما للمستشفى. | AE27: معاينة | AF27: اخطار/ بلاغ / تحرير محضر | AI27: تفاصيل الانهيار الأرضى فى التجمع وعدد الإصابات.. فيديو السبت، 31 يناير 2026 11:00 م هبوط أرضى فى التجمع فيسبوكفيسبوك واتسابواتساب X تغطية جديدة بثها تليفزيون "اليوم السابع" حول الهبوط الأرضى فى منطقة التجمع، حيث استعرضت التغطية التفاصيل الخاصة بإصابة شخصين إثر انهيار أرضى داخل محطة وقود فى منطقة التجمع أثناء تواجدهما داخل محلات وتم نقلهما إلى المستشفى. One minute around the Atlantis - The Palm - Dubai 00:00 Previous Pause Next 00:56 / 01:30 Unmute Fullscreen Copy video url Play / Pause Mute / Unmute Report a problem Language Share Vidverto Player وتلقت غرفة العمليات بلاغا بحدوث هبوط أرضى أمام محطة وقود موبايل فى منطقة التجمع، وانتقلت سيارات الإنقاذ البرى إلى مكان الحادث. وبالانتقال والفحص تبين حدوث هبوط أرضي داخل محطة وقود موبايل بعمق (15) مترا مما أسفر عن انهيار كامل لمحل لبيع الورد ومحل لبيع الحلويات داخل المحطة، كما نتج عن الحادث إصابة شخصين وتم نقلهما للمستشفى. وكشفت المعاينة أن سبب الانهيار يرجع إلى أعمال حفر مجاورة لمحطة وقود موبايل بموقع تحت الإنشاء وتم اتخاذ الإجراءات القانونية اللازمة تجاه الواقعة. | AJ27: https://www.youm7.com/story/2026/1/31/%D8%AA%D9%81%D8%A7%D8%B5%D9%8A%D9%84-%D8%A7%D9%84%D8%A7%D9%86%D9%87%D9%8A%D8%A7%D8%B1-%D8%A7%D9%84%D8%A3%D8%B1%D8%B6%D9%89-%D9%81%D9%89-%D8%A7%D9%84%D8%AA%D8%AC%D9%85%D8%B9-%D9%88%D8%B9%D8%AF%D8%AF-%D8%A7%D9%84%D8%A5%D8%B5%D8%A7%D8%A8%D8%A7%D8%AA-%D9%81%D9%8A%D8%AF%D9%8A%D9%88/7288609 | AK27: https://www.elbalad.news/6855721 | AM27: https://www.elbalad.news/6854906
A28: محمود | B28: 26 | C28: 46053 | D28: يناير 2026 | E28: محافظات الصعيد | F28: المنيا | G28: مدينة مغاغة | H28: حضري | I28: شارع الجمهورية بمدينة مغاغة في المنيا | J28: عقار | K28: منشأة سكنية خالية | L28: بناء قديم | N28: جزئي | O28: انهيار المنزل كاملاً | P28: اعمال انشائية/انهيار/هدم عقار مجاور | Q28: قال أحد المتضررين بعد خسارة محله بعد إنهيار المنزل عليه: “ أنا عندي محل بخمسة مليون جنيه وقع عليه البيت، مين هيعوض خسارتي”. | R28: 0 | S28: 0 | T28: 0 | U28: غير محدد | V28: 0 | W28: 0 | X28: 0 | Y28: غير محدد | Z28: امتلاك أصحاب المنزل المنهار رخصة لإعادة بنائه منذ أكثر من أربعة أشهر لكن دون تنفيذ، | AA28: ازالة | AB28: لم يتم تنفيذه | AC28: غير محدد | AD28: وكشفت المعاينة أن سبب الانهيار يرجع إلى أعمال حفر مجاورة لمحطة وقود موبايل بموقع تحت الإنشاء وتم اتخاذ الإجراءات القانونية اللازمة تجاه الواقعة. | AE28: معاينة | AF28: اخطار/ بلاغ / تحرير محضر | AI28: انهيار عقار قديم مكون من 3 طوابق بمغاغة بالمنيا دون أضرار بشرية السبت 31-01-2026 20:26 كتب: سعيد نافع انهيار عقار بالمنيا - صورة ارشيفية - صورة أرشيفية انهيار عقار بالمنيا - صورة ارشيفية - صورة أرشيفية تصوير : آخرون Arrow-up A A Arrow-down facebook-icon X-icon whatsapp-icon Copy شهد شارع الجمهورية بمدينة مغاغة في المنيا، اليوم، انهيار عقار قديم مكون من ثلاثة طوابق، دون اضرار بشرية، تم الدفع بسيارات الحماية المدنية والشرطة وتم فرض كردون امني علي العقار للحفاظ علي صحة المارة، وتم فصل المرافق عن العقار واتخاذ الاجراءات القانونية. تلقت الاجهزة الامنية بالمنيا، برئاسة اللواء حاتم حسن، مدير امن المنيا، بلاغا بالانهيار. تم الدفع بسيارات الحماية المدنية والاسعاف والشرطة برئاسة العقيد شريف الفقي، مأمور مركز شرطة مغاغة، وتبين عدم وجود اصابات بشرية وان العقار قديم ومتهالك . أخبار متعلقة اسعار الخضروات بالمنيا- صورة ارشيفية أسعار الخضروات اليوم السبت 31 يناير 2026 في أسواق المنيا محكمة جنايات المنيا - صورة أرشيفية المشدد 5 سنوات والغرامة مليون جنيه لمتهم بـ«الهجرة غير المشروعة» فى المنيا رئيس الوزراء يتفقد مصنع «الجيزة للملابس الجاهزة» خلال جولته بمحافظة المنيا رئيس الوزراء يختتم جولاته للمنيا بتفقد المستشفى الثلاثي والمركز التكنولوجي تم فرض كردون علي العقار للحفاظ علي سلامة المارة، وفصل المرافق، واتخاذ الاجراءات القانونية . تحرر محضر بالواقعة، وتولت النيابة العامة التصرف | AJ28: https://www.almasryalyoum.com/news/details/4188043 | AK28: https://www.elbalad.news/6854592 | AL28: https://soot-elminya.com/5195/%d8%a3%d9%87%d8%a7%d9%84%d9%8a-%d8%b9%d9%82%d8%a7%d8%b1-%d9%85%d8%ba%d8%a7%d8%ba%d8%a9-%d8%a7%d9%84%d9%85%d9%86%d9%87%d8%a7%d8%b1-%d8%ad%d8%b0%d8%b1%d9%86%d8%a7-%d9%85%d9%86-%d8%b3%d9%82%d9%88%d8%b7-%d8%a7%d9%84%d9%85%d8%a8%d9%86%d9%89-%d9%82%d8%a8%d9%84-%d8%a7%d9%86%d9%87%d9%8a%d8%a7%d8%b1%d9%87 | AM28: https://www.almasryalyoum.com/news/details/4188043 | AN28: https://akhbarelyom.com/news/newdetails/4766197/1/%D8%A7%D9%86%D9%87%D9%8A%D8%A7%D8%B1-%D9%85%D9%86%D8%B2%D9%84-%D9%81%D9%8A-%D9%85%D8%BA%D8%A7%D8%BA%D8%A9-%D8%A8%D8%B3%D8%A8%D8%A8-%D8%A3%D8%B9%D9%85%D8%A7%D9%84-%D8%AD%D9%81%D8%B1-%D9%85%D8%AC%D8%A7%D9%88
A29: محمود | B29: 27 | C29: 46053 | D29: يناير 2026 | E29: محافظات الصعيد | F29: قنا | G29: مركز دشنا | H29: ريفي | I29: ناحية نجع المعيصرة بفاو غرب مركز دشنا شمال محافظة قنا. | J29: منزل | K29: منشأة سكنية مشغولة | L29: بناء قديم | N29: كلي | O29: انهيار منزل مكون من طابقين من الطوب اللبن | P29: قدم العقار وتهالكه | R29: 0 | S29: 0 | T29: 0 | U29: غير محدد | V29: 1 | W29: 1 | X29: 0 | Y29: طالب يُدعى ع.ع.ع، يبلغ من العمر 16 عامًا | Z29: غير محدد | AA29: غير محدد | AB29: غير محدد | AC29: غير محدد | AD29: وبعد الفحص تبين انهيار منزل مكون من طابقين من الطوب اللبن، وأسفر عن مصرع طالب يُدعى ع.ع.ع، يبلغ من العمر 16 عامًا، أسفل الأنقاض. | AE29: معاينة | AF29: اخطار/ بلاغ / تحرير محضر | AI29: مصرع طالب فى انهيار منزل بقرية فاو بقنا السبت، 31 يناير 2026 03:06 م مصرع طالب فى انهيار منزل بقرية فاو بقنا انهيار منزل بقرية فاو غرب فيسبوكفيسبوك واتسابواتساب X قنا صابر سعيد لقى طالب مصرعه، اليوم السبت، في حادث انهيار منزل بقرية فاو غرب التابعة لمركز دشنا شمال محافظة قنا. The Abandoned Village - Sand Invasion 00:26 Previous Pause Next 00:44 / 00:46 Unmute Fullscreen Copy video url Play / Pause Mute / Unmute Report a problem Language Share Vidverto Player انهيار منزل ينهي حياة شاب تلقت الأجهزة الأمنية بمديرية أمن قنا، إخطارا من غرفة العمليات يفيد مصرع طالب في انهيار منزل بقرية فاو غرب التابعة لمركز دشنا شمال محافظة قنا، وتبين مصرع طالب في حادث الانهيار، ودفع مرفق إسعاف قنا بسيارة إسعاف لنقل الجثة إلى مشرحة المستشفى. تحرر محضر بالواقعة وأخطرت الجهات المختصة لتتولى التحقيقات والتي كلفت وحدة المباحث بالتحري حول الواقعة وكشف ملابساتها ونقل الجثة إلى مشرحة المستشفى. | AJ29: https://www.youm7.com/story/2026/1/31/%D9%85%D8%B5%D8%B1%D8%B9-%D8%B7%D8%A7%D9%84%D8%A8-%D9%81%D9%89-%D8%A7%D9%86%D9%87%D9%8A%D8%A7%D8%B1-%D9%85%D9%86%D8%B2%D9%84-%D8%A8%D9%82%D8%B1%D9%8A%D8%A9-%D9%81%D8%A7%D9%88-%D8%A8%D9%82%D9%86%D8%A7/7288119 | AK29: https://www.elbalad.news/6859898 | AL29: https://www.cairo24.com/2362991
A30: محمود | B30: 28 | C30: 46055 | D30: فبراير 2026 | E30: المحافظات المركزية | F30: الجيزة | G30: الطالبية | H30: حضري | J30: عقار | K30: منشأة سكنية مشغولة | L30: بناء حديث | N30: جزئي | O30: أثناء صعوده بالأسانسير فحدث عطل بالمصعد وسقط في بئر المصعد، | P30: اعطال فنية | R30: 0 | S30: 0 | T30: 0 | U30: غير محدد | V30: 1 | W30: 1 | X30: 0 | Y30: موظف 55 سنة في أث | Z30: غير محدد | AA30: غير محدد | AB30: غير محدد | AC30: غير محدد | AD30: غير محدد | AE30: معاينة | AF30: اخطار/ بلاغ / تحرير محضر | AI30: مصرع موظف ومقاول في حادثي سقوط بالطالبية وبولاق الدكرور الإثنين، 02 فبراير 2026 09:33 ص مصرع موظف ومقاول في حادثي سقوط بالطالبية وبولاق الدكرور مصرع موظف في الطالبية فيسبوكفيسبوك واتسابواتساب X كتب بهجت أبو ضيف فقد موظف حياته، إثر سقوط مصعد عقار بمنطقة الطالبية، وتحرر محضر بالواقعة، وباشرت النيابة المختصة التحقيق. Error loading media Copy video url Play / Pause Mute / Unmute Report a problem Language Share Vidverto Player تفاصيل مصرع موظف في الطالبية ورد بلاغ لقسم شرطة الطالبية، يفيد مصرع شخص داخل عقار، انتقلت قوة أمنية لمحل الواقعة، وتبين من خلال الفحص والتحريات، أن عطل بمصعد العقار أدى إلى سقوطه، مما أسفر عن مصرع موظف يستقله. تم نقل الجثة لثلاجة المستشفى العام، واتخاذ الإجراءات القانونية اللازمة، وتولت النيابة المختصة التحقيق. مصرع مقاول في بولاق الدكرور ولقى مقاول مصرعه، نتيجة سقوطه من أعلى عقار في بولاق الدكرور، وتوصلت التحريات إلى أن الضحية اختل توازنه وسقط ليصاب بعدة إصابات ونزيف فارق إثرها الحياة. واستمع رجال المباحث لأقوال شهود عيان لكشف ملابسات الحادث، وأخطرت النيابة للتحقيق. | AJ30: https://www.youm7.com/story/2026/2/2/%D9%85%D8%B5%D8%B1%D8%B9-%D9%85%D9%88%D8%B8%D9%81-%D9%88%D9%85%D9%82%D8%A7%D9%88%D9%84-%D9%81%D9%8A-%D8%AD%D8%A7%D8%AF%D8%AB%D9%8A-%D8%B3%D9%82%D9%88%D8%B7-%D8%A8%D8%A7%D9%84%D8%B7%D8%A7%D9%84%D8%A8%D9%8A%D8%A9-%D9%88%D8%A8%D9%88%D9%84%D8%A7%D9%82-%D8%A7%D9%84%D8%AF%D9%83%D8%B1%D9%88%D8%B1/7290099 | AK30: https://www.almasryalyoum.com/news/details/4192128 | AL30: https://www.almasryalyoum.com/news/details/4192128
A31: محمود | B31: 29 | C31: 46056 | D31: فبراير 2026 | E31: محافظات الصعيد | F31: قنا | G31: دشنا | H31: ريفي | I31: انهيار منزل بمنطقة نجع الخولي في مركز دشنا شمال محافظة قنا | J31: منزل | K31: منشأة سكنية مشغولة | L31: بناء قديم | N31: كلي | P31: قدم العقار وتهالكه | R31: 2 | S31: 1 | T31: 1 | U31: غير محدد | V31: 0 | W31: 0 | X31: 0 | Y31: غير محدد | Z31: غير محدد | AA31: غير محدد | AB31: غير محدد | AC31: غير محدد | AD31: انتقلت الأجهزة التنفيذية إلى مكان الواقعة ورفع آثار الانهيار. | AE31: معاينة | AF31: اخطار/ بلاغ / تحرير محضر | AI31: إصابة شخصين فى انهيار منزل بقنا الثلاثاء، 03 فبراير 2026 11:43 م إصابة شخصين فى انهيار منزل بقنا انهيار منزل - أرشيفية فيسبوكفيسبوك واتسابواتساب X قنا صابر سعيد أصيب شخصان، اليوم الثلاثاء، في انهيار منزل بمنطقة نجع الخولي في مركز دشنا شمال محافظة قنا. إصابة شخصين في انهيار منزل من الطوب اللبن تلقت الأجهزة الأمنية بمديرية أمن قنا، إخطارا من غرفة العمليات يفيد إصابة شخصين في انهيار منزل من الطوب اللبن في منطقة نجع الخولي التابعة لمركز دشنا شمال محافظة قنا، وانتقلت الأجهزة التنفيذية إلى مكان الواقعة ورفع آثار الانهيار. تحرر محضر بالواقعة وأخطرت الجهات المختصة لتتولى التحقيقات والتي كلفت وحدة المباحث بالتحري حول الواقعة ونقل المصابين إلى المستشفى. | AJ31: https://www.youm7.com/story/2026/2/3/%D8%A5%D8%B5%D8%A7%D8%A8%D8%A9-%D8%B4%D8%AE%D8%B5%D9%8A%D9%86-%D9%81%D9%89-%D8%A7%D9%86%D9%87%D9%8A%D8%A7%D8%B1-%D9%85%D9%86%D8%B2%D9%84-%D8%A8%D9%82%D9%86%D8%A7/7292624
A32: محمود | B32: 30 | C32: 46057 | D32: فبراير 2026 | E32: محافظات الدلتا | F32: البحيرة | G32: دمنهور | H32: ريفي | I32: قرية نديبة التابعة لمركز دمنهور بمحافظة البحيرة | J32: منزل | K32: منشأة سكنية خالية | L32: بناء قديم | N32: جزئي | O32: انهيار جدار المنزل | P32: قدم العقار وتهالكه | R32: 3 | S32: 0 | T32: 3 | U32: أصيبت "هند .ش .م" ٣٥ سنة، ربة منزل، بجروح وكسور متفرقة بالجسم، و"نعيمة .م .ع" ٤٠ سنة، ربة منزل، بكسور وكدمات متفرقة بالجسم و"نوره .ر .ع" ٣٣ سنة ربة منزل، بكسور بالساق اليسرى. | V32: 1 | W32: 0 | X32: 1 | Y32: مصرع بدرية محمد الفرماوى، ٥٠ سنة، ربة منزل | Z32: غير محدد | AA32: غير محدد | AB32: غير محدد | AC32: غير محدد | AD32: وتبين من المعاينة الأولية سقوط جدار منزل مكون من طابق واحد على عدد من السيدات خلال عزاء أحد الأهالي. | AE32: معاينة | AF32: اخطار/ بلاغ / تحرير محضر | AI32: ذهبت لتقديم العزاء فعادت جثة.. مصرع سيدة وإصابة 3 سقط عليهن جدار في البحيرة الأربعاء 04-02-2026 21:45 كتب: حمدي قاسم اسعاف البحيرة اسعاف البحيرة تصوير : آخرون Arrow-up A A Arrow-down facebook-icon X-icon whatsapp-icon Copy لقيت سيدة مصرعها وأصيت 3 أخريات نتيجة سقوط جدار منزل عليهن أثناء تقديم واجب العزاء في أحد أبناء قرية نديبة التابعة لمركز دمنهور بمحافظة البحيرة. تفاصيل حادث البحيرة تلقى اللواء محمد عمارة، مدير أمن البحيرة، إخطارًا من مأمور مركز شرطة دمنهور بإبلاغ الأهالى بسقوط جدار على عدد من السيدات كن يجلسن بجواره أثناء تقديم واجب العزاء في قرية نديبة ووجود متوفاة ومصابات. انتقلت الأجهزة الأمنية لموقع الحادث وتم الدفع بقوات الحماية المدنية وعدد من سيارات الإسعاف. وتبين من المعاينة الأولية سقوط جدار عقار مكون من دور واحد على عدد من السيدات أثناء مشاركتهن فى عزاء أحد المتوفين. أخبار متعلقة وزير العمل وزير العمل يلتقى ممثلى شركات الملابس الجاهزة لتذليل العقبات أمام الاستثمار افتتاح معارض أهلاً رمضان 2026 افتتاح معرض "أهلاً رمضان" في البحيرة.. ولحوم ودواجن وأسماك طازجة بتخفيضات تصل إلى 40% والدة الطفلة فاطمة في البحيرة تستغيث لعلاجها أم بالبحيرة تستغيث.. «بنتي عايشة بكلية واحدة ونموها واقف أتمنى علاجها ومطلوب منظار غالي» وأسفر الحادث عن مصرع بدرية محمد الفرماوى، ٥٠ سنة، ربة منزل، مقيمة قرية نديبة، فيما أصيبت "هند .ش .م" ٣٥ سنة، ربة منزل، بجروح وكسور متفرقة بالجسم، و"نعيمة .م .ع" ٤٠ سنة، ربة منزل، بكسور وكدمات متفرقة بالجسم و"نوره .ر .ع" ٣٣ سنة ربة منزل، بكسور بالساق اليسرى. تم نقل الجثة والمصابين إلى مستشفى حوش عيسى المركزى وتم تحرير محضر بالواقعة وباشرت النيابة التحقيق. تم التحفظ على الجثة تحت تصرف النيابة العامة ويجري تقديم الإسعافات الطبية اللازمة للمصابات. | AJ32: https://www.almasryalyoum.com/news/details/4191492 | AL32: https://www.elbalad.news/6859823
A33: محمود | B33: 31 | C33: 46057 | D33: فبراير 2026 | E33: محافظات الصعيد | F33: أسيوط | G33: مركز القوصية | H33: ريفي | I33: قرية بلوط التابعة لمركز القوصية بمحافظة أسيوط. | J33: منزل | K33: منشأة سكنية خالية | L33: بناء قديم | N33: جزئي | O33: سقوط سقف منزل قديم أثناء أعمال الهدم | P33: اعمال انشائية او هدم داخل العقار | R33: 2 | S33: 2 | T33: 0 | U33: إصابة "نسيم م ل" 35 عامًا، عامل، اشتباه نزيف في المخ واشتباه كسر بالكوع الايمن و"سامح.ا.ر" 50 عامًا، صاحب المنزل حالته كسر مضاعف في الذراع واشتباه نزيف في المخ. | V33: 0 | W33: 0 | X33: 0 | Y33: غير محدد | Z33: غير محدد | AA33: غير محدد | AB33: غير محدد | AC33: غير محدد | AD33: وبالفحص تبين إصابة كل من "نسيم م. ل"، 35 عامًا، عامل، باشتباه نزيف في المخ واشتباه كسر في الكوع الأيمن، و"سامح أ. ر"، 50 عامًا، صاحب المنزل، بكسر مضاعف في الذراع واشتباه نزيف في المخ. | AE33: معاينة | AF33: اخطار/ بلاغ / تحرير محضر | AI33: إصابة شخصين في انهيار سقف منزل بأسيوط الأربعاء 04/فبراير/2026 - 01:38 م printer طباعة شارك إصابة شخصين في إنهيار سقف منزل بأسيوط إصابة شخصين في إنهيار سقف منزل بأسيوط إيهاب عمر أصيب شخصان، اليوم الأربعاء، إثر سقوط سقف منزل قديم أثناء أعمال الهدم بقرية بلوط التابعة لمركز القوصية بمحافظة أسيوط. وكان اللواء وائل نصار، مدير أمن أسيوط، قد تلقى إخطارًا من غرفة عمليات النجدة يفيد بورود بلاغ من الأهالي بانهيار سقف منزل قديم أثناء أعمال الهدم ووجود مصابين. وعلى الفور انتقلت قوات الأمن وضباط المباحث وسيارات الإسعاف إلى موقع البلاغ. وبالفحص تبين إصابة "نسيم م ل" 35 عامًا، عامل، اشتباه نزيف في المخ واشتباه كسر بالكوع الايمن و"سامح.ا.ر" 50 عامًا، صاحب المنزل حالته كسر مضاعف في الذراع واشتباه نزيف في المخ. وجاري نقل المصابين إلى مستشفى أسيوط الجامعي لتلقي العلاج. وجاري تحرير المحضر اللازم والعرض على النيابة | AJ33: https://www.elbalad.news/6858969 | AK33: https://www.masrawy.com/news/news_regions/details/2026/2/4/2937231/-%D8%A5%D8%B5%D8%A7%D8%A8%D8%A9-%D8%B4%D8%AE%D8%B5%D9%8A%D9%86-%D9%81%D9%8A-%D8%A7%D9%86%D9%87%D9%8A%D8%A7%D8%B1-%D8%B3%D9%82%D9%81-%D9%85%D9%86%D8%B2%D9%84-%D8%A3%D8%AB%D9%86%D8%A7%D8%A1-%D8%A7%D9%84%D9%87%D8%AF%D9%85-%D8%A8%D8%A3%D8%B3%D9%8A%D9%88%D8%B7-%D8%B5%D9%88%D8%B1 | AL33: https://www.cairo24.com/2365474 | AM33: https://www.newsroom.info/275550
A34: محمود | B34: 32 | C34: 46058 | D34: فبراير 2026 | E34: محافظات الدلتا | F34: الغربية | G34: المحلة الكبرى | H34: حضري | I34: منطقة شكري القواتلي التابعة لحي أول المحلة الكبرى | J34: منزل | K34: منشأة سكنية خالية | L34: بناء قديم | N34: جزئي | O34: سقوط جزء من سور بلكونة المنزل | P34: قدم العقار وتهالكه | Q34: تحطم سيارة تاكسي كانت متوقفة أسفل العقار. | R34: 0 | S34: 0 | T34: 0 | U34: غير محدد | V34: 0 | W34: 0 | X34: 0 | Y34: غير محدد | Z34: غير محدد | AA34: غير محدد | AB34: غير محدد | AC34: غير محدد | AD34: وبالفحص والمعاينة تبين أن المنزل مكون من طابق واحد وغير مأهول بالسكان وتم إخطار الجهات المختصة لاتخاذ الإجراءات الفنية اللازمة والتعامل مع مصدر الخطورة بشكل عاجل. | AE34: معاينة | AF34: اخطار/ بلاغ / تحرير محضر | AI34: سقوط سور بلكونة على تاكسي بالمحلة الكبرى الخميس 05-02-2026 20:49 كتب: السيد عامر سقوط سور بلكونة على تاكسي بالمحلة الكبرى سقوط سور بلكونة على تاكسي بالمحلة الكبرى تصوير : آخرون Arrow-up A A Arrow-down facebook-icon X-icon whatsapp-icon Copy شهدت منطقة شكري القواتلي التابعة لحي أول المحلة الكبرى حادث سقوط بلكونة منزل مكون من طابق واحد غير مأهول بالسكان، ما أثار حالة من الفزع والهلع بين سكان المنطقة، خاصة بعد تحطم سيارة تاكسي كانت متوقفة أسفل العقار. تعود تفاصيل الواقعة إلى تلقي الأجهزة الأمنية بمديرية أمن الغربية إخطاراً من غرفة عمليات النجدة يفيد بسقوط جزء من سور بلكونة بأحد العقارات على سيارة تاكسي ما أسفر عن حدوث تلفيات بالسيارة دون تسجيل أي خسائر في الأرواح. كانت قوة أمنية من قسم شرطة أول المحلة الكبرى انتقلت إلى موقع البلاغ وجرى فرض كردون أمني بمحيط العقار حرصًا على سلامة المواطنين ومنعًا للمارة من المرور بجواره لحين التأكد من عدم وجود أجزاء أخرى مهددة بالسقوط. | AJ34: https://www.almasryalyoum.com/news/details/4192292 | AK34: https://el-yomnews.com/%D8%B3%D9%82%D9%88%D8%B7-%D8%AC%D8%B2%D8%A1-%D9%85%D9%86-%D8%A8%D9%84%D9%83%D9%88%D9%86%D8%A9-%D8%B9%D9%84%D9%89-%D8%AA%D8%A7%D9%83%D8%B3%D9%8A-%D9%85%D8%AA%D9%88%D9%82%D9%81-%D9%8A%D8%AB%D9%8A%D8%B1/ | AL34: https://www.vetogate.com/5588885
A35: محمود | B35: 33 | C35: 46060 | D35: فبراير 2026 | E35: محافظات الصعيد | F35: المنيا | G35: مركز ملوي | H35: ريفي | I35: دير «أبو فانا» الأثرى الواقع فى الظهير الصحراوى الغربى بمركز ملوي بالمنيا | J35: دير أثري | K35: منشأة دينية | L35: بناء قديم | N35: جزئي | O35: انهيار السور الفاصل بين المزرعة والدير | P35: قدم العقار وتهالكه | R35: 8 | S35: 4 | T35: 4 | U35: مريم أشرف يونان (8 سنوات) توماس صموئيل رشدي (7 سنوات) | V35: 4 | W35: 3 | X35: 1 | Y35: بدر شنودة حنا (7 سنوات) تواضروس شنودة حنا (10 سنوات) نادية أشرف يونان (11 سنة) شنودة باسم إبراهيم (10 سنوات) | Z35: غير محدد | AA35: غير محدد | AB35: غير محدد | AC35: وجهت وزيرة التضامن الاجتماعي رئيس الإدارة المركزية للحماية الاجتماعية بالتنسيق مع مدير مديرية التضامن الاجتماعي بمحافظة المنيا بصرف المساعدات اللازمة لأسر ضحايا حادث انهيار السور الداخلي بأحد مباني دير «أبو فانا» الأثري بمركز ملوي بمحافظة المنيا. | AD35: حيث كشفت المعاينة الأولية أن الانهيار حدث فى أحد الأسوار داخل الدير، ما أسفر عن الوفيات والإصابات. | AE35: معاينة | AF35: اخطار/ بلاغ / تحرير محضر | AI35: وفاة 4 ضحايا إثر انهيار جزئي بسور دير أبو فانا في المنيا الجمعة، 06 فبراير 2026 05:16 م وفاة 4 ضحايا إثر انهيار جزئي بسور دير أبو فانا في المنيا السور المحيط بالكنيسة الأثرية بدير أبو فانا بمركز ملوى فيسبوكفيسبوك واتسابواتساب X المنيا- حسن عبد الغفار توفي 4 أشخاص وأُصيب اثنان آخران، إثر انهيار جزئي في سور حديث الإنشاء بـ دير أبو فانا، الواقع بالصحراء الغربية بمركز ملوي جنوب محافظة المنيا. 00:00 Previous Play Next 00:00 / 02:18 Mute Fullscreen Copy video url Play / Pause Mute / Unmute Report a problem Language Share Vidverto Player وكانت الأجهزة الأمنية بمديرية أمن المنيا قد تلقت إخطارًا يفيد بوقوع انهيار جزئي لسور جرى إنشاؤه مؤخرًا خارج نطاق المنطقة الأثرية بدير أبو فانا، ما أسفر عن سقوط عدد من الضحايا، أغلبهم من الأطفال الذين اعتادوا التوافد على الدير صباح كل يوم جمعة. وأسفر الحادث عن وفاة أربعة أطفال في الحال متأثرين بإصاباتهم البالغة، وهم: بدر شنودة حنا (7 سنوات) تواضروس شنودة حنا (10 سنوات) نادية أشرف يونان (11 سنة) شنودة باسم إبراهيم (10 سنوات) كما أُصيب كل من: مريم أشرف يونان (8 سنوات) توماس صموئيل رشدي (7 سنوات) وجرى نقل المصابين إلى مستشفى ملوي التخصصي لتلقي الإسعافات والرعاية الطبية اللازمة. تم تحرير محضر بالواقعة، وأُخطرت النيابة العامة التي قررت معاينة موقع الحادث للوقوف على أسباب الانهيار، والتأكد من مدى توافر اشتراطات السلامة في السور المنهار. | AJ35: https://www.youm7.com/story/2026/2/6/%D9%88%D9%81%D8%A7%D8%A9-4-%D8%B6%D8%AD%D8%A7%D9%8A%D8%A7-%D8%A5%D8%AB%D8%B1-%D8%A7%D9%86%D9%87%D9%8A%D8%A7%D8%B1-%D8%AC%D8%B2%D8%A6%D9%8A-%D8%A8%D8%B3%D9%88%D8%B1-%D8%AF%D9%8A%D8%B1-%D8%A3%D8%A8%D9%88-%D9%81%D8%A7%D9%86%D8%A7/7295738 | AK35: https://www.almasryalyoum.com/news/details/4193163 | AL35: https://www.youm7.com/story/2026/2/6/%D8%A8%D8%B7%D8%B1%D9%8A%D8%B1%D9%83-%D8%A7%D9%84%D8%A3%D9%82%D8%A8%D8%A7%D8%B7-%D8%A7%D9%84%D9%83%D8%A7%D8%AB%D9%88%D9%84%D9%8A%D9%83-%D9%8A%D9%86%D8%B9%D9%8A-%D8%B6%D8%AD%D8%A7%D9%8A%D8%A7-%D8%AD%D8%A7%D8%AF%D8%AB-%D8%AF%D9%8A%D8%B1-%D8%A3%D8%A8%D9%88-%D9%81%D8%A7%D9%86%D8%A7-%D9%88%D9%8A%D9%8F%D8%B9%D8%B2%D9%8A/7296162 | AM35: https://www.almasryalyoum.com/news/details/4192808 | AN35: https://www.youm7.com/story/2026/2/7/%D9%88%D8%B2%D9%8A%D8%B1%D8%A9-%D8%A7%D9%84%D8%AA%D8%B6%D8%A7%D9%85%D9%86-%D8%AA%D9%88%D8%AC%D9%87-%D8%A8%D8%B5%D8%B1%D9%81-%D8%A7%D9%84%D9%85%D8%B3%D8%A7%D8%B9%D8%AF%D8%A7%D8%AA-%D8%A7%D9%84%D9%84%D8%A7%D8%B2%D9%85%D8%A9-%D9%84%D8%A3%D8%B3%D8%B1-%D8%B6%D8%AD%D8%A7%D9%8A%D8%A7-%D8%AD%D8%A7%D8%AF%D8%AB-%D8%AF%D9%8A%D8%B1/7296757 | AO35: https://www.elbalad.news/6862035
A36: محمود | B36: 34 | C36: 46060 | D36: فبراير 2026 | E36: محافظات الصعيد | F36: سوهاج | G36: طهطا | H36: ريفي | I36: شارع السيد الدالي المتفرع من شارع العمدة بدائرة مركز طهطا | J36: منزل | K36: منشأة سكنية خالية | L36: بناء قديم | N36: جزئي | O36: المنزل | P36: قدم العقار وتهالكه | R36: 0 | S36: 0 | T36: 0 | U36: غير محدد | V36: 0 | W36: 0 | X36: 0 | Y36: غير محدد | Z36: غير محدد | AA36: غير محدد | AB36: غير محدد | AC36: غير محدد | AD36: وأكدت المعاينة أن الانهيار لم يسفر عن أي إصابات أو أضرار بالممتلكات، وتم عرض المنزل على لجنة المنشآت الآيلة للسقوط لاتخاذ الإجراءات اللازمة، بحضور نائب رئيس مركز ومدينة طهطا، مع متابعة الموقف ميدانيًا للتأكد من عدم وجود خطورة على العقارات المجاورة. | AE36: معاينة | AF36: اخطار/ بلاغ / تحرير محضر | AI36: انهيار جزئي لمنزل قديم بساحل طهطا سوهاج دون إصابات السبت، 07 فبراير 2026 09:06 م انهيار جزئي لمنزل قديم بساحل طهطا سوهاج دون إصابات انقاض المنزل المنهار بطهطا فيسبوكفيسبوك واتسابواتساب X سوهاج أحمد عبدالعال شهد شارع العمدة بمنطقة ساحل طهطا بمحافظة سوهاج، اليوم، انهيارا جزئيا لمنزل قديم من الداخل، دون وقوع أي إصابات أو خسائر في الأرواح أو الممتلكات. The Abandoned Village - Sand Invasion 00:52 Previous Pause Next 00:32 / 00:46 Unmute Fullscreen Copy video url Play / Pause Mute / Unmute Report a problem Language Share Vidverto Player إخطار أمني ومعاينة الموقع تلقى اللواء الدكتور حسن عبدالعزيز، مدير أمن سوهاج، بلاغا يفيد بحدوث انهيار جزئي لمنزل بشارع السيد الدالي المتفرع من شارع العمدة بدائرة مركز طهطا، حيث تبين أن المنزل قديم وغير مأهول بالسكان. الفحص والمعاينة وبالانتقال والفحص، تبين أن المنزل ملك المواطن ممدوح داود سليمان، وهو منزل مكون من طابق أرضي وأول علوي بدون سقف، ومشيد بالطوب الأخضر والعجين ومسقوف بالجريد، ولم يسفر الانهيار عن أي إصابات أو أضرار بالممتلكات. اتخاذ الإجراءات القانونية وتم عرض المنزل على لجنة المنشآت الآيلة للسقوط لاتخاذ الإجراءات اللازمة، بحضور نائب رئيس مركز ومدينة طهطا، مع متابعة الموقف ميدانيا للتأكد من عدم وجود أي خطورة على العقارات المجاورة، وتم تحرير المحضر اللازم بالواقعة تمهيدًا للعرض على جهات التحقيق المختصة. | AJ36: https://www.youm7.com/story/2026/2/7/%D8%A7%D9%86%D9%87%D9%8A%D8%A7%D8%B1-%D8%AC%D8%B2%D8%A6%D9%8A-%D9%84%D9%85%D9%86%D8%B2%D9%84-%D9%82%D8%AF%D9%8A%D9%85-%D8%A8%D8%B3%D8%A7%D8%AD%D9%84-%D8%B7%D9%87%D8%B7%D8%A7-%D8%B3%D9%88%D9%87%D8%A7%D8%AC-%D8%AF%D9%88%D9%86-%D8%A5%D8%B5%D8%A7%D8%A8%D8%A7%D8%AA/7297292 | AK36: https://www.mwatan.news/979786?utm_campaign=nabdapp.com&utm_medium=referral&utm_source=nabdapp.com&ocid=Nabd_App
A37: محمود | B37: 35 | C37: 46060 | D37: فبراير 2026 | E37: محافظات الصعيد | F37: سوهاج | G37: جرجا | H37: حضري | I37: شارع ضرب الكرم بمدينة جرجا بمحافظة سوهاج | J37: منزل | K37: منشأة سكنية خالية | L37: بناء قديم | N37: جزئي | O37: المنزل | P37: قدم العقار وتهالكه | R37: 0 | S37: 0 | T37: 0 | U37: غير محدد | V37: 0 | W37: 0 | X37: 0 | Y37: غير محدد | Z37: غير محدد | AA37: غير محدد | AB37: غير محدد | AC37: غير محدد | AD37: وتمت المعاينة بواسطة الوحدة المحلية لمركز ومدينة جرجا، بحضور اللواء رئيس المركز، واللواء رئيس قطاع الجنوب، والعميد مأمور قسم شرطة جرجا، وقوات الحماية المدنية، حيث جرى تأمين موقع العقار، وجار عرض المنزل على لجنة المنشآت الآيلة للسقوط لاتخاذ الإجراءات القانونية اللازمة، مع متابعة الموقف ميدانيًا. | AE37: معاينة | AF37: اخطار/ بلاغ / تحرير محضر | AI37: انهيار جزئي لمنزل قديم بمدينة جرجا سوهاج دون إصابات.. صور السبت، 07 فبراير 2026 08:43 م انهيار جزئي لمنزل قديم بمدينة جرجا سوهاج دون إصابات.. صور انهيار جزئي لمنزل قديم بمدينة جرجا فيسبوكفيسبوك واتسابواتساب X سوهاج أحمد عبدالعال شهد شارع ضرب الكرم بمدينة جرجا بمحافظة سوهاج، اليوم السبت الموافق 7 فبراير 2025، انهيارا جزئيا بمنزل قديم مكون من ثلاثة طوابق، دون وقوع أي إصابات أو خسائر في الأرواح. إخطار أمني ومعاينة الموقع تلقى اللواء حسن عبدالعزيز مدير أمن سوهاج، بلاغا يفيد بحدوث انهيار جزئي بمنزل بشارع ضرب الكرم بدائرة قسم شرطة جرجا، حيث تبين أن المنزل مبني بالطوب اللبن والطين والعروق الخشبية، وغير مأهول بالسكان منذ أكثر من 15 عامًا. الفحص والمعاينة وبالانتقال والفحص، تبين أن المنزل ملك المواطن وجدي وليم بخيت عبدالملاك، 60 سنة، يعمل مدرسا، ومقيم بشارع الصياد بمدينة جرجا، وتبلغ مساحة المنزل نحو 80 مترا مربعا، ولم يسفر الانهيار عن وقوع أي إصابات أو أضرار بالعقارات المجاورة. اتخاذ الإجراءات القانونية وتمت المعاينة بواسطة الوحدة المحلية لمركز ومدينة جرجا، بحضور اللواء رئيس المركز، واللواء رئيس قطاع الجنوب، والعميد مأمور قسم شرطة جرجا، وقوات الحماية المدنية، حيث جرى تأمين موقع العقار، وجار عرض المنزل على لجنة المنشآت الآيلة للسقوط لاتخاذ الإجراءات القانونية اللازمة، مع متابعة الموقف ميدانيًا. | AJ37: https://www.youm7.com/story/2026/2/7/%D8%A7%D9%86%D9%87%D9%8A%D8%A7%D8%B1-%D8%AC%D8%B2%D8%A6%D9%8A-%D9%84%D9%85%D9%86%D8%B2%D9%84-%D9%82%D8%AF%D9%8A%D9%85-%D8%A8%D9%85%D8%AF%D9%8A%D9%86%D8%A9-%D8%AC%D8%B1%D8%AC%D8%A7-%D8%B3%D9%88%D9%87%D8%A7%D8%AC-%D8%AF%D9%88%D9%86-%D8%A5%D8%B5%D8%A7%D8%A8%D8%A7%D8%AA-%D8%B5%D9%88%D8%B1/7297260 | AK37: https://www.facebook.com/aligerga/posts/%D8%B4%D9%87%D8%AF-%D8%B4%D8%A7%D8%B1%D8%B9-%D8%B6%D8%B1%D8%A8-%D8%A7%D9%84%D9%83%D8%B1%D9%85-%D8%A8%D9%85%D8%AF%D9%8A%D9%86%D8%A9-%D8%AC%D8%B1%D8%AC%D8%A7-%D8%A8%D9%85%D8%AD%D8%A7%D9%81%D8%B8%D8%A9-%D8%B3%D9%88%D9%87%D8%A7%D8%AC-%D8%A7%D9%86%D9%87%D9%8A%D8%A7%D8%B1%D8%A7-%D8%AC%D8%B2%D8%A6%D9%8A%D8%A7-%D8%A8%D9%85%D9%86%D8%B2%D9%84-%D9%82%D8%AF%D9%8A%D9%85-%D9%85%D9%83%D9%88%D9%86-%D9%85%D9%86-%D8%AB%D9%84/1316050203889430/
A38: محمود | B38: 36 | C38: 46062 | D38: فبراير 2026 | E38: المحافظات المركزية | F38: الاسكندرية | H38: حضري | I38: أحد الفنادق بمحافظة الاسكندرية | J38: فندق | K38: منشأة سكنية مشغولة | L38: بناء حديث | N38: جزئي | O38: سقط المصعد باللاعبين من الطابق الرابع | P38: اعطال فنية | R38: 5 | S38: 5 | T38: 0 | U38: اللاعب محمد عطية سيد عطية: ما بعد الارتجاج، وكدمة بالظهر، وكسر في عظام الساعد الأيسر، وكدمة بالركبة اليسرى، وكدمة بالقدم اليسرى. * اللاعب محمد عبد الغني عبد الحليم: ما بعد الارتجاج، مع كسر في عظام القدم والكاحل والساق اليمنى. * اللاعب محمد ياسر السيد مصيلحي: ما بعد الارتجاج، مع جرح رضي. * اللاعب حمزة الشاذلي أحمد: ما بعد الارتجاج. * اللاعب محمود كرم محمد مصطفى: ما بعد الارتجاج، وكدمة في الكاحل الأيسر. | V38: 0 | W38: 0 | X38: 0 | Y38: غير محدد | Z38: غير محدد | AA38: غير محدد | AB38: غير محدد | AC38: غير محدد | AD38: غير محدد | AE38: معاينة | AF38: اخطار/ بلاغ / تحرير محضر | AI38: أول تعليق من بيراميدز بعد حادث سقوط المصعد بلاعبي فريق الشباب الإثنين، 09 فبراير 2026 02:12 م أول تعليق من بيراميدز بعد حادث سقوط المصعد بلاعبي فريق الشباب هاني سعيد المدير الرياضي لنادي بيراميدز فيسبوكفيسبوك واتسابواتساب X ▶ 2:25 / 0:00 1x أحمد طارق أعرب هاني سعيد، المدير الرياضي لنادي بيراميدز، عن بالغ حزنه إزاء الحادث المؤسف الذي تعرّض له عدد من لاعبي فريق مواليد 2007، إثر سقوط المصعد بأحد الفنادق بمحافظة الاسكندرية، خلال تواجد الفريق في مهمة رسمية. وقال هاني سعيد، "تم نقل اللاعبين المصابين على الفور إلى المستشفى، حيث خضعوا للفحوصات الطبية اللازمة تحت إشراف الأطقم الطبية المختصة". وأكد أنه وفقًا للتقارير الطبية الواردةن حتى الآن، جاءت حالات اللاعبين على النحو التالي: التقارير الطبية * اللاعب محمد عطية سيد عطية: ما بعد الارتجاج، وكدمة بالظهر، وكسر في عظام الساعد الأيسر، وكدمة بالركبة اليسرى، وكدمة بالقدم اليسرى. * اللاعب محمد عبد الغني عبد الحليم: ما بعد الارتجاج، مع كسر في عظام القدم والكاحل والساق اليمنى. * اللاعب محمد ياسر السيد مصيلحي: ما بعد الارتجاج، مع جرح رضي. * اللاعب حمزة الشاذلي أحمد: ما بعد الارتجاج. * اللاعب محمود كرم محمد مصطفى: ما بعد الارتجاج، وكدمة في الكاحل الأيسر. ويؤكد هاني سعيد أن جميع اللاعبين يخضعون حاليًا للمتابعة الطبية الدقيقة، ويتم اتخاذ كل الإجراءات اللازمة للاطمئنان على حالتهم الصحية وعمل أشعة مقطعية شاملة مرة أخرى وتوفير أفضل رعاية طبية لهم. وبناءً على هذه الظروف الطارئة، تقدّمنا بطلب رسمي إلى الاتحاد المصري لكرة القدم لتأجيل مباراة الفريق في مسابقة الدوري أمام فريق حرس الحدود، والتي كان مقررًا لها اليوم. كما أوضح هاني أن النيابة العامة المصرية تباشر حاليًا التحقيق في ملابسات الواقعة، وأن النادي يتعاون بشكل كامل مع الجهات المختصة، ولا توجد أي تعليقات إضافية في الوقت الحالي لحين انتهاء التحقيقات وصدور النتائج الرسمية. ويوجه المدير الرياضي لبيراميدز الشكر للأطقم الطبية وإدارة المستشفى على سرعة الاستجابة، وللجهازين الفني والإداري للفريق على ما تم اتخاذه من إجراءات سريعة للحفاظ على سلامة اللاعبين. مع خالص تمنيات أسرة نادي بيراميدز بالشفاء العاجل لجميع اللاعبين، سائلًا المولى عز وجل أن يحفظ أبناءنا جميعًا من كل سوء. | AJ38: https://www.youm7.com/story/2026/2/9/%D8%A3%D9%88%D9%84-%D8%AA%D8%B9%D9%84%D9%8A%D9%82-%D9%85%D9%86-%D8%A8%D9%8A%D8%B1%D8%A7%D9%85%D9%8A%D8%AF%D8%B2-%D8%A8%D8%B9%D8%AF-%D8%AD%D8%A7%D8%AF%D8%AB-%D8%B3%D9%82%D9%88%D8%B7-%D8%A7%D9%84%D9%85%D8%B5%D8%B9%D8%AF-%D8%A8%D9%84%D8%A7%D8%B9%D8%A8%D9%8A-%D9%81%D8%B1%D9%8A%D9%82/7299125 | AK38: https://elbaladtv.net/%D8%AA%D9%81%D8%A7%D8%B5%D9%8A%D9%84-%D8%AD%D8%A7%D8%AF%D8%AB-%D8%B3%D9%82%D9%88%D8%B7-%D8%A3%D8%B3%D8%A7%D9%86%D8%B3%D9%8A%D8%B1-%D8%A8%D9%84%D8%A7%D8%B9%D8%A8%D9%8A-%D8%B4%D8%A8%D8%A7%D8%A8-%D8%A8#goog_rewarded | AL38: https://www.almasryalyoum.com/news/details/4194787 | AM38: https://www.masrawy.com/sports/sports_news/details/2026/2/9/2939775/-%D8%AD%D8%A7%D9%84%D8%A7%D8%AA-%D8%AD%D8%B1%D8%AC%D8%A9-%D8%AA%D9%81%D8%A7%D8%B5%D9%8A%D9%84-%D8%A5%D8%B5%D8%A7%D8%A8%D8%A7%D8%AA-%D9%86%D8%A7%D8%B4%D8%A6%D9%8A-%D8%A8%D9%8A%D8%B1%D8%A7%D9%85%D9%8A%D8%AF%D8%B2-%D8%A8%D8%B9%D8%AF-%D8%A7%D9%84%D8%B3%D9%82%D9%88%D8%B7-%D8%A8%D8%A7%D9%84%D8%A3%D8%B3%D8%A7%D9%86%D8%B3%D9%8A%D8%B1-
A39: محمود | B39: 37 | C39: 46064 | D39: فبراير 2026 | E39: محافظات الصعيد | F39: أسوان | G39: مدينة أسوان | H39: حضري | I39: منزل خلف مستشفى الجرمانية بمدينة أسوان | J39: عقار | K39: منشأة سكنية خالية | L39: بناء قديم | N39: كلي | O39: المنزل | P39: قدم العقار وتهالكه | R39: 0 | S39: 0 | T39: 0 | U39: غير محدد | V39: 0 | W39: 0 | X39: 0 | Y39: غير محدد | Z39: غير محدد | AA39: غير محدد | AB39: غير محدد | AC39: غير محدد | AD39: وعلى الفور انتقلت قوات الحماية المدنية والجهات المعنية للمكان وذلك للتحريات والمعاينة | AE39: معاينة | AF39: اخطار/ بلاغ / تحرير محضر | AI39: دون إصابات أو خسائر فى الأرواح.. انهيار عقار مهجور في أسوان الأربعاء 11/فبراير/2026 - 07:24 م printer طباعة شارك انهيار عقار- ارشيفيةانهيار عقار- ارشيفية محمد عبد الفتاح شهدت مدينة أسوان مساء اليوم انهيار عقار مهجور مكون من 4 طوابق، دون إصابات أو خسائر بشرية، وتم تحرير محضر بالواقعة وإخطار جهات التحقيق لمباشرة التحقيقات. أسوان..حملات تموينية بالأسواق وتحرير محاضر للمخالفين ومصادرة المضبوطاتأسوان..حملات تموينية بالأسواق وتحرير محاضر للمخالفين ومصادرة المضبوطات مستشار رئيس الجمهورية يجتمع بمحافظ أسوان.. تفاصيلمستشار رئيس الجمهورية يجتمع بمحافظ أسوان.. تفاصيل عقار وتعود تفاصيل الواقعة عندما تلقت غرفة عمليات النجدة بأسوان بلاغًا يفيد بانهيار عقار مهجور بمدينة أسوان، وعلى الفور انتقلت قوات الحماية المدنية والجهات المعنية للمكان وذلك للتحريات والمعاينة، ولم يسفر العقار عن إصابات أو خسائر في الأرواح. | AJ39: https://www.elbalad.news/6867238 | AK39: https://www.cairo24.com/2370027 | AL39: https://www.masrawy.com/news/news_regions/details/2026/2/11/2941203/%D8%A7%D9%86%D9%87%D9%8A%D8%A7%D8%B1-%D8%B9%D9%82%D8%A7%D8%B1-%D9%85%D9%83%D9%88%D9%86-%D9%85%D9%86-4-%D8%B7%D9%88%D8%A7%D8%A8%D9%82-%D8%A8%D9%85%D8%AF%D9%8A%D9%86%D8%A9-%D8%A3%D8%B3%D9%88%D8%A7%D9%86- | AM39: https://www.masrawy.com/news/news_regions/details/2026/2/11/2941203/%D8%A7%D9%86%D9%87%D9%8A%D8%A7%D8%B1-%D8%B9%D9%82%D8%A7%D8%B1-%D9%85%D9%83%D9%88%D9%86-%D9%85%D9%86-4-%D8%B7%D9%88%D8%A7%D8%A8%D9%82-%D8%A8%D9%85%D8%AF%D9%8A%D9%86%D8%A9-%D8%A3%D8%B3%D9%88%D8%A7%D9%86-
A40: محمود | B40: 38 | C40: 46066 | D40: فبراير 2026 | E40: محافظات الدلتا | F40: الشرقية | G40: قسم أول بمدينة العاشر من رمضان | H40: حضري | I40: المجاورة 16، نطاق دائرة قسم أول بمدينة العاشر من رمضان بمحافظة الشرقية | J40: منزل | K40: منشأة سكنية مشغولة | L40: بناء حديث | N40: جزئي | O40: سقوط تندة حديد من أعلى روف منزل مكون من أربعة طوابق | P40: سوء الاحوال الجوية | Q40: تلف أربع سيارات ملاكي كانت متوقفة أسفل العقار. حيث تهشمت الأجزاء الأمامية لها وتحطم الزجاج الأمامي | R40: 0 | S40: 0 | T40: 0 | U40: غير محدد | V40: 0 | W40: 0 | X40: 0 | Y40: غير محدد | Z40: غير محدد | AA40: غير محدد | AB40: غير محدد | AC40: غير محدد | AD40: غير محدد | AE40: معاينة | AF40: اخطار/ بلاغ / تحرير محضر | AI40: تهشم 4 سيارات إثر سقوط تندة حديد بسبب الأحوال الجوية بالعاشر من رمضان.. فيديو الجمعة، 13 فبراير 2026 02:56 م تهشم 4 سيارات إثر سقوط تندة حديد بسبب الأحوال الجوية فيسبوكفيسبوك واتسابواتساب X الشرقية فتحية الديب تسببت موجة من سوء الأحوال الجوية في سقوط تندة حديد من أعلى روف منزل مكون من أربعة طوابق بالمجاورة 16، نطاق دائرة قسم أول بمدينة العاشر من رمضان بمحافظة الشرقية، ما أسفر عن تلف أربع سيارات ملاكي كانت متوقفة أسفل العقار. بلاغا لقسم شرطة أول العاشر تلقت الأجهزة الأمنية بقسم أول العاشر من رمضان ،إخطارا يفيد بسقوط تندة حديدية نتيجة شدة الرياح، ما أدى إلى تهشم الأجزاء الأمامية للسيارات الأربع وتحطم الزجاج الأمامي لها، دون وقوع أي إصابات بشرية. وعلى الفور، انتقلت قوة من قسم الشرطة إلى موقع البلاغ لإجراء المعاينة اللازمة، حيث تبين أن شدة الرياح المصاحبة للطقس السيئ تسببت في اقتلاع التندة من أعلى سطح العقار وسقوطها فوق السيارات المتوقفة بالشارع. تحرير محضرا بالواقعة وقام أصحاب السيارات المتضررة بتحرير محضرا بالواقعة، وأخطرت الجهات المختصة لمباشرة التحقيقات واتخاذ الإجراءات القانونية اللازمة حيال الواقعة. | AJ40: https://www.youm7.com/story/2026/2/13/%D8%AA%D9%87%D8%B4%D9%85-4-%D8%B3%D9%8A%D8%A7%D8%B1%D8%A7%D8%AA-%D8%A5%D8%AB%D8%B1-%D8%B3%D9%82%D9%88%D8%B7-%D8%AA%D9%86%D8%AF%D8%A9-%D8%AD%D8%AF%D9%8A%D8%AF-%D8%A8%D8%B3%D8%A8%D8%A8-%D8%A7%D9%84%D8%A3%D8%AD%D9%88%D8%A7%D9%84-%D8%A7%D9%84%D8%AC%D9%88%D9%8A%D8%A9/7303701 | AK40: https://www.youm7.com/story/2026/2/13/%D8%AA%D9%87%D8%B4%D9%85-4-%D8%B3%D9%8A%D8%A7%D8%B1%D8%A7%D8%AA-%D8%A5%D8%AB%D8%B1-%D8%B3%D9%82%D9%88%D8%B7-%D8%AA%D9%86%D8%AF%D8%A9-%D8%AD%D8%AF%D9%8A%D8%AF-%D8%A8%D8%B3%D8%A8%D8%A8-%D8%A7%D9%84%D8%A3%D8%AD%D9%88%D8%A7%D9%84-%D8%A7%D9%84%D8%AC%D9%88%D9%8A%D8%A9/7303701 | AL40: https://www.almasryalyoum.com/news/details/4198388
A41: محمود | B41: 39 | C41: 46066 | D41: فبراير 2026 | E41: محافظات الصعيد | F41: سوهاج | G41: دار السلام | H41: ريفي | I41: قرية النصيرات التابعة لمركز دار السلام بمحافظة سوهاج | J41: عقار | K41: منشأة سكنية خالية | L41: بناء قديم | N41: جزئي | O41: حائط | P41: قدم العقار وتهالكه | R41: 0 | S41: 0 | T41: 0 | U41: غير محدد | V41: 1 | W41: 1 | X41: 0 | Y41: الطفل أنور مهدي عزمي عبدالله 7 سنوات | Z41: غير محدد | AA41: غير محدد | AB41: غير محدد | AC41: غير محدد | AD41: وبالفحص تبين انهيار حائط على الطفل ما أدى إلى وفاته في الحال | AE41: معاينة | AF41: اخطار/ بلاغ / تحرير محضر | AI41: مصرع صغير انهار عليه حائط بدار السلام في سوهاجمستشفى دار السلاممحافظاتمستشفى دار السلام بسوهاج الجمعة 13/فبراير/2026 - 08:04 م أضف للمفضلة شارك لقي طفل يبلغ من العمر 7 سنوات مصرعه إثر انهيار حائط عليه بقرية النصيرات التابعة لمركز دار السلام بمحافظة سوهاج، وتم نقله إلى المستشفى جثة هامدة. مصرع صغير انهار عليه حائط في سوهاج تلقى اللواء دكتور حسن عبدالعزيز مساعد وزير الداخلية مدير أمن سوهاج إخطارًا يفيد بوصول جثة الطفل "أ.م.ع" إلى مستشفى دار السلام المركزي، إثر تعرضه لانهيار حائط أثناء تواجده بالقرية، وعلى الفور انتقلت الأجهزة الأمنية إلى محل الواقعة، وبالفحص تبين انهيار حائط على الطفل ما أدى إلى وفاته في الحال، وتم نقل الجثمان إلى ثلاجة المستشفى. تفوق علمي جديد لأبناء الصعيد.. سوهاج تحصد مراكز أولى على مستوى الجمهورية في ISEF 2026 حبس شاب لاتهامه بالتحرش بسيدة خلال سيرها بالشارع في سوهاج تم تحرير المحضر اللازم بالواقعة، وأُخطرت جهات التحقيق لمباشرة التحقيقات وكشف ملابسات الحادث. | AJ41: https://www.youm7.com/story/2026/2/14/%D9%85%D8%B5%D8%B1%D8%B9-%D8%B7%D9%81%D9%84-%D9%81%D9%89-%D8%A7%D9%86%D9%87%D9%8A%D8%A7%D8%B1-%D8%AA%D8%B1%D8%A7%D8%A8%D9%89-%D8%A8%D9%82%D8%B1%D9%8A%D8%A9-%D8%A7%D9%84%D9%86%D8%B5%D9%8A%D8%B1%D8%A7%D8%AA-%D9%81%D9%89-%D8%B3%D9%88%D9%87%D8%A7%D8%AC/7304328 | AK41: https://www.cairo24.com/2371213
A42: محمود | B42: 40 | C42: 46067 | D42: فبراير 2026 | E42: المحافظات الحدودية | F42: مطروح | G42: مدينة مطروح | H42: حضري | I42: بمديرية الشباب والرياضة بمطروح | J42: مبني مديرية الشباب والرياضة | K42: منشأة خدمية | L42: بناء قديم | N42: جزئي | O42: بوابة قديمة | P42: قدم العقار وتهالكه | R42: 1 | S42: 1 | T42: 0 | U42: رضا .ا موظف بالشباب والرياضة بمطروح | V42: 0 | W42: 0 | X42: 0 | Y42: غير محدد | Z42: غير محدد | AA42: غير محدد | AB42: غير محدد | AC42: غير محدد | AD42: غير محدد | AE42: معاينة | AF42: اخطار/ بلاغ / تحرير محضر | AI42: إصابة موظف بالشباب والرياضة بمطروح بعد سقوط بوابة حديد عليه السبت 14/فبراير/2026 - 12:59 م printer طباعة شارك مستشفى مطروح العاممستشفى مطروح العام ايمن محمود أصيب موظف يعمل بمديرية الشباب والرياضة بمطروح باصابات منوعة اثر سقوط بوابة حديد قديمة عليه اثناء محاولة فتحها. تلقت غرفة عمليات طؤارى مديرية الصحة بمطروح اخطارا بتعرض موظف لاصابات بالغة اثر سقوط بوابة حديد عليه وعلى الفور انتقلت سيارة اسعاف الى موقع البلاغ . واستقبلت مستشفى مطروح العام رضا .ا موظف بالشباب والرياضة بمطروح وتم تقديم الاسعافات الاولية له وحجزة بالعناية المركزة . | AJ42: https://www.elbalad.news/6869890 | AK42: https://www.cairo24.com/2371213
A43: محمود | B43: 41 | C43: 46071 | D43: فبراير 2026 | E43: المحافظات المركزية | F43: الجيزة | G43: مدينة كرداسة | H43: حضري | J43: شركة للمقاولات | K43: تحت الانشاء | L43: تحت الإنشاء | N43: جزئي | O43: سقط حائط خزان مياه بالموقع | P43: قدم العقار وتهالكه | R43: 0 | S43: 0 | T43: 0 | U43: غير محدد | V43: 1 | W43: 1 | X43: 0 | Y43: عامل | Z43: غير محدد | AA43: غير محدد | AB43: غير محدد | AC43: غير محدد | AD43: غير محدد | AE43: معاينة | AF43: اخطار/ بلاغ / تحرير محضر | AI43: انهيار حائط ينهى حياة عامل فى كرداسة الأربعاء، 18 فبراير 2026 11:23 ص انهيار حائط ينهى حياة عامل فى كرداسة انهيار حائط فيسبوكفيسبوك واتسابواتساب X كتب بهجت أبو ضيف أدى انهيار حائط إلى مصرع عامل في كرداسة، وتحرر محضر بالواقعة، وباشرت النيابة المختصة التحقيق . تفاصيل مصرع عامل إثر سقوط حائط في كرداسة ورد بلاغ لغرفة النجدة بالجيزة، يفيد مصرع عامل في كرداسة، وتوصلت تحريات رجال المباحث أن عامل خلال أداء عمله بموقع تحت الإنشاء، سقط عليه حائط، مما أسفر عن مصرعه متأثرا بالإصابات التي لحقت به، وتحرر محضر بالواقعة، وباشرت النيابة التحقيق. مصرع مسن إثر سقوطه من الطابق الثالث في بولاق الدكرور تلقى المقدم أيمن سكوري رئيس مباحث بولاق الدكرور، بلاغا يفيد سقوط شخص من عقار، انتقل رجال المباحث إلى محل الواقعة، وبإجراء التحريات تبين أن مسن اختل توازنه وسقط من الطابق الثالث بعقار يقيم به، ليلقى مصرعه في الحال. تم اتخاذ الإجراءات القانونية اللازمة، وتحرر محضر بالواقعة، وأخطرت النيابة المختصة للتحقيق. | AJ43: https://www.youm7.com/story/2026/2/18/%D8%A7%D9%86%D9%87%D9%8A%D8%A7%D8%B1-%D8%AD%D8%A7%D8%A6%D8%B7-%D9%8A%D9%86%D9%87%D9%89-%D8%AD%D9%8A%D8%A7%D8%A9-%D8%B9%D8%A7%D9%85%D9%84-%D9%81%D9%89-%D9%83%D8%B1%D8%AF%D8%A7%D8%B3%D8%A9/7308993 | AK43: https://www.elwatannews.com/news/details/8227124
A44: محمود | B44: 42 | C44: 46072 | D44: فبراير 2026 | E44: محافظات الدلتا | F44: دمياط | G44: مركز دمياط | H44: ريفي | I44: قرية الشعراء التابعة لمركز دمياط | J44: منزل | K44: منشأة سكنية مشغولة | L44: بناء حديث | N44: كلي | O44: تصاعدت السنه اللهب ووصلت إلى العقار الذي به المحل ونتيجه لشده النيران انهار العقار بالكامل وهو مكون من ٥ طوابق وتحول إلى كوم تراب. | P44: انفجار او حريق | Q44: دى الى وقوع خسائر مادية فادحة وانهيار العقار بالكامل الذي يتواجد به محل التنر والبويات | R44: 13 | S44: 7 | T44: 6 | U44: اصابة الدكتور اسامه مهني، طبيب امراض النساء والتوليد، وزوجته بحروق واصابات بسيطة نتيجة تواجدهما بمحيط الحادث، وبينهم اثنان من رجال الإطفاء | V44: 2 | W44: 2 | X44: 0 | Y44: محمد طارق زغلول ، طالب بالفرقة الثانية بكلية الحقوق | Z44: غير محدد | AA44: غير محدد | AB44: غير محدد | AC44: غير محدد | AD44: قامت الاجهزة الميدانية بفصل التيار الكهربائي عن المنطقة بالكامل كاجراء احترازي لمنع وقوع كارثة كبرى، وبذل رجال الاطفاء جهودا مضنية لمنع وصول النيران لشبكة الكهرباء الرئيسية .. انتقل الي مكان الحادث الدكتور سمير عتريس رئيس المدينة والقيادات الأمنية بمركز دمياط ومديرية الامن و ​تتواجد الان في موقع الحادث لجان فنية من الادارة الهندسية والاجهزة التنفيذية بدمياط، لفحص العقارات المجاورة وتقييم مدى تأثرها بانهيار المنزل المحترق وحرارة النيران الكثيفة .. كما بدأت الجهات المعنية في تجميع حصر كامل للخسائر المادية التي تكبدها اصحاب المحل والاهالي المتضررين، تمهيدا لاتخاذ الاجراءات القانونية اللازمة والوقوف على الاسباب النهائية للحادث. | AE44: معاينة | AF44: اخطار/ بلاغ / تحرير محضر | AI44: حريق يتحول لـ كارثه انسانية.. وفاة 2 وإصابة 11 وانهيار منزل في دمياط الخميس 19/فبراير/2026 - 10:05 م printer طباعة شارك انهيار عقارانهيار عقار زينب الزغبي شهدت قريه الشعراء التابعه لمحافظه دمياط، إلى كارثه إنسانيه افجعت الجميع في أول أيام شهر رمضان الكريم. كان قد فوجيء سكان قريه الشعراء بمحافظة دمياط بنشوب حريق داخل أحد محال بيع التنر وهو من المواد سريعه الاشتعال ويستخدم في الدهانات المستخدمة في صناعه الأثاث. "النيران امتدت للمنازل" الأمر لم ينتهى عند اشتعال النيران بالمحل بل امتدت إلى المنازل المجاورة والجراجات وجميعها أتلفت نتيجه إلى تصاعد السنه اللهب. "انهيار عقار مكون من ٥ طوابق" كما تصاعدت السنه اللهب ووصلت إلى العقار الذي به المحل ونتيجه لشده النيران انهار العقار بالكامل وهو مكون من ٥ طوابق وتحول إلى كوم تراب. "وفاه شاب والعثور على جثه مجهولة" واسفر عن الحريق ، أن الشاب محمد طارق زغلول ، طالب بالفرقة الثانية بكلية الحقوق ، مصرعه صائماً ، جراء حريق اليوم، الذى شب داخل محل لبيع التنر كما تم العثور على جثه مجهولة لم يحدد بعد هوايتها. "اصابه ١١ مواطن جراء الحريق" كان قد تلقت الأجهزة الأمنية بمديرية أمن دمياط، إخطارا يفيد بحريق هائل داخل مخزن للتنر بقرية الشعراء بمحافظة دمياط أسفر عن إصابة ١١ شخصا بإصابات مختلفة جراء الحريق وتم نقلهم إلى المستشفى لتلقي العلاج ووفاه شخصين. "محافظ دمياط يتفقد موقع الحادث" وانتقل الدكتور حسام الدين فوزى محافظ دمياط إلى موقع الحادث لمعرفه ملابسات الواقعه والاطمئنان على سكان المنطقه ثم توجه إلى مستشفى دمياط العام للاطمئنان على المصابين. | AJ44: https://www.elbalad.news/6876287 | AK44: https://www.eldyar.net/629073 | AL44: https://www.almasryalyoum.com/news/details/4203023 | AM44: https://www.vetogate.com/5598350 | AN44: https://www.almasryalyoum.com/news/details/4203192 | AO44: https://www.elbalad.news/6876167
A45: محمود | B45: 43 | C45: 46074 | D45: فبراير 2026 | E45: محافظات الصعيد | F45: قنا | G45: مركز نجع حمادي | H45: ريفي | I45: قرية السلامية التابعة لمركز نجع حمادي | J45: منزل | K45: منشأة سكنية مشغولة | L45: بناء قديم | N45: كلي | O45: انهيار المنزل بالكامل | P45: قدم العقار وتهالكه | R45: 0 | S45: 0 | T45: 0 | U45: غير محدد | V45: 0 | W45: 0 | X45: 0 | Y45: غير محدد | Z45: غير محدد | AA45: غير محدد | AB45: غير محدد | AC45: غير محدد | AD45: وبالفحص تبين انهيار المنزل بالكامل، دون تسجيل أي إصابات بشرية، فيما تم فرض كردون أمني بمحيط المكان حفاظًا على سلامة المواطنين ومنع اقتراب الأهالي من موقع الانهيار. | AE45: معاينة | AF45: اخطار/ بلاغ / تحرير محضر | AI45: انهيار منزل آيل للسقوط فى قنا دون إصابات السبت، 21 فبراير 2026 05:05 م انهيار منزل آيل للسقوط فى قنا دون إصابات انهيار منزل - أرشيفية فيسبوكفيسبوك واتسابواتساب X قنا صابر سعيد تعرض منزل آيل للسقوط للانهيار، اليوم، السبت، في قرية السلامية التابعة لمركز نجع حمادي، دون إصابات. انهيار منزل آيل للسقوط في قرية السلامية تلقت الأجهزة الأمنية بمديرية أمن قنا، إخطارًا من غرفة العمليات يفيد انهيار منزل آيل للسقوط في قرية السلامية التابعة لمركز نجع حمادي بقنا، دون إصابات. تحرر محضر بالواقعة وأخطرت الجهات المختصة لتتولى التحقيقات والتي كلفت وحدة المباحث بالتحري حول الواقعة وكشف ملابساتها وجاري رفع آثار الانهيار. | AJ45: https://www.youm7.com/story/2026/2/21/%D8%A7%D9%86%D9%87%D9%8A%D8%A7%D8%B1-%D9%85%D9%86%D8%B2%D9%84-%D8%A2%D9%8A%D9%84-%D9%84%D9%84%D8%B3%D9%82%D9%88%D8%B7-%D9%81%D9%89-%D9%82%D9%86%D8%A7-%D8%AF%D9%88%D9%86-%D8%A5%D8%B5%D8%A7%D8%A8%D8%A7%D8%AA/7313366 | AK45: https://betawqit-elnagaa.com/%D8%A7%D9%86%D9%87%D9%8A%D8%A7%D8%B1-%D9%85%D9%86%D8%B2%D9%84-%D8%B7%D9%88%D8%A8-%D9%84%D8%A8%D9%90%D9%86-%D9%81%D9%8A-%D8%A7%D9%84%D8%B3%D9%84%D8%A7%D9%85%D9%8A%D8%A9-%D8%A8%D9%86%D8%AC%D8%B9-%D8%AD/
A46: محمود | B46: 44 | C46: 46079 | D46: فبراير 2026 | E46: محافظات الصعيد | F46: قنا | G46: مركز نجع حمادي | H46: ريفي | I46: قرية السلامية التابعة لمركز نجع حمادي | J46: منزل | K46: منشأة سكنية خالية | L46: بناء قديم | N46: جزئي | O46: انهيار جدار المنزل | P46: اعمال انشائية او هدم داخل العقار | R46: 2 | S46: 2 | T46: 0 | U46: عمال | V46: 0 | W46: 0 | X46: 0 | Y46: غير محدد | Z46: غير محدد | AA46: غير محدد | AB46: غير محدد | AC46: غير محدد | AD46: وبعد الفحص تبين خلال هدم منزل انهار جدار على العاملين وأصيب اثنين في قرية السلامية مركز نجع حمادي، | AE46: معاينة | AF46: اخطار/ بلاغ / تحرير محضر | AI46: إصابة شخصين فى انهيار جدار منزل بقنا الخميس، 26 فبراير 2026 07:01 م إصابة شخصين فى انهيار جدار منزل بقنا إصابة شخصين في انهيار حائط منزل بقنا فيسبوكفيسبوك واتسابواتساب X قنا صابر سعيد أصيب شخصان، اليوم الخميس، في انهيار جدار منزل عليهما بقرية السلامية التابعة لمركز نجع حمادي شمال قنا. Wadi Rum fly over... 01:31 Previous Pause Next 01:01 / 01:41 Unmute Fullscreen Copy video url Play / Pause Mute / Unmute Report a problem Language Share Vidverto Player نقل المصابين إلى المستشفى وتلقت الأجهزة الأمنية بمديرية أمن قنا، إخطارًا من غرفة العمليات يفيد إصابة شخصين في انهيار جدار منزل عليهما بقرية السلامية التابعة لمركز نجع حمادي شمال قنا، وتم الدفع بسيارتي إسعاف لنقل المصابين إلى المستشفى. وتحرر محضر بالواقعة وأخطرت الجهات المختصة لتتولى التحقيقات والتي كلفت وحدة المباحث بالتحري حول الواقعة وكشف ملابساتها ونقل المصابين إلى المستشفى لتلقي العلاج اللازم. | AJ46: https://www.youm7.com/story/2026/2/26/%D8%A5%D8%B5%D8%A7%D8%A8%D8%A9-%D8%B4%D8%AE%D8%B5%D9%8A%D9%86-%D9%81%D9%89-%D8%A7%D9%86%D9%87%D9%8A%D8%A7%D8%B1-%D8%AC%D8%AF%D8%A7%D8%B1-%D9%85%D9%86%D8%B2%D9%84-%D8%A8%D9%82%D9%86%D8%A7/7320133 | AK46: https://www.cairo24.com/2379097
A47: علياء | B47: 45 | C47: 46082 | D47: مارس 2026 | E47: محافظات الصعيد | F47: أسيوط | G47: مركز أبنوب | H47: ريفي | I47: قرية عرب الشنايلة | J47: عقار | K47: منشأة سكنية مشغولة | L47: بناء قديم | M47: طابقين مبني بالطوب اللبن ومسقف بالجريد | N47: جزئي | O47: وقوع الجزء الخلفي من المنزل | P47: قدم العقار وتهالكه | Q47: غير محدد | R47: 3 | S47: 0 | T47: 3 | U47: منيرة مرجان سعيد (60 عامًا) ، وسماح ممدوح رياض (27 عامًا)، وجومانه هاني جودة (8 سنوات) | V47: 0 | W47: 0 | X47: 0 | Y47: غير محدد | Z47: غير محدد | AA47: غير محدد | AB47: غير محدد | AC47: غير محدد | AD47: غير محدد | AE47: معاينة | AF47: تم تحرير محضر | AI47: أسيوط .. إصابة 3 أشخاص في إنهيار جزئي بمنزل بقرية عرب الشنابلة لأحد 01/مارس/2026 - 05:05 مأصيب 3 أشخاص، اليوم الأحد، إثر انهيار جزئي بمنزل بقرية عرب الشنايلة التابعة لمركز أبنوب، بمحافظة أسيوط. كان اللواء وائل نصار مدير أمن أسيوط، قد تلقى إخطارًا من مأمور مركز شرطة أبنوب، يفيد ورود بلاغا من غرفة عمليات النجدة، بوقوع حادث إنهيار جزئي بمنزل بقرية عرب الشنابلة ووجود مصابين. انتقل إلى موقع الحادث ضباط الشرطة والإسعاف وقوات الحماية المدنية والإنقاذ وتبين من المعاينة والفحص أن المنزل مِلك " جودة ثابت لوقا" ، مكون من طابق أرضي وآخر علوي، ومبني بالطوب اللبن ومسقوف بالجريد، وأن الانهيار وقع بالجزء الخلفي من المنزل بسبب قدمه. أسفر الحادث عن إصابة كل من " منيرة مرجان سعيد (60 عامًا) بكدمات، وسماح ممدوح رياض (27 عامًا) باختناق، وجومانه هاني جودة (8 سنوات) بكدمات، وتم نقل المصابين إلى مستشفى الإيمان العام لتلقي الرعاية الطبية اللازمة. تحرر محضر بالواقعة وجاري العرض على النيابة. | AJ47: https://www.elbalad.news/6887327 | AK47: https://www.masrawy.com/news/news_regions/details/2026/3/1/2950609/%D8%A5%D8%B5%D8%A7%D8%A8%D8%A9-3-%D8%A3%D8%B4%D8%AE%D8%A7%D8%B5-%D9%81%D9%8A-%D8%A7%D9%86%D9%87%D9%8A%D8%A7%D8%B1-%D8%AC%D8%B2%D8%A6%D9%8A-%D9%84%D9%85%D9%86%D8%B2%D9%84-%D8%A8%D8%A3%D8%B3%D9%8A%D9%88%D8%B7
A48: علياء | B48: 46 | C48: 46082 | D48: مارس 2026 | E48: محافظات الصعيد | F48: أسيوط | G48: حي غرب مدينة أسيوط | H48: حضري | I48: حارة سيدهم بمنطقة كوم عباس | J48: عقار | K48: منشأة سكنية مشغولة | L48: بناء قديم | M48: منزل بالطوب اللبن | N48: جزئي | O48: إنهيار جزئي بمنزل | P48: قدم العقار وتهالكه | Q48: غير محدد | R48: 0 | S48: 0 | T48: 0 | U48: غير محدد | V48: 0 | W48: 0 | X48: 0 | Y48: غير محدد | Z48: غير محدد | AA48: غير محدد | AB48: غير محدد | AC48: غير محدد | AD48: رض كردون أمني بمحيط العقار حفاظًا على سلامة المواطنين وإخطار الإدارة الهندسية | AE48: معاينة | AF48: تم تحرير محضر | AI48: انهيار جزئي بمنزل قديم دون خسائر بشرية في أسيوط لأحد 01/مارس/2026 - 06:53 م شهدت حارة سيدهم بمنطقة كوم عباس بحي غرب مدينة أسيوط، اليوم الأحد، انهيارًا جزئيًا في منزل قديم مشيد بالطوب اللبن، دون وقوع أي خسائر بشرية أو إصابات. تلقى اللواء وائل نصار، مدير أمن أسيوط، إخطارًا من مأمور قسم شرطة أول أسيوط، يفيد بورود بلاغ من غرفة عمليات النجدة، بوقوع حادث إنهيار جزئي بمنزل قديم بمنطقة كوم عباس بحي غرب. انتقل إلى موقع الحادث ضباط الشرطة والإسعاف وقوات الحماية المدنية والإنقاذ وتبين من المعاينة والفحص إنهيار جزئي بمنزل ملك منيرة سامي أبادير (75 عامًا)، دون وقوع خسائر بشرية. وعلى الفور، تم فرض كردون أمني بمحيط العقار حفاظًا على سلامة المواطنين وإخطار الإدارة الهندسية بحي غرب لاتخاذ الإجراءات اللازمة. وتحرر محضر بالواقعة وجاري العرض على النيابة. | AJ48: https://www.elbalad.news/6887409 | AK48: https://nabd.com/s/168787744-7e078d/%D8%A7%D9%86%D9%87%D9%8A%D8%A7%D8%B1-%D8%AC%D8%B2%D8%A6%D9%8A-%D9%84%D9%85%D9%86%D8%B2%D9%84-%D9%82%D8%AF%D9%8A%D9%85-%D8%A8%D9%83%D9%88%D9%85-%D8%B9%D8%A8%D8%A7%D8%B3-%D9%81%D9%8A-%D8%A3%D8%B3%D9%8A%D9%88%D8%B7-%D8%AF%D9%88%D9%86-%D8%A5%D8%B5%D8%A7%D8%A8%D8%A7%D8%AA | AL48: https://www.cairo24.com/2380775
A49: علياء | B49: 47 | C49: 46083 | D49: مارس 2026 | E49: محافظات الصعيد | F49: أسيوط | G49: حي غرب مدينة أسيوط | H49: حضري | I49: منطقة كوبري الشيخ الأربعين | J49: عقار | K49: منشأة سكنية مشغولة | L49: بناء قديم | M49: غير محدد | N49: جزئي | O49: انهيار سقف بئر صرف صحي منزلي | P49: قدم العقار وتهالكه | Q49: غير محدد | R49: 0 | S49: 0 | T49: 0 | U49: غير محدد | V49: 1 | W49: 0 | X49: 1 | Y49: فوزية . ص . أ " 65 عامًا | Z49: غير محدد | AA49: غير محدد | AB49: غير محدد | AC49: غير محدد | AD49: غير محدد | AE49: معاينة | AF49: تم تحرير محضر | AI49: إنهار بها السقف .. مصرع مسنة إثر سقوطها في بئر صرف صحي بأسيوط الإثنين 02/مارس/2026 - 11:00 م لقيت سيدة مسنة مصرعها، اليوم الإثنين، إثر انهيار سقف بئر صرف صحي منزلي، بمنطقة كوبري الشيخ الأربعين التابعة لحي غرب مدينة أسيوط. تلقى اللواء وائل نصار مدير أمن أسيوط، إخطارًا من مأمور قسم شرطة أول أسيوط، يفيد ورود بلاغا من غرفة عمليات النجدة، بوقوع حادث إنهيار سقف بئر صرف صحي منزلي وسقط سيدة بداخلها. إنتقل إلى موقع الحادث ضباط الشرطة والإسعاف وقوات الحماية المدنية والإنقاذ وتبين من المعاينة والفحص سقوط سيدة تدعى " فوزية . ص . أ " 65 عامًا مما أسفر عن مصرعها وتمكنت قوات الإنقاذ من انتشال جثمانها ونقله إلى مستشفى الإيمان العام. تحرر محضر بالواقعة وجاري العرض على النيابة. | AJ49: https://www.elbalad.news/6888972 | AK49: https://www.masrawy.com/news/news_regions/details/2026/3/2/2951387/%D9%85%D8%B5%D8%B1%D8%B9-%D8%B3%D9%8A%D8%AF%D8%A9-%D9%81%D9%8A-%D8%A7%D9%86%D9%87%D9%8A%D8%A7%D8%B1-%D8%B3%D9%82%D9%81-%D8%A8%D8%A6%D8%B1-%D8%B5%D8%B1%D9%81-%D8%B5%D8%AD%D9%8A-%D8%AF%D8%A7%D8%AE%D9%84-%D9%85%D9%86%D8%B2%D9%84%D9%87%D8%A7-%D8%A8%D8%A3%D8%B3%D9%8A%D9%88%D8%B7 | AL49: https://www.cairo24.com/2381449
A50: علياء | B50: 48 | C50: 46084 | D50: مارس 2026 | E50: محافظات الصعيد | F50: المنيا | G50: حي وسط المنيا | H50: حضري | I50: ميدان بالاس | J50: عقار | K50: منشأة سكنية مشغولة | L50: بناء قديم | M50: عقار قديم مكون من 3 طوابق | N50: كلي | O50: انهيار كلي للمنزل | P50: قدم العقار وتهالكه | Q50: غير محدد | R50: 0 | S50: 0 | T50: 0 | U50: غير محدد | V50: 0 | W50: 0 | X50: 0 | Y50: غير محدد | Z50: غير محدد | AA50: غير محدد | AB50: غير محدد | AC50: غير محدد | AD50: تم فرض كردونا أمنيا علي محيط العقار للحفاظ علي سلامة المارة، وفصل المرافق من مياه وكهرباء وغاز طبيعي . | AE50: معاينة | AF50: تم تحرير محضر | AI50: انهيار عقار قديم بميدان بالاس في المنيا دون أضرار بشرية (صور) الثلاثاء 03-03-2026 18:43 سعيد نافع شهد ميدان بالاس بمدينة المنيا، اليوم ، انهيار عقار قديم، دون وجود أضرار بشرية - وفرضت الأجهزة الأمنية كردونا أمنيا علي محيط العقار للحفاظ علي سلامة المارة . تلقت الأجهزة الأمنية بالمنيا، برئاسة اللواء حاتم حسن، مدير أمن المنيا، بلاغا بالحادث .شهد ميدان بالاس بمدينة المنيا، اليوم ، انهيار عقار قديم، دون وجود أضرار بشرية - وفرضت الأجهزة الأمنية كردونا أمنيا علي محيط العقار للحفاظ علي سلامة المارة . تلقت الأجهزة الأمنية بالمنيا، برئاسة اللواء حاتم حسن، مدير أمن المنيا، بلاغا بالحادث .شهد ميدان بالاس بمدينة المنيا، اليوم ، انهيار عقار قديم، دون وجود أضرار بشرية - وفرضت الأجهزة الأمنية كردونا أمنيا علي محيط العقار للحفاظ علي سلامة المارة . تلقت الأجهزة الأمنية بالمنيا، برئاسة اللواء حاتم حسن، مدير أمن المنيا، بلاغا بالحادث . انتقلت سيارات الإسعاف والحماية المدنية والشرطة إلي الموقع وتبين حدوث انهيار كلي بالعقار نتيحة تهالكة، دون أضرار بشرية . تم فرض كردونا أمنيا علي محيط العقار للحفاظ علي سلامة المارة، وفصل المرافق من مياه وكهرباء وغاز طبيعي . وتحرر محضر بالواقعة، وتولت النيابة العامة التصرف . | AJ50: https://www.almasryalyoum.com/news/details/4213110 | AK50: https://www.elbalad.news/6889994
A51: علياء | B51: 49 | C51: 46085 | D51: مارس 2026 | E51: محافظات الدلتا | F51: البحيرة | G51: الدلنجات | H51: حضري | I51: مستشفي الدلنجات | J51: مستشفى | K51: منشأة خدمية | L51: بناء قديم | M51: غير محدد | N51: جزئي | O51: انهيار سور داخلي | P51: قدم العقار وتهالكه | Q51: غير محدد | R51: 0 | S51: 0 | T51: 0 | U51: غير محدد | V51: 1 | W51: 1 | X51: 0 | Y51: حمد عادل السيد عبد العزيز، 27 عاماً، مندوب مبيعات، ومقيم القليوبية | Z51: غير محدد | AA51: غير محدد | AB51: غير محدد | AC51: غير محدد | AD51: غير محدد | AE51: معاينة | AF51: تم تحرير محضر | AI51: مصرع شاب إثر انهيار سور داخل مستشفى الدلنجات بالبحيرة الأربعاء، 04 مارس 2026 لقى شاب مصرعه، اليوم الاربعاء، إثر إنهيار سور داخل مستشفى الدلنجات بمحافظة البحيرة. تلقت الأجهزة الأمنية بالبحيرة ، إخطاراً من مأمور مركز شرطة الدلنجات، يفيد بتلقيه بلاغاً بسقوط جزء من سور داخلي بالمستشفى العام، على أحد الأشخاص مما ادى مصرعه متأثرا بإصابته. وبالفحص تبين مصرع أحمد عادل عبد العزيز، 27 عاماً، مندوب مبيعات ومقيم القليوبية، إثر انهيار جانب من أحد الاسوار الداخلية بمستشفى الدلنجات . وكشفت التحريات الأمنية، أنه أثناء قيام المجنى عليه ومرافقه بتسليم حمولة السيارة من الأكسجين السائل داخل المستشفى سقط عليه أحدث الاسوار مما أدى إلى وفاته. وتم التحفظ على الجثة تحت تصرف جهات التحقيق، وتحرر عن ذلك المحضر اللازم تمهيدا لاحالته الى النيابة العامة لمباشرة التحقيق. | AJ51: https://www.youm7.com/story/2026/3/4/%D9%85%D8%B5%D8%B1%D8%B9-%D8%B4%D8%A7%D8%A8-%D8%A5%D8%AB%D8%B1-%D8%A7%D9%86%D9%87%D9%8A%D8%A7%D8%B1-%D8%B3%D9%88%D8%B1-%D8%AF%D8%A7%D8%AE%D9%84-%D9%85%D8%B3%D8%AA%D8%B4%D9%81%D9%89-%D8%A7%D9%84%D8%AF%D9%84%D9%86%D8%AC%D8%A7%D8%AA-%D8%A8%D8%A7%D9%84%D8%A8%D8%AD%D9%8A%D8%B1%D8%A9/7328363 | AK51: https://www.masrawy.com/news/news_regions/details/2026/3/4/2952516/%D9%85%D8%B5%D8%B1%D8%B9-%D8%B4%D8%A7%D8%A8-%D8%B3%D9%82%D8%B7-%D8%B9%D9%84%D9%8A%D9%87-%D8%B3%D9%88%D8%B1-%D8%AF%D8%A7%D8%AE%D9%84-%D9%85%D8%B3%D8%AA%D8%B4%D9%81%D9%89-%D8%A7%D9%84%D8%AF%D9%84%D9%86%D8%AC%D8%A7%D8%AA-%D8%A8%D8%A7%D9%84%D8%A8%D8%AD%D9%8A%D8%B1%D8%A9- | AL51: https://www.elbalad.news/6891794
A52: علياء | B52: 50 | C52: 46086 | D52: مارس 2026 | E52: محافظات الصعيد | F52: سوهاج | G52: ميدان العروبة | H52: حضري | I52: شارع حسن مصطفى | J52: عقار | K52: منشأة سكنية مشغولة | L52: بناء قديم | M52: مبني بالطوب اللبن وبحوائط حاملة عقار قديم مكون من طابقين | N52: جزئي | O52: انهيار جزئي بعقار | P52: قدم العقار وتهالكه | Q52: غير محدد | R52: 0 | S52: 0 | T52: 0 | U52: غير محدد | V52: 0 | W52: 0 | X52: 0 | Y52: غير محدد | Z52: غير محدد | AA52: غير محدد | AB52: غير محدد | AC52: غير محدد | AD52: عرض العقار على لجنة المنشآت الآيلة للسقوط لاتخاذ القرار الفني المناسب بشأنه، كما تم إخطار التضامن الاجتماعي وقسم الشرطة لاتخاذ اللازم | AE52: معاينة | AF52: تم تحرير محضر | AI52: انهيار جزئى فى عقار قديم بسوهاج دون إصابات الخميس، 05 مارس 2026 11:04 ص شهد شارع حسن مصطفى المتفرع من ميدان العروبة بمحافظة سوهاج، انهيار جزء من عقار قديم مكون من طابقين، دون وقوع أي إصابات أو خسائر في الأرواح تلقى اللواء الدكتور حسن عبدالعزيز مدير أمن سوهاج، بلاغا من الجهات المعنية يفيد بحدوث انهيار جزئي بعقار كائن بشارع حسن مصطفى المتفرع من ميدان العروبة بدائرة قسم الشرطة، ملك ورثة خليفة حسين سرحان. الفحص والمعاينة وبالانتقال والفحص، تبين أن العقار مكون من دورين أرضي وأول علوي، ومبني بالطوب اللبن وبحوائط حاملة، وحالته العامة سيئة، ما أدى إلى انهيار جزء منه، دون وقوع أي إصابات بين المواطنين. اتخاذ الإجراءات اللازمة وتم اتخاذ الإجراءات اللازمة لتأمين المكان، وجارى عرض العقار على لجنة المنشآت الآيلة للسقوط لاتخاذ القرار الفني المناسب بشأنه، كما تم إخطار التضامن الاجتماعي وقسم الشرطة لاتخاذ اللازم، مع تحرير المحضر بالواقعة. | AJ52: https://www.youm7.com/story/2026/3/5/%D8%A7%D9%86%D9%87%D9%8A%D8%A7%D8%B1-%D8%AC%D8%B2%D8%A6%D9%89-%D9%81%D9%89-%D8%B9%D9%82%D8%A7%D8%B1-%D9%82%D8%AF%D9%8A%D9%85-%D8%A8%D8%B3%D9%88%D9%87%D8%A7%D8%AC-%D8%AF%D9%88%D9%86-%D8%A5%D8%B5%D8%A7%D8%A8%D8%A7%D8%AA/7328652
A53: علياء | B53: 51 | C53: 46087 | D53: مارس 2026 | E53: محافظات الدلتا | F53: الدقهلية | G53: مركز المنصورة | H53: ريفي | I53: قرية سلامون القماش | J53: مزرعة دواجن | K53: منشأة تجارية | L53: بناء قديم | M53: غير محدد | N53: جزئي | O53: انهيار جزء من سور | P53: انفجار او حريق | Q53: غير محدد | R53: 9 | S53: 9 | T53: 0 | U53: أحمد شوقي الجيار، 19 سنة، مقيم سلامون القماش، ومحمد رضا علوان، 20 سنة، مقيم بقرية شها، ومحمد الشحات أبو ليلة، 18 سنة، مقيم بقرية سلامون القماش، ومحمد محمد شاهين، 22 سنة، مقيم بقرية شها، وأسامة يوسف عبداللطيف، 25 سنة، يوسف ربيع إبراهيم، 18 سنة،وعمار هشام الصياد، 18 سنة، وأسعد محمد علي، 37 سنة، وشخص مجهول الهوية حوالي 21 سنة | V53: 0 | W53: 0 | X53: 0 | Y53: غير محدد | Z53: غير محدد | AA53: غير محدد | AB53: غير محدد | AC53: كلف " محافظ الدقهلية " الدكتورة هالة عبد الرازق وكيلة وزارة التضامن الاجتماعي بالدقهلية، بالانتقال إلى مستشفى الطوارئ ومتابعة الحالات، مع تقديم الدعم الكامل للمصابين وأسرهم، وسرعة صرف التعويضات اللازمة، وتوفير أي أدوية أو مستلزمات طبية يحتاج إليها المصابون، إلى جانب تقديم الدعم المعنوي والمادي اللازم لأسرهم. | AD53: غير محدد | AE53: معاينة | AF53: تم تحرير محضر | AI53: 9 مصابين في حريق مزرعة دواجن وانفجار أسطوانة غاز في الدقهلية اُصيب 9 أشخاص، جراء حريق هائل بمزرعة دواجن وانفجار اسطوانة غاز، بقرية سلامون القماش، التابعة لمركز المنصورة، في محافظة الدقهلية، وجرى نقل المصابين للمستشفى لتلقي العلاج. كان مدير أمن الدقهلية، تلقى إخطارًا من مدير المباحث الجنائية، يفيد بورود بلاغ لإدارة شرطة النجدة، بنشوب حريق هائل وسماع دوي انفجار داخل مزرعة دواجن في أرض زراعية بقرية سلامون القماش، خلف البنزينة. وانتقل ضباط وحدة مباحث المركز وقوات الحماية المدنية لمكان البلاغ، وبالفحص تبين انفجار أنبوبة داخل المزرعة، ما أدى إلى انهيار جزء من سور، وجرى الدفع بسيارات الإطفاء التي تمكنت من السيطرة على النيران.الجمعة وأسفر الحريق عن إصابة كل من: أحمد شوقي الجيار، 19 سنة، مقيم سلامون القماش، باشتباه ما بعد الارتجاج واشتباه كسر بالعمود الفقري، ومحمد رضا علوان، 20 سنة، مقيم بقرية شها، ببتر بالساق اليمنى واختناق، ومحمد الشحات أبو ليلة، 18 سنة، مقيم بقرية سلامون القماش، باشتباه كسر بالحوض واشتباه كسر بالقدم اليمنى، ومحمد محمد شاهين، 22 سنة، مقيم بقرية شها، باشتباه كسر بالعمود الفقري، وأسامة يوسف عبداللطيف، 25 سنة، بجروح وحروق بالبطن وكسر مضاعف بالساق اليسرى. واُصيب أيضًا يوسف ربيع إبراهيم، 18 سنة، بحروق من الدرجة الأولى والثانية والثالثة متفرقة بالجسم، وعمار هشام الصياد، 18 سنة، بحروق من الدرجة الأولى والثانية والثالثة متفرقة بالجسم، وأسعد محمد علي، 37 سنة، بحروق من الدرجة الأولى والثانية بالجسم وكدمات بالوجه وانخفاض بدرجة الوعي، وشخص مجهول الهوية حوالي 21 سنة، باشتباه ما بعد الارتجاج وكسر مضاعف بالساق اليسرى. وجرى نقل المصابين لمستشفى الطوارئ بالمنصورة لتلقي العلاج، وتحرر عن ذلك المحضر اللازم، والعرض على جهات التحقيق لمباشرة أعمالها. 06-03-2026 10:34 | AJ53: https://www.almasryalyoum.com/news/details/4215255 | AK53: https://www.youm7.com/story/2026/3/6/%D8%A5%D8%B5%D8%A7%D8%A8%D8%A9-9-%D8%A3%D8%B4%D8%AE%D8%A7%D8%B5-%D8%A5%D8%AB%D8%B1-%D8%A7%D9%86%D9%81%D8%AC%D8%A7%D8%B1-%D8%A5%D8%B3%D8%B7%D9%88%D8%A7%D9%86%D8%A9-%D8%BA%D8%A7%D8%B2-%D8%AF%D8%A7%D8%AE%D9%84-%D9%85%D8%B2%D8%B1%D8%B9%D8%A9-%D9%81%D9%89/7329884
A54: علياء | B54: 52 | C54: 46087 | D54: مارس 2026 | E54: محافظات الدلتا | F54: الغربية | G54: مركز كفر الزيات | H54: ريفي | I54: قرية بنوفر | J54: عقار | K54: منشأة سكنية مشغولة | L54: بناء قديم | M54: غير محدد | N54: جزئي | O54: انهيار شرفة منزل قديم | P54: قدم العقار وتهالكه | Q54: غير محدد | R54: 3 | S54: 3 | T54: 0 | U54: إصابة 3 أشخاص بينهم أطفال بكدمات وسحجات وكسور | V54: 0 | W54: 0 | X54: 0 | Y54: غير محدد | Z54: غير محدد | AA54: غير محدد | AB54: غير محدد | AC54: غير محدد | AD54: تم فرض كردون أمني حول المنزل، وتم نقل المصابين للمستشفى، وتشكيل لجنة هندسية لمعاينة المنزل وإعداد تقرير هندسي عاجل بشأنه. | AE54: معاينة | AF54: تم تحرير محضر | AI54: إصابة 3 أشخاص إثر انهيار شرفة منزل بالغربية الجمعة، 06 مارس 2026 شهدت قرية بنوفر بمركز كفر الزيات بمحافظة الغربية، انهيار شرفة منزل قديم، مما أسفر عن إصابة 3 أشخاص بإصابات متفرقة، وتم نقلهم لمستشفى كفر الزيات لتلقي العلاج. تلقت الأجهزة الأمنية بالغربية، بلاغا بانهيار شرفة منزل قديم بقرية بنوفر بمركز كفر الزيات، وإصابة 3 أشخاص بإصابات متفرقة. انتقلت الجهات المعنية بمجلس المدينة والوحدة المحلية لمكان البلاغ، وتم فرض كردون أمني حول المنزل، وتم نقل المصابين للمستشفى، وتشكيل لجنة هندسية لمعاينة المنزل وإعداد تقرير هندسي عاجل بشأنه. | AJ54: https://www.youm7.com/story/2026/3/6/%D8%A5%D8%B5%D8%A7%D8%A8%D8%A9-3-%D8%A3%D8%B4%D8%AE%D8%A7%D8%B5-%D8%A5%D8%AB%D8%B1-%D8%A7%D9%86%D9%87%D9%8A%D8%A7%D8%B1-%D8%B4%D8%B1%D9%81%D8%A9-%D9%85%D9%86%D8%B2%D9%84-%D8%A8%D8%A7%D9%84%D8%BA%D8%B1%D8%A8%D9%8A%D8%A9/7329845 | AK54: https://www.elbalad.news/6892753
A55: علياء | B55: 53 | C55: 46088 | D55: مارس 2026 | E55: محافظات الصعيد | F55: سوهاج | G55: مدينة طهطا | H55: حضري | I55: شارع النصر البحرى بساحل طهطا | J55: عقار | K55: منشأة سكنية مشغولة | L55: بناء قديم | M55: غير محدد | N55: جزئي | O55: سقوط حائط | P55: اعمال انشائية او هدم داخل العقار | Q55: غير محدد | R55: 0 | S55: 0 | T55: 0 | U55: غير محدد | V55: 1 | W55: 1 | X55: 0 | Y55: أحمد زكريا صاحب الـ28 عامًا | Z55: غير محدد | AA55: غير محدد | AB55: غير محدد | AC55: غير محدد | AD55: غير محدد | AE55: معاينة | AF55: تم تحرير محضر | AI55: حائط ينهي حلم الزواج.. مصرع شاب أثناء تجهيز منزله بسوهاج السبت 07-03-2026 00:33 داخل شقته البسيطة كان الشاب أحمد زكريا صاحب الـ28 عامًا، يزيح بعض الحجارة، ويعيد ترتيب المكان استعدادًا ليوم طال انتظاره، فكان يحلم ببيت دافئ يبدأ فيه حياته الجديدة مع عروسه، لكن لحظة واحدة كانت كفيلة بأن تغير كل شيء؛ انهار الحائط فجأة داخل الشقة الكائنة بمركز ومدينة طهطا شمال محافظة سوهاج، ليسقط الشاب جثة هامدة أسفل أنقاض الحائط. تعود الواقعة عندما لقى شاب مصرعه إثر سقوط حائط عليه أثناء قيامه بأعمال تعديل داخل شقته الكائنة بأحد شوارع مركز ومدينة طهطا بمحافظة سوهاج استعدادًا للزواج. وتبين من التحريات الأولية أن الشاب يدعى أحمد زكريا، 28 عامًا، ويقيم بشارع النصر البحرى بساحل طهطا، وكان يقوم بإجراء بعض التعديلات داخل شقته تمهيدًا لتجهيزها. وخلال قيامه بأعمال التعديل، سقط عليه حائط بشكل مفاجئ، ما أسفر عن وفاته فى الحال متأثرًا بإصاباته، قبل أن يتمكن أحد من إنقاذه. وسادت حالة من الحزن بين أهالى المنطقة فور علمهم بالواقعة، خاصة أن الشاب كان يستعد للزواج خلال الفترة المقبلة، وكان يعمل على تجهيز شقته بنفسه لتكون بداية حياته الجديدة. وعقب وقوع الحادث، جرى نقل الجثة إلى مشرحة مستشفى طهطا العام تحت تصرف النيابة العامة. تم تحرير المحضر اللازم بالواقعة، فيما تولت النيابة العامة التحقيقات. | AJ55: https://www.almasryalyoum.com/news/details/4215759 | AK55: https://www.masrawy.com/news/news_regions/details/2026/3/6/2953471/-%D9%83%D8%A7%D9%86-%D8%A8%D9%8A%D8%AC%D9%87%D8%B2-%D8%B4%D9%82%D8%AA%D9%87-%D8%A7%D8%B3%D8%AA%D8%B9%D8%AF%D8%A7%D8%AF-%D8%A7-%D9%84%D9%84%D8%B2%D9%88%D8%A7%D8%AC-%D9%85%D8%B5%D8%B1%D8%B9-%D8%B4%D8%A7%D8%A8-%D8%B3%D9%82%D8%B7-%D8%B9%D9%84%D9%8A%D9%87-%D8%AD%D8%A7%D8%A6%D8%B7-%D9%81%D9%89-%D8%B3%D9%88%D9%87%D8%A7%D8%AC
A56: علياء | B56: 54 | C56: 46089 | D56: مارس 2026 | E56: المحافظات المركزية | F56: الاسكندرية | G56: منطقة مينا البصل | H56: حضري | I56: شارع ابن تموم متفرع من الاسناوي نطاق دائرة قسم مينا البصل | J56: عقار | K56: منشأة سكنية مشغولة | L56: بناء حديث | M56: غير محدد | N56: جزئي | O56: سقوط مصعد | P56: اعطال فنية | Q56: غير محدد | R56: 2 | S56: 0 | T56: 2 | U56: إصابة شقيقين توأم كل من " ه.م.ش" و "م.م.ش"، عمر عام | V56: 1 | W56: 0 | X56: 1 | Y56: "ا.ال.ا." 25 سنة، | Z56: غير محدد | AA56: غير محدد | AB56: غير محدد | AC56: غير محدد | AD56: غير محدد | AE56: معاينة | AF56: تم تحرير محضر | AI56: مصرع سيدة وإصابة طفلين توأم فى سقوط مصعد بالطابق الثامن بالإسكندرية الأحد، 08 مارس 2026 04:07 م شهدت منطقة مينا البصل بمحافظة الإسكندرية مصرع سيدة وإصابة طفلين توأم في سقوط مصعد كهربائي، وتم اتخاذ الإجراءات اللازمة. بداية الواقعة البداية عندما تلقت الأجهزة الأمنية بمديرية أمن الإسكندرية إخطارا من قسم شرطة مينا البصل بورد بلاغ أهالي بسقوط مصعد بعقار بشارع ابن تموم متفرع من الاسناوي نطاق دائرة قسم مينا البصل. وفاة سيدة ونجاة طفليها في سقوط مصعد كهربائي وعلى الفور انتقلت الأجهزة الأمنية،ترافقها سيارات الإسعاف والحماية المدنية وتبين من المعاينة الأولية سقوط مصعد من الطابق الثامن واستقراره بالطابق الثالث مما ادي لمصرع " "ا.ال.ا." 25 سنة، وإصابة شقيقين توأم كل من " ه.م.ش" و "م.م.ش"، عمر عام وتم نقلهم للمستشفى لتلقي العلاج اللازم، وتحرر محضر بالواقعة للعرض علي جهات التحقيق. | AJ56: https://www.youm7.com/story/2026/3/8/%D9%85%D8%B5%D8%B1%D8%B9-%D8%B3%D9%8A%D8%AF%D8%A9-%D9%88%D8%A5%D8%B5%D8%A7%D8%A8%D8%A9-%D8%B7%D9%81%D9%84%D9%8A%D9%86-%D8%AA%D9%88%D8%A3%D9%85-%D9%81%D9%89-%D8%B3%D9%82%D9%88%D8%B7-%D9%85%D8%B5%D8%B9%D8%AF-%D8%A8%D8%A7%D9%84%D8%B7%D8%A7%D8%A8%D9%82-%D8%A7%D9%84%D8%AB%D8%A7%D9%85%D9%86/7332936 | AK56: https://www.masrawy.com/news/news_regions/details/2026/3/8/2954336/%D8%B3%D9%82%D8%B7-%D8%A8%D9%87%D9%85%D8%A7-%D8%A7%D9%84%D9%85%D8%B5%D8%B9%D8%AF-%D9%85%D8%B5%D8%B1%D8%B9-%D8%A3%D9%85-%D9%88%D8%A5%D8%B5%D8%A7%D8%A8%D8%A9-%D8%B7%D9%81%D9%84%D9%8A%D9%87%D8%A7-%D8%A7%D9%84%D8%AA%D9%88%D8%A3%D9%85-%D9%81%D9%8A-%D8%A7%D9%84%D8%A5%D8%B3%D9%83%D9%86%D8%AF%D8%B1%D9%8A%D8%A9
A57: علياء | B57: 55 | C57: 46089 | D57: مارس 2026 | E57: المحافظات المركزية | F57: الاسكندرية | G57: حي غرب الإسكندرية | H57: حضري | I57: منطقة القباري | J57: عقار | K57: منشأة سكنية مشغولة | L57: بناء قديم | M57: خالي من السكان | N57: جزئي | O57: نهارت أجزاء من عقار | P57: قدم العقار وتهالكه | Q57: تحطيم سيارة | R57: 0 | S57: 0 | T57: 0 | U57: غير محدد | V57: 0 | W57: 0 | X57: 0 | Y57: غير محدد | Z57: صادر له قرار ترميم | AA57: ترميم | AB57: لم يتم تنفيذه | AC57: غير محدد | AD57: غير محدد | AE57: معاينة | AF57: تم تحرير محضر | AI57: تحطم سيارة انهارت عليها أجزاء من عقار قديم بالقباري في الإسكندرية (صور) الأحد 08-03-2026 02:07 انهارت أجزاء من عقار قديم في منطقة القباري بحي غرب الإسكندرية، أمس السبت، ما أسفر عن تحطم سيارة تصادف وقوفها أسفله، دون حدوث إصابات. تلقت غرفة عمليات حي غرب الإسكندرية،بلاغًا من قسم شرطة مينا البصل يفيد انهيار أجزاء من عقار بشارع أحمد غريب تقاطع الشهاوي بمنطقة القباري. وانتقل الى موقع البلاغ ضباط القسم ومسؤولي حي غرب، وكشفت المعاينة انهيار أجزاء من العقار المشار إليه، خالي من السكان. | AJ57: https://www.almasryalyoum.com/news/details/4216695 | AK57: https://www.masrawy.com/news/news_regions/details/2026/3/7/2953965/%D8%AA%D8%AD%D8%B7%D9%85-%D8%B3%D9%8A%D8%A7%D8%B1%D8%A9-%D8%A3%D8%B3%D9%81%D9%84-%D8%B9%D9%82%D8%A7%D8%B1-%D8%A7%D9%86%D9%87%D8%A7%D8%B1-%D8%AC%D8%B2%D8%A6%D9%8A%D8%A7-%D8%A8%D9%85%D9%86%D8%B7%D9%82%D8%A9-%D8%A7%D9%84%D9%82%D8%A8%D8%A7%D8%B1%D9%8A-%D9%81%D9%89-%D8%A7%D9%84%D8%A5%D8%B3%D9%83%D9%86%D8%AF%D8%B1%D9%8A%D8%A9-%D8%B5%D9%88%D8%B1
A58: علياء | B58: 56 | C58: 46090 | D58: مارس 2026 | E58: المحافظات المركزية | F58: الجيزة | G58: بولاق الدكرور | H58: حضري | I58: غير محدد | J58: عقار | K58: منشأة سكنية مشغولة | L58: بناء حديث | M58: غير محدد | N58: جزئي | O58: سقوط مصعد | P58: اعطال فنية | Q58: غير محدد | R58: 6 | S58: 3 | T58: 3 | U58: غير محدد | V58: 0 | W58: 0 | X58: 0 | Y58: غير محدد | Z58: غير محدد | AA58: غير محدد | AB58: غير محدد | AC58: غير محدد | AD58: غير محدد | AE58: معاينة | AF58: تم تحرير محضر | AI58: سقوط مصعد عقار يسفر عن إصابة 6 أشخاص فى بولاق الدكرور الإثنين، 09 مارس 2026 10:17 ص تسبب سقوط مصعد عقار في بولاق الدكرور في إصابة 6 أشخاص، وتم نقلهم إلى المستشفى لإسعافهم، وباشرت النيابة المختصة التحقيق. تفاصيل سقوط مصعد عقار ورد بلاغ لقسم شرطة بولاق الدكرور، يفيد سقوط مصعد عقار، انتقل رجال المباحث لمكان البلاغ، وبإجراء التحريات تبين أن مصعد عقار سقط نتيجة زيادة الوزن، مما أسفر عن إصابة 6 أشخاص. نقل المصابين للمستشفى تم نقل المصابين إلى المستشفى لإسعافهم، والاستماع لأقوال شهود عيان، وتحرر محضر بالواقعة، لتتولى النيابة التحقيق. | AJ58: https://www.youm7.com/story/2026/3/9/%D8%B3%D9%82%D9%88%D8%B7-%D9%85%D8%B5%D8%B9%D8%AF-%D8%B9%D9%82%D8%A7%D8%B1-%D9%8A%D8%B3%D9%81%D8%B1-%D8%B9%D9%86-%D8%A5%D8%B5%D8%A7%D8%A8%D8%A9-6-%D8%A3%D8%B4%D8%AE%D8%A7%D8%B5-%D9%81%D9%89-%D8%A8%D9%88%D9%84%D8%A7%D9%82/7333635 | AK58: https://gate.ahram.org.eg/News/5554894.aspx
A59: علياء | B59: 57 | C59: 46091 | D59: مارس 2026 | E59: محافظات الصعيد | F59: أسيوط | G59: مركز منفلوط | H59: ريفي | I59: بقرية بني شقير | J59: عقار | K59: منشأة سكنية مشغولة | L59: بناء قديم | M59: مكون من ثلاثة طوابق | N59: كلي | O59: انهيار منزل قديم | P59: قدم العقار وتهالكه | Q59: غير محدد | R59: 0 | S59: 0 | T59: 0 | U59: غير محدد | V59: 1 | W59: 0 | X59: 1 | Y59: غير محدد | Z59: غير محدد | AA59: غير محدد | AB59: غير محدد | AC59: غير محدد | AD59: غير محدد | AE59: معاينة | AF59: تم تحرير محضر | AI59: مصرع سيدة في انهيار منزل بأسيوط الثلاثاء 10/مارس/2026 - 07:29 م لقيت سيدة مصرعها، إثر انهيار منزل قديم مكون من ثلاثة طوابق، بقرية بني شقير التابعة لمركز منفلوط بمحافظة أسيوط. تلقى اللواء وائل نصار مدير أمن أسيوط، إخطارًا من مأمور مركز شرطة منفلوط،يفيد ورود بلاغا من غرفة عمليات النجدة بانهيار منزل قديم مكون من ثلاثة طوابق، بقرية بني شقير التابعة لمركز منفلوط بمحافظة أسيوط، ووجود سيدة أسفل الأنقاض. انتقل على الفور لموقع البلاغ؛ قوات الأمن وضباط المباحث وسيارات الإسعاف وقوات الحماية المدنية، وتمكنت قوات الحماية المدنية من انتشال جثمان السيدة من أسفل الانقاض، وتم نقل الجثة إلى مشرحة المستشفى تحت تصرف النيابة العامة بأسيوط. حرر محضر بالواقعة وجاري على العرض النيابة العامة. | AJ59: https://www.elbalad.news/6898155 | AK59: https://www.cairo24.com/2385976
A60: علياء | B60: 58 | C60: 46094 | D60: مارس 2026 | E60: محافظات الصعيد | F60: المنيا | G60: حي وسط مدينة المنيا | H60: حضري | I60: شارع مدرسة المعلمات بجوار مسجد الفولي | J60: عقار | K60: تحت الانشاء | L60: تحت الإنشاء | M60: مكون من 6 طوابق | N60: جزئي | O60: انهيار أحد الحوائط بالطابق السادس العلوي | P60: اعمال انشائية او هدم داخل العقار | Q60: تحطيم 3سيارات | R60: 0 | S60: 0 | T60: 0 | U60: غير محدد | V60: 0 | W60: 0 | X60: 0 | Y60: غير محدد | Z60: إزالة السقف الخاص به وقطع الأشاير | AA60: ازالة | AB60: تم التنفيذ | AC60: غير محدد | AD60: ويجري حاليًا متابعة الموقف ميدانيًا، مع استمرار التنسيق بين الجهات المعنية لاتخاذ ما يلزم من إجراءات لضمان سلامة المواطنين وعدم تكرار مثل هذه الوقائع | AE60: معاينة | AF60: تم تحرير محضر | AI60: نائب محافظ المنيا يتابع ميدانيًا حادث انهيار حائط ببرج تحت الإنشاء وتضرر 3 سيارات الجمعة، 13 مارس 2026 09:58 م المنيا – حسن عبد الغفار انتقل الدكتور محمد علي جبر، نائب محافظ المنيا، إلى موقع حادث انهيار حائط بأحد الأبراج السكنية تحت الإنشاء بشارع مدرسة المعلمات بجوار مسجد الفولي، بنطاق حي وسط مدينة المنيا، وذلك لمتابعة الموقف ميدانيًا والاطمئنان على سلامة المواطنين. انهيار حائط ببرج تحت الانشاء وتضرر3 سيارات وأشار نائب المحافظ إلى أن المعاينة الأولية تبين من خلالها انهيار أحد الحوائط بالطابق السادس العلوي من البرج، مما أدى إلى سقوطه وتضرر 3 سيارات كانت متوقفة أسفل العقار، دون وقوع أي إصابات بشرية، كما أسفر الحادث عن انقطاع التيار الكهربائي بالمنطقة. وعلى الفور، تم الدفع بسيارة إطفاء من الحماية المدنية، إلى جانب سيارة تابعة لقطاع الكهرباء وأخرى من الوحدة المحلية، للتعامل مع الموقف وتأمين الموقع ورفع الآثار الناتجة عن الحادث، فضلًا عن العمل على إعادة التيار الكهربائي. ومن جانبه، أوضح الدكتور سعيد محمد، رئيس مركز ومدينة المنيا، أن المعاينة أوضحت أن العقار مرخص بأرضي و5 أدوار فقط، بينما يعد الدور السادس مخالفًا، حيث سبق اتخاذ الإجراءات القانونية حياله، وتم قبل نحو شهر إزالة السقف الخاص به وقطع الأشاير، مع تحرير المحاضر اللازمة واتخاذ الإجراءات القانونية تجاه المخالفة. ويجري حاليًا متابعة الموقف ميدانيًا، مع استمرار التنسيق بين الجهات المعنية لاتخاذ ما يلزم من إجراءات لضمان سلامة المواطنين وعدم تكرار مثل هذه الوقائع. وتهيب محافظة المنيا بالسادة المواطنين الالتزام بالاشتراطات والقوانين المنظمة للبناء، وعدم ارتكاب أي مخالفات، حفاظًا على الأرواح والممتلكات. | AJ60: https://www.youm7.com/story/2026/3/13/%D9%86%D8%A7%D8%A6%D8%A8-%D9%85%D8%AD%D8%A7%D9%81%D8%B8-%D8%A7%D9%84%D9%85%D9%86%D9%8A%D8%A7-%D9%8A%D8%AA%D8%A7%D8%A8%D8%B9-%D9%85%D9%8A%D8%AF%D8%A7%D9%86%D9%8A%D9%8B%D8%A7-%D8%AD%D8%A7%D8%AF%D8%AB-%D8%A7%D9%86%D9%87%D9%8A%D8%A7%D8%B1-%D8%AD%D8%A7%D8%A6%D8%B7-%D8%A8%D8%A8%D8%B1%D8%AC-%D8%AA%D8%AD%D8%AA/7339985 | AK60: https://www.almasryalyoum.com/news/details/4221299
A61: علياء | B61: 59 | C61: 46095 | D61: مارس 2026 | E61: المحافظات المركزية | F61: الاسكندرية | G61: حي غرب الإسكندرية | H61: حضري | I61: منطقة القباري | J61: عقار | K61: منشأة سكنية مشغولة | L61: بناء قديم | M61: غير محدد | N61: جزئي | O61: انهيار أجزاء من عقار | P61: قدم العقار وتهالكه | Q61: غير محدد | R61: 1 | S61: 0 | T61: 1 | U61: سيدة (هـ.م) البالغة من العمر 40 عامًا | V61: 1 | W61: 1 | X61: 0 | Y61: الطفل (ج.ج) البالغ من العمر 7 سنوات، | Z61: قرار هدم حتى سطح الأرض رقم 134 لسنة 2019 | AA61: ازالة | AB61: لم يتم تنفيذه | AC61: غير محدد | AD61: وضع حواجز بمحيط العقار لحماية المواطنين والمارة، وجار التعامل مع الأجزاء التي تمثل خطورة بالعقار واتخاذ الإجراءات اللازمة للتعامل معها حفاظًا على السلامة العامة | AE61: معاينة | AF61: تم تحرير محضر | AI61: إصابة شخصين إثر إنهيار أجزاء من عقار بمنطقة القباري غرب الإسكندرية السبت، 14 مارس 2026 01:01 ص تلقى مركز السيطرة وغرفة العمليات المركزية بمحافظة الإسكندرية، بلاغًا يفيد بانهيار أجزاء من عقار بشارع القاضي الفاضل رقم 3 بنطاق حي غرب. وعلى الفور، وجّه المهندس أيمن عطية محافظ الإسكندرية الأجهزة التنفيذية المعنية بالمحافظة بالتوجه إلى موقع البلاغ والتعامل الفوري مع الحادث، واتخاذ الإجراءات اللازمة لتأمين المنطقة وحماية المارة. العقار صادر له قرار هدم حتى سطح الأرض تبين أن العقار صادر له قرار هدم حتى سطح الأرض رقم 134 لسنة 2019، فيما أسفر سقوط أجزاء من العقار عن إصابة شخصين من المارة وتم نقلهما إلى مستشفى الجمهورية وجمال حمادة لتلقي العلاج. وضع حواجز بمحيط العقار قامت الأجهزة التنفيذية بحي غرب بوضع حواجز بمحيط العقار لحماية المواطنين والمارة، وجار التعامل مع الأجزاء التي تمثل خطورة بالعقار واتخاذ الإجراءات اللازمة للتعامل معها حفاظًا على السلامة العامة. | AJ61: https://www.youm7.com/story/2026/3/14/%D8%A5%D8%B5%D8%A7%D8%A8%D8%A9-%D8%B4%D8%AE%D8%B5%D9%8A%D9%86-%D8%A5%D8%AB%D8%B1-%D8%A5%D9%86%D9%87%D9%8A%D8%A7%D8%B1-%D8%A3%D8%AC%D8%B2%D8%A7%D8%A1-%D9%85%D9%86-%D8%B9%D9%82%D8%A7%D8%B1-%D8%A8%D9%85%D9%86%D8%B7%D9%82%D8%A9-%D8%A7%D9%84%D9%82%D8%A8%D8%A7%D8%B1%D9%8A-%D8%BA%D8%B1%D8%A8/7340087 | AK61: https://www.almasryalyoum.com/news/details/4221408 | AL61: https://www.youm7.com/story/2026/3/15/%D9%86%D8%A7%D8%A6%D8%A8-%D9%85%D8%AD%D8%A7%D9%81%D8%B8-%D8%A7%D9%84%D8%A5%D8%B3%D9%83%D9%86%D8%AF%D8%B1%D9%8A%D8%A9-%D8%AA%D8%B2%D9%88%D8%B1-%D8%A7%D9%84%D9%85%D8%B5%D8%A7%D8%A8%D8%A9-%D8%A8%D8%A7%D9%86%D9%87%D9%8A%D8%A7%D8%B1-%D8%B9%D9%82%D8%A7%D8%B1-%D8%AD%D9%89-%D8%BA%D8%B1%D8%A8/7341878
A62: علياء | B62: 60 | C62: 46095 | D62: مارس 2026 | E62: محافظات الدلتا | F62: البحيرة | G62: مركز إيتاى البارود | H62: حضري | I62: غير محدد | J62: عقار | K62: منشأة سكنية مشغولة | L62: بناء حديث | M62: عقار مكون من 10 طوابق | N62: جزئي | O62: انهيار أجزاء من جدار الطابق العاشر | P62: غير محدد | Q62: غير محدد | R62: 0 | S62: 0 | T62: 0 | U62: غير محدد | V62: 1 | W62: 1 | X62: 0 | Y62: حامد محمود عبد العال»، 47 سنة، يقيم بمركز إيتاى البارود | Z62: غير محدد | AA62: غير محدد | AB62: غير محدد | AC62: غير محدد | AD62: غير محدد | AE62: معاينة | AF62: تم تحرير محضر | AI62: سقط عليه جدار من الطابق العاشر.. مصرع عامل صيانة مصاعد فى البحيرة أثناء عمله السبت 14-03-2026 20:11 سادت حالة من الحزن فى مركز إيتاى البارود فى محافظة البحيرة، بعد تأكد وفاة عامل صيانة مصاعد نتيجة سقوط جدار عليه من الطابق العاشر أثناء قيامه بعمله. ​لفظ عامل صيانة مصاعد أنفاسه الأخيرة، نتيجة حادث مأساوى فى مدينة إيتاى البارود بمحافظة البحيرة، بعد سقوط جدار من الطابق العاشر عليه أثناء عمله فى صيانة مصعد بعمارة «جمعية رجال الأعمال». ​تلقى اللواء محمد عمارة، مساعد وزير الداخلية مدير أمن البحيرة، إخطاراً من مأمور مركز شرطة إيتاى البارود بمصرع عامل فى حادث وقع فى عمارة «جمعية رجال الأعمال» بمدينة إيتاى البارود. انتقلت الأجهزة الأمنية وفرق الإسعاف إلى موقع البلاغ، وكشفت المعاينة الأولية أن العامل المذكور كان يقوم بمهام عمله فى صيانة «أسانسير» العمارة فى الطابق السابع، وسقطت فوقه أجزاء من جدار الطابق العاشر فجأة مما أدى إلى إصابته بإصابات بالغة أدت لوفاته فى الحال. ​أسفر الحادث عن وفاة «حامد محمود عبد العال»، 47 سنة، يقيم بمركز إيتاى البارود، ​تم نقل الجثمان إلى مستشفى إيتاى البارود العام، والتحفظ عليه تحت تصرف النيابة العامة. وتحرر المحضر اللازم بالواقعة، وتم إخطار النيابة العامة التى تولت التحقيق؛ وأمرت بسرعة إجراء المعاينة الفنية للعمارة للوقوف على أسباب سقوط الجدار، واستكمال الإجراءات القانونية اللازمة للتصريح بدفن الجثمان. | AJ62: https://www.almasryalyoum.com/news/details/4221914
A63: علياء | B63: 61 | C63: 46095 | D63: مارس 2026 | E63: محافظات الدلتا | F63: الغربية | G63: المحلة الكبرى | H63: حضري | I63: منطقة السبع | J63: معرض ومخزن ادوات منزلية وكهربائية | K63: منشأة تجارية | L63: بناء حديث | M63: معرض ومخزن ادوات منزلية وكهربائية | N63: جزئي | O63: سقوط جدار | P63: انفجار او حريق | Q63: تحطيم سيارتين | R63: 0 | S63: 0 | T63: 0 | U63: غير محدد | V63: 0 | W63: 0 | X63: 0 | Y63: غير محدد | Z63: غير محدد | AA63: غير محدد | AB63: غير محدد | AC63: غير محدد | AD63: تشكيل لجنة هندسية لمعاينة المخزن وإعداد تقرير لبيان عما إذا كان هناك خطورة على حياة الماره من عدمه | AE63: معاينة | AF63: تم تحرير محضر | AI63: تهشم سيارتين ملاكي بسبب سقوط جدار معرض أجهزة كهربائية بالمحلة السبت، 14 مارس 2026 03:13 م الغربية مصطفى عادل شهدت منطقة السبع بنات بالمحلة الكبرى بمحافظة الغربية، تهشم سيارتين ملاكي إثر سقوط جدار معرض أجهزة منزلية وكهربائية بشكل مفاجئ. لجنة هندسية من حي ثان المحلة لمعاينة المخزن تلقت الأجهزة الأمنية بمديرية أمن الغربية بلاغاً بانهيار جدار مخزن ادوات منزليه وكهربائية بمنطقة السبع بنات بالمحلة على سيارتين ملاكي كانت متوقفة بجوار المخزن انتقل رئيس حي ثان المحلة وقوة أمنية لمكان البلاغ وتبين انهيار الجدار فوق سيارتين ملاكي وأحداث تلفيات كبيرة بهم وتم تشكيل لجنة هندسية لمعاينة المخزن وإعداد تقرير لبيان عما إذا كان هناك خطورة على حياة الماره من عدمه. | AJ63: https://www.youm7.com/story/2026/3/14/%D8%AA%D9%87%D8%B4%D9%85-%D8%B3%D9%8A%D8%A7%D8%B1%D8%AA%D9%8A%D9%86-%D9%85%D9%84%D8%A7%D9%83%D9%8A-%D8%A8%D8%B3%D8%A8%D8%A8-%D8%B3%D9%82%D9%88%D8%B7-%D8%AC%D8%AF%D8%A7%D8%B1-%D9%85%D8%B9%D8%B1%D8%B6-%D8%A3%D8%AC%D9%87%D8%B2%D8%A9-%D9%83%D9%87%D8%B1%D8%A8%D8%A7%D8%A6%D9%8A%D8%A9-%D8%A8%D8%A7%D9%84%D9%85%D8%AD%D9%84%D8%A9/7340640 | AK63: https://www.masrawy.com/news/news_regions/details/2025/2/19/2730502/%D8%A7%D9%84%D8%B3%D9%8A%D8%B7%D8%B1%D8%A9-%D8%B9%D9%84%D9%89-%D8%AD%D8%B1%D9%8A%D9%82-%D9%81%D9%8A-%D9%85%D8%B9%D8%B1%D8%B6-%D8%A3%D8%AC%D9%87%D8%B2%D8%A9-%D9%83%D9%87%D8%B1%D8%A8%D8%A7%D8%A6%D9%8A%D8%A9-%D8%A8%D8%A7%D9%84%D9%85%D8%AD%D9%84%D8%A9-%D8%A7%D9%84%D9%83%D8%A8%D8%B1%D9%89
A64: علياء | B64: 62 | C64: 46095 | D64: مارس 2026 | E64: محافظات الدلتا | F64: الغربية | G64: المحلة الكبرى | H64: حضري | I64: شارع كيمدار بمنطقة أبوراضي | J64: عقار | K64: تحت الانشاء | L64: تحت الإنشاء | M64: ببرج سكني تحت الانشاء مكون من 12 طابق | N64: جزئي | O64: إنهيار اجزاء من برج سكني | P64: سوء الاحوال الجوية | Q64: تحطيم سيارة | R64: 0 | S64: 0 | T64: 0 | U64: غير محدد | V64: 0 | W64: 0 | X64: 0 | Y64: غير محدد | Z64: غير محدد | AA64: غير محدد | AB64: غير محدد | AC64: غير محدد | AD64: كلفت إدارة البحث الجنائي بالتحري ظروف وملابسات الواقعة | AE64: معاينة | AF64: تم تحرير محضر | AI64: انهيار جزئي في برج سكني من 12 طابقا تحت الإنشاء بـ المحلة السبت 14/مارس/2026 - 02:13 م شهد شارع كيمدار بمنطقة أبوراضي بمدينة المحلة الكبرى في محافظة الغربية منذ قليل واقعة انهيار جزئي ببرج سكني تحت الانشاء مكون من 12 طابق بسبب سوء الطقس والأحوال الجوية مما تسبب في انقطاع التيار الكهربائي وتهشم سيارة ونجاة فتاة في نهاية العقد الثاني من عمرها من الموت المحقق وتحرر محضرا بالواقعة وأخطرت النيابة العامة. تفاصيل الواقعة وتعود أحداث الواقعة حينما تلقت مديرية أمن الغربية إخطارا من مأمور قسم شرطة أول المحلة يفيد بورود بلاغ من شرطة النجدة حول واقعة إنهيار اجزاء من برج سكني تحت الإنشاء بسبب سوء الطقس والأحوال الجوية بشارع كيمدار بنطاق دائرة القسم. تحرك أمني عاجل كما انتقلت القيادات التنفيذية والأمنية وقوات من الشرطة السرية والنظامية إلى مكان الحادث للوقوف على آخر تطوراته. رواية شهود عيان وأفاد شهود عيان من أبناء المنطقة أن سوء الطقس والعواصف الترابية أثناء أعمال بناء البرج سكني بالمخالفة بالقانون نتج عنه تهشم سيارة ملاكي ونجاة فتاة من الحادث المشار إليه. وكلفت إدارة البحث الجنائي بالتحري ظروف وملابسات الواقعة وتحرر محضرا بالواقعة وأخطرت النيابة العامة للتحقيق. | AJ64: https://www.elbalad.news/6902044#google_vignette
A65: علياء | B65: 63 | C65: 46095 | D65: مارس 2026 | E65: محافظات الصعيد | F65: أسيوط | G65: مركز أبنوب | H65: ريفي | I65: بقرية كوم أبو شيل | J65: عقار | K65: منشأة سكنية مشغولة | L65: بناء قديم | M65: منزل قديم مكون من طابقين مبني من الطوب اللبن | N65: جزئي | O65: انهيار أجزاء من المنزل | P65: سوء الاحوال الجوية | Q65: غير محدد | R65: 4 | S65: 1 | T65: 3 | U65: كريمة. ش. ف. ع. 24 عامًا، ومكة إ. س. 4 سنوات، وإسلام س. م. أ. 28 عامًا، وتمارا إ. س. عامان | V65: 0 | W65: 0 | X65: 0 | Y65: غير محدد | Z65: غير محدد | AA65: غير محدد | AB65: غير محدد | AC65: غير محدد | AD65: غير محدد | AE65: معاينة | AF65: تم تحرير محضر | AI65: سقوط أشجار ومصابين وحريق منزل .. حصيلة الساعات الأولى من العاصفة الترابية بأسيوط السبت 14/مارس/2026 - 10:50 ص ضربت عاصفة ترابية شديدة محافظة أسيوط، اليوم السبت، حيث سيطرت الرمال والأتربة على الأجواء مما تسبب في انخفاض مستوى الرؤية في الطرق الصحراوية وسط تحذيرات للأهالي أثناء السير في الشوارع ، وذلك تزامنًا مع التقلبات الجوية ونشاط الرياح المحملة بالرمال والأتربة التي تشهدها بعض المحافظات. وفي ذات السياق، أصيب 4 أشخاص، إثر سقوط شجرة على منزل قديم مكون من طابقين مبني من الطوب اللبن بعزبة حماده بقرية كوم أبو شيل بمركز أبنوب في محافظة أسيوط. وتلقى اللواء وائل نصار مدير أمن أسيوط، إخطارًا من غرفة عمليات النجدة يفيد سقوط شجرة على منزل وتسببت في انهيار أجزاء من المنزل ووجود مصابين. وعلى الفور انتقلت قوات الحماية المدنية وسيارات الإسعاف إلى موقع الحادث، وتم استخراج المصابين من أسفل الأنقاض ونقلهم إلى المستشفى لتلقي العلاج اللازم. وتبيّن أن المصابين هم: كريمة. ش. ف. ع. 24 عامًا، ومكة إ. س. 4 سنوات، وإسلام س. م. أ. 28 عامًا، وتمارا إ. س. عامان، وجميعهم مصابون بكدمات متفرقة بالجسم. كما سيطرت قوات الحماية المدنية بمحافظة أسيوط من السيطرة على حريق نشب أعلى أسطح منازلين بقرية نجع عبد الرسول، دون وقوع خسائر في الأرواح. وعلى الفور انتقلت سيارات الإطفاء وقوات الحماية المدنية إلى موقع البلاغ. وبالفحص تبين اندلاع الحريق أعلى أسطح 3 منازل، وتم الدفع بعدد من سيارات الإطفاء التي تمكنت من السيطرة على النيران ومنع امتدادها إلى المنازل المجاورة. حرر المحضر اللازم تمهيدًا للعرض على النيابة . | AJ65: https://www.almasryalyoum.com/news/details/4221914
A66: علياء | B66: 64 | C66: 46097 | D66: مارس 2026 | E66: المحافظات المركزية | F66: الاسكندرية | G66: حي العجمي | H66: حضري | I66: أول شارع البيطاش | J66: عقار | K66: منشأة سكنية مشغولة | L66: بناء قديم | M66: عقار مكوّن من 6 طوابق | N66: جزئي | O66: انهيار أسقف عقار قديم على مخبز أسفله | P66: قدم العقار وتهالكه | Q66: غير محدد | R66: 3 | S66: 3 | T66: 0 | U66: غير محدد | V66: 2 | W66: 2 | X66: 0 | Y66: مصرع طفل يدعى يوسف على ممدوح وعامل بالمخبز | Z66: قرار ترميم رقم (47) لسنة 2026 | AA66: ترميم | AB66: لم يتم تنفيذه | AC66: غير محدد | AD66: وضع حواجز بمحيط العقار لتأمين المنطقة وتنظيم الحركة المرورية ومنع اقتراب المواطنين والتحفظ على ملف العقار بالحى وإحضاره للنيابة خشية التلاعب فيه، واستدعاء مسؤولى الحى لسؤالهم، وسرعة إجراء تحريات المباحث حول الواقعة، وسؤال المصابين عندما تسمح حالتهم بذلك، والتصريح بدفن جثتى الضحيتين | AE66: معاينة | AF66: تم تحرير محضر | AI66: وفاة شخصين وإصابة آخر إثر سقوط سقف مخبز بعقار فى منطقة البيطاش بالإسكندرية الإثنين، 16 مارس 2026 10:38 م تلقى مركز السيطرة وغرفة العمليات المركزية بمحافظة الإسكندرية بلاغًا يفيد بسقوط سقف مخبز بعقار في أول شارع البيطاش بنطاق حي العجمي، مكوّن من 6 طوابق. وعلى الفور، وجّه المهندس أيمن عطية محافظ الإسكندرية الأجهزة التنفيذية المعنية بالمحافظة بالتوجه إلى موقع البلاغ والتعامل الفوري مع الحادث، واتخاذ الإجراءات اللازمة لتأمين محيط العقار وحماية المواطنين والمارة. العقار صادر له قرار ترميم وبالفحص، تبيّن أن العقار صادر له قرار ترميم رقم (47) لسنة 2026، وقد أسفر الحادث عن حالتين وفاة وإصابة شخص بحالة مستقرة . وفي السياق ذاته، قامت الأجهزة التنفيذية بحي العجمي بالتنسيق مع الإدارة العامة للمرور بوضع حواجز بمحيط العقار لتأمين المنطقة وتنظيم الحركة المرورية ومنع اقتراب المواطنين، وجارٍ التعامل مع الأجزاء التي تمثل خطورة بالعقار واتخاذ الإجراءات اللازمة للحفاظ على سلامة المواطنين. وفاة شخصين واصابة آخر وتقدم المهندس أيمن عطية، محافظ الإسكندرية، بخالص التعازي والمواساة لأسر المتوفين، داعيًا المولى عز وجل أن يتغمدهما بواسع رحمته ويسكنهما فسيح جناته، وأن يلهم ذويهما الصبر والسلوان، وأن يمنّ على المصاب بالشفاء العاجل. | AJ66: https://www.youm7.com/story/2026/3/16/%D9%88%D9%81%D8%A7%D8%A9-%D8%B4%D8%AE%D8%B5%D9%8A%D9%86-%D9%88%D8%A5%D8%B5%D8%A7%D8%A8%D8%A9-%D8%A2%D8%AE%D8%B1-%D8%A5%D8%AB%D8%B1-%D8%B3%D9%82%D9%88%D8%B7-%D8%B3%D9%82%D9%81-%D9%85%D8%AE%D8%A8%D8%B2-%D8%A8%D8%B9%D9%82%D8%A7%D8%B1-%D9%81%D9%89/7344031 | AK66: https://www.elwatannews.com/news/details/8247513 | AL66: https://www.masrawy.com/news/news_regions/details/2026/3/16/2958581/%D9%85%D8%B5%D8%B1%D8%B9-%D8%B4%D8%AE%D8%B5%D9%8A%D9%86-%D9%88%D8%A5%D8%B5%D8%A7%D8%A8%D8%A9-%D8%A2%D8%AE%D8%B1-%D9%81%D9%8A-%D8%A7%D9%86%D9%87%D9%8A%D8%A7%D8%B1-%D8%B3%D9%82%D9%81-%D9%85%D8%AE%D8%A8%D8%B2-%D8%A8%D8%A7%D9%84%D8%A8%D9%8A%D8%B7%D8%A7%D8%B4-%D8%A8%D8%A7%D9%84%D8%A5%D8%B3%D9%83%D9%86%D8%AF%D8%B1%D9%8A%D8%A9-%D8%B5%D9%88%D8%B1- | AM66: https://www.almasryalyoum.com/news/details/4223648 | AN66: https://www.elbalad.news/6905040 | AO66: https://www.almasryalyoum.com/news/details/4224017 | AP66: https://www.almasryalyoum.com/news/details/4224490
A67: علياء | B67: 65 | C67: 46097 | D67: مارس 2026 | E67: محافظات الصعيد | F67: سوهاج | G67: مركز دار السلام | H67: ريفي | I67: قرية أولاد سالم بحري | J67: عقار | K67: منشأة سكنية مشغولة | L67: بناء قديم | M67: طابقين ومبني بالطوب اللبن | N67: جزئي | O67: انهيار أجزاء من المنزل | P67: قدم العقار وتهالكه | Q67: غير محدد | R67: 1 | S67: 1 | T67: 0 | U67: كليب عنتر عابدين، 55 سنة | V67: 0 | W67: 0 | X67: 0 | Y67: غير محدد | Z67: غير محدد | AA67: غير محدد | AB67: غير محدد | AC67: غير محدد | AD67: تم فرض كردون أمني حفاظا على سلامة المواطنين | AE67: معاينة | AF67: تم تحرير محضر | AI67: إصابة شخص إثر انهيار جزئي لمنزله القديم في دار السلام بسوهاج الإثنين، 16 مارس 2026 05:07 م شهدت قرية أولاد سالم بحري التابعة لمركز دار السلام بمحافظة سوهاج، اليوم، انهيارا جزئيا لمنزل مكون من طابقين ومبني بالطوب اللبن، ما أسفر عن إصابة مالك المنزل، وتم نقله إلى المستشفى لتلقي العلاج اللازم. بلاغ بالواقعة تلقى اللواء دكتور حسن عبدالعزيز، مساعد وزير الداخلية مدير أمن سوهاج، بلاغا يفيد انهيار جزئي لمنزل بناحية قرية العقارية التابعة للوحدة المحلية لقرية أولاد سالم بحري بدائرة مركز دار السلام جنوب شرقى المحافظة إصابة صاحب المنزل وبالانتقال والفحص تبين أن المنزل مكون من طابقين ومبني بالطوب وقديم الإنشاء، وأن الانهيار أسفر عن إصابة مالك المنزل المدعو كليب عنتر عابدين، 55 سنة، حيث جرى نقله بواسطة سيارة الإسعاف إلى مستشفى دار السلام المركزي لتلقي الرعاية الطبية اللازمة. تحرك الأجهزة المعنية وعلى الفور تم إخطار مركز الشرطة وقوات الحماية المدنية، حيث تم فرض كردون أمني حفاظا على سلامة المواطنين، كما تبين عدم تأثر المنازل المجاورة بالانهيار. معاينة هندسية وجارٍ قيام الإدارة الهندسية بالوحدة المحلية بمعاينة المنزل، كما تم إخطار لجنة المنشآت الآيلة للسقوط لاتخاذ الإجراءات اللازمة حيال العقار، مع استمرار متابعة الموقف من قبل الجهات المختصة. | AJ67: https://www.youm7.com/story/2026/3/16/%D8%A5%D8%B5%D8%A7%D8%A8%D8%A9-%D8%B4%D8%AE%D8%B5-%D8%A5%D8%AB%D8%B1-%D8%A7%D9%86%D9%87%D9%8A%D8%A7%D8%B1-%D8%AC%D8%B2%D8%A6%D9%8A-%D9%84%D9%85%D9%86%D8%B2%D9%84%D9%87-%D8%A7%D9%84%D9%82%D8%AF%D9%8A%D9%85-%D9%81%D9%8A-%D8%AF%D8%A7%D8%B1-%D8%A7%D9%84%D8%B3%D9%84%D8%A7%D9%85/7343609
A68: علياء | B68: 66 | C68: 46100 | D68: مارس 2026 | E68: محافظات الصعيد | F68: قنا | G68: قوص | H68: ريفي | I68: قرية جراجوس | J68: عقار | K68: منشأة سكنية مشغولة | L68: بناء قديم | M68: غير محدد | N68: جزئي | O68: سقطت عليه حائط حمام الطابق الثاني | P68: سوء الاحوال الجوية | Q68: غير محدد | R68: 0 | S68: 0 | T68: 0 | U68: غير محدد | V68: 1 | W68: 1 | X68: 0 | Y68: جهلان محمد سعيد أحمد 56 عاما | Z68: غير محدد | AA68: غير محدد | AB68: غير محدد | AC68: غير محدد | AD68: غير محدد | AE68: معاينة | AF68: تم تحرير محضر | AI68: بسبب الطقس السيئ.. مصرع مسن سقط فوقه حائط بقنا الخميس، 19 مارس 2026 04:13 م قى مسن مصرعه، اليوم الخميس، بعد سقوط حائط عليه، في قرية جراجوس بقوص، بسبب موجة الطقس السيئ التي ضربت محافظة قنا. إخطارا من مرفق غرفة العمليات قنا يفيد مصرع مسن وتلقت الأجهزة الأمنية بمديرية أمن قنا، إخطارا من مرفق غرفة العمليات قنا يفيد مصرع مسن، من قرية جراجوس بقوص، وذلك بعد وقوع حائط عليه، بسبب شدة الرياح. وتم نقل الجثة إلي مستشفي قوص المركزي، وتحرر محضر بالواقعة وأخطرت الجهات المختصة لتتولى التحقيقات وكشف ملابسات الواقعة. | AJ68: https://www.youm7.com/story/2026/3/19/%D8%A8%D8%B3%D8%A8%D8%A8-%D8%A7%D9%84%D8%B7%D9%82%D8%B3-%D8%A7%D9%84%D8%B3%D9%8A%D8%A6-%D9%85%D8%B5%D8%B1%D8%B9-%D9%85%D8%B3%D9%86-%D8%B3%D9%82%D8%B7-%D9%81%D9%88%D9%82%D9%87-%D8%AD%D8%A7%D8%A6%D8%B7-%D8%A8%D9%82%D9%86%D8%A7/7347752 | AK68: https://www.cairo24.com/2390859
A69: علياء | B69: 67 | C69: 46101 | D69: مارس 2026 | E69: محافظات الصعيد | F69: أسيوط | G69: قسم أول أسيوط | H69: حضري | I69: غير محدد | J69: عقار خالي | K69: تحت الانشاء | L69: تحت الإنشاء | M69: غير محدد | N69: جزئي | O69: سقوط جزء من سور الطابق الأخير بالعقار | P69: سوء الاحوال الجوية | Q69: تلفيات بمحل وسيارة | R69: 0 | S69: 0 | T69: 0 | U69: غير محدد | V69: 0 | W69: 0 | X69: 0 | Y69: غير محدد | Z69: غير محدد | AA69: غير محدد | AB69: غير محدد | AC69: غير محدد | AD69: أمكن ضبط مالك الشركة المشار إليها "القائم بأعمال التشطيب" | AE69: معاينة | AF69: تم تحرير محضر | AI69: «الداخلية» تكشف ملابسات واقعة تلفيات بمحل وسيارة بسبب أعمال البناء في أسيوط وضبط المسؤول الجمعة 20-03-2026 22:42 كتب: يسري البدري كشفت أجهزة وزارة الداخلية، ملابسات مقطع فيديو تضمن تضرر أحد الأشخاص من العاملين بإحدى شركات العقارات، لقيامهم بإحداث تلفيات بمحل وسيارته أثناء تنفيذ أعمال بناء بعقار مجاور بمحافظة أسيوط. وبالفحص، تبين أنه بتاريخ 14 من الشهر الجارى، تلقى قسم شرطة أول أسيوط بلاغًا من مالك محل وآخر، مقيمين بدائرة القسم، أفادا خلاله بتضررهما من العاملين بإحدى شركات العقارات، وذلك إثر سقوط جزء من سور الطابق الأخير بالعقار محل الأعمال على المحل المملوك للأول وسيارة الثانى، ما أسفر عن حدوث تلفيات بهما. وعقب تقنين الإجراءات، تم ضبط مالك الشركة المشار إليها والقائم بأعمال التشطيب، والمقيم بدائرة قسم شرطة ثان أسيوط. وبمواجهته، أقر بوقوع الحادث نتيجة سقوط جزء من السور بسبب سوء الأحوال الجوية، ما أدى إلى التلفيات المشار إليها. تم اتخاذ كافة الإجراءات القانونية اللازمة حيال الواقعة، وتحرير المحاضر للعرض على النيابة العامة لمباشرة التحقيقات. | AJ69: https://www.almasryalyoum.com/news/details/4226493 | AK69: https://www.elbalad.news/6909164
A70: علياء | B70: 68 | C70: 46101 | D70: مارس 2026 | E70: محافظات الصعيد | F70: سوهاج | G70: مركز طهطا | H70: ريفي | I70: قرية عرب بخواج | J70: عقار | K70: منشأة سكنية مشغولة | L70: بناء قديم | M70: منزل مكون من عدة طوابق | N70: جزئي | O70: انهيار حائط بالواجهة الأمامية بالدور الثاني العلوي | P70: انفجار او حريق | Q70: غير محدد | R70: 5 | S70: 3 | T70: 2 | U70: خالد عمر فراج، 30 سنة وعبير حسين أحمد، 25 سنة وكريم هاني عرفة، 19 سنة، من قرية المراغة والطفل حمزة خالد عمر، 5 سنوات، الطفلة تمارا خالد عمر، 3 سنوات | V70: 0 | W70: 0 | X70: 0 | Y70: غير محدد | Z70: غير محدد | AA70: غير محدد | AB70: غير محدد | AC70: غير محدد | AD70: تم استدعاء مسؤولي التضامن الاجتماعي لاتخاذ الإجراءات اللازمة | AE70: معاينة | AF70: تم تحرير محضر | AI70: إصابة 5 أشخاص وانهيار جزئى بمنزل فى طهطا بسوهاج بسبب انفجار أسطوانة بوتاجاز الجمعة، 20 مارس 2026 09:05 ص سوهاج أحمد عبدالعال شهدت قرية عرب بخواج التابعة لمجلس قروي شطورة بمركز طهطا في محافظة سوهاج، صباح اليوم، حادث انفجار أسطوانة بوتاجاز داخل منزل، ما أسفر عن إصابة 5 أشخاص بينهم طفلان، وحدوث انهيار جزئي في واجهة المنزل. بلاغ وانتقال فوري تلقى اللواء دكتور حسن عبدالعزيز مدير أمن سوهاج، بلاغًا من غرفة عمليات المحافظة يفيد بوقوع انفجار أسطوانة بوتاجاز داخل منزل المواطن "خالد عمر فراج" بشارع غرب المدافن المتفرع من شارع الكنيسة بقرية عرب بخواج، ووجود مصابين. تفاصيل الحادث بالانتقال والفحص، تبين أن الانفجار وقع داخل منزل مكون من عدة طوابق، ما أدى إلى انهيار حائط بالواجهة الأمامية بالدور الثاني العلوي، دون وقوع خسائر في الأرواح. المصابون فى الحادث أسفر الحادث عن إصابة كل من خالد عمر فراج، 30 سنة وعبير حسين أحمد، 25 سنة وكريم هاني عرفة، 19 سنة، من قرية المراغة والطفل حمزة خالد عمر، 5 سنوات، الطفلة تمارا خالد عمر، 3 سنوات وتم نقل جميع المصابين إلى مستشفى طهطا العام عن طريق سيارات الإسعاف، حيث جرى تقديم الإسعافات الأولية لهم، قبل تحويل 3 حالات إلى مستشفى سوهاج الجامعي لاستكمال العلاج. وانتقل الدكتور أحمد الشطوري، رئيس مركز ومدينة طهطا، إلى موقع الحادث فور تلقي البلاغ، حيث تابع أعمال المعاينة ميدانيًا، كما تم استدعاء مسؤولي التضامن الاجتماعي لاتخاذ الإجراءات اللازمة. كما توجه رئيس المدينة إلى مستشفى طهطا العام للاطمئنان على الحالة الصحية للمصابين والتأكد من تقديم الرعاية الطبية اللازمة لهم، وتم اتخاذ الإجراءات القانونية اللازمة حيال الواقعة، وجارٍ متابعة الحالة العامة للمصابين، مع استمرار أعمال الفحص والمعاينة لبيان أسباب الانفجار. | AJ70: https://www.youm7.com/story/2026/3/20/%D8%A5%D8%B5%D8%A7%D8%A8%D8%A9-5-%D8%A3%D8%B4%D8%AE%D8%A7%D8%B5-%D9%88%D8%A7%D9%86%D9%87%D9%8A%D8%A7%D8%B1-%D8%AC%D8%B2%D8%A6%D9%89-%D8%A8%D9%85%D9%86%D8%B2%D9%84-%D9%81%D9%89-%D8%B7%D9%87%D8%B7%D8%A7-%D8%A8%D8%B3%D9%88%D9%87%D8%A7%D8%AC-%D8%A8%D8%B3%D8%A8%D8%A8/7348285
A71: علياء | B71: 69 | C71: 46106 | D71: مارس 2026 | E71: المحافظات المركزية | F71: الاسكندرية | G71: حي الجمرك. | H71: حضري | I71: لعقار رقم 14 شارع سيدي داود، بمنطقة الحجاري بحري | J71: عقار | K71: منشأة سكنية مشغولة | L71: بناء قديم | M71: العقار مكوّن من دور أرضي وثلاثة أدوار علوية | N71: جزئي | O71: سقوط سقف حجرة بالدور الثالث على حجرة بالدور الثاني | P71: سوء الاحوال الجوية | Q71: غير محدد | R71: 0 | S71: 0 | T71: 0 | U71: غير محدد | V71: 1 | W71: 0 | X71: 1 | Y71: «بدور عبد المنعم ياقوت» 25 سنة | Z71: له قرار هدم جزئي رقم 7 لسنة 2024، | AA71: ازالة | AB71: لم يتم تنفيذه | AC71: غير محدد | AD71: تم إخلاء 4 أسر من العقار والعقارات المجاورة كإجراء احترازي وفرض كردون أمني بمحيط العقار، وتأمين الموقع بالكامل، مع المتابعة المستمرة لعدم تعرّض المواطنين لأي مخاطر | AE71: اخلاء | AF71: تم تحرير محضر | AI71: محافظة الإسكندرية: عقار الجمرك المنهار صادر له قرار هدم جزئى الأربعاء، 25 مارس 2026 04:21 م تلقى مركز السيطرة وغرفة العمليات المركزية بمحافظة الإسكندرية بلاغًا من شرطة النجدة يفيد بسقوط سقف حجرة بالعقار رقم 14 شارع سيدي داود، بمنطقة الحجاري بحري بنطاق حي الجمرك. ووجّه المهندس أيمن عطية محافظ الإسكندرية الأجهزة التنفيذية المعنية بسرعة التوجه إلى موقع البلاغ، والتعامل الفوري مع الحادث، واتخاذ كافة الإجراءات اللازمة، مع التنسيق الكامل مع قوات الحماية المدنية والإسعاف. سقوط سقف حجرة بالدور الثالث وانتقلت الأجهزة التنفيذية وقوات الحماية المدنية وسيارات الإسعاف إلى موقع الحادث، حيث تبين سقوط سقف حجرة بالدور الثالث على حجرة بالدور الثاني بالعقار رقم 14 شارع سيدي داود، ما أسفر عن حالة وفاة لسيدة. العقار صادر له قرار هدم جزئي وبالفحص، تبيّن أن العقار مكوّن من دور أرضي وثلاثة أدوار علوية، وصادر له قرار هدم جزئي رقم 7 لسنة 2024، وجارٍ العرض على مهندس المنطقة لاتخاذ الإجراءات القانونية والفنية اللازمة حيال العقار. وفي السياق ذاته، قامت الأجهزة التنفيذية بحي الجمرك بفرض كردون أمني بمحيط العقار، وتأمين الموقع بالكامل، مع المتابعة المستمرة لعدم تعرّض المواطنين لأي مخاطر، بالتنسيق مع الجهات المعنية. ويتقدم المهندس أيمن عطية، محافظ الإسكندرية، بخالص التعازي وصادق المواساة لأسرة الفقيدة، داعيًا المولى عز وجل أن يتغمدها بواسع رحمته، وأن يلهم أهلها وذويها الصبر والسلوان. وأكدت محافظة الإسكندرية استمرار المتابعة اللحظية لكافة البلاغات، والتعامل الفوري معها، واتخاذ الإجراءات اللازمة للحفاظ على أرواح المواطنين وسلامتهم. | AJ71: https://www.youm7.com/story/2026/3/25/%D9%85%D8%AD%D8%A7%D9%81%D8%B8%D8%A9-%D8%A7%D9%84%D8%A5%D8%B3%D9%83%D9%86%D8%AF%D8%B1%D9%8A%D8%A9-%D8%B9%D9%82%D8%A7%D8%B1-%D8%A7%D9%84%D8%AC%D9%85%D8%B1%D9%83-%D8%A7%D9%84%D9%85%D9%86%D9%87%D8%A7%D8%B1-%D8%B5%D8%A7%D8%AF%D8%B1-%D9%84%D9%87-%D9%82%D8%B1%D8%A7%D8%B1-%D9%87%D8%AF%D9%85-%D8%AC%D8%B2%D8%A6%D9%89/7353443 | AK71: https://www.youm7.com/story/2026/3/25/%D8%B9%D9%82%D8%A7%D8%B1-%D8%A7%D9%84%D8%AC%D9%85%D8%B1%D9%83-%D8%A7%D9%84%D9%85%D9%86%D9%87%D8%A7%D8%B1-%D8%B5%D8%A7%D8%AF%D8%B1-%D9%84%D9%87-%D9%82%D8%B1%D8%A7%D8%B1-%D9%87%D8%AF%D9%85-%D9%85%D9%86%D8%B0-%D8%B9%D8%A7%D9%85%D9%8A%D9%86-%D9%88%D8%A7%D9%84%D8%A3%D9%85%D8%B7%D8%A7%D8%B1/7352752 | AL71: https://www.youm7.com/story/2026/3/25/%D9%85%D8%B5%D8%B1%D8%B9-%D9%81%D8%AA%D8%A7%D8%A9-%D9%81%D9%89-%D8%A7%D9%86%D9%87%D9%8A%D8%A7%D8%B1-%D8%B3%D9%82%D9%81-%D8%B9%D9%82%D8%A7%D8%B1-%D8%A8%D8%A7%D9%84%D8%AC%D9%85%D8%B1%D9%83-%D8%A8%D8%B3%D8%A8%D8%A8-%D8%A7%D9%84%D8%A3%D9%85%D8%B7%D8%A7%D8%B1-%D8%A7%D9%84%D8%BA%D8%B2%D9%8A%D8%B1%D8%A9/7353278 | AM71: https://www.almasryalyoum.com/news/details/4229283 | AN71: https://www.almasryalyoum.com/news/details/4229484 | AO71: https://www.youm7.com/story/2026/3/25/%D8%A5%D9%86%D9%82%D8%A7%D8%B0-%D8%B3%D9%8A%D8%AF%D8%A9-%D9%85%D8%B3%D9%86%D8%A9-%D9%85%D9%86-%D8%A3%D8%B3%D9%81%D9%84-%D8%A3%D9%86%D9%82%D8%A7%D8%B6-%D8%B9%D9%82%D8%A7%D8%B1-%D8%A7%D9%86%D9%87%D8%A7%D8%B1-%D8%A8%D8%B3%D8%A8%D8%A8-%D8%A7%D9%84%D8%A3%D9%85%D8%B7%D8%A7%D8%B1/7352704 | AP71: https://www.elbalad.news/6912840 | AQ71: https://www.elbalad.news/6912850
A72: علياء | B72: 70 | C72: 46106 | D72: مارس 2026 | E72: المحافظات المركزية | F72: الجيزة | G72: محطة المترو | H72: حضري | I72: غير محدد | J72: مترو الانفاق | K72: منشأة خدمية | L72: بناء قديم | M72: غير محدد | N72: جزئي | O72: سقوط جزء من السور الحديدي للمترو | P72: سوء الاحوال الجوية | Q72: غير محدد | R72: 0 | S72: 0 | T72: 0 | U72: غير محدد | V72: 0 | W72: 0 | X72: 0 | Y72: غير محدد | Z72: غير محدد | AA72: غير محدد | AB72: غير محدد | AC72: غير محدد | AD72: م فصل التيار الكهربائي بين محطتي المنيب وساقية مكي فقط، لرفع السور الحديدى بواسطة فرق الطوارئ من على الخط وذلك حفاظًا على سلامة الركاب، مما أدى إلى تشغيل حركة القطارات بالخط الثاني من محطة شبرا الخيمة حتى محطة أم المصريين فقط، والعودة من نفس المحطة. | AE72: معاينة | AF72: غير محدد | AI72: عطل مفاجئ.. فصل الكهرباء عن محطتي ساقية مكي والمنيب بسبب سقوط سور المترو نتيجة سوء الأحوال الجوية الأربعاء 25-03-2026 20:47 كتب: منة هشام الديب أعلنت الشركة المصرية لإدارة وتشغيل مترو الأنفاق، عن حدوث عطل مفاجئ بين محطتي ساقية مكي والمنيب بالخط الثاني مساء اليوم، نتيجة سقوط جزء من السور الحديدي للمترو بسبب سوء الأحوال الجوية والرياح الشديدة. وأوضحت الشركة أنه تم فصل التيار الكهربائي بين محطتي المنيب وساقية مكي فقط، لرفع السور الحديدى بواسطة فرق الطوارئ من على الخط وذلك حفاظًا على سلامة الركاب، مما أدى إلى تشغيل حركة القطارات بالخط الثاني من محطة شبرا الخيمة حتى محطة أم المصريين فقط، والعودة من نفس المحطة. وأشارت الشركة إلي أنه جاري العمل على إعادة تشغيل الحركة بشكل طبيعي في أسرع وقت ممكن. | AJ72: https://www.almasryalyoum.com/news/details/422972 0
A73: علياء | B73: 71 | C73: 46106 | D73: مارس 2026 | E73: محافظات الدلتا | F73: الدقهلية | G73: ميت غمر | H73: ريفي | I73: قرية بكفر قيطون | J73: عقار | K73: منشأة سكنية مشغولة | L73: بناء قديم | M73: غير محدد | N73: جزئي | O73: سقوط جدار قديم | P73: قدم العقار وتهالكه | Q73: غير محدد | R73: 2 | S73: 2 | T73: 0 | U73: فارس يحيى يحيى صديق23عاما و محمد جمال احمد ابراهيم 22,عاما | V73: 0 | W73: 0 | X73: 0 | Y73: غير محدد | Z73: غير محدد | AA73: غير محدد | AB73: غير محدد | AC73: غير محدد | AD73: غير محدد | AE73: معاينة | AF73: تم تحرير محضر | AI73: سقط عليهما الجدار.. إصابة شخصين باحدى قرى الدقهلية الأحد 22/مارس/2026 - 11:51 م تعرض شخصين لإصابات متفرقة اثر سقوط جدار عليهم بقرية بكفر قيطون بميت غمر بمحافظة الدقهلية. تلقت مديرية أمن الدقهلية إخطارا من شرطة النجدة يفيد بسقوط جدار قديم على شخصين. انتقل ضباط الشرطة وسيارات الاسعاف الى مكان الواقعه وتبين أصابة كلا من فارس يحيى يحيى صديق23عاما وأصيب باشتباه كسر بالكاحل الايمن وجرح قطعي بالرأس وسححات باليدين والقدمين وجرح قطعي بكف اليد اليسرى محمد جمال احمد ابراهيم 22,عاما وأصيب باشتباه كسر وتورم بالقدم اليمنى وسحجات بالقدم اليمنى تم نقل المصابين الى مستشفى ميت غمر وتحرر محضر بالواقعة وتولت النيابة التحقيق | AJ73: https://www.elbalad.news/6910752
A74: علياء | B74: 72 | C74: 46106 | D74: مارس 2026 | E74: محافظات الصعيد | F74: المنيا | G74: مركز ومدينة مغاغة | H74: حضري | I74: شارع قاعة بيروت بمنطقة العبور | J74: عقار خالي | K74: منشأة سكنية خالية | L74: بناء قديم | M74: عقار مكون من 12 طابق | N74: جزئي | O74: سقوط حائط بلكون بالطابق الخامس | P74: سوء الاحوال الجوية | Q74: غير محدد | R74: 0 | S74: 0 | T74: 0 | U74: غير محدد | V74: 0 | W74: 0 | X74: 0 | Y74: غير محدد | Z74: غير محدد | AA74: غير محدد | AB74: غير محدد | AC74: غير محدد | AD74: غير محدد | AE74: معاينة | AF74: غير محدد | AI74: سقوط حائط بلكون بمغاغة في المنيا دون أضرار بشرية بسبب الطقس الأربعاء 25-03-2026 22:15 رصدت غرفة العمليات بالوحدة المحلية لمركز ومدينة مغاغة في المنيا، اليوم، انهيار وسقوط حائط بلكون بالطابق الخامس ببرج سكني مكون من 12 طابق، بشارع قاعة بيروت بمنطقة العبور، بسبب العاصفة الترابية وشدة الرياح دون أضرار بشرية. وأكدت البيانات الصادرة عن غرفة العمليات عدم وقوع إصابات أو تهشم سيارات. من جانبه واصل اللواء عماد كدواني، محافظ المنيا، على مدار اليوم متابعته المستمرة لتطورات حالة الطقس بمختلف مراكز ومدن المحافظة، من داخل مركز سيطرة الشبكة الوطنية للطوارئ والسلامة العامة بديوان عام المحافظة، وذلك في إطار متابعة تداعيات العاصفة الترابية وموجة التقلبات الجوية، والوقوف على جاهزية الأجهزة التنفيذية للتعامل الفوري مع أية تداعيات محتملة. واطمأن المحافظ على انتظام العمل بغرف العمليات الفرعية بالوحدات المحلية، واستمرار التنسيق والتواصل مع كافة الجهات المعنية على مدار الساعة، مؤكدًا على رفع درجة الاستعداد القصوى بجميع القطاعات، وسرعة التدخل في حال حدوث تجمعات لمياه الأمطار أو أي معوقات قد تؤثر على حركة المواطنين. وشدد اللواء كدواني على أهمية المتابعة الميدانية المستمرة، والتأكد من جاهزية المعدات وسيارات كسح المياه، وانتشار فرق العمل بالمناطق الأكثر احتياجًا، مع سرعة الإبلاغ عن أية مستجدات أولًا بأول، بما يضمن الحفاظ على سلامة المواطنين وانتظام تقديم الخدمات. | AJ74: https://www.almasryalyoum.com/news/details/4229772
A75: علياء | B75: 73 | C75: 46106 | D75: مارس 2026 | E75: محافظات الدلتا | F75: كفر الشيخ | G75: حي غرب مدينة كفر الشيخ | H75: حضري | I75: حي داير الناحية | J75: عقار | K75: منشأة سكنية مشغولة | L75: بناء قديم | M75: منزل مكون من طابقين | N75: جزئي | O75: سقوط جزء من سقف الدور الثاني علوي | P75: سوء الاحوال الجوية | Q75: غير محدد | R75: 0 | S75: 0 | T75: 0 | U75: غير محدد | V75: 0 | W75: 0 | X75: 0 | Y75: غير محدد | Z75: غير محدد | AA75: غير محدد | AB75: غير محدد | AC75: غير محدد | AD75: غير محدد | AE75: معاينة | AF75: تم تحرير محضر | AI75: سقوط جزء من سقف دور علوى بمنزل دون إصابات غرب كفر الشيخ لسوء حالة الطقس.. صور الأربعاء، 25 مارس 2026 05:54 م كفر الشيخ- محمد سليمان شهد حي داير الناحية التابعة لحي غرب مدينة كفر الشيخ سقوط جزء من سقف الدور الثاني علوي بمنزل لصاحبه فيصل عيسى، دون إصابات أو خسائر في الأرواح. لجنة تتابع الموقع وتابع المحاسب أحمد عيسى، رئيس مركز ومدينة كفر الشيخ، شكوى من سقوط السقف، وتوجهت لجنة، بناء على توجيه المهندس إبراهيم مكي، محافظ كفر الشيخ، للموقع، وتبين أنه من آثار هطول الأمطار الغزيرة وهبوب الرياح، أدى لسقوط جزء من سقف الدور الثاني علوي بمنزل لصاحبه فيصل عيسى، دون إصابات أو خسائر في الأرواح. رفع درجة الاستعداد والتنسيق الكامل بين جميع الأجهزة التنفيذية شدد المهندس إبراهيم مكي، محافظ كفر الشيخ على استمرار رفع درجة الاستعداد والتنسيق الكامل بين جميع الأجهزة التنفيذية وقطاعات المرافق العامة، مع سرعة الاستجابة لأي بلاغات، وعدم تأثر خدمات المواطنين، وضمان انتظام العمل بكافة المرافق الحيوية. تطهير صفايات الأمطار وخطوط الصرف وجه محافظ كفر الشيخ باستمرار تطهير صفايات الأمطار وخطوط الصرف بصفة دورية، والتأكد من جاهزية المعدات وتمركزها في النقاط الحيوية، مع متابعة الأحوال الجوية على مدار الساعة، واتخاذ الإجراءات الاستباقية للحد من تجمعات المياه. دعوة المواطنين إلى توخي الحذر دعا محافظ كفر الشيخ المواطنين إلى توخي الحذر خلال فترات التقلبات الجوية، وتجنب الاقتراب من أعمدة الإنارة أو اللوحات المعدنية، والمنازل المتهالكة، والإبلاغ الفوري عن أي حالات طارئة عبر الخطين 114 و0473220792، مؤكدًا أن كافة أجهزة المحافظة تعمل بكامل طاقتها لمواجهة تداعيات التغيرات المناخية. | AJ75: https://www.youm7.com/story/2026/3/25/%D8%B3%D9%82%D9%88%D8%B7-%D8%AC%D8%B2%D8%A1-%D9%85%D9%86-%D8%B3%D9%82%D9%81-%D8%AF%D9%88%D8%B1-%D8%B9%D9%84%D9%88%D9%89-%D8%A8%D9%85%D9%86%D8%B2%D9%84-%D8%AF%D9%88%D9%86-%D8%A5%D8%B5%D8%A7%D8%A8%D8%A7%D8%AA-%D8%BA%D8%B1%D8%A8/7353587
A76: علياء | B76: 74 | C76: 46107 | D76: مارس 2026 | E76: محافظات الدلتا | F76: البحيرة | G76: مركز كوم حمادة | H76: ريفي | I76: قرية شابور | J76: عقار | K76: منشأة سكنية مشغولة | L76: بناء قديم | M76: مكون من طابقين | N76: جزئي | O76: سقف منزل ريفى | P76: قدم العقار وتهالكه | Q76: غير محدد | R76: 3 | S76: 3 | T76: 0 | U76: أبو بكر . ش. س"، 16 سنة، مقيم قرية كفر غرين بمركز كوم حمادة، "عوض .م.ع" 41 سنة، مقيم قرية كفر غرين بمركز كوم حمادة، "محمد. أ. م" 69 سنة | V76: 0 | W76: 0 | X76: 0 | Y76: غير محدد | Z76: غير محدد | AA76: غير محدد | AB76: غير محدد | AC76: غير محدد | AD76: فرضت الأجهزة الأمنية كردونا أمنياً حول العقار للمعاينة واتخاذ الإجراءات القانونية اللازمة. | AE76: معاينة | AF76: تم تحرير محضر | AI76: إصابة 3 أشخاص إثر انهيار سقف منزل ريفى بكوم حمادة فى البحيرة الخميس، 26 مارس 2026 03:38 م أصيب 3 أشخاص بجروح وكدمات متفرقة بأنحاء الجسم، اليوم الخميس، إثر إنهيار أجزاء من سقف منزل ريفى بمركز كوم حمادة بمحافظة البحيرة. الأجهزة الأمنية تتلقى إخطارا بالواقعة تلقت الأجهزة الأمنية بالبحيرة إخطاراً من مأمور مركز شرطة كوم حمادة، يفيد بوقوع انهيار جزئى لسقف منزل ريفى مكون من طابقين بقرية شابور التابعة لذات المركز ، مما أسفر عن إصابة 3 أشخاص. نقل المصابين إلى مستشفى كفر الزيات تم نقل المصابين إلى مستشفى كفر الزيات العام بمحافظة الغربية لتلقي الرعاية الطبية اللازمة. | AJ76: https://www.youm7.com/story/2026/3/26/%D8%A5%D8%B5%D8%A7%D8%A8%D8%A9-3-%D8%A3%D8%B4%D8%AE%D8%A7%D8%B5-%D8%A5%D8%AB%D8%B1-%D8%A7%D9%86%D9%87%D9%8A%D8%A7%D8%B1-%D8%B3%D9%82%D9%81-%D9%85%D9%86%D8%B2%D9%84-%D8%B1%D9%8A%D9%81%D9%89-%D8%A8%D9%83%D9%88%D9%85-%D8%AD%D9%85%D8%A7%D8%AF%D8%A9/7354493 | AK76: https://www.almasryalyoum.com/news/details/4230318
A77: علياء | B77: 75 | C77: 46107 | D77: مارس 2026 | E77: محافظات الصعيد | F77: قنا | G77: نجع حمادي | H77: ريفي | I77: قرية الشعانية | J77: عقار | K77: منشأة سكنية مشغولة | L77: بناء قديم | M77: منزل من الطوب اللبن | N77: جزئي | O77: سقوط جدار منزل | P77: قدم العقار وتهالكه | Q77: غير محدد | R77: 2 | S77: 2 | T77: 0 | U77: غير محدد | V77: 0 | W77: 0 | X77: 0 | Y77: غير محدد | Z77: غير محدد | AA77: غير محدد | AB77: غير محدد | AC77: غير محدد | AD77: غير محدد | AE77: معاينة | AF77: تم تحرير محضر | AI77: إصابة شخصين فى انهيار حائط منزل بقنا الخميس، 26 مارس 2026 05:10 م أصيب شخصان، اليوم الخميس، سقط عليهما جدار منزل فى قرية الشعانية التابعة لمركز نجع حمادي شمال قنا. حائط منزل يصيب شخصين ونقلهما للمستشفى تلقت الأجهزة الأمنية بمديرية أمن قنا، إخطارًا من غرفة العمليات يفيد بإصابة شخصين سقط عليهما جدار منزل من الطوب اللبن، في قرية الشعانية التابعة لمركز نجع حمادي شمال قنا، وعلى الفور انتقلت الأجهزة التنفيذية إلى مكان الواقعة. تحرر محضر بالواقعة وأخطرت الجهات المختصة لتتولى التحقيقات والتي كلفت وحدة المباحث بالتحري حول الواقعة وكشف ملابساتها ونقل المصابين إلى مستشفى نجع حمادي لتلقي العلاج اللازم. | AJ77: https://www.youm7.com/story/2026/3/26/%D8%A5%D8%B5%D8%A7%D8%A8%D8%A9-%D8%B4%D8%AE%D8%B5%D9%8A%D9%86-%D9%81%D9%89-%D8%A7%D9%86%D9%87%D9%8A%D8%A7%D8%B1-%D8%AD%D8%A7%D8%A6%D8%B7-%D9%85%D9%86%D8%B2%D9%84-%D8%A8%D9%82%D9%86%D8%A7/7354612
A78: علياء | B78: 76 | C78: 46108 | D78: مارس 2026 | E78: محافظات الدلتا | F78: المنوفية | G78: مركز السادات | H78: ريفي | I78: جزيرة أبو نشابة | J78: عقار | K78: منشأة سكنية مشغولة | L78: بناء قديم | M78: غير محدد | N78: جزئي | O78: انهيار حظيرة ماشية واجزاء من منزل مجاور لها | P78: سوء الاحوال الجوية | Q78: غير محدد | R78: 0 | S78: 0 | T78: 0 | U78: غير محدد | V78: 0 | W78: 0 | X78: 0 | Y78: غير محدد | Z78: غير محدد | AA78: غير محدد | AB78: غير محدد | AC78: غير محدد | AD78: اخلاء المنزل وإصدار قرار إزالة له | AE78: اخلاء | AF78: تم تحرير محضر | AI78: انهيار منزل في المنوفية بسبب الأمطار الجمعة 27/مارس/2026 - 02:14 م شهدت جزيرة أبو نشابة بمركز السادات في محافظة المنوفية انهيار حظيرة ماشية واجزاء من منزل مجاور لها. جاء ذلك عقب موجة الطقس السيئ وسقوط الأمطار علي عدد من مراكز محافظة المنوفية. وادي تجمع الأمطار إلي انهيار حظيرة الماشية وجزء من المنزل مما أدي إلي اخلاء المنزل وإصدار قرار إزالة له حيث أنه مقام بالطوب اللبن والأخشاب. كما انتقل المهندس صفوت معوض رئيس مركز ومدينة السادات، حيث تم اتخاذ الإجراءات القانونية اللازمة ومتابعة حالة المنزل وإزالته خوفا علي السكان وعدم وجود أضرار. وشهدت محافظة المنوفية تساقط الأمطار علي مدار يومين وتحولت عدد من الشوارع إلي برك للمياه وسط رفع حالة الطوارئ لسحب مياه الأمطار من الشوارع. | AJ78: https://www.elbalad.news/6915290
A79: علياء | B79: 77 | C79: 46108 | D79: مارس 2026 | E79: محافظات الصعيد | F79: قنا | G79: مركز الوقف | H79: ريفي | I79: منطقة الحمزية | J79: عقار | K79: منشأة سكنية مشغولة | L79: بناء قديم | M79: مكون من طابقين | N79: كلي | O79: انهيار منزل | P79: قدم العقار وتهالكه | Q79: غير محدد | R79: 0 | S79: 0 | T79: 0 | U79: غير محدد | V79: 0 | W79: 0 | X79: 0 | Y79: غير محدد | Z79: قرار اخلاء | AA79: اخلاء | AB79: تم التنفيذ | AC79: غير محدد | AD79: غير محدد | AE79: معاينة | AF79: تم تحرير محضر | AI79: انهيار منزل من الطوب اللبن دون إصابات فى قنا الجمعة، 27 مارس 2026 01:54 م تعرض منزل من الطوب اللبن للانهيار، في منطقة الحمزية بمركز الوقف، شمال قنا، دون إصابات تلقت الأجهزة الأمنية بمديرية أمن قنا، إخطارا من غرفة العمليات، يفيد ورود بلاغ بانهيار منزل مكون من طابقين من الطوب اللبن بمنطقة الحمزية في مركز الوقف، وعلى الفور انتقلت الأجهزة التنفيذية إلى موقع الحادث، وتبين أن المنزل أخلى من السكان منذ أسبوع لتصدع جدرانه. تحرر محضر بالواقعة وأخطرت الجهات المختصة لتولى التحقيقات ،والتي كلفت إدارة البحث الجنائي بتكثيف الجهود لكشف ملابسات الحادث. | AJ79: https://www.youm7.com/story/2026/3/27/%D8%A7%D9%86%D9%87%D9%8A%D8%A7%D8%B1-%D9%85%D9%86%D8%B2%D9%84-%D9%85%D9%86-%D8%A7%D9%84%D8%B7%D9%88%D8%A8-%D8%A7%D9%84%D9%84%D8%A8%D9%86-%D8%AF%D9%88%D9%86-%D8%A5%D8%B5%D8%A7%D8%A8%D8%A7%D8%AA-%D9%81%D9%89-%D9%82%D9%86%D8%A7/7355308
A80: علياء | B80: 78 | C80: 46109 | D80: مارس 2026 | E80: محافظات الصعيد | F80: قنا | G80: مركز نقادة | H80: ريفي | I80: قرية الخطارة | J80: عقار | K80: منشأة سكنية مشغولة | L80: بناء قديم | M80: منزل من الطوب اللبن | N80: كلي | O80: انهيار منزل | P80: قدم العقار وتهالكه | Q80: غير محدد | R80: 0 | S80: 0 | T80: 0 | U80: غير محدد | V80: 0 | W80: 0 | X80: 0 | Y80: غير محدد | Z80: غير محدد | AA80: غير محدد | AB80: غير محدد | AC80: غير محدد | AD80: غير محدد | AE80: معاينة | AF80: تم تحرير محضر | AI80: انهيار منزل من الطوب اللبن دون إصابات بقنا السبت، 28 مارس 2026 01:30 م تعرض منزل من الطوب اللبن، اليوم السبت، للانهيار في قرية الخطارة التابعة لمركز نقادة جنوب قنا، دون إصابات. انهيار منزل دون إصابات تلقت الأجهزة الأمنية بمديرية أمن قنا، إخطارًا من غرفة العمليات يفيد، انهيار منزل من الطوب اللبن في قرية الخطارة التابعة لمركز نقادة جنوب قنا. تحرر محضر بالواقعة وأخطرت الجهات المختصة لتتولى التحقيقات وانتقلت أجهزة تنفيذية إلي مكان الواقعة ورفع آثار الانهيار. | AJ80: https://www.youm7.com/story/2026/3/28/%D8%A7%D9%86%D9%87%D9%8A%D8%A7%D8%B1-%D9%85%D9%86%D8%B2%D9%84-%D9%85%D9%86-%D8%A7%D9%84%D8%B7%D9%88%D8%A8-%D8%A7%D9%84%D9%84%D8%A8%D9%86-%D8%AF%D9%88%D9%86-%D8%A5%D8%B5%D8%A7%D8%A8%D8%A7%D8%AA-%D8%A8%D9%82%D9%86%D8%A7/7356284
A81: علياء | B81: 79 | C81: 46110 | D81: مارس 2026 | E81: محافظات الدلتا | F81: الدقهلية | G81: مدينة المنصورة | H81: حضري | I81: شارع عبده معروف | J81: عقار | K81: منشأة سكنية مشغولة | L81: بناء قديم | M81: غير محدد | N81: جزئي | O81: انهيار جدار بلكونة | P81: قدم العقار وتهالكه | Q81: غير محدد | R81: 1 | S81: 0 | T81: 1 | U81: حنان ابراهيم عربان 41 عاما مقيمة الخيارية | V81: 0 | W81: 0 | X81: 0 | Y81: غير محدد | Z81: غير محدد | AA81: غير محدد | AB81: غير محدد | AC81: غير محدد | AD81: غير محدد | AE81: معاينة | AF81: تم تحرير محضر | AI81: إصابة سيدة إثر سقوط جزء من بلكونة بأحد شوارع المنصورة الأحد 29/مارس/2026 - 08:07 م اصيبت سيدة بإصابات متفرقة إثر سقوط جزء من بلكونة منزل في أحد الشوارع بمدينة المنصورة محافظة الدقهلية. تلقت مديرية أمن الدقهلية إخطارا من شرطة النجدة يفيد بسقوط جزء من بلكونة الدور الثانى على شخص بشارع عبده معروف بالمنصورة. وانتقل ضباط المباحث وسيارات الاسعاف الى مكان الواقعة وتبين اصابة حنان ابراهيم عربان 41 عاما مقيمة الخيارية حيث أصيبت بخلع بالكتف الايسر وسحجات وكدمات بالذراعين والرأس. وتم نقل المصابة الى مستشفى الطوارئ وتحرر محضر بالواقعة وتولت النيابة التحقيق. | AJ81: https://www.elbalad.news/6917818
A82: علياء | B82: 80 | C82: 46111 | D82: مارس 2026 | E82: محافظات الدلتا | F82: الغربية | G82: المحلة | H82: ريفي | I82: منطقة سوق اللبن | J82: عقار | K82: منشأة سكنية مشغولة | L82: بناء قديم | M82: منزل مكون من 3 طوابق مشيد بالطوب ومسقوف بالأخشاب | N82: جزئي | O82: انهيار للسلم ومنور المنزل | P82: قدم العقار وتهالكه | Q82: غير محدد | R82: 0 | S82: 0 | T82: 0 | U82: غير محدد | V82: 0 | W82: 0 | X82: 0 | Y82: غير محدد | Z82: غير محدد | AA82: غير محدد | AB82: غير محدد | AC82: غير محدد | AD82: تم إخلاء المنزل من قاطنيه وفرض كردون أمني حول المنزل، وتشكيل لجنة من إدارة المنشآت الآيلة للسقوط لمعاينة المنزل واعداد تقرير عاجل بشأنه. | AE82: اخلاء | AF82: تم تحرير محضر | AI82: انهيار سلم ومنور منزل قديم وفرض كردون أمني حوله بالمحلة الإثنين، 30 مارس 2026 07:07 م الغربية مصطفى عادل شهدت منطقة سوق اللبن التابعة لحي أول المحلة، انهيار جزئي لسلم ومنور منزل قديم مكون من 3 طوابق دون وقوع إصابات. إخلاء المنزل من سكانه وفرض كردون في محيطه تلقت الأجهزة الأمنية بالغربية، بلاغا بانهيار جزئي لمنزل مكون من 3 طوابق بمنطقة سوق اللبن. وانتقلت الحماية المدنية ومسئولو حي أول المحلة، وتبين أن المنزل مشيد بالطوب ومسقوف بالأخشاب، وحدث انهيار للسلم ومنور المنزل دون وقوع إصابات، تم إخلاء المنزل من قاطنيه وفرض كردون أمني حول المنزل، وتشكيل لجنة من إدارة المنشآت الآيلة للسقوط لمعاينة المنزل واعداد تقرير عاجل بشأنه. | AJ82: https://www.youm7.com/story/2026/3/30/%D8%A7%D9%86%D9%87%D9%8A%D8%A7%D8%B1-%D8%B3%D9%84%D9%85-%D9%88%D9%85%D9%86%D9%88%D8%B1-%D9%85%D9%86%D8%B2%D9%84-%D9%82%D8%AF%D9%8A%D9%85-%D9%88%D9%81%D8%B1%D8%B6-%D9%83%D8%B1%D8%AF%D9%88%D9%86-%D8%A3%D9%85%D9%86%D9%8A-%D8%AD%D9%88%D9%84%D9%87-%D8%A8%D8%A7%D9%84%D9%85%D8%AD%D9%84%D8%A9/7359261 | AK82: https://www.almasryalyoum.com/news/details/4233455 | AL82: https://www.elbalad.news/6919016
A83: علياء | B83: 81 | C83: 46112 | D83: مارس 2026 | E83: محافظات الدلتا | F83: القليوبية | G83: مركز طوخ | H83: ريفي | I83: منطقة جامع المناصرة | J83: عقار | K83: منشأة سكنية مشغولة | L83: بناء قديم | M83: غير محدد | N83: جزئي | O83: انهيار جدار بلكونة | P83: قدم العقار وتهالكه | Q83: غير محدد | R83: 0 | S83: 0 | T83: 0 | U83: غير محدد | V83: 1 | W83: 0 | X83: 1 | Y83: صفاء بكري عبد العليم"، | Z83: غير محدد | AA83: غير محدد | AB83: غير محدد | AC83: غير محدد | AD83: غير محدد | AE83: معاينة | AF83: تم تحرير محضر | AI83: مصرع سيدة سقط عليها جدار بلكونة فى مدينة طوخ الثلاثاء، 31 مارس 2026 05:24 م القليوبية إبراهيم سالم شهدت منطقة جامع المناصرة التابعة لمركز طوخ بمحافظة القليوبية، سقوط جدار بلكونة من الطابق الرابع علي سيدة، ما أدي إلي مصرعها علي الفور، وجرى نقل الجثة للمشرحة، والتحفظ عليها تحت تصرف النيابة، وتحرر محضر بالواقعة وتولت النيابة التحقيق. بلاغ لغرفة الأزمات والطوارئ بالمحافظة تلقت غرفة الأزمات بمحافظة القليوبية، بلاغا من شبكة الطوارئ والأزمات يفيد سقوط جدار بلكونة بمنطقة جامع المناصرة بمدينة طوخ علي سيدة. انتقال فوري لسيارات الإسعاف ونقل الجثة للمشرحة انتقلت علي الفور سيارات الإسعاف التابعة لفرع إسعاف القليوبية، وكذلك رجال الأمن، وبالمعاينة والفحص تبين سقوط جدار بلكونة بمنطقة جامع المناصرة بمدينة طوخ، علي سيدة تدعي "صفاء بكري عبد العليم"، وتسبب في وفاتها، وجرى نقل الجثة لمشرحة مستشفي طوخ والتحفظ عليها تحت تصرف النيابة، وتحرر محضر بالواقعة وتولت النيابة التحقيق. | AJ83: https://www.youm7.com/story/2026/3/31/%D9%85%D8%B5%D8%B1%D8%B9-%D8%B3%D9%8A%D8%AF%D8%A9-%D8%B3%D9%82%D8%B7-%D8%B9%D9%84%D9%8A%D9%87%D8%A7-%D8%AC%D8%AF%D8%A7%D8%B1-%D8%A8%D9%84%D9%83%D9%88%D9%86%D8%A9-%D9%81%D9%89-%D9%85%D8%AF%D9%8A%D9%86%D8%A9-%D8%B7%D9%88%D8%AE/7360475 | AK83: https://www.almasryalyoum.com/news/details/4234245 | AL83: https://www.elbalad.news/6920294
A84: علياء | B84: 82 | C84: 46114 | D84: ابريل 2026 | E84: محافظات الصعيد | F84: بني سويف | G84: شرق النيل | H84: حضري | I84: بمنطقة «الحمرايا» | J84: عقار | K84: منشأة سكنية مشغولة | L84: بناء قديم | M84: غير محدد | N84: جزئي | O84: انهيار جزء من جدار منزل | P84: قدم العقار وتهالكه | Q84: غير محدد | R84: 2 | S84: 2 | T84: 0 | U84: غير محدد | V84: 0 | W84: 0 | X84: 0 | Y84: غير محدد | Z84: غير محدد | AA84: غير محدد | AB84: غير محدد | AC84: غير محدد | AD84: غير محدد | AE84: معاينة | AF84: تم تحرير محضر | AI84: إصابة شخصين في انهيار جدار منزل بمنطقة «الحمرايا» شرق النيل ببني سويف الخميس 02-04-2026 02:44 شهدت محافظة بني سويف، مساء الأربعاء، إصابة شخصين في انهيار جدار منزل بمنطقة «الحمرايا» شرق النيل، في واقعة أثارت حالة من القلق بين الأهالي، خاصة مع تكرار حوادث انهيار المنازل في بعض المناطق. وتلقت الأجهزة الأمنية ببني سويف، إخطارًا يفيد بوقوع الحادث، وعلى الفور انتقلت سيارات الإسعاف وقوات الحماية المدنية إلى موقع البلاغ، حيث تبين انهيار جزء من جدار أحد المنازل، ما أسفر عن إصابة شخصين بإصابات متفرقة تراوحت بين كدمات وسحجات، دون تسجيل أي حالات وفاة. وجرى نقل المصابين إلى المستشفى لتلقي الإسعافات الأولية والعلاج اللازم، فيما تم فرض كردون أمني حول موقع الحادث لحماية المواطنين ومنع اقترابهم، لحين الانتهاء من أعمال الفحص والمعاينة. من جانبها، تواصل الجهات المختصة أعمالها لرفع آثار الانهيار، مع اتخاذ الإجراءات القانونية اللازمة، وفتح تحقيق للوقوف على ملابسات الواقعة، والتأكد من مدى سلامة العقارات المجاورة حفاظًا على أرواح المواطنين. | AJ84: https://www.almasryalyoum.com/news/details/4235450
A85: علياء | B85: 83 | C85: 46114 | D85: ابريل 2026 | E85: مدن القناة | F85: بورسعيد | G85: حي العرب | H85: حضري | I85: غير محدد | J85: عقار خالي | K85: منشأة سكنية خالية | L85: بناء قديم | M85: عقار خشبي قديم خالي من السكان | N85: جزئي | O85: شرفة عقار خشبي | P85: قدم العقار وتهالكه | Q85: غير محدد | R85: 0 | S85: 0 | T85: 0 | U85: غير محدد | V85: 0 | W85: 0 | X85: 0 | Y85: غير محدد | Z85: صادر له قرار إزالة | AA85: ازالة | AB85: لم يتم تنفيذه | AC85: غير محدد | AD85: فرض كردون أمني بمحيطه | AE85: معاينة | AF85: تم تحرير محضر | AI85: انهيار جزئي بعقار قديم خالي من السكان فى بورسعيد.. صور الخميس، 02 أبريل 2026 04:31 م شهد حي العرب بمحافظة بورسعيد، اليوم الخميس، انهيار جزئي بـ شرفة عقار خشبي قديم خالي من السكان، كونه صادر له قرار إزالة منذ فترة زمنية ليست بالقصيرة، وذلك دون وقوع أي إصابات أو خسائر في الأرواح. لقت مديرية أمن بورسعيد، إخطارًا، انهيار جزئي بـ" بلكونات" عقار خشبي قديم نطاق حي العرب، خالي من السكان، فانتقل رجالة الشرطة والحماية المدينة إلى مكان العقار، وتم فرض كردون أمني بمحيطه. محضر بالواقعة تحرر محضر بالواقعة، وجاري اتخاذ الإجراءات القانونية اللازمة. | AJ85: https://www.youm7.com/story/2026/4/2/%D8%A7%D9%86%D9%87%D9%8A%D8%A7%D8%B1-%D8%AC%D8%B2%D8%A6%D9%8A-%D8%A8%D8%B9%D9%82%D8%A7%D8%B1-%D9%82%D8%AF%D9%8A%D9%85-%D8%AE%D8%A7%D9%84%D9%8A-%D9%85%D9%86-%D8%A7%D9%84%D8%B3%D9%83%D8%A7%D9%86-%D9%81%D9%89-%D8%A8%D9%88%D8%B1%D8%B3%D8%B9%D9%8A%D8%AF-%D8%B5%D9%88%D8%B1/7364031 | AK85: https://www.almasryalyoum.com/news/details/4236046
A86: علياء | B86: 84 | C86: 46116 | D86: ابريل 2026 | E86: محافظات الصعيد | F86: قنا | G86: نجع حمادي | H86: ريفي | I86: قرية الرحمانية | J86: عقار | K86: منشأة سكنية مشغولة | L86: بناء قديم | M86: منزل مبني من الطوب اللبن من طابقين | N86: كلي | O86: انهار منزل | P86: قدم العقار وتهالكه | Q86: غير محدد | R86: 0 | S86: 0 | T86: 0 | U86: غير محدد | V86: 0 | W86: 0 | X86: 0 | Y86: غير محدد | Z86: غير محدد | AA86: غير محدد | AB86: غير محدد | AC86: غير محدد | AD86: فرض كردون بمكان الواقعة | AE86: معاينة | AF86: تم تحرير محضر | AI86: انهيار منزل من طابقين بقرية الرحمانية في قنا السبت، 04 أبريل 2026 05:46 م انهار منزل مبني من الطوب اللبن، اليوم السبت، بقرية الرحمانية بمركز نجع حمادي شمالي محافظة قنا، دون إصابات تلقت الأجهزة الأمنية بمديرية أمن قنا، إخطارًا من غرفة العمليات يفيد انهيار منزل من طابقين بالطوب اللبن، بقرية الرحمانية بمركز نجع حمادي شمالي محافظة قنا، دون إصابات، وعلى الفور انتقلت انتقلت الأجهزة التنفيذية وأظهرت المعاينة أن المنزل كان آيلًا للسقوط. تم تحرير محضر بالواقعة وإخطار الجهات المختصة لمباشرة التحقيقات وفرض كردون بمكان الواقعة. | AJ86: https://www.youm7.com/story/2026/4/4/%D8%A7%D9%86%D9%87%D9%8A%D8%A7%D8%B1-%D9%85%D9%86%D8%B2%D9%84-%D9%85%D9%86-%D8%B7%D8%A7%D8%A8%D9%82%D9%8A%D9%86-%D8%A8%D9%82%D8%B1%D9%8A%D8%A9-%D8%A7%D9%84%D8%B1%D8%AD%D9%85%D8%A7%D9%86%D9%8A%D8%A9-%D9%81%D9%8A-%D9%82%D9%86%D8%A7/7365991 | AK86: https://www.elbalad.news/6924423
A87: علياء | B87: 85 | C87: 46119 | D87: ابريل 2026 | E87: مدن القناة | F87: الإسماعيلية | G87: قسم أول الإسماعيلية | H87: حضري | I87: منطقة المحطة الجديدة | J87: عقار | K87: منشأة سكنية مشغولة | L87: بناء حديث | M87: غير محدد | N87: جزئي | O87: سقوط بلكونة من أحد الطوابق العليا | P87: غير محدد | Q87: غير محدد | R87: 0 | S87: 0 | T87: 0 | U87: غير محدد | V87: 1 | W87: 1 | X87: 0 | Y87: غير محدد | Z87: غير محدد | AA87: غير محدد | AB87: غير محدد | AC87: غير محدد | AD87: فرضت الجهات المعنية كردونًا أمنيًا بمحيط العقار، وبدأت أعمال الفحص والمعاينة الهندسية للتأكد من سلامة المبنى | AE87: معاينة | AF87: تم تحرير محضر | AI87: مصرع شخص إثر سقوط شرفة منزل عليه فى المحطة الجديدة بالإسماعيلية الثلاثاء، 07 أبريل 2026 09:00 م شهدت منطقة المحطة الجديدة بدائرة قسم أول الإسماعيلية، اليوم الثلاثاء، حادثًا مأساويًا بعدما لقي أحد الأشخاص مصرعه إثر سقوط بلكونة أحد العقارات عليه بشكل مفاجئ، أثناء مروره بالشارع وتلقت الأجهزة الأمنية إخطارًا بالواقعة، وعلى الفور انتقلت قوة من الشرطة برفقة سيارات الإسعاف إلى موقع الحادث، حيث تبين سقوط بلكونة من أحد الطوابق العليا على أحد المارة، ما أسفر عن وفاته في الحال متأثرًا بإصاباته الخطيرة. نقل الجثة الى المشرحة وتم نقل الجثة إلى مشرحة مجمع الإسماعيلية الطبي، والتحفظ عليها تحت تصرف النيابة العامة، التي باشرت التحقيقات للوقوف على أسباب الحادث، ومعرفة ما إذا كان هناك إهمال في صيانة العقار أو مخالفات إنشائية. كما فرضت الجهات المعنية كردونًا أمنيًا بمحيط العقار، وبدأت أعمال الفحص والمعاينة الهندسية للتأكد من سلامة المبنى، حفاظًا على أرواح المواطنين ومنع تكرار مثل هذه الحوادث. | AJ87: https://www.youm7.com/story/2026/4/7/%D9%85%D8%B5%D8%B1%D8%B9-%D8%B4%D8%AE%D8%B5-%D8%A5%D8%AB%D8%B1-%D8%B3%D9%82%D9%88%D8%B7-%D8%B4%D8%B1%D9%81%D8%A9-%D9%85%D9%86%D8%B2%D9%84-%D8%B9%D9%84%D9%8A%D9%87-%D9%81%D9%89-%D8%A7%D9%84%D9%85%D8%AD%D8%B7%D8%A9-%D8%A7%D9%84%D8%AC%D8%AF%D9%8A%D8%AF%D8%A9/7369815 | AK87: https://www.dostor.org/5495729 | AL87: https://www.elbalad.news/6928379
A88: علياء | B88: 86 | C88: 46119 | D88: ابريل 2026 | E88: محافظات الصعيد | F88: الأقصر | G88: مركز ومدينة إسنا جنوب الأقصر | H88: ريفي | I88: قرية زرنيخ التابعة للوحدة المحلية بالحلة | J88: عقار | K88: منشأة سكنية مشغولة | L88: بناء قديم | M88: منزل متهالك مبني من الطوب اللبن | N88: جزئي | O88: انهيار جزئي للمنزل | P88: قدم العقار وتهالكه | Q88: نفوق ماشية | R88: 0 | S88: 0 | T88: 0 | U88: غير محدد | V88: 0 | W88: 0 | X88: 0 | Y88: غير محدد | Z88: غير محدد | AA88: غير محدد | AB88: غير محدد | AC88: غير محدد | AD88: تم فرض كردون أمني بمحيط الموقع | AE88: معاينة | AF88: تم تحرير محضر | AI88: انهيار جزئى لمنزل بالطوب اللبن فى قرية زرنيخ بمدينة إسنا دون إصابات.. صور الثلاثاء، 07 أبريل 2026 02:06 م شهدت قرية زرنيخ التابعة للوحدة المحلية بالحلة بمركز ومدينة إسنا جنوب الأقصر، اليوم الثلاثاء، انهيارا جزئيا لمنزل متهالك مبني من الطوب اللبن دون وقوع أي إصابات بشرية، وانتقل فريق من مجلس المدينة إلى موقع الحادث وتبين أنه أسفر عن نفوق ماشية دون خسائر بشرية، وتم اتخاذ الإجراءات القانونية اللازمة وتولت النيابة العامة التحقيق. نفوق عدد من رؤوس الماشية أسفل العقار المنهار دون إصابات بشرية بدأت تفاصيل الواقعة بتلقى غرفة النجدة بمركز ومدينة إسنا إخطاراً من أهالى قرية زرنيخ، يفيد بوقوع حادث لانهيار منزل من الطب اللبن ومتهالك منذ سنوات، وعلى الفور انتقلت قوة من مجلس المدينة ومركز شرطة إسنا، لفحص موقع الحادث والتأكد من الخسائر بعد انهيار المنزل الجزئي. وتبين من خلال المعاينة الأولية نفوق عدد من رؤوس الماشية التي كانت متواجدة أسفل العقار وقت الانهيار، وعلى الفور، انتقلت الأجهزة المعنية إلى موقع الحادث، وتبين أنه أسفر عن نفوق ماشية دون خسائر بشرية، وتم اتخاذ الإجراءات القانونية اللازمة وتولت النيابة العامة التحقيق. | AJ88: https://www.youm7.com/story/2026/4/7/%D8%A7%D9%86%D9%87%D9%8A%D8%A7%D8%B1-%D8%AC%D8%B2%D8%A6%D9%89-%D9%84%D9%85%D9%86%D8%B2%D9%84-%D8%A8%D8%A7%D9%84%D8%B7%D9%88%D8%A8-%D8%A7%D9%84%D9%84%D8%A8%D9%86-%D9%81%D9%89-%D9%82%D8%B1%D9%8A%D8%A9-%D8%B2%D8%B1%D9%86%D9%8A%D8%AE-%D8%A8%D9%85%D8%AF%D9%8A%D9%86%D8%A9-%D8%A5%D8%B3%D9%86%D8%A7/7369273 | AK88: https://www.elbalad.news/6927411
A89: علياء | B89: 87 | C89: 46120 | D89: ابريل 2026 | E89: المحافظات المركزية | F89: الاسكندرية | G89: منطقة ميامى | H89: حضري | I89: عقار رقم 590 بجوار مسجد الفتح المبين أعلى جيلانى لبنان تقاطع طريق الكورنيش مع شارع قائد الاسراب ميامى | J89: عقار خالي | K89: منشأة سكنية خالية | L89: بناء قديم | M89: لعقار مكون من طابق أرضى و6 طوابق علوية وأنه خال من السكان | N89: جزئي | O89: انهيار أجزاء من عقار | P89: قدم العقار وتهالكه | Q89: غير محدد | R89: 0 | S89: 0 | T89: 0 | U89: غير محدد | V89: 0 | W89: 0 | X89: 0 | Y89: غير محدد | Z89: صادر له قرار هدم | AA89: ازالة | AB89: لم يتم تنفيذه | AC89: غير محدد | AD89: غير محدد | AE89: معاينة | AF89: تم تحرير محضر | AI89: النيابة تحقق فى انهيار عقار «ميامي» بالإسكندرية.. والتحريات: صادر له قرار هدم لم ينفذ الأربعاء 08-04-2026 18:30 تجرى نيابة المنتزه أول بالاسكندرية التحقيق فى انهيار عقار قديم بمنطقة ميامى، اليوم الأربعاء، فيما تبين من التحريات المبدئية أن العقار صادر له قرار هدم لم ينفذ. وأمرت النيابة العامة بإحضار ملف العقار إلى سراى النيابة، وسرعة إجراء تحريات المباحث حول الواقعة. كانت الأجهزة الأمنية بمديرية أمن الإسكندرية تلقت إخطاراً من مأمور قسم شرطة منتزه أول يفيد بورود بلاغ من الأهالى بسقوط أجزاء من عقار بدائرة القسم. على الفور انتقل إلى موقع البلاغ مأمور وضباط القسم رفقة قوات الحماية المدنية وسيارات الإسعاف. تبين من المعاينة والفحص انهيار أجزاء من عقار رقم 590 بجوار مسجد الفتح المبين أعلى جيلانى لبنان تقاطع طريق الكورنيش مع شارع قائد الاسراب ميامى. وأشارت المعاينة الأولية إلى أن العقار مكون من طابق أرضى و6 طوابق علوية وأنه خال من السكان ولا يوجد اصابات والعقار صادر له قرار هدم حتى الطابق الأرضى. تحرر المحضر اللازم بالواقعة وباشرت النيابة التحقيق. | AJ89: https://www.almasryalyoum.com/news/details/4240843
A90: علياء | B90: 88 | C90: 46120 | D90: ابريل 2026 | E90: محافظات الصعيد | F90: الفيوم | G90: منطقة الحواتم | H90: حضري | I90: غير محدد | J90: عقار | K90: منشأة سكنية مشغولة | L90: بناء قديم | M90: منزل القديمة مكون من 4 طوابق | N90: كلي | O90: انهيار المنزل كامل | P90: قدم العقار وتهالكه | Q90: حدوث انهيار جزئي بواجهة منزلين مجاورين للمنزل المتهدم | R90: 0 | S90: 0 | T90: 0 | U90: غير محدد | V90: 0 | W90: 0 | X90: 0 | Y90: غير محدد | Z90: غير محدد | AA90: غير محدد | AB90: غير محدد | AC90: توفير مساعدات مالية وعينية عاجلة للأسر المتضررة من انهيار أحد المنازل بمنطقة الحواتم، بمدينة الفيوم، وتسريع إنهاء إجراءات صرف التعويضات للمتضررين من الحادث، فضلاً عن صرف أغطية وبطاطين ومراتب وتقديم وجبات ساخنة للأسر المتضررة. | AD90: متابعة عملية إخلاء المنازل المتضررة وفصل المرافق عنها، والتنسيق مع الشرطة في فرض كردون أمني حول المنطقة حماية للأرواح، كما وجه "غنيم" لجنة المنشآت الآيلة للسقوط، بسرعة معاينة المنازل المجاورة للمنزل المنهار | AE90: اخلاء | AF90: تم تحرير محضر | AI90: محافظ الفيوم يوجه بتوفير مساعدات عاجلة لعدد من الأسر عقب انهيار منزل بمنطقة الحواتم الأربعاء، 08 أبريل 2026 08:57 م وجّه الدكتور محمد هانئ غنيم محافظ الفيوم، مدير مديرية التضامن الاجتماعي، بتوفير مساعدات مالية وعينية عاجلة للأسر المتضررة من انهيار أحد المنازل بمنطقة الحواتم، بمدينة الفيوم، وتسريع إنهاء إجراءات صرف التعويضات للمتضررين من الحادث، فضلاً عن صرف أغطية وبطاطين ومراتب وتقديم وجبات ساخنة للأسر المتضررة. تفاصيل الواقعة كان محافظ الفيوم، قد تلقى إخطاراً بانهيار أحد المنازل القديمة مكون من 4 طوابق بمنطقة الحواتم، مما أدى إلى حدوث انهيار جزئي بواجهة منزلين مجاورين للمنزل المتهدم، دون حدوث إصابات بين أفراد الأسر التي تقطن هذه المنازل، وعلى الفور، وجه المحافظ، بسرعة إخلاء المنازل المتضررة، وفرض كردون أمني بمحيط الحادث، واتخاذ كافة الإجراءات الاحترازية اللازمة بالتعاون مع قوات الشرطة، والحماية المدنية والمرور والإسعاف، حفاظاً على سلامة أهالي المنطقة. كما وجه محافظ الفيوم، نائب المحافظ، ورئيس مدينة الفيوم، والمتابعة الميدانية، بالمعاينة على الطبيعة لموقع المنزل المنهار، للاطمئنان على سلامة قاطنيه، ومتابعة عملية إخلاء المنازل المتضررة وفصل المرافق عنها، والتنسيق مع الشرطة في فرض كردون أمني حول المنطقة حماية للأرواح، كما وجه "غنيم" لجنة المنشآت الآيلة للسقوط، بسرعة معاينة المنازل المجاورة للمنزل المنهار، للوقوف على ما بها من أضرار. | AJ90: https://www.youm7.com/story/2026/4/8/%D9%85%D8%AD%D8%A7%D9%81%D8%B8-%D8%A7%D9%84%D9%81%D9%8A%D9%88%D9%85-%D9%8A%D9%88%D8%AC%D9%87-%D8%A8%D8%AA%D9%88%D9%81%D9%8A%D8%B1-%D9%85%D8%B3%D8%A7%D8%B9%D8%AF%D8%A7%D8%AA-%D8%B9%D8%A7%D8%AC%D9%84%D8%A9-%D9%84%D8%B9%D8%AF%D8%AF-%D9%85%D9%86-%D8%A7%D9%84%D8%A3%D8%B3%D8%B1-%D8%B9%D9%82%D8%A8/7371194 | AK90: https://www.almasryalyoum.com/news/details/4240339
A91: علياء | B91: 89 | C91: 46121 | D91: ابريل 2026 | E91: المحافظات المركزية | F91: القاهرة | G91: عابدين | H91: حضري | I91: غير محدد | J91: عقار | K91: منشأة سكنية مشغولة | L91: بناء قديم | M91: غير محدد | N91: جزئي | O91: سقوط أسانسي | P91: اعطال فنية | Q91: غير محدد | R91: 1 | S91: 1 | T91: 0 | U91: غير محدد | V91: 1 | W91: 1 | X91: 0 | Y91: غير محدد | Z91: غير محدد | AA91: غير محدد | AB91: غير محدد | AC91: غير محدد | AD91: غير محدد | AE91: معاينة | AF91: تم تحرير محضر | AI91: مصرع شخص وإصابة آخر بسبب سقوط أسانسير فى عابدين الخميس، 09 أبريل 2026 12:32 ص لقي شخص مصرعه وأصيب آخر بعدما سقط بهما أسانسير فى منطقة عابدين وتم نقلهما إلى المستشفى. غرفة العمليات تلقت بلاغا بالحادث تلقت غرفة عمليات النجدة، بلاغًا يفيد بسقوط أسانسير بأشخاص فى عابدين، وانتقل رجال الاسعاف إلى مكان الواقعة، وعثرت على جثة شخص وأصيب آخري بعدما انقطع الواير، وأدى إلى سقوط كابينة الأسانسير بهما، وتحرر محضر بالواقعة، وتولت النيابة العامة التحقيق | AJ91: https://www.youm7.com/story/2026/4/9/%D9%85%D8%B5%D8%B1%D8%B9-%D8%B4%D8%AE%D8%B5-%D9%88%D8%A5%D8%B5%D8%A7%D8%A8%D8%A9-%D8%A2%D8%AE%D8%B1-%D8%A8%D8%B3%D8%A8%D8%A8-%D8%B3%D9%82%D9%88%D8%B7-%D8%A3%D8%B3%D8%A7%D9%86%D8%B3%D9%8A%D8%B1-%D9%81%D9%89-%D8%B9%D8%A7%D8%A8%D8%AF%D9%8A%D9%86/7371335
A92: علياء | B92: 90 | C92: 46121 | D92: ابريل 2026 | E92: المحافظات المركزية | F92: القاهرة | G92: الجمالية | H92: حضري | I92: غير محدد | J92: عقار | K92: منشأة سكنية مشغولة | L92: بناء قديم | M92: غير محدد | N92: جزئي | O92: انهيار سقف الطابق الثانى على الطابق الأول | P92: قدم العقار وتهالكه | Q92: غير محدد | R92: 4 | S92: 2 | T92: 2 | U92: غير محدد | V92: 2 | W92: 1 | X92: 1 | Y92: غير محدد | Z92: غير محدد | AA92: غير محدد | AB92: غير محدد | AC92: غير محدد | AD92: غير محدد | AE92: معاينة | AF92: تم تحرير محضر | AI92: تفاصيل انهيار عقار بالجمالية ومصرع شخصين.. فيديو الجمعة، 10 أبريل 2026 03:08 م قدم تليفزيون اليوم السابع تغطية خاصة حول انهيار عقار بمنطقة الجمالية، حيث لقى شخصان مصرعهما، وأصيب 4 آخرين، جراء انهيار عقار سكني بمنطقة الجمالية في القاهرة. وكشفت المعاينة أنه حدث انهيار سقف الطابق الثانى على الطابق الأول ونتج عنه مصرع شخصين وتم إنقاذ 4 آخرين بمعرفة رجال الحماية المدنية وتم استخراجهم. وأشارت التغطية إلى أن رجال الحماية المدنية انتهوا من عمليات البحث والمعاينة بموقع المنزل ولا يتواجد أى شخص آخر أسفل الانقاض وانتهت عمليات البحث بالكامل. وكانت غرفة العمليات تلقت بلاغا يفيد سقوط جزء من منزل بدائرة قسم الجمالية، وانتقل رجال الإنقاذ إلى مكان البلاغ وتم استخراج جثتين وإنقاذ أشخاص من أسفل الانقاض والانتهاء من عمليات البحث بالكامل. | AJ92: https://www.youm7.com/story/2026/4/10/%D8%AA%D9%81%D8%A7%D8%B5%D9%8A%D9%84-%D8%A7%D9%86%D9%87%D9%8A%D8%A7%D8%B1-%D8%B9%D9%82%D8%A7%D8%B1-%D8%A8%D8%A7%D9%84%D8%AC%D9%85%D8%A7%D9%84%D9%8A%D8%A9-%D9%88%D9%85%D8%B5%D8%B1%D8%B9-%D8%B4%D8%AE%D8%B5%D9%8A%D9%86-%D9%81%D9%8A%D8%AF%D9%8A%D9%88/7372879 | AK92: https://www.youm7.com/story/2026/4/10/%D9%85%D8%B5%D8%B1%D8%B9-%D8%B4%D8%AE%D8%B5%D9%8A%D9%86-%D9%88%D8%A5%D9%86%D9%82%D8%A7%D8%B0-4-%D8%A2%D8%AE%D8%B1%D9%8A%D9%86-%D9%85%D9%86-%D8%A3%D8%B3%D9%81%D9%84-%D8%B1%D9%83%D8%A7%D9%85-%D9%85%D9%86%D8%B2%D9%84-%D8%A7%D9%84%D8%AC%D9%85%D8%A7%D9%84%D9%8A%D8%A9/7372849 | AL92: https://www.youm7.com/story/2026/4/9/%D8%A7%D9%86%D9%87%D9%8A%D8%A7%D8%B1-%D8%AC%D8%B2%D8%A6%D9%89-%D9%84%D9%85%D9%86%D8%B2%D9%84-%D9%81%D9%89-%D8%A7%D9%84%D8%AC%D9%85%D8%A7%D9%84%D9%8A%D8%A9-%D8%AF%D9%88%D9%86-%D8%A5%D8%B5%D8%A7%D8%A8%D8%A7%D8%AA/7372207
A93: علياء | B93: 91 | C93: 46123 | D93: ابريل 2026 | E93: محافظات الدلتا | F93: المنوفية | G93: مدينة السادات | H93: حضري | I93: غير محدد | J93: موقف اتوبيس | K93: منشأة خدمية | L93: بناء قديم | M93: مبنى موقف النقل الجماعي (السيرفيس) | N93: جزئي | O93: انهيار جزئي بسقف | P93: قدم العقار وتهالكه | Q93: تحطيم سيارتين | R93: 0 | S93: 0 | T93: 0 | U93: غير محدد | V93: 0 | W93: 0 | X93: 0 | Y93: غير محدد | Z93: غير محدد | AA93: غير محدد | AB93: غير محدد | AC93: غير محدد | AD93: إزالة المنشأ المتضمن علي الجزء المنهار لعدم صلاحيته من الناحية الانشائية وتمت الإزالة الفورية، بالإضافة لإعداد تقرير فني متكامل لتقييم الحالة الإنشائية وتحديد مدى سلامة المبانين، والأعمال المطلوبة من ترميم وتدعيم وإحلال جزئي أو كلي، إضافة إلى الاستمرار في إزالة كافة آثار الانهيار، وسرعة الانتهاء من التقرير الفني | AE93: ازالة | AF93: تم تحرير محضر | AI93: انهيار جزئي بسقف مبنى موقف النقل الجماعي في مدينة السادات دون إصابات السبت، 11 أبريل 2026 11:07 م شهد موقف النقل الجماعى بمدينة السادات بمحافظة المنوفية، انهيار جزئي بسقف مبنى موقف النقل الجماعي (السيرفيس)حيث سقط جزء من السقف بمساحة تُقدّر بحوالي ٢*٢. انهيار جزئى لموقف النقل الجماعى أكد المهندس محمد عادل رئيس جهاز مدينة السادات بمحافظة المنوفية أن المبنى قديم الإنشاء، حيث تم تنفيذه منذ نشأة المدينة ولا توجد أي خسائر في الأرواح. وتابع: فور تلقينا خبر الحادث على الفور توجهنا إلى موقع الانهيار ووجهت بالآتي: تأمين موقع الانهيار ومنع اقتراب المواطنين حفاظًا على السلامة العامة حيث تم عمل شريط تحذيري. كما تم اتخاذ الإجراءات اللازمة لرفع الأنقاض بشكل آمن، وتكليف المركز القومي للبحوث بإعداد تقرير فني شامل لكافة المنشات الموقع. وأضاف إنه تم إزالة المنشأ المتضمن علي الجزء المنهار لعدم صلاحيته من الناحية الانشائية وتمت الإزالة الفورية، بالإضافة لإعداد تقرير فني متكامل لتقييم الحالة الإنشائية وتحديد مدى سلامة المبانين، والأعمال المطلوبة من ترميم وتدعيم وإحلال جزئي أو كلي، إضافة إلى الاستمرار في إزالة كافة آثار الانهيار، وسرعة الانتهاء من التقرير الفني. كما تم وضع خطة عاجلة لرفع كفاءة وصيانة المنشآت القديمة بالموقف، وتم التعامل الفوري مع الحادث دون وقوع أي إصابات، وجاري اتخاذ الإجراءات الفنية اللازمة لضمان سلامة كافة المنشآت بالموقع، في إطار الحفاظ على الأرواح والممتلكات وتحسين كفاءة البنية التحتية. | AJ93: https://www.youm7.com/story/2026/4/11/%D8%A7%D9%86%D9%87%D9%8A%D8%A7%D8%B1-%D8%AC%D8%B2%D8%A6%D9%8A-%D8%A8%D8%B3%D9%82%D9%81-%D9%85%D8%A8%D9%86%D9%89-%D9%85%D9%88%D9%82%D9%81-%D8%A7%D9%84%D9%86%D9%82%D9%84-%D8%A7%D9%84%D8%AC%D9%85%D8%A7%D8%B9%D9%8A-%D9%81%D9%8A-%D9%85%D8%AF%D9%8A%D9%86%D8%A9-%D8%A7%D9%84%D8%B3%D8%A7%D8%AF%D8%A7%D8%AA/7374374 | AK93: https://www.elbalad.news/6932403
A94: علياء | B94: 92 | C94: 46125 | D94: ابريل 2026 | E94: المحافظات المركزية | F94: الاسكندرية | G94: حي وسط. | H94: حضري | I94: شارع يحيى ابن كثير بمنطقة منشية النزهة | J94: عقار | K94: منشأة سكنية مشغولة | L94: بناء قديم | M94: مكوّن من طابق أرضي و3 طوابق علوية | N94: جزئي | O94: انهيار داخلي سقوط سقف الدور الثالث على الثاني | P94: قدم العقار وتهالكه | Q94: غير محدد | R94: 2 | S94: 1 | T94: 1 | U94: غير محدد | V94: 0 | W94: 0 | X94: 0 | Y94: غير محدد | Z94: صادر له قرار ترميم 188 لسنة 2025 | AA94: ترميم | AB94: لم يتم تنفيذه | AC94: غير محدد | AD94: غير محدد | AE94: معاينة | AF94: تم تحرير محضر | AI94: بعد إصابة شخصين.. العقار المنهار جزئى وسط الإسكندرية صادر له قرار ترميم الإثنين، 13 أبريل 2026 10:00 م تلقت غرفة العمليات الرئيسية ومركز السيطرة بمحافظة الإسكندرية بلاغًا يفيد بوقوع انهيار داخلي بعقار كائن بشارع يحيى ابن كثير بمنطقة منشية النزهة، نطاق حي وسط. و تابع المهندس أيمن عطية محافظ الإسكندرية تداعيات الحادث، موجّهًا الأجهزة التنفيذية المعنية بسرعة التوجه إلى موقع البلاغ، والتعامل الفوري معه، واتخاذ كافة الإجراءات اللازمة لتأمين محيط العقار وحماية المواطنين والمارة. كما توجه اللواء أحمد حبيب السكرتير العام للمحافظة لموقع العقار ، وانتقلت قوات الحماية المدنية وسيارات الإسعاف إلى موقع الحادث، حيث كثفت فرق الإنقاذ جهودها لرفع الأنقاض والبحث عن أي محتجزين. العقار صادر له قرار ترميم وبالفحص، تبيّن أن العقار رقم 27 شارع يحيى ابن كثير، مكوّن من طابق أرضي و3 طوابق علوية، وصادر له قرار ترميم 188 لسنة 2025 وقد تعرض لانهيار داخلي سقوط سقف الدور الثالث على الثاني ، واسفر الحادث عن وجود 2 مصابين ، تم نقلهم لتلقي الرعاية الطبية اللازمة وبحالة مستقرة. كردون أمني بمحيط العقار وفي السياق ذاته، قامت الأجهزة التنفيذية بحي وسط بفرض كردون أمني بمحيط العقار، ووضع الحواجز اللازمة لتأمين المنطقة وتنظيم الحركة، مع اتخاذ الإجراءات اللازمة حيال الأجزاء التي تمثل خطورة داهمة، والتأكد من سلامة العقارات المجاورة. وتتابع محافظة الإسكندرية الموقف لحظة بلحظة، مع استمرار أعمال الفحص والمعاينة، واتخاذ كافة الإجراءات القانونية اللازمة حيال الواقعة . | AJ94: https://www.youm7.com/story/2026/4/13/%D8%A8%D8%B9%D8%AF-%D8%A5%D8%B5%D8%A7%D8%A8%D8%A9-%D8%B4%D8%AE%D8%B5%D9%8A%D9%86-%D8%A7%D9%84%D8%B9%D9%82%D8%A7%D8%B1-%D8%A7%D9%84%D9%85%D9%86%D9%87%D8%A7%D8%B1-%D8%AC%D8%B2%D8%A6%D9%89-%D9%88%D8%B3%D8%B7-%D8%A7%D9%84%D8%A5%D8%B3%D9%83%D9%86%D8%AF%D8%B1%D9%8A%D8%A9-%D8%B5%D8%A7%D8%AF%D8%B1-%D9%84%D9%87/7376577 | AK94: https://www.youm7.com/story/2026/4/13/%D8%A7%D9%86%D9%87%D9%8A%D8%A7%D8%B1-%D8%AF%D8%A7%D8%AE%D9%84%D9%8A-%D8%A8%D8%B9%D9%82%D8%A7%D8%B1-%D9%81%D9%8A-%D9%85%D9%86%D8%B4%D9%8A%D8%A9-%D8%A7%D9%84%D9%86%D8%B2%D9%87%D8%A9-%D8%A8%D8%A7%D9%84%D8%A5%D8%B3%D9%83%D9%86%D8%AF%D8%B1%D9%8A%D8%A9-%D9%88%D8%A5%D9%86%D9%82%D8%A7%D8%B0-%D8%B9%D8%A7%D9%84%D9%82%D9%8A%D9%86/7376490 | AL94: https://www.youm7.com/story/2026/4/13/%D8%A5%D8%B5%D8%A7%D8%A8%D8%A9-%D8%B4%D8%AE%D8%B5%D9%8A%D9%86-%D9%81%D9%89-%D8%A7%D9%86%D9%87%D9%8A%D8%A7%D8%B1-%D8%B3%D9%82%D9%81-%D8%B9%D9%82%D8%A7%D8%B1-%D8%A8%D8%A7%D9%84%D8%A5%D8%B3%D9%83%D9%86%D8%AF%D8%B1%D9%8A%D8%A9/7376511 | AM94: https://www.almasryalyoum.com/news/details/4244851 | AN94: https://www.elbalad.news/6934952
A95: علياء | B95: 93 | C95: 46125 | D95: ابريل 2026 | E95: محافظات الصعيد | F95: الأقصر | G95: مركز ومدينة إسنا جنوب الأقصر | H95: ريفي | I95: غير محدد | J95: عقار خالي | K95: منشأة سكنية خالية | L95: بناء قديم | M95: مبنى دور أرضي بدون سقف | N95: جزئي | O95: انهيار جزئي | P95: قدم العقار وتهالكه | Q95: غير محدد | R95: 0 | S95: 0 | T95: 0 | U95: غير محدد | V95: 0 | W95: 0 | X95: 0 | Y95: غير محدد | Z95: غير محدد | AA95: غير محدد | AB95: غير محدد | AC95: غير محدد | AD95: تم إرسال لودر وحفار وجاك همر بقيادة مدير الحملة محمد الطاهر السائق جاد الحضرى الحضرة، بالإضافة إلى رافعة لرفع الأنقاض لإزالة الأجزاء التي تشكل خطورة على المارة نتيجة الانهيار المفاجئ. | AE95: ازالة | AF95: تم تحرير محضر | AI95: انهيار جزئى لمبنى دور أرضى بدون سقف بمدينة إسنا دون مصابين الإثنين، 13 أبريل 2026 03:12 م الأقصر – أحمد مرعى شهد مركز ومدينة إسنا جنوب محافظة الأقصر، اليوم الإثنين، إنهيار جزئي مفاجئ في مبنى دور أرضي بدون سقف دون مصابين أو خسائر بشرية، وعلى الفور أصدر السيد العميد أحمد الهواري، رئيس مركز ومدينة إسنا، تعليماته بالتحرك السريع. قيادات إسنا يتحركون وإرسال لودر وحفار وجاك همر لموقع الحادث وفى هذا الصدد انتقل كل من حازم راغب نائب رئيس المدينة، والمهندس محمد أبو الفضل، مدير التنظيم، وحسين نصر، مسؤول المنشآت الآيلة للسقوط، إلى الموقع لمتابعة الحادث وآثار إنهيار المنزل، حيث تم إرسال لودر وحفار وجاك همر بقيادة مدير الحملة محمد الطاهر السائق جاد الحضرى الحضرة، بالإضافة إلى رافعة لرفع الأنقاض لإزالة الأجزاء التي تشكل خطورة على المارة نتيجة الانهيار المفاجئ. رئيس مدينة إسنا يبحث شكاوى المواطنين في لقاء اليوم المفتوح بقرية أصفون وكان قد عقد اللواء أحمد الهواري رئيس مركز ومدينة إسنا جنوب الأقصر، فعاليات اليوم المفتوح داخل قرية أصفون وسط حضور مكثف من الأهالي في لقاء مباشر هدفه الاستماع إلى مشكلاتهم ومطالبهم على أرض الواقع والعمل على إيجاد حلول فورية لها، وذلك فى ضوء توجيهات المهندس عبد المطلب عمارة محافظ الأقصر. رئيس المدينة يستمع للمواطنين بشكل مباشر ويوجه بفحص الشكاوى واستمع رئيس المدينة إلى المواطنين بشكل مباشر ووجه بسرعة فحص جميع الشكاوى المقدمة والعمل على حلها وفق الإمكانيات المتاحة مع التنسيق بين الجهات المختصة لضمان الاستجابة السريعة وتحقيق نتائج ملموسة يشعر بها المواطن، حيث شهد اللقاء حضور حازم راغب نائب رئيس المركز إلى جانب عدد من القيادات التنفيذية بمختلف القطاعات حيث تم طرح عدد من الشكاوى المرتبطة بالخدمات اليومية من بينها مشكلات الصرف الصحي والطرق والنظافة إلى جانب بعض الطلبات الخاصة بالمرافق العامة. | AJ95: https://www.youm7.com/story/2026/4/13/%D8%A7%D9%86%D9%87%D9%8A%D8%A7%D8%B1-%D8%AC%D8%B2%D8%A6%D9%89-%D9%84%D9%85%D8%A8%D9%86%D9%89-%D8%AF%D9%88%D8%B1-%D8%A3%D8%B1%D8%B6%D9%89-%D8%A8%D8%AF%D9%88%D9%86-%D8%B3%D9%82%D9%81-%D8%A8%D9%85%D8%AF%D9%8A%D9%86%D8%A9-%D8%A5%D8%B3%D9%86%D8%A7-%D8%AF%D9%88%D9%86/7376154
