Workbook

Sheet DATA
C1: المسار الزمني | F1: المسار الجغرافي | J1: بيانات العقار | N1: بيانات واقعة الانهيار | R1: بيانات المصابين | V1: بيانات القتلى | Z1: بيانات القرارات السابقة | AC1: بيانات الاجراءات/القرارات اللاحقة للانهيار | AH1: ملاحظات | AI1: بيانات المصادر
A2: اسم المتدرب/ة | B2: كود مسلسل للواقعة | C2: التاريخ | D2: التقسيم الشهري | E2: التقسيم الجغرافي | F2: المحافظة | G2: الدائرة | H2: تصنيف المكان | I2: بيانات تفصيلية لمكان الواقعة كما وردت بالخبر | J2: نوع المنشأة | K2: تصنيف المنشأة | L2: طريقة البناء | M2: بيانات أخري للعقار كما وردت بالخبر | N2: نوع الانهيار | O2: بيانات الجزء المنهار كما ورد بالخبر | P2: سبب الانهيار | Q2: اثار مادية مترتبة علي الواقعة | R2: العدد الإجمالي | S2: ذكور | T2: اناث | U2: بيانات المصابين كما وردت بالخبر | V2: العدد الإجمالي | W2: ذكور | X2: اناث | Y2: بيانات القتلي كما وردت بالخبر | Z2: قرار سابق بترميم او ازالة كما ورد بالخبر | AA2: قرار سابق بترميم او ازالة | AB2: وضع القرار السابق | AC2: بيانات الدعم الرسمي | AD2: اجراءات/قرارات السلطات المحلية | AE2: نوع القرار | AF2: اجراءات السلطات الجنائية | AG2: رقم محضر عن الواقعة | AI2: النص المصدر | AJ2: رابط رسمي 1 | AK2: رابط رسمي 2 | AL2: رابط رسمي 3 | AM2: رابط رسمي 4 | AN2: رابط رسمي 5 | AO2: رابط رسمي 6 | AP2: رابط رسمي 7 | AQ2: رابط صحفي 1 | AR2: رابط صحفي 2 | AS2: رابط صحفي 3 | AT2: رابط صحفي 4 | AU2: رابط صحفي 5
A3: محمود | B3: 1 | C3: 46023 | D3: يناير 2026 | E3: محافظات الصعيد | F3: سوهاج | G3: أخميم | H3: ريفي | I3: قرية جزيرة محروس | J3: منزل | K3: منشأة سكنية خالية | L3: بناء قديم | M3: منزل مبني بالطوب اللبن | N3: كلي | O3: انهيار طابقين | P3: قدم العقار وتهالكه | Q3: لم يسفر الانهيار عن أي إصابات أو أضرار بالمنازل المجاورة. | R3: 0 | S3: 0 | T3: 0 | U3: غير محدد | V3: 0 | W3: 0 | X3: 0 | Y3: غير محدد | Z3: غير محدد | AA3: غير محدد | AB3: غير محدد | AC3: غير محدد | AD3: جارٍ متابعة الموقف ميدانيًا من قبل الجهات المختصة للتأكد من عدم وجود أي خطورة على العقارات المجاورة، | AE3: معاينة | AF3: اخطار/ بلاغ / تحرير محضر | AG3: غير محدد | AI3: انهيار منزل قديم فى قرية بأخميم سوهاج دون إصابات الخميس، 01 يناير 2026 03:44 م انهيار منزل قديم فى قرية بأخميم سوهاج دون إصابات انهيار منزل فيسبوكفيسبوك واتسابواتساب X سوهاج أحمد عبدالعال شهدت قرية جزيرة محروس التابعة لمركز أخميم بمحافظة سوهاج، اليوم الخميس، انهيار منزل قديم مكون من طابقين، دون وقوع أى إصابات أو خسائر فى الأرواح. UAE 44th National Day - Union Flag 00:23 Previous Pause Next 00:15 / 00:52 Mute Fullscreen Copy video url Play / Pause Mute / Unmute Report a problem Language Share Vidverto Player إخطار أمني ومعاينة الموقع وتلقى اللواء الدكتور حسن عبد العزيز مدير أمن سوهاج، إخطارا من الجهات المعنية يفيد بانهيار منزل مبني بالطوب اللبن بقرية جزيرة محروس، دائرة مركز شرطة أخميم شرقى سوهاج، حيث تبين أن المنزل غير مأهول بالسكان ومتهالك منذ فترة. فحص ومعاينة العقار المنهار وبالانتقال والفحص، تبين أن المنزل ملك المواطن محمد العربي بكري عبد الجليل، وهو منزل قديم وخالى من السكان، ولم يسفر الانهيار عن أي إصابات أو أضرار بالمنازل المجاورة. اتخاذ الإجراءات القانونية وتم اتخاذ الإجراءات اللازمة حيال الواقعة، وجارٍ متابعة الموقف ميدانيًا من قبل الجهات المختصة للتأكد من عدم وجود أي خطورة على العقارات المجاورة، مع تحرير المحضر اللازم بالواقعة تمهيدا للعرض على جهات التحقيق المختصة. | AJ3: https://www.youm7.com/story/2026/1/1/%D8%A7%D9%86%D9%87%D9%8A%D8%A7%D8%B1-%D9%85%D9%86%D8%B2%D9%84-%D9%82%D8%AF%D9%8A%D9%85-%D9%81%D9%89-%D9%82%D8%B1%D9%8A%D8%A9-%D8%A8%D8%A3%D8%AE%D9%85%D9%8A%D9%85-%D8%B3%D9%88%D9%87%D8%A7%D8%AC-%D8%AF%D9%88%D9%86-%D8%A5%D8%B5%D8%A7%D8%A8%D8%A7%D8%AA/7254522
A4: محمود | B4: 2 | C4: 46027 | D4: يناير 2026 | E4: المحافظات المركزية | F4: القاهرة | G4: العتبة | H4: حضري | I4: محطة مترو العتبة | J4: محطة مترو | K4: منشأة خدمية | L4: بناء حديث | M4: غير محدد | N4: جزئي | O4: أثناء التعامل مع مصعد معطل في المحطة سقط بشكل مفاجئ | P4: اعطال فنية | R4: 2 | S4: 2 | T4: 0 | U4: عمال الصيانة | V4: 0 | W4: 0 | X4: 0 | Y4: غير محدد | Z4: غير محدد | AA4: غير محدد | AB4: غير محدد | AC4: غير محدد | AD4: الوقوف على أسباب الحادث وملابساته، | AE4: معاينة | AF4: غير محدد | AI4: تفاصيل سقوط مصعد بمحطة مترو العتبة وإصابة فنيين أثناء الصيانة الإثنين، 05 يناير 2026 09:03 م تفاصيل سقوط مصعد بمحطة مترو العتبة وإصابة فنيين أثناء الصيانة تفاصيل سقوط مصعد بمحطة مترو العتبة وإصابة فنيين أثناء الصيانة فيسبوكفيسبوك واتسابواتساب X ▶ 1:25 / 0:00 1x كتب سيد الخلفاوى ​أوضح مصدر مسؤول بوزارة النقل تفاصيل الحادث الذي وقع مساء اليوم بمحطة مترو العتبة التابعة للخط الثاني، مؤكداً أن الواقعة حدثت أثناء إجراء أعمال صيانة دورية لأحد المصاعد الكهربائية بالمحطة. ​تفاصيل الحادث والحالة الصحية للمصابين ​أشار المصدر إلى أنه أثناء التعامل مع المصعد المعطل، سقط بشكل مفاجئ، مما أسفر عن إصابة اثنين من عمال الصيانة التابعين للشركة المختصة، وفور وقوع الحادث، تم التدخل السريع ونقل المصابين إلى أقرب مستشفى لتلقي الإسعافات الأولية والرعاية الطبية اللازمة. ​توضيح بشأن سلامة الركاب وحالة المصعد ​طمأن المصدر جمهور الركاب، مؤكداً أن الحادث لم يسفر عن أي إصابات بين المواطنين أو مستخدمي المترو. وأوضح أن المصعد كان خارج الخدمة ومتوقفاً عن العمل منذ فترة طويلة بسبب وجود عطل فني به، وهو ما جعل منطقة العمل بعيدة عن حركة الركاب المعتادة داخل المحطة. ​رد على الأنباء المتداولة و​يأتى هذا التصريح رداً على ما تم تداوله من أنباء عبر بعض الصفحات حول سقوط مصعد بالمحطة ووقوع إصابات، حيث حسم المصدر الجدل ببيان حقيقة أن الإصابات انحصرت في طاقم الصيانة فقط نتيجة خلل أثناء العمل الفني، وليس نتيجة عطل مفاجئ أثناء استخدام الجمهور للمصعد. | AJ4: https://www.youm7.com/story/2026/1/5/%D8%AA%D9%81%D8%A7%D8%B5%D9%8A%D9%84-%D8%B3%D9%82%D9%88%D8%B7-%D9%85%D8%B5%D8%B9%D8%AF-%D8%A8%D9%85%D8%AD%D8%B7%D8%A9-%D9%85%D8%AA%D8%B1%D9%88-%D8%A7%D9%84%D8%B9%D8%AA%D8%A8%D8%A9-%D9%88%D8%A5%D8%B5%D8%A7%D8%A8%D8%A9-%D9%81%D9%86%D9%8A%D9%8A%D9%86-%D8%A3%D8%AB%D9%86%D8%A7%D8%A1-%D8%A7%D9%84%D8%B5%D9%8A%D8%A7%D9%86%D8%A9/7259094
A5: محمود | B5: 3 | C5: 46029 | D5: يناير 2026 | E5: محافظات الدلتا | F5: القليوبية | G5: القناطر الخيرية | H5: حضري | I5: شارع سويلم المتفرع من شارع ميدان الأزهر بمدينة القناطر الخيرية | J5: منزل | K5: منشأة سكنية خالية | L5: بناء قديم | M5: مبنى سكني قديم مقام على حوائط حاملة وأسقف خشبية بارتفاع دورين، | N5: جزئي | O5: مبنى سكني قديم مقام على حوائط حاملة وأسقف خشبية بارتفاع دورين، وهو خالٍ من السكان، | P5: قدم العقار وتهالكه | R5: 0 | S5: 0 | T5: 0 | U5: غير محدد | V5: 0 | W5: 0 | X5: 0 | Y5: غير محدد | Z5: غير محدد | AA5: غير محدد | AB5: غير محدد | AC5: غير محدد | AD5: وجه محافظ القليوبية بتشكيل لجنة فنية هندسية للانتقال إلى موقع انهيار مبنى قديم خالٍ من السكان بناحية شارع سويلم المتفرع من شارع ميدان الأزهر بمدينة القناطر الخيرية، لمعاينة الموقع ميدانيًا وبيان مدى تأثير الانهيار على العقارات المجاورة، واتخاذ ما يلزم من إجراءات فنية وقانونية عاجلة. | AE5: معاينة | AF5: غير محدد | AI5: محافظ القليوبية يُوجّه بتشكيل لجنة هندسية بعد انهيار جزء من مبنى قديم بالقناطر الخيرية صور الأربعاء 07/يناير/2026 - 11:30 م printer طباعة شارك انهيار عقار انهيار عقار إبراهيم الهواري وجّه المهندس أيمن عطية، محافظ القليوبية، بتشكيل لجنة فنية هندسية للانتقال إلى موقع انهيار مبنى قديم خالٍ من السكان بناحية شارع سويلم المتفرع من شارع ميدان الأزهر بمدينة القناطر الخيرية، لمعاينة الموقع ميدانيًا وبيان مدى تأثير الانهيار على العقارات المجاورة، واتخاذ ما يلزم من إجراءات فنية وقانونية عاجلة. محافظ القليوبية يمازح الأقباط في عيد الميلاد ويؤكد عمق الوحدة الوطنيةمحافظ القليوبية يمازح الأقباط في عيد الميلاد ويؤكد عمق الوحدة الوطنية مدير الصحة بالقليوبية يتابع خطة التأمين الطبي للمواطنين خلال احتفالات عيد الميلادمدير الصحة بالقليوبية يتابع خطة التأمين الطبي للمواطنين خلال احتفالات عيد الميلاد ضبط 24 مخالفة في حملة تموينية بالقليوبيةضبط 24 مخالفة في حملة تموينية بالقليوبية حبس المتهمين بالسطو على آخرين وسرقة كمية كبيرة من السجائر بالقليوبيةحبس المتهمين بالسطو على آخرين وسرقة كمية كبيرة من السجائر بالقليوبية وكان قد انهار جزء من مبنى سكني قديم مقام على حوائط حاملة وأسقف خشبية بارتفاع دورين، وهو خالٍ من السكان، ولم يسفر الحادث عن أي إصابات أو أضرار مادية. تأمين العقارات كما شدد المحافظ على ضرورة تأمين محيط العقار المنهار بالكامل، وفصل المرافق عن الموقع حفاظًا على سلامة المواطنين، مع سرعة رفع الأنقاض وإزالة آثار الانهيار، والتنسيق مع الجهات المعنية لمتابعة الحالة الإنشائية للعقارات المجاورة واتخاذ الإجراءات الوقائية اللازمة حيال أي مبانٍ قد تمثل خطورة داهمة، وذلك في إطار حرص المحافظة على سلامة المواطنين وسلامة الممتلكات. | AJ5: https://www.elbalad.news/6827585 | AK5: https://www.youm7.com/story/2026/1/7/%D9%85%D8%AD%D8%A7%D9%81%D8%B8-%D8%A7%D9%84%D9%82%D9%84%D9%8A%D9%88%D8%A8%D9%8A%D8%A9-%D9%8A%D8%B4%D9%83%D9%84-%D9%84%D8%AC%D9%86%D8%A9-%D9%87%D9%86%D8%AF%D8%B3%D9%8A%D8%A9-%D8%A8%D8%B9%D8%AF-%D8%A7%D9%86%D9%87%D9%8A%D8%A7%D8%B1-%D8%AC%D8%B2%D8%A1-%D9%85%D9%86-%D9%85%D8%A8%D9%86%D9%89/7261435 | AL5: https://www.almasryalyoum.com/news/details/4169720
A6: محمود | B6: 4 | C6: 46033 | D6: يناير 2026 | E6: محافظات الدلتا | F6: القليوبية | G6: بنها | H6: حضري | I6: مبنى قديم بشارع بنك مصر بمدينة بنها | J6: منزل | K6: منشأة سكنية خالية | L6: بناء قديم | M6: مبنى قديم بشارع بنك مصر بمدينة بنها، صادر له قرار إزالة كونه خطر داهم من لجنة المنشآت، خال من السكان | N6: جزئي | P6: قدم العقار وتهالكه | R6: 0 | S6: 0 | T6: 0 | U6: غير محدد | V6: 0 | W6: 0 | X6: 0 | Y6: غير محدد | Z6: صادر له قرار إزالة كونه خطر داهم من لجنة المنشآت | AA6: ازالة | AB6: لم يتم تنفيذه | AC6: غير محدد | AD6: وجّه المهندس أيمن عطية، محافظ القليوبية، بتشكيل لجنة فنية هندسية للانتقال إلى موقع انهيار جزئي من مبنى قديم بشارع بنك مصر بمدينة بنها، صادر له قرار إزالة كونه خطر داهم من لجنة المنشآت، لمعاينة الموقع ميدانيًا وبيان مدى تأثير الانهيار على العقارات المجاورة، واتخاذ ما يلزم من إجراءات فنية وقانونية عاجلة. | AE6: معاينة | AF6: غير محدد | AI6: انهيار جزئي لعقار قديم خال من السكان ببنها ومحافظ القليوبية يشكل لجنة لمعاينته الأحد، 11 يناير 2026 04:13 م انهيار جزئي لعقار قديم خال من السكان ببنها ومحافظ القليوبية يشكل لجنة لمعاينته انهيار جزئي لعقار قديم ببنها فيسبوكفيسبوك واتسابواتساب X القليوبية إبراهيم سالم وجّه المهندس أيمن عطية، محافظ القليوبية، بتشكيل لجنة فنية هندسية للانتقال إلى موقع انهيار جزئي من مبنى قديم بشارع بنك مصر بمدينة بنها، صادر له قرار إزالة كونه خطر داهم من لجنة المنشآت، لمعاينة الموقع ميدانيًا وبيان مدى تأثير الانهيار على العقارات المجاورة، واتخاذ ما يلزم من إجراءات فنية وقانونية عاجلة. المبنى خالٍ من السكان ولم يسفر الحادث عن أي إصابات أو أضرار مادية وكشفت محافظة القليوبية، في بيان لها، أنه كان المبنى خالٍ من السكان، ولم يسفر الحادث عن أي إصابات أو أضرار مادية. تأمين محيط العقار بالكامل وفصل المرافق عن الموقع وشدد المحافظ، على ضرورة تأمين محيط العقار بالكامل، وفصل المرافق عن الموقع حفاظًا على سلامة المواطنين، مع سرعة رفع الأنقاض وإزالة آثار الانهيار، والتنسيق مع الجهات المعنية لمتابعة الحالة الإنشائية للعقارات المجاورة، واتخاذ الإجراءات الوقائية اللازمة حيال أي مبانٍ قد تمثل خطورة داهمة، حرصًا على سلامة المواطنين وسلامة الممتلكات. | AJ6: https://www.youm7.com/story/2026/1/11/%D8%A7%D9%86%D9%87%D9%8A%D8%A7%D8%B1-%D8%AC%D8%B2%D8%A6%D9%8A-%D9%84%D8%B9%D9%82%D8%A7%D8%B1-%D9%82%D8%AF%D9%8A%D9%85-%D8%AE%D8%A7%D9%84-%D9%85%D9%86-%D8%A7%D9%84%D8%B3%D9%83%D8%A7%D9%86-%D8%A8%D8%A8%D9%86%D9%87%D8%A7-%D9%88%D9%85%D8%AD%D8%A7%D9%81%D8%B8-%D8%A7%D9%84%D9%82%D9%84%D9%8A%D9%88%D8%A8%D9%8A%D8%A9/7265258 | AK6: https://www.almasryalyoum.com/news/details/4172377 | AL6: https://www.elbalad.news/6831388
A7: محمود | B7: 5 | C7: 46033 | D7: يناير 2026 | E7: محافظات الدلتا | F7: دمياط | G7: عزبة البرج | H7: حضري | I7: ملعب كفر حميدو بمدينة عزبة البرج | J7: ملعب كرة قدم | K7: منشأة رياضية /ترفيهية | L7: بناء قديم | N7: جزئي | O7: انهيار جزء من السور المواجه لنهر النيل | P7: سوء الاحوال الجوية | R7: 0 | S7: 0 | T7: 0 | U7: غير محدد | V7: 0 | W7: 0 | X7: 0 | Y7: غير محدد | Z7: غير محدد | AA7: غير محدد | AB7: غير محدد | AC7: غير محدد | AD7: أصدر وكيل وزارة الشباب والرياضة بدمياط قرارا عاجل بإيقاف تشغيل الملعب ووقف النشاط الرياضي بالكامل، وذلك حفاظًا على سلامة المواطنين لحين الانتهاء من أعمال الصيانة ورفع الكفاءة، مع التأكيد على الالتزام الكامل بتطبيق اشتراطات الأمن والسلامة داخل المنشآت الرياضية. | AE7: معاينة | AF7: غير محدد | AI7: بعد انهيار سور الملعب.. وقف النشاط الرياضي بأحد ملاعب دمياط الأحد، 11 يناير 2026 02:22 م بعد انهيار سور الملعب.. وقف النشاط الرياضي بأحد ملاعب دمياط وكيل الشباب والرياضة بدمياط يتفقد ملاعب المحافظة فيسبوكفيسبوك واتسابواتساب X دمياط - هيثم مراد تابع الدكتور محمد فوزي وكيل وزارة الشباب والرياضة بدمياط، الموقف الطارئ الذي شهده ملعب كفر حميدو بمدينة عزبة البرج، عقب انهيار جزء من السور المواجه لنهر النيل نتيجة شدة الرياح دون وقوع أي إصابات بين المترددين على الملعب. 00:00 Previous Play Next 00:00 / 01:48 Mute Fullscreen Copy video url Play / Pause Mute / Unmute Report a problem Language Share Vidverto Player وقف النشاط الرياضي للملعب وإحالة المسؤولين للتحقيق ومن جانبه أصدر الدكتور محمد فوزي وكيل وزارة الشباب والرياضة بدمياط قرارا عاجل بإيقاف تشغيل الملعب ووقف النشاط الرياضي بالكامل، وذلك حفاظًا على سلامة المواطنين لحين الانتهاء من أعمال الصيانة ورفع الكفاءة، مع التأكيد على الالتزام الكامل بتطبيق اشتراطات الأمن والسلامة داخل المنشآت الرياضية. كما تقرر إيقاف المسئول عن الملاعب وتحويله للتحقيق، للوقوف على أسباب عدم الالتزام بإجراءات الأمن والسلامة، واتخاذ الإجراءات القانونية اللازمة حيال أي تقصير. لجنة لمتابعة الملاعب المفتوحة داخل دمياط علي جانب آخر أصدر وكيل الشباب والرياضة بدمياط تعليماته بشأن تشكيل لجنة لمتابعة ومراجعة جميع الملاعب المفتوحة المتواجدة داخل المحافظة، مؤكداً أن سلامة المواطنين والمنشآت الرياضية تأتي على رأس أولويات المديرية، مشددًا على أن أعمال الصيانة ستتم بشكل عاجل لإعادة تشغيل الملعب في أقرب وقت، وفقًا للمعايير الفنية المعتمدة. | AJ7: https://www.youm7.com/story/2026/1/11/%D8%A8%D8%B9%D8%AF-%D8%A7%D9%86%D9%87%D9%8A%D8%A7%D8%B1-%D8%B3%D9%88%D8%B1-%D8%A7%D9%84%D9%85%D9%84%D8%B9%D8%A8-%D9%88%D9%82%D9%81-%D8%A7%D9%84%D9%86%D8%B4%D8%A7%D8%B7-%D8%A7%D9%84%D8%B1%D9%8A%D8%A7%D8%B6%D9%8A-%D8%A8%D8%A3%D8%AD%D8%AF-%D9%85%D9%84%D8%A7%D8%B9%D8%A8-%D8%AF%D9%85%D9%8A%D8%A7%D8%B7/7265018
A8: محمود | B8: 6 | C8: 46034 | D8: يناير 2026 | E8: مدن القناة | F8: الإسماعيلية | G8: حى ثان الإسماعيلية | H8: حضري | I8: شارع شل بمنطقة الشهداء فى حى ثان الإسماعيلية بمحافظة الإسماعيلية | J8: منزل | K8: منشأة سكنية خالية | L8: بناء قديم | M8: عقار قديم ومهجور مبنى من الطوب اللبن | N8: جزئي | P8: قدم العقار وتهالكه | R8: 0 | S8: 0 | T8: 0 | U8: غير محدد | V8: 0 | W8: 0 | X8: 0 | Y8: غير محدد | Z8: وقع في منطقة منشية الشهداء التابعة لحي ثان في محافظة الإسماعيلية، كان قد صدر له قرار إزالة. | AA8: ازالة | AB8: لم يتم تنفيذه | AC8: غير محدد | AD8: وشرعت الأجهزة المختصة في فحص العقارات المجاورة للتأكد من سلامتها الإنشائية، مع إعداد تقرير فني للوقوف على أسباب الانهيار، واتخاذ الإجراءات القانونية اللازمة حيال الواقعة. | AE8: معاينة | AF8: غير محدد | AI8: سقوط جزء من عقار قديم فى الإسماعيلية دون خسائر بشرية الإثنين، 12 يناير 2026 09:20 ص سقوط جزء من عقار قديم فى الإسماعيلية دون خسائر بشرية العقار المنهار فيسبوكفيسبوك واتسابواتساب X الإسماعيلية - صبرى غانم شهد شارع شل فى حى ثان الإسماعيلية بمحافظة الإسماعيلية سقوط جزء من عقار قديم ومهجور مبنى من الطوب اللبن دون خسائر بشرية. Wadi Rum fly over... 01:10 Previous Pause Next 00:32 / 01:41 Unmute Fullscreen Copy video url Play / Pause Mute / Unmute Report a problem Language Share Vidverto Player بلاغ بسقوط جزء من العقار تلقت الشبكة الوطنية للطوارئ والسلامة العامة بمحافظة الإسماعيلية بلاغا من أحد المواطنين يفيد بسقوط جزء من منزل مهجور فى شارع شل التابع لحى ثان الإسماعيلية دون خسائر فىى الأرواح أو إصابات. تحرك الأجهزة التنفيذية والأمنية بالمحافظة على الفور انتقلت الأجهزة الأمنية والتنفيذية التابعة لحي ثان الإسماعيلية، وتم فصل المرافق عن المنزل، كما قام مسؤلو الحى بواسطة معدات الحى لهدم باقى الأجزاء من العقار حفاظا على الأرواح. وقرر مسؤلو محافظة الإسماعيلية بتشكيل لجنة فنية وهندسية لمعاينة العقار وإعداد تقرير بذلك. | AJ8: https://www.youm7.com/story/2026/1/12/%D8%B3%D9%82%D9%88%D8%B7-%D8%AC%D8%B2%D8%A1-%D9%85%D9%86-%D8%B9%D9%82%D8%A7%D8%B1-%D9%82%D8%AF%D9%8A%D9%85-%D9%81%D9%89-%D8%A7%D9%84%D8%A5%D8%B3%D9%85%D8%A7%D8%B9%D9%8A%D9%84%D9%8A%D8%A9-%D8%AF%D9%88%D9%86-%D8%AE%D8%B3%D8%A7%D8%A6%D8%B1-%D8%A8%D8%B4%D8%B1%D9%8A%D8%A9/7265774 | AK8: https://www.elbalad.news/6831976 | AL8: https://www.elbalad.news/6831973 | AM8: https://www.vetogate.com/5571622
A9: محمود | B9: 7 | C9: 46034 | D9: يناير 2026 | E9: محافظات الدلتا | F9: الدقهلية | G9: ميت غمر | H9: حضري | I9: شارع بورسعيد امام سور المحلج. | J9: منزل | K9: منشأة سكنية مشغولة | L9: بناء قديم | M9: منزل من طابق واحد | N9: جزئي | O9: انهيار سقف خشب على شخص بمنزل مكون من طابق واحد | P9: سوء الاحوال الجوية | R9: 0 | S9: 0 | T9: 0 | U9: غير محدد | V9: 1 | W9: 1 | X9: 0 | Y9: طارق احمد محمود الصبرى 62 عاما مقيم ميت غمر | Z9: غير محدد | AA9: غير محدد | AB9: غير محدد | AC9: غير محدد | AD9: بالانتقال والفحص تبين سقوط سقف خشبي داخل منزل مكوّن من طابق واحد بشارع بورسعيد أمام سور المحلج. | AE9: معاينة | AF9: اخطار/ بلاغ / تحرير محضر | AI9: سقط عليه سقف... مصرع شخص بأحد المراكز بالدقهلية الإثنين 12/يناير/2026 - 04:12 م printer طباعة شارك ارشيفيه ارشيفيه همت الحسينى لقى شخص مصرعه إثر انهيار جزء من مبنى بمدينة ميت غمر بالدقهلية. تلقت مديرية أمن الدقهلية إخطارا من شرطة النجدة يفيد بوقوع حادث انهيار سقف خشب على شخص بمنزل مكون من طابق واحد بشارع بورسعيد امام سور المحلج. محافظ الدقهلية يستقبل وفد الكنيسة في إطار الاحتفالات بالعام الجديدمحافظ الدقهلية يستقبل وفد الكنيسة في إطار الاحتفالات بالعام الجديد الدقهلية: تحرير 32 محضر متنوعا في حملة رقابية على المخابزالدقهلية: تحرير 32 محضر متنوعا في حملة رقابية على المخابز مصرع شخص وإصابة اثنين آخرين في حادث تصادم بالدقهليةمصرع شخص وإصابة اثنين آخرين في حادث تصادم بالدقهلية محافظ الدقهلية يشدد خلال اجتماع لجنة الإعلانات على الالتزام بالمواصفات المقررةمحافظ الدقهلية يشدد خلال اجتماع لجنة الإعلانات على الالتزام بالمواصفات المقررة وانتقل ضباط المباحث وسيارات الاسعاف الى مكان الواقعه وتبين أن المتوفى يدعى طارق احمد محمود الصبرى 62 عاما مقيم ميت غمر. وان السقف أنهار عليه ولقى مصرعه على الفور. وتم نقل الجثة إلى مستشفى ميت غمر وتحرر محضر بالواقعة وتولت النيابة التحقيق. | AJ9: https://www.elbalad.news/6832566 | AK9: https://www.shorouknews.com/news/view.aspx?cdate=12012026&id=837273ff-febb-42d3-bb40-ec6f641bcf31
A10: محمود | B10: 8 | C10: 46034 | D10: يناير 2026 | E10: محافظات الصعيد | F10: سوهاج | G10: دار السلام | H10: ريفي | I10: قرية الخيام | J10: منزل | K10: منشأة سكنية مشغولة | L10: بناء قديم | M10: المنزل مكون من دور أرضي ودور علوي، ومبني بالطين ومسقوف بالعروق الخشبية، وقديم ومتهالك، | N10: كلي | O10: انهيار كلي للمنزل | P10: قدم العقار وتهالكه | R10: 6 | S10: 3 | T10: 3 | U10: أُصيبت نجلة المتوفاه هدى برهام زمباعي 50 سنة | V10: 1 | W10: 0 | X10: 1 | Y10: رتيبة عباس أحمد، 80 سنة | Z10: غير محدد | AA10: غير محدد | AB10: غير محدد | AC10: غير محدد | AD10: كما تم إخطار الجهات المختصة لإجراء المعاينة الهندسية اللازمة، لبيان أسباب الانهيار، وما إذا كان ناتجًا عن تهالك المبنى أو عوامل إنشائية أخرى، تمهيدًا لاتخاذ الإجراءات القانونية اللازمة حيال الواقعة. | AE10: معاينة | AF10: اخطار/ بلاغ / تحرير محضر | AI10: مصرع سيدة وإصابة ابنتها في انهيار منزل بدار السلام سوهاج الإثنين، 12 يناير 2026 02:43 م مصرع سيدة وإصابة ابنتها في انهيار منزل بدار السلام سوهاج مصرع سيدة وإصابة نجلتها في إنهيار منزل فيسبوكفيسبوك واتسابواتساب X سوهاج أحمد عبدالعال لقيت سيدة مسنة مصرعها فور وصولها المستشفى، وأصيبت نجلتها، على إثر انهيار منزل بقرية الخيام التابعة لمركز دار السلام جنوب شرق محافظة سوهاج، وتم استخراج عدد من الأشخاص من أسفل الأنقاض على قيد الحياة وتم تقديم الإسعافات الأولية اللازمة لهم بمكان الواقعة. The Istanbul Winter Express 02:06 Previous Pause Next 01:57 / 02:18 Unmute Fullscreen Copy video url Play / Pause Mute / Unmute Report a problem Language Share Vidverto Player بلاغ عاجل وتحرك أمني ترجع الواقعة عقب تلقى اللواء دكتور حسن عبدالعزيز مساعد الوزير مدير أمن سوهاج بلاغا يفيد بانهيار منزل بدائرة مركز دار السلام، وعلى الفور انتقلت قوات الأمن والحماية المدنية إلى مكان الواقعة. تفاصيل الضحايا أسفر الحادث عن مصرع رتيبة عباس أحمد، 80 سنة، بينما أُصيبت نجلتها هدى برهام زمباعي، 50 سنة، وتم نقل المصابة لتلقي العلاج اللازم، تحت تصرف الجهات الطبية المختصة. إنقاذ 5 أشخاص أحياء وتمكنت قوات الحماية المدنية من استخراج 5 أشخاص على قيد الحياة من أسفل أنقاض المنزل المنهار، وسط جهود مكثفة لرفع الركام والتأكد من عدم وجود ضحايا آخرين. وتبين من الفحص أن المنزل مكون من دور أرضي ودور علوي، ومبني بالطين ومسقوف بالعروق الخشبية، وقديم ومتهالك، ما يرجح أن يكون سبب الانهيار هو تهالك المبنى. كردون أمني واستمرار الفحص وتم فرض كردون أمني بمحيط المنزل حفاظًا على سلامة المواطنين، مع الدفع بالمعدات اللازمة، واستمرار أعمال الفحص بمعرفة الجهات المختصة لبيان أسباب الانهيار، واتخاذ الإجراءات القانونية اللازمة. | AJ10: https://www.youm7.com/story/2026/1/12/%D9%85%D8%B5%D8%B1%D8%B9-%D8%B3%D9%8A%D8%AF%D8%A9-%D9%88%D8%A5%D8%B5%D8%A7%D8%A8%D8%A9-%D8%A7%D8%A8%D9%86%D8%AA%D9%87%D8%A7-%D9%81%D9%8A-%D8%A7%D9%86%D9%87%D9%8A%D8%A7%D8%B1-%D9%85%D9%86%D8%B2%D9%84-%D8%A8%D8%AF%D8%A7%D8%B1-%D8%A7%D9%84%D8%B3%D9%84%D8%A7%D9%85-%D8%B3%D9%88%D9%87%D8%A7%D8%AC/7266341 | AK10: https://www.youm7.com/story/2026/1/12/%D8%A7%D9%86%D9%87%D9%8A%D8%A7%D8%B1-%D9%85%D9%86%D8%B2%D9%84-%D8%A8%D9%82%D8%B1%D9%8A%D8%A9-%D8%A7%D9%84%D8%AE%D9%8A%D8%A7%D9%85-%D8%A8%D8%AF%D8%A7%D8%B1-%D8%A7%D9%84%D8%B3%D9%84%D8%A7%D9%85-%D9%81%D9%89-%D8%B3%D9%88%D9%87%D8%A7%D8%AC-%D9%88%D8%A5%D9%86%D9%82%D8%A7%D8%B0-5/7266239 | AL10: https://www.elbalad.news/6832452
A11: محمود | B11: 9 | C11: 46035 | D11: يناير 2026 | E11: المحافظات المركزية | F11: الجيزة | G11: منشأة القناطر | H11: حضري | I11: منطقة المنصورية | J11: منزل | K11: منشأة سكنية خالية | L11: بناء قديم | M11: منزل قديم | N11: جزئي | O11: انهيار حائط منزل قديم | P11: قدم العقار وتهالكه | R11: 1 | S11: 0 | T11: 1 | U11: أم | V11: 1 | W11: 0 | X11: 1 | Y11: طفلة | Z11: غير محدد | AA11: غير محدد | AB11: غير محدد | AC11: غير محدد | AD11: غير محدد | AE11: معاينة | AF11: اخطار/ بلاغ / تحرير محضر | AI11: انهيار حائط منزل يودي بحياة طفلة ويصيب والدتها بمنشأة القناطر طه أحمد الثلاثاء 13/يناير/2026 - 10:28 م صورة أرشيفية صورة أرشيفية شارك شهدت منطقة المنصورية في منشأة القناطر، بمحافظة الجيزة، حادث انهيار حائط منزل قديم، ما أسفر عن مصرع طفلة وإصابة والدتها وتم نقل الجثة إلى ثلاجة المستشفى تحت تصرف الجهات المختصة. تفاصيل الواقعة وكانت البداية عندما تلقت مديرية أمن الجيزة، بلاغا يفيد مصرع طفلة وإصابة والدتها بمنطقة المنصورية في منشأة القناطر، وبإجراء التحريات الأولية، تبين لرجال المباحث أن حائط منزل قديم سقط علي طفلة ووالدتها. وعلى الفور، انتقلت قوات الأمن لمواقع الحادث، وتمكنت قوات الحماية المدنية في محافظة الجيزة، من رفع ركام الحائط حيث تم العثور علي الطفلة متوفاة والدتها التي تبين اصابتها، وتم نقل الجثة إلى ثلاجة المستشفى العام. وتم اتخاذ الإجراءات القانونية اللازمة، وتولت النيابة المختصة التحقيق لكشف ملابسات الحادث. | AJ11: https://www.algomhor.com/344924 | AK11: https://www.youm7.com/story/2026/1/13/%D8%B3%D9%82%D9%88%D8%B7-%D8%AD%D8%A7%D8%A6%D8%B7-%D9%8A%D9%86%D9%87%D9%89-%D8%AD%D9%8A%D8%A7%D8%A9-%D8%B7%D9%81%D9%84%D8%A9-%D9%81%D9%89-%D8%A7%D9%84%D9%85%D9%86%D8%B5%D9%88%D8%B1%D9%8A%D8%A9-%D8%A8%D9%85%D9%86%D8%B4%D8%A3%D8%A9-%D8%A7%D9%84%D9%82%D9%86%D8%A7%D8%B7%D8%B1/7268124
A12: محمود | B12: 10 | C12: 46036 | D12: يناير 2026 | E12: محافظات الدلتا | F12: القليوبية | G12: شبرا الخيمة | H12: حضري | I12: داخل أحد مصانع الشنط والأحذية بمنطقة إبراهيم بك بشبرا الخيمة بمحافظة القليوبية | J12: مصنع | K12: منشأة تجارية | L12: بناء حديث | M12: أحد مصانع الشنط والأحذية بمنطقة إبراهيم بك بشبرا الخيمة بمحافظة القليوبية | N12: جزئي | O12: سقوط أسانسير | P12: اعطال فنية | R12: 1 | S12: 0 | T12: 1 | U12: غير محدد | V12: 1 | W12: 0 | X12: 1 | Y12: سيدة تبلغ من العمر 38 عاما | Z12: غير محدد | AA12: غير محدد | AB12: غير محدد | AC12: غير محدد | AD12: غير محدد | AE12: معاينة | AF12: اخطار/ بلاغ / تحرير محضر | AI12: مصرع عاملة وإصابة أخرى سقط بهما أسانسير مصنع في شبرا الخيمة الأربعاء 14-01-2026 17:02 كتب: عبد الحكم الجندي سقوط اسانسير سقوط اسانسير تصوير : آخرون Arrow-up A A Arrow-down facebook-icon X-icon whatsapp-icon Copy تمكنت مديرية أمن القليوبية، من كشف غموض حادث سقوط أسانسير داخل أحد المصانع بمنطقة إبراهيم بك بشبرا الخيمة في محافظة القليوبية، والذي أسفر عن مصرع عاملة وإصابة أخرى خلال تأدية عملهما، في المصنع وتم نقل المصابة والمتوفاة لمستشفى ناصر التخصصي، وتحرر محضر بالواقعة، وتولت النيابة التحقيقات. وتلقت الأجهزة الأمنية بالقليوبية، بلاغا بسقوط أسانسير داخل أحد مصانع الشنط والأحذية بمنطقة إبراهيم بك بشبرا الخيمة بمحافظة القليوبية، والذى أسفر عن مصرع عاملة وإصابة أخرى خلال تأدية عملهما. أخبار متعلقة سقوط اسانسير إصابة شخص سقط به أسانسير فى مدينة العبور جامعة بنها - صورة أرشيفية مجلس جامعة بنها يوافق على قبول «أسانسير» كتبرع من الهيئة العربية للتصنيع حادث أسانسير جامعة بنها وزير التعليم العالي يصل جامعة بنها لمتابعة تحقيقات «أسانسير الموت» وانتقلت الأجهزة الأمنية على الفور، وبالمعاينة والفحص تبين أن واير الأسانسير تعرض للانقطاع خلال نقل عاملتين بضاعة داخل المصنع، ما أدى إلى سقوط الأسانسير بشكل مفاجئ، وأسفر عن مصرع إحدى العاملتين، وتبلغ من العمر 38 عاما، في الحال متأثرة بإصابتها، بينما أصيبت عاملة أخرى بإصابات متفرقة. وتم نقل المصابة والمتوفاة إلى مستشفى ناصر العام، تحت تصرف جهات التحقيق المختصة، فيما تم إيداع جثمان المتوفاة بالمشرحة، وتباشر الجهات المختصة التحقيق في الواقعة للوقوف على أسباب الحادث وملابساته، حيث أمرت بانتداب المختصين لفحص الأسانسير وبيان مدى الالتزام باشتراطات السلامة المهنية داخل المصنع، كما كلفت المباحث الجنائية بإجراء التحريات اللازمة، واتخاذ الإجراءات القانونية حيال الواقعة. | AJ12: https://www.almasryalyoum.com/news/details/4174798 | AK12: https://www.youm7.com/story/2026/1/14/%D8%AA%D9%81%D8%A7%D8%B5%D9%8A%D9%84-%D9%85%D8%B5%D8%B1%D8%B9-%D8%B9%D8%A7%D9%85%D9%84%D8%A9-%D9%88%D8%A5%D8%B5%D8%A7%D8%A8%D8%A9-%D8%A3%D8%AE%D8%B1%D9%89-%D8%B3%D9%82%D8%B7-%D8%A8%D9%87%D9%85%D8%A7-%D8%A3%D8%B3%D8%A7%D9%86%D8%B3%D9%8A%D8%B1-%D9%85%D8%B5%D9%86%D8%B9-%D8%A8%D8%B4%D8%A8%D8%B1%D8%A7/7269118
A13: محمود | B13: 11 | C13: 46036 | D13: يناير 2026 | E13: محافظات الدلتا | F13: القليوبية | G13: شبرا الخيمة | H13: حضري | I13: أسانسير داخل أحد العقارات بمنطقة شبرا الخيمة | J13: عقار | K13: منشأة سكنية مشغولة | L13: بناء حديث | M13: أحد العقارات بمنطقة شبرا الخيمة | N13: جزئي | O13: سقوط أسانسير داخل أحد العقارات بمنطقة شبرا الخيمة | P13: اعطال فنية | R13: 1 | S13: 1 | T13: 0 | U13: غير محدد | V13: 1 | W13: 1 | X13: 0 | Y13: غير محدد | Z13: غير محدد | AA13: غير محدد | AB13: غير محدد | AC13: غير محدد | AD13: غير محدد | AE13: معاينة | AF13: اخطار/ بلاغ / تحرير محضر | AI13: التصريح بدفن جثة شخص لقى مصرعه إثر سقوط أسانسير بشبرا الخيمة الأربعاء 14/يناير/2026 - 01:24 م printer طباعة شارك جثةجثة إبراهيم الهواري أصدرت جهات التحقيق المختصة بمحافظة القليوبية، قرارًا بالتصريح بدفن جثة الشخص الذي لقي مصرعه، إثر سقوط أسانسير داخل أحد العقارات بمنطقة شبرا الخيمة، عقب الانتهاء من تقرير الصفة التشريحية. وقررت جهات التحقيق، تكليف المباحث الجنائية، بإجراء التحريات اللازمة حول ملابسات الواقعة وظروفها، إلى جانب الاستعلام عن الحالة الصحية للمصاب وسؤال شهود العيان للوقوف على تفاصيل الحادث. بلاغا بالواقعة وكانت غرفة عمليات النجدة بمديرية أمن القليوبية قد تلقت بلاغًا يفيد بسقوط أسانسير داخل أحد العقارات بدائرة قسم شرطة شبرا الخيمة، ما أسفر عن مصرع شخص وإصابة آخر. محافظ القليوبية: إزالة 99% من أعمال المرحلة محافظ القليوبية: إزالة 99% من أعمال المرحلة "د" من ممشى أهل مصر قطع المياه عن الحي الثاني بمدينة العبور بالقليوبية لمدة 5 ساعاتقطع المياه عن الحي الثاني بمدينة العبور بالقليوبية لمدة 5 ساعات ضبط 8 طن دقيق بلدي مدعم قبل بيعمها في السوق السوداء بالقليوبيةضبط 8 طن دقيق بلدي مدعم قبل بيعمها في السوق السوداء بالقليوبية حيث انتقلت الأجهزة الأمنية وقوات الإسعاف إلى موقع الحادث، وتم نقل الجثمان إلى مشرحة المستشفى، والمصاب لتلقي العلاج، وتحرير محضر بالواقعة تمهيدًا لاتخاذ الإجراءات القانونية اللازمة. | AJ13: https://www.elbalad.news/6834849 | AK13: https://www.cairo24.com/2353113
A14: محمود | B14: 12 | C14: 46037 | D14: يناير 2026 | E14: محافظات الصعيد | F14: أسيوط | G14: أبوتيج | H14: ريفي | I14: انهيار منزل مكوّن من طابقين بقرية البلايزة مأهول بالسكان، | J14: منزل | K14: منشأة سكنية مشغولة | L14: بناء قديم | N14: جزئي | O14: انهيار منزل مكون من طابقين بقرية البلايزة التابعة لمركز أبوتيج في أسيوط | P14: قدم العقار وتهالكه | R14: 3 | S14: 2 | T14: 1 | U14: حامد علي محمد، 85 سنة، بكدمات متفرقة بالجسم. سميرة حامد علي، 47 سنة، باشتباه كسر في الذراع الأيسر. شعبان حامد علي، 58 سنة، باشتباه كسر في الساق الأيسر. | V14: 0 | W14: 0 | X14: 0 | Y14: غير محدد | Z14: غير محدد | AA14: غير محدد | AB14: غير محدد | AC14: غير محدد | AD14: غير محدد | AE14: معاينة | AF14: اخطار/ بلاغ / تحرير محضر | AI14: إصابة 3 أشخاص فى انهيار منزل من طابقين بقرية البلايزة أبوتيج أسيوط الخميس، 15 يناير 2026 11:45 ص إصابة 3 أشخاص فى انهيار منزل من طابقين بقرية البلايزة أبوتيج أسيوط انهيار منزل فيسبوكفيسبوك واتسابواتساب X أسيوط – هيثم البدري أُصيب 3 أشخاص، صباح اليوم، إثر انهيار منزل مكوّن من طابقين بقرية البلايزة التابعة لمركز أبوتيج بمحافظة أسيوط، وتم نقل المصابين إلى مستشفى أبوتيج المركزي لتلقي العلاج اللازم وإجراء الإسعافات الأولية. تلقى اللواء وائل نصار، مدير أمن أسيوط، إخطارًا من غرفة عمليات النجدة، يفيد بورود بلاغ من مأمور مركز شرطة أبوتيج بوقوع حادث انهيار منزل بقرية البلايزة ووجود مصابين. وعلى الفور، انتقلت قوات الأمن، وقوات الحماية المدنية، ورجال الشرطة، وهيئة الإسعاف، والجهات التنفيذية إلى موقع الحادث. The Abandoned Village - Sand Invasion 00:42 Previous Pause Next 00:25 / 00:46 Unmute Fullscreen Copy video url Play / Pause Mute / Unmute Report a problem Language Share Vidverto Player إخطار أمني وانتقال الأجهزة المعنية. تلقى اللواء وائل نصار، مدير أمن أسيوط، إخطارًا من غرفة عمليات النجدة، يفيد بورود بلاغ من مأمور مركز شرطة أبوتيج بوقوع حادث انهيار منزل بقرية البلايزة ووجود مصابين. وعلى الفور، انتقلت قوات الأمن، وقوات الحماية المدنية، ورجال الشرطة، وهيئة الإسعاف، والجهات التنفيذية إلى موقع الحادث. أسماء المصابين وحالاتهم. وكشفت التحريات الأولية، عقب الفحص والمعاينة، عن إصابة كل من: حامد علي محمد، 85 سنة، بكدمات متفرقة بالجسم. سميرة حامد علي، 47 سنة، باشتباه كسر في الذراع الأيسر. شعبان حامد علي، 58 سنة، باشتباه كسر في الساق الأيسر. نقل المصابين وبدء التحقيقات. وتم نقل المصابين إلى مستشفى أبوتيج المركزي لتلقي الرعاية الطبية اللازمة، فيما جرى تحرير محضر بالواقعة، وأُخطرت النيابة العامة التي باشرت التحقيق للوقوف على أسباب الانهيار واتخاذ الإجراءات القانونية اللازمة. | AJ14: https://www.youm7.com/story/2026/1/15/%D8%A5%D8%B5%D8%A7%D8%A8%D8%A9-3-%D8%A3%D8%B4%D8%AE%D8%A7%D8%B5-%D9%81%D9%89-%D8%A7%D9%86%D9%87%D9%8A%D8%A7%D8%B1-%D9%85%D9%86%D8%B2%D9%84-%D9%85%D9%86-%D8%B7%D8%A7%D8%A8%D9%82%D9%8A%D9%86-%D8%A8%D9%82%D8%B1%D9%8A%D8%A9-%D8%A7%D9%84%D8%A8%D9%84%D8%A7%D9%8A%D8%B2%D8%A9/7269803 | AK14: https://gate.ahram.org.eg/News/5460720.aspx | AL14: https://www.elbalad.news/6835954
A15: محمود | B15: 13 | C15: 46038 | D15: يناير 2026 | E15: محافظات الصعيد | F15: أسوان | G15: إدفو | H15: حضري | I15: مدينة إدفو شمال محافظة أسوان | J15: منزل | K15: منشأة سكنية مشغولة | L15: بناء قديم | N15: جزئي | O15: سقوط حائط منزل | P15: قدم العقار وتهالكه | R15: 0 | S15: 0 | T15: 0 | U15: غير محدد | V15: 1 | W15: 1 | X15: 0 | Y15: الشاب محمد بدرى عبد العال، 30 سنة | Z15: غير محدد | AA15: غير محدد | AB15: غير محدد | AC15: غير محدد | AD15: تبين وفاة الشاب محمد . ب. ع 30 سنة، متأثرًا بإصاباته. | AE15: معاينة | AF15: اخطار/ بلاغ / تحرير محضر | AI15: سقوط حائط منزل يُنهى حياة شاب بإدفو شمال أسوان الجمعة، 16 يناير 2026 11:49 ص سقوط حائط منزل يُنهى حياة شاب بإدفو شمال أسوان سيارة اسعاف لنقل المصابين فيسبوكفيسبوك واتسابواتساب X أسوان – عبد الله صلاح لقى شاب مصرعه إثر سقوط حائط أحد المنازل عليه، بمدينة إدفو شمال محافظة أسوان، اليوم، الجمعة، فى حادث مأساوى أسفر عن وفاة شاب يبلغ من العمر 30 عامًا. The Istanbul Winter Express 01:57 Previous Pause Next 00:30 / 02:18 Unmute Fullscreen Copy video url Play / Pause Mute / Unmute Report a problem Language Share Vidverto Player تفاصيل الواقعة تلقت الأجهزة الأمنية، إخطارًا يفيد بسقوط حائط منزل على شخص، وعلى الفور انتقلت سيارات الإسعاف وقوات الأمن إلى موقع الحادث، حيث تبين وفاة الشاب محمد بدرى عبد العال، 30 سنة، متأثرًا بإصاباته. الإجراءات القانونية تم نقل الجثمان إلى مشرحة إدفو تحت تصرف جهات التحقيق، التى باشرت التحقيق للوقوف على أسباب الواقعة، واتخاذ الإجراءات القانونية اللازمة حيال الحادث. | AJ15: https://www.youm7.com/story/2026/1/16/%D8%B3%D9%82%D9%88%D8%B7-%D8%AD%D8%A7%D8%A6%D8%B7-%D9%85%D9%86%D8%B2%D9%84-%D9%8A%D9%8F%D9%86%D9%87%D9%89-%D8%AD%D9%8A%D8%A7%D8%A9-%D8%B4%D8%A7%D8%A8-%D8%A8%D8%A5%D8%AF%D9%81%D9%88-%D8%B4%D9%85%D8%A7%D9%84-%D8%A3%D8%B3%D9%88%D8%A7%D9%86/7270968 | AK15: https://www.elbalad.news/6837021
A16: محمود | B16: 14 | C16: 46038 | D16: يناير 2026 | E16: محافظات الصعيد | F16: قنا | G16: فرشوط | H16: ريفي | I16: قرية الكوم الأحمر التابعة لمركز فرشوط شمال محافظة قنا. | J16: منزل | K16: منشأة سكنية خالية | L16: بناء قديم | M16: انهيار جزئي لمنزل من الطوب اللبن | N16: جزئي | O16: انهيار جزئي لمنزل من الطوب اللبن أثناء هدم المنزل | P16: اعمال انشائية او هدم داخل العقار | R16: 3 | S16: 3 | T16: 0 | U16: تصادف مرورهم بالشارع أثناء الهدم | V16: 0 | W16: 0 | X16: 0 | Y16: غير محدد | Z16: غير محدد | AA16: غير محدد | AB16: غير محدد | AC16: غير محدد | AD16: تبين أنه الانهيار حدث أثناء عملية هدم للمنزل. | AE16: معاينة | AF16: اخطار/ بلاغ / تحرير محضر | AI16: إصابة 3 أشخاص فى انهيار جزئى لمنزل بقنا الجمعة، 16 يناير 2026 11:47 ص إصابة 3 أشخاص فى انهيار جزئى لمنزل بقنا انهيار منزل - ارشيفية فيسبوكفيسبوك واتسابواتساب X قنا صابر سعيد أصيب 3 أشخاص، اليوم الجمعة، في انهيار جزئي لمنزل من الطوب اللبن، بقرية الكوم الأحمر التابعة لمركز فرشوط شمال محافظة قنا. The Istanbul Winter Express 01:56 Previous Pause Next 01:47 / 02:18 Unmute Fullscreen Copy video url Play / Pause Mute / Unmute Report a problem Language Share Vidverto Player الانهيار خلال هدم المنزل تلقت الأجهزة الأمنية بمديرية أمن قنا، إخطارًا من غرفة العمليات يفيد إصابة 3 أشخاص في انهيار جزئي لمنزل من الطوب اللبن، بقرية الكوم الأحمر التابعة لمركز فرشوط شمال محافظة قنا، وتبين أنه الانهيار حدث أثناء عملية هدم للمنزل. تحرر محضر بالواقعة وأخطرت الجهات المختصة لتتولى التحقيقات والتي كلفت وحدة المباحث بالتحري حول الواقعة وكشف ملابساتها ونقل المصابين إلى مستشفى فرشوط. | AJ16: https://www.youm7.com/story/2026/1/16/%D8%A5%D8%B5%D8%A7%D8%A8%D8%A9-3-%D8%A3%D8%B4%D8%AE%D8%A7%D8%B5-%D9%81%D9%89-%D8%A7%D9%86%D9%87%D9%8A%D8%A7%D8%B1-%D8%AC%D8%B2%D8%A6%D9%89-%D9%84%D9%85%D9%86%D8%B2%D9%84-%D8%A8%D9%82%D9%86%D8%A7/7270978 | AK16: https://www.soutalsaeid.com/47045 | AL16: https://akhbarelyom.com/news/newdetails/4758402/1/%D8%A5%D8%B5%D8%A7%D8%A8%D8%A9-3-%D8%A3%D8%B4%D8%AE%D8%A7%D8%B5-%D9%81%D9%8A-%D8%A7%D9%86%D9%87%D9%8A%D8%A7%D8%B1-%D8%AC%D8%B2%D8%A6%D9%8A-%D9%84%D9%85%D9%86%D8%B2%D9%84-%D8%A8%D9%82%D9%86%D8%A7
A17: محمود | B17: 15 | C17: 46039 | D17: يناير 2026 | E17: محافظات الصعيد | F17: قنا | G17: مركز نقادة | H17: ريفي | I17: قرية حاجر المنشية التابعة لمركز نقادة جنوب قنا. | J17: منزل | K17: منشأة سكنية خالية | L17: بناء قديم | M17: انهيار منزل من الطوب اللبن بقرية حاجر المنشية التابعة لمركز نقادة جنوب قنا. | N17: كلي | O17: انهيار منزل من الطوب اللبن | P17: قدم العقار وتهالكه | R17: 2 | S17: 1 | T17: 1 | U17: غير محدد | V17: 0 | W17: 0 | X17: 0 | Y17: غير محدد | Z17: غير محدد | AA17: غير محدد | AB17: غير محدد | AC17: غير محدد | AD17: تبين إصابة شخصين إثر انهيار منزل من الطوب اللبن بقرية حاجر المنشية التابعة لمركز نقادة، وجرى نقلهما إلى مستشفى طوخ بنقادة لتلقي العلاج اللازم. | AE17: معاينة | AF17: اخطار/ بلاغ / تحرير محضر | AI17: إصابة شخصين في حادث انهيار منزل من الطوب اللبن بقنا السبت، 17 يناير 2026 03:11 م إصابة شخصين في حادث انهيار منزل من الطوب اللبن بقنا انهيار منزل - أرشيفية فيسبوكفيسبوك واتسابواتساب X قنا صابر سعيد أصيب شخصان، اليوم السبت، في حادث انهيار منزل من الطوب اللبن بقرية حاجر المنشية التابعة لمركز نقادة جنوب قنا. Error loading media UAE 44th National Day - Union Flag Copy video url Play / Pause Mute / Unmute Report a problem Language Share Vidverto Player نقل المصابين إلى المستشفى تلقت الأجهزة الأمنية بمديرية أمن قنا، إخطارًا من غرفة العمليات يفيد إصابة شخصين حادث انهيار منزل من الطوب اللبن بقرية حاجر المنشية التابعة لمركز نقادة جنوب قنا، وعلى الفور تم الدفع بسيارتي إسعاف لنقل المصابين. تحرر محضر بالواقعة وأخطرت الجهات المختصة لتتولى التحقيقات والتي كلفت وحدة المباحث بالتحري حول الواقعة وكشف ملابساتها ونقل المصابين إلى مستشفى طوخ. | AJ17: https://www.youm7.com/story/2026/1/17/%D8%A5%D8%B5%D8%A7%D8%A8%D8%A9-%D8%B4%D8%AE%D8%B5%D9%8A%D9%86-%D9%81%D9%8A-%D8%AD%D8%A7%D8%AF%D8%AB-%D8%A7%D9%86%D9%87%D9%8A%D8%A7%D8%B1-%D9%85%D9%86%D8%B2%D9%84-%D9%85%D9%86-%D8%A7%D9%84%D8%B7%D9%88%D8%A8-%D8%A7%D9%84%D9%84%D8%A8%D9%86-%D8%A8%D9%82%D9%86%D8%A7/7272353 | AK17: https://www.cairolive24.com/2212779 | AL17: https://www.soutalsaeid.com/47081
A18: محمود | B18: 16 | C18: 46045 | D18: يناير 2026 | E18: محافظات الدلتا | F18: الشرقية | G18: فاقوس | H18: حضري | I18: مبنى "سينما النصر" القديمة بمدينة فاقوس التابعة لمحافظة الشرقية | J18: سينما قديمة | K18: منشأة رياضية /ترفيهية | L18: بناء قديم | M18: أن المبنى قديم وغير مأهول بالسكان وتتم به أعمال هدم، | N18: جزئي | O18: انهيار جزء من مبنى السينما القديم بمدينة فاقوس. | P18: قدم العقار وتهالكه | R18: 4 | S18: 2 | T18: 2 | U18: غير محدد | V18: 1 | W18: 1 | X18: 0 | Y18: أحمد صابر الحداد، 21 عامًا، مقيم بمنطقة المنشية الجديدة | Z18: غير محدد | AA18: غير محدد | AB18: غير محدد | AC18: غير محدد | AD18: جرى الدفع بالمعدات اللازمة من قبل الأجهزة التنفيذية بالمدينة لاستكمال أعمال الهدم، | AE18: ازالة | AF18: اخطار/ بلاغ / تحرير محضر | AI18: مصرع شاب إثر إنهيار جزء من مبنى سينما قديم في الشرقية الجمعة 23-01-2026 23:56 كتب: وليد صالح اسعاف اسعاف تصوير : آخرون Arrow-up A A Arrow-down facebook-icon X-icon whatsapp-icon Copy لقى شاب فى العقد الثانى من عمره مصرعه، متأثراً بالإصابات التى لحقت به، إثر وقوع حادث إنهيار جزء من مبنى سينما قديم «خاص بالأهالي»، بنطاق مدينة فاقوس بمحافظة الشرقية. كانت تلقت الأجهزة الأمنية بالشرقية، إخطاراً يفيد بشأن ما تبلغ لقسم شرطة فاقوس، بانهيار مبنى السينما القديم، بجوار شارع المجيدى، بدائرة القسم. على الفور انتقلت الأجهزة الأمنية، والأجهزة التنفيذية إلى موقع الحادث، وتم الدفع بسيارات الإسعاف تحسباً لوقوع مصابين، وبالفحص تبين أن المبنى قديم وخاص بالأهالى، وأثناء القيام بأعمال الهدم انهارت منه أجزاء، ما أسفر فى وفاة «أحمد. ص » 21 عاماً، ومقيم بدائرة القسم. أخبار متعلقة سيارة إسعاف في مصر - صورة أرشيفية طالب يفقد قدميه في حادث تصادم قطار بـ«تروسيكل» بالشرقية سيارة إسعاف - صورة أرشيفية إصابة 13 عاملاً في حادث انقلاب سيارة بالشرقية ضبط 36 طن دواجن مجهولة المصدر وغير صالحة للاستهلاك الآدمى بمركز بلبيس فى الشرقية ضبط 36 طن دواجن مجهولة المصدر وغير صالحة للاستهلاك الآدمى بمركز بلبيس فى الشرقية وعلى الفور تم فرض كردون بمحيط المبنى حفاظاً على سلامة المارة، وجرى الدفع بالمعدات اللازمة من قبل الأجهزة التنفيذية بالمدينة لاستكمال أعمال الهدم، وتم التحفظ على الجثة بثلاجة حفظ الموتى بالمستشفى تحت تصرف النيابة العامة، وتم تحرير المحضر اللازم للعرض على النيابة العامة لتولى التحقيقات. | AJ18: https://www.almasryalyoum.com/news/details/4182072 | AK18: https://www.youm7.com/story/2026/1/24/%D9%85%D8%B5%D8%B1%D8%B9-%D8%B4%D8%A7%D8%A8-%D8%A5%D8%AB%D8%B1-%D8%A7%D9%86%D9%87%D9%8A%D8%A7%D8%B1-%D8%AC%D8%B2%D8%A1-%D9%85%D9%86-%D9%85%D8%A8%D9%86%D9%89-%D8%A7%D9%84%D8%B3%D9%8A%D9%86%D9%85%D8%A7-%D8%A7%D9%84%D9%82%D8%AF%D9%8A%D9%85-%D8%A8%D9%81%D8%A7%D9%82%D9%88%D8%B3/7279862 | AL18: https://www.masrawy.com/news/news_regions/details/2026/1/24/2930861/-%D8%B3%D9%8A%D9%86%D9%85%D8%A7-%D8%A7%D9%84%D9%86%D8%B5%D8%B1-%D8%AA%D9%86%D9%87%D8%A7%D8%B1-%D9%81%D9%88%D9%82-5-%D8%A3%D8%B5%D8%AF%D9%82%D8%A7%D8%A1-%D8%A8%D8%A7%D9%84%D8%B4%D8%B1%D9%82%D9%8A%D8%A9-%D9%85%D8%B5%D8%B1%D8%B9-%D8%B4%D8%A7%D8%A8-%D9%88%D9%86%D8%AC%D8%A7%D8%A9-%D8%B1%D9%81%D8%A7%D9%82%D9%87
A19: محمود | B19: 17 | C19: 46045 | D19: يناير 2026 | E19: محافظات الصعيد | F19: قنا | G19: قنا | H19: حضري | I19: منطقة الحصواية في مدينة قنا | J19: منزل | K19: منشأة سكنية مشغولة | L19: بناء قديم | M19: منزل من طابق واحد غير مأهول بالسكان في منطقة الحصواية بقنا | N19: كلي | O19: انهيار منزل من طابق واحد مأهول بالسكان | P19: قدم العقار وتهالكه | R19: 0 | S19: 0 | T19: 0 | U19: تم استخراجهم جميعا دون إصابات | V19: 0 | W19: 0 | X19: 0 | Y19: غير محدد | Z19: غير محدد | AA19: غير محدد | AB19: غير محدد | AC19: غير محدد | AD19: وتبين بعد الفحص انهيار منزل مكون من طابق واحد والعناية الإلهية أنقذت سكانه، تم استخراجهم جميعا دون إصابات في منطقة الحصواية. | AE19: معاينة | AF19: اخطار/ بلاغ / تحرير محضر | AI19: انهيار منزل بمنطقة الحصواية فى قنا دون إصابات الجمعة، 23 يناير 2026 03:41 م انهيار منزل بمنطقة الحصواية فى قنا دون إصابات انهيار منزل فيسبوكفيسبوك واتسابواتساب X قنا صابر سعيد تعرض غير مأهول بالسكان، للانهيار في منطقة الحصواية في مدينة قنا، دون إصابات. Dubai Dunes in one Minute 01:33 Previous Pause Next 00:04 / 01:48 Unmute Fullscreen Copy video url Play / Pause Mute / Unmute Report a problem Language Share Vidverto Player انتقال الأجهزة التنفيذية لمكان الانهيار وتلقت الأجهزة الأمنية بمديرية أمن قنا، إخطارًا من غرفة العمليات يفيد انهيار منزل من طابق واحد غير مأهول بالسكان في منطقة الحصواية بقنا، وعلى الفور انتقلت الأجهزة التنفيذية إلى مكان الواقعة. وتحرر محضر بالواقعة وأخطرت الجهات المختصة لتتولى التحقيقات والتي كلفت وحدة المباحث بالتحري حول الواقعة وكشف ملابساتها وجاري رفع آثار الانهيار من جانب الطريق. | AJ19: https://www.youm7.com/story/2026/1/23/%D8%A7%D9%86%D9%87%D9%8A%D8%A7%D8%B1-%D9%85%D9%86%D8%B2%D9%84-%D8%A8%D9%85%D9%86%D8%B7%D9%82%D8%A9-%D8%A7%D9%84%D8%AD%D8%B5%D9%88%D8%A7%D9%8A%D8%A9-%D9%81%D9%89-%D9%82%D9%86%D8%A7-%D8%AF%D9%88%D9%86-%D8%A5%D8%B5%D8%A7%D8%A8%D8%A7%D8%AA/7279501 | AK19: https://www.masrawy.com/news/news_regions/details/2026/1/23/2930613/%D8%B3%D9%82%D8%B7-%D8%A8%D8%A7%D9%84%D9%83%D8%A7%D9%85%D9%84-%D8%A7%D9%86%D9%87%D9%8A%D8%A7%D8%B1-%D9%85%D9%86%D8%B2%D9%84-%D8%A8%D9%85%D9%86%D8%B7%D9%82%D8%A9-%D8%A7%D9%84%D8%AD%D8%B5%D9%88%D8%A7%D9%8A%D8%A9-%D9%81%D9%8A-%D8%A8%D9%86%D8%AF%D8%B1-%D9%82%D9%86%D8%A7 | AL19: https://www.cairo24.com/2358428
A20: محمود | B20: 18 | C20: 46047 | D20: يناير 2026 | E20: المحافظات المركزية | F20: القاهرة | G20: منشأة ناصر | H20: حضري | I20: شارع التوحيد، منطقة الدويقة، حي منشأة ناصر، محافظة القاهرة. | J20: عقار | K20: منشأة سكنية مشغولة | L20: بناء قديم | M20: عقار سكني مكون من طابقين (أرضي وطابق أول)بمنطقة الدويقة شرق القاهرة | N20: جزئي | O20: انهيار جزئي لعقار سكني بمنطقة الدويقة شرق القاهرة | P20: قدم العقار وتهالكه | Q20: تضررت بعض المنازل المجاورة ببعض الشروخ | R20: 3 | S20: 2 | T20: 1 | U20: تم إنقاذهم من تحت المبني المنهار | V20: 0 | W20: 0 | X20: 0 | Y20: غير محدد | Z20: غير محدد | AA20: غير محدد | AB20: غير محدد | AC20: غير محدد | AD20: بدأت أعمال الفحص للتأكد من سلامة المباني المجاورة، مع اتخاذ الإجراءات اللازمة لمنع تعرض المواطنين للخطر. | AE20: معاينة | AF20: اخطار/ بلاغ / تحرير محضر | AI20: بعد استخراج اثنين مصابين.. البحث عن شخص ثالث في انهيار عقار بالدويقة الأحد 25/يناير/2026 - 09:31 م printer طباعة شارك انهيار عقار بالدويقة انهيار عقار بالدويقة إسلام دياب تبحث قوات الانقاذ بالقاهرة عن شخص ثالث تحت أنقاض عقار منهار بالدويقة بمنشأة ناصر في محافظة القاهرة، مساء اليوم الأحد، نتج عنه إصابة اثنين. أسرعت سيارات الإسعاف وقوات الإنقاذ بالقاهرة إلى موقع الحادث لمحاولة إخراج المصابين، ونقلهم إلى المستشفى لتلقي العلاج اللازم. رئيس مجلس الدولة يزور شيخ الأزهر.. لهذا السببرئيس مجلس الدولة يزور شيخ الأزهر.. لهذا السبب مجلس الدولة يوقع بروتوكول أكاديمي مع الجامعات الأوروبية بمصرمجلس الدولة يوقع بروتوكول أكاديمي مع الجامعات الأوروبية بمصر أحكام المحاكم التأديبية بمجلس الدولة رادعة لكل إساءة استخدام سلطة الوظيفة العامةأحكام المحاكم التأديبية بمجلس الدولة رادعة لكل إساءة استخدام سلطة الوظيفة العامة مجلس الدولة يوصي بإلغاء قرار منع السيدات من السفر للسعوديةمجلس الدولة يوصي بإلغاء قرار منع السيدات من السفر للسعودية حظر تصوير أجندات الأحكام بمجلس الدولة وإلغاء الباركود بجلسات المحاكمحظر تصوير أجندات الأحكام بمجلس الدولة وإلغاء الباركود بجلسات المحاكم بعد تعيينه في مجلس النواب.. السيرة الذاتية لـ المستشار عادل عزب رئيس مجلس الدولة السابقبعد تعيينه في مجلس النواب.. السيرة الذاتية لـ المستشار عادل عزب رئيس مجلس الدولة السابق زيارة رئيس مجلس الدولة لـ البابا تواضروس للتهنئة بعيد الميلادزيارة رئيس مجلس الدولة لـ البابا تواضروس للتهنئة بعيد الميلاد ورد بلاغ إلى قوات النجدة بانهيار عقار بالدويقة بمنشأة ناصر، وسط محاولات لاستخراج المصابين من أسفل الأنقاض، وتم استخراج مصابين اثنين حتى الآن. | AJ20: https://www.almasryalyoum.com/news/details/4183458 | AK20: https://m.akhbarelyom.com/news/newdetails/4763225/1/%D8%B9%D9%82%D8%A7%D8%B1-%D8%A7%D9%84%D8%AF%D9%88%D9%8A%D9%82%D8%A9-%D8%A7%D9%84%D9%85%D9%86%D9%87%D8%A7%D8%B1/amp | AL20: https://m.akhbarelyom.com/news/newdetails/4763225/1/%D8%B9%D9%82%D8%A7%D8%B1-%D8%A7%D9%84%D8%AF%D9%88%D9%8A%D9%82%D8%A9-%D8%A7%D9%84%D9%85%D9%86%D9%87%D8%A7%D8%B1/amp
A21: محمود | B21: 19 | C21: 46047 | D21: يناير 2026 | E21: محافظات الصعيد | F21: سوهاج | G21: قسم أول سوهاج | H21: حضري | I21: شارع الحرية أمام قسم أولسوهاج، دون إصابات بشرية | J21: عقار | K21: منشأة سكنية خالية | L21: بناء قديم | N21: جزئي | O21: سقوط أجزاء من الحائط الخارجي للعقار | P21: عقار مخالف فنيا | Q21: تلفيات بسيطة بسيارتين ملاكى كانتا متوقفتين أسفل العقار | R21: 0 | S21: 0 | T21: 0 | U21: غير محدد | V21: 0 | W21: 0 | X21: 0 | Y21: غير محدد | Z21: صادر له قراري إزالة وإخلاء سابقين نظرًا لخطورة حالته الإنشائية | AA21: ازالة واخلاء | AB21: تنفيذ جزئي | AC21: غير محدد | AD21: ، انتقلت قيادات الوحدة المحلية، وقوات الحماية المدنية، ومسؤولو حي شرق سوهاج إلى مكان الواقعة، حيث تم فرض كردون أمني بمحيط العقار حفاظًا على سلامة المواطنين، ومنع اقتراب المارة والسيارات من موقع الانهيار، إلى حين الانتهاء من أعمال الفحص والتأمين. | AE21: ازالة | AF21: اخطار/ بلاغ / تحرير محضر | AI21: انهيار جزئى لحائط عقار فى سوهاج الأحد 25-01-2026 15:04 كتب: أحمد محي الصور الأولى لحادث انهيار أجزاء من عقار بالدقهلية - صورة أرشيفية الصور الأولى لحادث انهيار أجزاء من عقار بالدقهلية - صورة أرشيفية تصوير : آخرون Arrow-up A A Arrow-down facebook-icon X-icon whatsapp-icon Copy تعرض حائط أحد العقارات القديمة لانهيار جزئى، بشارع الحرية أمام قسم أولسوهاج، دون إصابات بشرية. البداية كانت عندما تلقت الأجهزة المختصة فى محافظة سوهاج بلاغ بوقوع انهيار جزئى بحائط عقار صادر له قرارى إزالة وإخلاء، والكائن بشارع الحرية بدائرة قسم أول سوهاج. على الفور انتقلت الجهات المختصة إلى موقع البلاغ، وأسفر الانهيار عن حدوث تلفيات بسيطة بسيارتين ملاكى كانتا متوقفتين أسفل العقار، دون إصابات. أخبار متعلقة ضبط طالبة تنتحل صفة طبيبة انتحلت صفة طبيبة.. ضبط طالبة تدير مركز تجميل وهميًا بسوهاج مسرح جامعة سوهاج الجديد «فراجما» يفتتح العروض على المسرح الجديد لجامعة سوهاج تسمم غذائى بعد تحسن حالتهم.. خروج ربة منزل وأطفالها الـ4 المصابين «باشتباه تسمم» من مستشفى سوهاج تم تحرير محضر بالواقعة وأخطرت الجهات المختصة لتتولى التحقيقات | AJ21: https://www.almasryalyoum.com/news/details/4183229 | AK21: https://www.elbalad.news/6847133
A22: محمود | B22: 20 | C22: 46048 | D22: يناير 2026 | E22: محافظات الصعيد | F22: الأقصر | G22: إسنا | H22: ريفي | I22: قرية جزيرة الكروم التابعة لوحدة الكيمان بمركز ومدينة إسنا جنوب الأقصر | J22: منزل | K22: منشأة سكنية مشغولة | L22: بناء قديم | M22: منزل مكون من طابقين مبنى بالطوب اللبن والمتهالك منذ عدة سنوات | N22: جزئي | O22: انهيار جزئي لمنزل مكون من طابقين مبنى بالطوب اللبن والمتهالك منذ عدة سنوات | P22: قدم العقار وتهالكه | Q22: أسفر الحادث عن خسائر مادية شملت جهاز عروسة وممتلكات أسرتين بالكامل تم دفنهم تحت الأنقاض | R22: 0 | S22: 0 | T22: 0 | U22: غير محدد | V22: 0 | W22: 0 | X22: 0 | Y22: غير محدد | Z22: غير محدد | AA22: غير محدد | AB22: غير محدد | AC22: بحث تقديم المساعدات العاجلة للأسر المتضررة | AD22: خطار الجهات المختصة لمعاينة العقار وبيان أسباب الانهيار، إلى جانب بحث تقديم المساعدات العاجلة للأسر المتضررة. | AE22: معاينة | AF22: اخطار/ بلاغ / تحرير محضر | AH22: المنزل كان مأهول بالسكان، ولكن وقت الإنهيار لم يتواجد أحد داخله وغادر السكان المنزل قبل إنهياره، ولم يسفر عن خسائر بشرية أو إصابات بين الأهالى ملحوظة أخري جزء الخبر الثاني من آخر رابط لليوم السابع إنهيار منزل آيل للسقوط في مدينة إسنا دون مصابين بشارع البحر وكان قد شهد مركز ومدينة إسنا جنوب محافظة الأقصر، إنهيار منزل آيل للسقوط بشارع البحر في المدينة دون مصابين أو خسائر بشرية، حيث أن المنزل متهالك ومغلق منذ عدة سنوات ولا يسكن داخله أحد، وتم إتخاذ الإجراءات اللازمة وحرر محضر بالواقعة وتولت النيابة التحقيق. بداية تفاصيل الواقعة بتلقى غرفة العمليات بمجلس مدينة إسنا، إخطاراً من الأهالى بشارع البحر يفيد بسقوط منزل قديم متهالك وخالى من السكان منذ عدة سنوات، وعلى الفور انتقل فريق من المجلس وقوة أمنية من مركز شرطة إسنا لموقع الحادث، وتبين أن المنزل من طابقين وقديم كان خالى تماماً من السكان، وتم عمل كردون حوله لحين رفع الركام عقب انهياره في الساعات الأولى ، دون مصابين أو خسائر بشرية. | AI22: النيابة تحقق فى واقعة انهيار جزئى لمنزل بالطوب اللبن فى مدينة إسنا.. صور الإثنين، 26 يناير 2026 12:27 م النيابة تحقق فى واقعة انهيار جزئى لمنزل بالطوب اللبن فى مدينة إسنا.. صور إنهيار جزئي لمنزل بالطوب اللبن من طابقين دون مصابين فيسبوكفيسبوك واتسابواتساب X الأقصر – أحمد مرعى شهدت قرية جزيرة الكروم التابعة لوحدة الكيمان بمركز ومدينة إسنا جنوب الأقصر، اليوم الإثنين، انهيار جزئي لمنزل مكون من طابقين مبنى بالطوب اللبن والمتهالك منذ عدة سنوات، وذلك دون مصابين أو خسائر بشرية بين المواطنين، وتم اتخاذ الإجراءات القانونية اللازمة تجاه الواقعة وتولت النيابة العامة للتحقيق. بداية الواقعة بتفاجئ الأهالى بإنهيار المنزل من طابقين بجزيرة الكروم دون إصابات بدأت تفاصيل الواقعة بتلقى غرفة النجدة بمركز ومدينة إسنا، إخطاراً من الأهالى يفيد بوقوع إنهيار جزئي في منزل داخل قرية جزيرة الكروم التابعة لوحدة الكيمان بمركز ومدينة إسنا، وانتقلت على الفور قوة من مجلس المدينة ومعدات المجلس لموقع الحادث، وتبين أن المنزل مكون من طابقين مبنى بالطوب اللبن والمتهالك منذ عدة سنوات. وبالفحص من قبل رجال مركز ومدينة إسنا، ورجال الشرطة والإسعاف تبين أن المنزل كان مأهول بالسكان، ولكن وقت الإنهيار لم يتواجد أحد داخله وغادر السكان المنزل قبل إنهياره، ولم يسفر عن خسائر بشرية أو إصابات بين الأهالى، وتم إتخاذ الإجراءات القانونية اللازمة تجاه الواقعة وتولت النيابة العامة للتحقيق. خسائر مادية بتضرر جهاز عروسة وممتلكات أسرتين في إنهيار المنزل وتبين من خلال فحص رجال مجلس المدينة، إنه أسفر الحادث عن خسائر مادية شملت جهاز عروسة وممتلكات أسرتين بالكامل، وبالمعاينة الأولية تبين أن المنزل ملك المواطن "عبد الوهاب عبد النعيم رمضان"، وهو مسن يقيم بمفرده بالدور الأرضي، فيما يقطن الدور الثاني نجله ربيع عبد الوهاب (58 عامًا) وأسرته المكونة من أربعة أفراد، بالإضافة إلى نجله الآخر البكري عبد الوهاب، وقد أدى الانهيار إلى تهدم كامل محتويات المنزل ودفنها أسفل الأنقاض. وتم فرض كردون أمني بمحيط المنزل المنهار، مع اتخاذ الإجراءات القانونية اللازمة، وإخطار الجهات المختصة لمعاينة العقار وبيان أسباب الانهيار، إلى جانب بحث تقديم المساعدات العاجلة للأسر المتضررة، في إطار الدور المجتمعي للدولة في دعم الأسر الأولى بالرعاية. | AJ22: https://www.youm7.com/story/2026/1/26/%D8%A7%D9%84%D9%86%D9%8A%D8%A7%D8%A8%D8%A9-%D8%AA%D8%AD%D9%82%D9%82-%D9%81%D9%89-%D9%88%D8%A7%D9%82%D8%B9%D8%A9-%D8%A7%D9%86%D9%87%D9%8A%D8%A7%D8%B1-%D8%AC%D8%B2%D8%A6%D9%89-%D9%84%D9%85%D9%86%D8%B2%D9%84-%D8%A8%D8%A7%D9%84%D8%B7%D9%88%D8%A8-%D8%A7%D9%84%D9%84%D8%A8%D9%86-%D9%81%D9%89/7282306 | AK22: https://www.youm7.com/story/2026/1/26/%D8%A7%D9%86%D9%87%D9%8A%D8%A7%D8%B1-%D8%AC%D8%B2%D8%A6%D9%89-%D9%84%D9%85%D9%86%D8%B2%D9%84-%D8%A8%D8%A7%D9%84%D8%B7%D9%88%D8%A8-%D8%A7%D9%84%D9%84%D8%A8%D9%86-%D9%81%D9%89-%D8%AC%D8%B2%D9%8A%D8%B1%D8%A9-%D8%A7%D9%84%D9%83%D8%B1%D9%88%D9%85-%D8%A8%D9%85%D8%AF%D9%8A%D9%86%D8%A9-%D8%A5%D8%B3%D9%86%D8%A7/7282265 | AL22: https://www.almasryalyoum.com/news/details/4183967 | AM22: https://www.youm7.com/story/2026/1/26/%D8%A7%D9%86%D9%87%D9%8A%D8%A7%D8%B1-%D8%AC%D8%B2%D8%A6%D9%89-%D9%84%D9%85%D9%86%D8%B2%D9%84-%D8%A8%D8%A7%D9%84%D8%B7%D9%88%D8%A8-%D8%A7%D9%84%D9%84%D8%A8%D9%86-%D9%81%D9%89-%D8%AC%D8%B2%D9%8A%D8%B1%D8%A9-%D8%A7%D9%84%D9%83%D8%B1%D9%88%D9%85-%D8%A8%D9%85%D8%AF%D9%8A%D9%86%D8%A9-%D8%A5%D8%B3%D9%86%D8%A7/7282265
A23: محمود | B23: 21 | C23: 46050 | D23: يناير 2026 | E23: محافظات الصعيد | F23: قنا | G23: قسم شرطة قنا | H23: ريفي | I23: تعرض منزل من الطوب اللبن، للانهيار في قرية المحروسة التابعة لمركز قنا | J23: منزل | K23: منشأة سكنية مشغولة | L23: بناء قديم | M23: منزل قديم مكون من طابقين ومبنى من الطوب اللبن | N23: كلي | O23: انهيار المنزل المكون من طابقين | P23: قدم العقار وتهالكه | R23: 0 | S23: 0 | T23: 0 | U23: غير محدد | V23: 0 | W23: 0 | X23: 0 | Y23: غير محدد | Z23: غير محدد | AA23: غير محدد | AB23: غير محدد | AC23: غير محدد | AD23: انتقلت الأجهزة المعنية إلى مكان المنزل المنهار، لمتابعة الموقف وإخلاء المنزل المجاور كإجراء احترازى، لضمان سلامة المواطنين، مع واتخاذ الإجراءات اللازمة. | AE23: اخلاء | AF23: اخطار/ بلاغ / تحرير محضر | AI23: انهيار منزل غير مأهول بالسكان في قرية المحروسة بـ قنا الأربعاء 28/يناير/2026 - 10:43 م printer طباعة شارك انهيار منزل بقناانهيار منزل بقنا شهدت قرية المحروسة التابعة لمركز قنا، انهيار منزل مكون من طابقين وغير مأهول بالسكان، دون وقوع أي إصابات أو ضحايا بين الأهالي. تلقت أجهزة الأمن بقنا، إخطاراً من غرفة العمليات، يفيد انهيار طابق مكون من طابقين في قرية المحروسة، دون وقوع أي إصابات أو ضحايا. محافظ قنا يبحث مع القيادات التنفيذية أنسب السبل لتسريع تقنين وضع اليدمحافظ قنا يبحث مع القيادات التنفيذية أنسب السبل لتسريع تقنين وضع اليد محافظ قنا: إقامة 9 معارض محافظ قنا: إقامة 9 معارض "أهلًا رمضان" لتوفير السلع الأساسية بأسعار مخفضة محافظ قنا يقرر حظر وقوف جرارات القصب على الطرق الرئيسية بنقادةمحافظ قنا يقرر حظر وقوف جرارات القصب على الطرق الرئيسية بنقادة زراعة قنا: صرف 86% من الأسمدة الشتوية بنجع حمادي والالتزام بكارت الفلاح شرط أساسيزراعة قنا: صرف 86% من الأسمدة الشتوية بنجع حمادي والالتزام بكارت الفلاح شرط أساسي وتبين أن المنزل مبنى من الطوب اللبن ومكون من طابقين، وجرى إخلائه من السكان نتيجة حدوث تصدعات وانهيارات بجدران المنزل. وانتقلت الأجهزة المعنية إلى مكان المنزل المنهار، لمتابعة الموقف وإخلاء المنزل المجاور كإجراء احترازى، لضمان سلامة المواطنين، مع واتخاذ الإجراءات اللازمة. وتحرر محضر بالواقعة وأخطرت الجهات المختصة لمباشرة التحقيقات واتخاذ الإجراءات القانونية اللازمة. | AJ23: https://www.elbalad.news/6851532
A24: محمود | B24: 22 | C24: 46052 | D24: يناير 2026 | E24: محافظات الصعيد | F24: قنا | G24: مركز نجع حمادي | H24: ريفي | I24: قرية أولاد نجم التابعة لمركز نجع حمادي شمال قنا. | J24: منزل | K24: منشأة سكنية مشغولة | L24: بناء قديم | N24: جزئي | O24: انهيار سور تابع لأحد جيرانهما أثناء تواجدهم بالمنزل عليهما بقرية أولاد نجم التابعة لمركز نجع حمادي | P24: قدم العقار وتهالكه | R24: 2 | S24: 0 | T24: 2 | U24: المصابتين هما: ن.م.ع، تبلغ من العمر 60 عامًا، وابنتها دنيا، تبلغ من العمر 20 عامًا، | V24: 0 | W24: 0 | X24: 0 | Y24: غير محدد | Z24: غير محدد | AA24: غير محدد | AB24: غير محدد | AC24: غير محدد | AD24: وبعد الفحص تبين إصابة أم وابنتها إثر انهيار سور عليهما في قرية أولاد نجم مركز نجع حمادي، | AE24: معاينة | AF24: اخطار/ بلاغ / تحرير محضر | AI24: إصابة سيدة وابنتها إثر انهيار سور منزل جارهم بقرية أولاد نجم في نجع حمادي السبت 31 يناير 2026 12:32 ص أُصيبت سيدة وابنتها، اليوم الجمعة، إثر انهيار سور تابع لأحد جيرانهما عليهما بقرية أولاد نجم التابعة لمركز نجع حمادي، شمالي محافظة قنا، وتم نقلهما إلى المستشفى لتلقي العلاج اللازم. وتبين أن المصابتين هما: ن.م.ع، تبلغ من العمر 60 عامًا، وابنتها دنيا، تبلغ من العمر 20 عامًا، حيث انهار عليهما سور تابع لمنزل جارهم أثناء تواجدهما بجواره داخل القرية. وكانت الأجهزة الأمنية بمديرية أمن قنا قد تلقت إخطارًا من مركز شرطة نجع حمادي، يفيد بانهيار سور على سيدة وابنتها بقرية أولاد نجم بدائرة المركز. وبالانتقال والفحص، جرى انتشال المصابتين من أسفل السور، ونقلهما إلى مستشفى نجع حمادي العام، وتم وضعهما تحت الملاحظة الطبية لتلقي الرعاية اللازمة. وتحرر محضر بالواقعة، وأُخطرت الجهات المختصة لمباشرة التحقيقات، فيما كُلفت وحدة المباحث بالتحري حول الواقعة وكشف ملابساتها. | AJ24: https://betawqit-elnagaa.com/%D8%A5%D8%B5%D8%A7%D8%A8%D8%A9-%D8%B3%D9%8A%D8%AF%D8%A9-%D9%88%D8%A7%D8%A8%D9%86%D8%AA%D9%87%D8%A7-%D8%A5%D8%AB%D8%B1-%D8%A7%D9%86%D9%87%D9%8A%D8%A7%D8%B1-%D8%B3%D9%88%D8%B1-%D9%85%D9%86%D8%B2%D9%84/ | AK24: https://www.youm7.com/story/2026/1/28/%D8%A8%D8%B9%D8%AF-%D8%A5%D8%AE%D9%84%D8%A7%D8%A1-%D8%B3%D9%83%D8%A7%D9%86%D9%87-%D8%A7%D9%86%D9%87%D9%8A%D8%A7%D8%B1-%D9%85%D9%86%D8%B2%D9%84-%D9%85%D9%86-%D8%A7%D9%84%D8%B7%D9%88%D8%A8-%D8%A7%D9%84%D9%84%D8%A8%D9%86-%D8%AF%D9%88%D9%86-%D8%A5%D8%B5%D8%A7%D8%A8%D8%A7%D8%AA/7285405 | AL24: https://www.cairo24.com/2362650
A25: محمود | B25: 23 | C25: 46053 | D25: يناير 2026 | E25: المحافظات المركزية | F25: الاسكندرية | G25: حي وسط | H25: حضري | I25: شارع شجرة الدر أمام مدرسة النهضة النوبية، نطاق قسم شرطة محرم بك | J25: بناء قديم | K25: منشأة سكنية مشغولة | L25: بناء قديم | N25: جزئي | O25: انهيار أجزاء من عقار قديم على شخص أثناء مروره | P25: قدم العقار وتهالكه | R25: 0 | S25: 0 | T25: 0 | U25: غير محدد | V25: 1 | W25: 1 | X25: 0 | Y25: «مهاب، ى، م» 19 سنة، الذى تصادف مروره أسفل العقار وقت وقوع الحادث. | Z25: صادر له قرار ترميم رقم 182 لسنة 1997 | AA25: ترميم | AB25: لم يتم تنفيذه | AC25: غير محدد | AD25: وبالمعاينة تبين أن العقار مكون من طابق أرضي و3 أدوار علوية، وصادر له قرار ترميم رقم 182 لسنة 1997، ويضم شقتين بالطابقين الأول والثاني، فيما سقطت أجزاء منه على الطريق العام. | AE25: معاينة | AF25: اخطار/ بلاغ / تحرير محضر | AI25: 5 قرارات من النيابة في واقعة مصرع شاب إثر انهيار حائط عقار قديم بالاسكندرية السبت 31-01-2026 14:19 كتب: ناصر الشرقاوي جثة فى مشرحة جثة فى مشرحة تصوير : آخرون Arrow-up A A Arrow-down facebook-icon X-icon whatsapp-icon Copy تجرى نيابة محرم بك بالاسكندرية، التحقيق في مصرع شاب، إثر انهيار أجزاء من عقار قديم عليه فى منطقة غربال التابعة لحى وسط بالمحافظة. وأمرت النيابة بندب مفتش الصحة لتوقيع الكشف الطبى على جثة المتوفى، واستدعاء ملاك العقار لسؤالهم، واستدعاء مسؤولى حى وسط، مع التحفظ على ملف العقار بالحى وإحضاره إلى سراى النيابة خشية التلاعب فيه، وسرعة إجراء تحريات المباحث حول الواقعة. ووفق التحريات المبدئية، تبين أن العقار صادر له قرار ترميم منذ عدة سنوات لم ينفذ. أخبار متعلقة ركود فى سوق الذهب بالمحافظات ما بين الركود والترقب.. «المصرى اليوم» ترصد حركة البيع والشراء بمحلات الذهب فى المحافظات (صور) أسعار الياميش فى أسواق الاسكندرية أسعار الياميش فى أسواق الاسكندرية الأرصاد تكشف حالة الطقس اتحاد «أغسطس مع طوبة».. بيان مهم بشأن حالة الطقس: الحرارة تقترب من 30 تلقت الأجهزة الأمنية فى الاسكندرية إخطارًا يفيد بانهيار أجزاء من عقار قديم بشارع شجرة الدر أمام مدرسة النهضة النوبية، نطاق قسم شرطة محرم بك، ووجود حالة وفاة. وعلى الفور انتقل إلى موقع البلاغ مأمور وضباط قسم شرطة محرم بك رفقة قوات الحماية المدنية والأجهزة التنفيذية بحى وسط. وتبين من المعاينة والفحص أن العقار المشار إليه بناء قديم مكون من طابق أرضى وثلاثة أدوار، صادر له قرار ترميم رقم 182 لسنة 1997، ويضم شقتين فى كل من الطابقين الأول والثانى. وأسفر الانهيار عن مصرع «مهاب، ى، م» 19 سنة، الذى تصادف مروره أسفل العقار وقت وقوع الحادث. وتم نقل الجثمان إلى مشرحة كوم الدكة تحت تصرف النيابة العامة، فيما وضعت الأجهزة التنفيذية الحواجز حول العقار لحماية المارة والسيارات، وتحرر المحضر اللازم بالواقعة. | AJ25: https://www.almasryalyoum.com/news/details/4187780 | AK25: https://www.masrawy.com/news/news_regions/details/2026/1/30/2934669/%D8%AA%D8%B5%D8%A7%D8%AF%D9%81-%D9%85%D8%B1%D9%88%D8%B1%D9%87-%D8%A3%D8%B3%D9%81%D9%84%D9%87-%D9%85%D8%B5%D8%B1%D8%B9-%D8%B4%D8%A7%D8%A8-%D8%A5%D8%AB%D8%B1-%D8%A7%D9%86%D9%87%D9%8A%D8%A7%D8%B1-%D8%A3%D8%AC%D8%B2%D8%A7%D8%A1-%D9%85%D9%86-%D8%B9%D9%82%D8%A7%D8%B1-%D9%81%D9%8A-%D8%A7%D9%84%D8%A5%D8%B3%D9%83%D9%86%D8%AF%D8%B1%D9%8A%D8%A9 | AL25: https://gate.ahram.org.eg/News/5481140.aspx
