Workbook

Sheet الاحصائيات
D4: نوع الواقعة بالنسبة للتقسيم الزمني | K4: نوع الواقعة بالنسبة لتصنيف الطريق
E5: اصطدام | F5: انقلاب | G5: تصادم | H5: دهس | I5: الاجمالي | L5: اصطدام | M5: انقلاب | N5: تصادم | O5: دهس | P5: الاجمالي
D6: مايو 2026 | E6: =COUNTIFS(Elmarsd!$I:$I,E$5,Elmarsd!$B:$B,$D6) -> 7 | F6: =COUNTIFS(Elmarsd!$I:$I,F$5,Elmarsd!$B:$B,$D6) -> 25 | G6: =COUNTIFS(Elmarsd!$I:$I,G$5,Elmarsd!$B:$B,$D6) -> 16 | H6: =COUNTIFS(Elmarsd!$I:$I,H$5,Elmarsd!$B:$B,$D6) -> 16 | I6: =SUM(E6:H6) -> 64 | K6: الطريق الدائري | L6: =COUNTIFS(Elmarsd!$I:$I,L$5,Elmarsd!$G:$G,$K6) -> 0 | M6: =COUNTIFS(Elmarsd!$I:$I,M$5,Elmarsd!$G:$G,$K6) -> 0 | N6: =COUNTIFS(Elmarsd!$I:$I,N$5,Elmarsd!$G:$G,$K6) -> 1 | O6: =COUNTIFS(Elmarsd!$I:$I,O$5,Elmarsd!$G:$G,$K6) -> 0 | P6: =SUM(L6:O6) -> 1 | R6: عدد الوفيات ذكور واناث بالنسبة لنوع الواقعة | W6: عدد المصابين ذكور واناث بالنسبة لنوع الواقعة | AB6: عدد الوفيات والمصابين وفق كل محافظة
D7: يونيو 2026 | E7: =COUNTIFS(Elmarsd!$I:$I,E$5,Elmarsd!$B:$B,$D7) -> 3 | F7: =COUNTIFS(Elmarsd!$I:$I,F$5,Elmarsd!$B:$B,$D7) -> 35 | G7: =COUNTIFS(Elmarsd!$I:$I,G$5,Elmarsd!$B:$B,$D7) -> 10 | H7: =COUNTIFS(Elmarsd!$I:$I,H$5,Elmarsd!$B:$B,$D7) -> 18 | I7: =SUM(E7:H7) -> 66 | K7: الطريق الزراعي | L7: =COUNTIFS(Elmarsd!$I:$I,L$5,Elmarsd!$G:$G,$K7) -> 0 | M7: =COUNTIFS(Elmarsd!$I:$I,M$5,Elmarsd!$G:$G,$K7) -> 3 | N7: =COUNTIFS(Elmarsd!$I:$I,N$5,Elmarsd!$G:$G,$K7) -> 1 | O7: =COUNTIFS(Elmarsd!$I:$I,O$5,Elmarsd!$G:$G,$K7) -> 1 | P7: =SUM(L7:O7) -> 5 | S7: ذكور | T7: اناث | U7: الاجمالي | X7: ذكور | Y7: اناث | Z7: الاجمالي | AC7: اجمالي عدد المصابين | AD7: اجمالي عدد الوفيات | AE7: الاجمالي
D8: الاجمالي | E8: =SUM(E6:E7) -> 10 | F8: =SUM(F6:F7) -> 60 | G8: =SUM(G6:G7) -> 26 | H8: =SUM(H6:H7) -> 34 | I8: =SUM(E8:H8) -> 130 | K8: الطريق الصحراوي | L8: =COUNTIFS(Elmarsd!$I:$I,L$5,Elmarsd!$G:$G,$K8) -> 0 | M8: =COUNTIFS(Elmarsd!$I:$I,M$5,Elmarsd!$G:$G,$K8) -> 16 | N8: =COUNTIFS(Elmarsd!$I:$I,N$5,Elmarsd!$G:$G,$K8) -> 2 | O8: =COUNTIFS(Elmarsd!$I:$I,O$5,Elmarsd!$G:$G,$K8) -> 0 | P8: =SUM(L8:O8) -> 18 | R8: اصطدام | S8: =SUMIFS(Elmarsd!AH:AH,Elmarsd!$I:$I,$R8) -> 2 | T8: =SUMIFS(Elmarsd!AI:AI,Elmarsd!$I:$I,$R8) -> 1 | U8: =SUM(S8:T8) -> 3 | W8: اصطدام | X8: =SUMIFS(Elmarsd!AL:AL,Elmarsd!$I:$I,$W8) -> 4 | Y8: =SUMIFS(Elmarsd!AM:AM,Elmarsd!$I:$I,$W8) -> 1 | Z8: =SUM(X8:Y8) -> 5 | AB8: الجيزة | AC8: =SUMIFS(Elmarsd!AJ:AJ,Elmarsd!$D:$D,$AB8) -> 177 | AD8: =SUMIFS(Elmarsd!AF:AF,Elmarsd!$D:$D,$AB8) -> 62 | AE8: =SUM(AC8:AD8) -> 239
K9: سكة حديد | L9: =COUNTIFS(Elmarsd!$I:$I,L$5,Elmarsd!$G:$G,$K9) -> 0 | M9: =COUNTIFS(Elmarsd!$I:$I,M$5,Elmarsd!$G:$G,$K9) -> 0 | N9: =COUNTIFS(Elmarsd!$I:$I,N$5,Elmarsd!$G:$G,$K9) -> 2 | O9: =COUNTIFS(Elmarsd!$I:$I,O$5,Elmarsd!$G:$G,$K9) -> 8 | P9: =SUM(L9:O9) -> 10 | R9: انقلاب | S9: =SUMIFS(Elmarsd!AH:AH,Elmarsd!$I:$I,$R9) -> 26 | T9: =SUMIFS(Elmarsd!AI:AI,Elmarsd!$I:$I,$R9) -> 10 | U9: =SUM(S9:T9) -> 36 | W9: انقلاب | X9: =SUMIFS(Elmarsd!AL:AL,Elmarsd!$I:$I,$W9) -> 119 | Y9: =SUMIFS(Elmarsd!AM:AM,Elmarsd!$I:$I,$W9) -> 87 | Z9: =SUM(X9:Y9) -> 206 | AB9: القاهرة | AC9: =SUMIFS(Elmarsd!AJ:AJ,Elmarsd!$D:$D,$AB9) -> 84 | AD9: =SUMIFS(Elmarsd!AF:AF,Elmarsd!$D:$D,$AB9) -> 13 | AE9: =SUM(AC9:AD9) -> 97
K10: طرق محورية | L10: =COUNTIFS(Elmarsd!$I:$I,L$5,Elmarsd!$G:$G,$K10) -> 1 | M10: =COUNTIFS(Elmarsd!$I:$I,M$5,Elmarsd!$G:$G,$K10) -> 8 | N10: =COUNTIFS(Elmarsd!$I:$I,N$5,Elmarsd!$G:$G,$K10) -> 4 | O10: =COUNTIFS(Elmarsd!$I:$I,O$5,Elmarsd!$G:$G,$K10) -> 1 | P10: =SUM(L10:O10) -> 14 | R10: تصادم | S10: =SUMIFS(Elmarsd!AH:AH,Elmarsd!$I:$I,$R10) -> 14 | T10: =SUMIFS(Elmarsd!AI:AI,Elmarsd!$I:$I,$R10) -> 6 | U10: =SUM(S10:T10) -> 20 | W10: تصادم | X10: =SUMIFS(Elmarsd!AL:AL,Elmarsd!$I:$I,$W10) -> 48 | Y10: =SUMIFS(Elmarsd!AM:AM,Elmarsd!$I:$I,$W10) -> 36 | Z10: =SUM(X10:Y10) -> 84 | AB10: القليوبية | AC10: =SUMIFS(Elmarsd!AJ:AJ,Elmarsd!$D:$D,$AB10) -> 60 | AD10: =SUMIFS(Elmarsd!AF:AF,Elmarsd!$D:$D,$AB10) -> 16 | AE10: =SUM(AC10:AD10) -> 76
K11: طريق داخل المحافظة | L11: =COUNTIFS(Elmarsd!$I:$I,L$5,Elmarsd!$G:$G,$K11) -> 8 | M11: =COUNTIFS(Elmarsd!$I:$I,M$5,Elmarsd!$G:$G,$K11) -> 31 | N11: =COUNTIFS(Elmarsd!$I:$I,N$5,Elmarsd!$G:$G,$K11) -> 13 | O11: =COUNTIFS(Elmarsd!$I:$I,O$5,Elmarsd!$G:$G,$K11) -> 21 | P11: =SUM(L11:O11) -> 73 | R11: دهس | S11: =SUMIFS(Elmarsd!AH:AH,Elmarsd!$I:$I,$R11) -> 21 | T11: =SUMIFS(Elmarsd!AI:AI,Elmarsd!$I:$I,$R11) -> 11 | U11: =SUM(S11:T11) -> 32 | W11: دهس | X11: =SUMIFS(Elmarsd!AL:AL,Elmarsd!$I:$I,$W11) -> 8 | Y11: =SUMIFS(Elmarsd!AM:AM,Elmarsd!$I:$I,$W11) -> 18 | Z11: =SUM(X11:Y11) -> 26 | AB11: الاجمالي | AC11: =SUM(AC8:AC10) -> 321 | AD11: =SUM(AD8:AD10) -> 91 | AE11: =SUM(AC11:AD11) -> 412
D12: عدد الوقائع بالنسبة للمحافظة | K12: طريق سريع | L12: =COUNTIFS(Elmarsd!$I:$I,L$5,Elmarsd!$G:$G,$K12) -> 0 | M12: =COUNTIFS(Elmarsd!$I:$I,M$5,Elmarsd!$G:$G,$K12) -> 0 | N12: =COUNTIFS(Elmarsd!$I:$I,N$5,Elmarsd!$G:$G,$K12) -> 1 | O12: =COUNTIFS(Elmarsd!$I:$I,O$5,Elmarsd!$G:$G,$K12) -> 1 | P12: =SUM(L12:O12) -> 2 | R12: اجمالي | S12: =SUM(S8:S11) -> 63 | T12: =SUM(T8:T11) -> 28 | U12: =SUM(S12:T12) -> 91 | W12: اجمالي | X12: =SUM(X8:X11) -> 179 | Y12: =SUM(Y8:Y11) -> 142 | Z12: =SUM(X12:Y12) -> 321
E13: القاهرة | F13: الجيزة | G13: القليوبية | H13: الاجمالي | K13: كوبري | L13: =COUNTIFS(Elmarsd!$I:$I,L$5,Elmarsd!$G:$G,$K13) -> 1 | M13: =COUNTIFS(Elmarsd!$I:$I,M$5,Elmarsd!$G:$G,$K13) -> 2 | N13: =COUNTIFS(Elmarsd!$I:$I,N$5,Elmarsd!$G:$G,$K13) -> 2 | O13: =COUNTIFS(Elmarsd!$I:$I,O$5,Elmarsd!$G:$G,$K13) -> 1 | P13: =SUM(L13:O13) -> 6
D14: مايو 2026 | E14: =COUNTIFS(Elmarsd!$D:$D,E$13,Elmarsd!$B:$B,$D14) -> 14 | F14: =COUNTIFS(Elmarsd!$D:$D,F$13,Elmarsd!$B:$B,$D14) -> 38 | G14: =COUNTIFS(Elmarsd!$D:$D,G$13,Elmarsd!$B:$B,$D14) -> 12 | H14: =SUM(E14:G14) -> 64 | K14: مزلقان | L14: =COUNTIFS(Elmarsd!$I:$I,L$5,Elmarsd!$G:$G,$K14) -> 0 | M14: =COUNTIFS(Elmarsd!$I:$I,M$5,Elmarsd!$G:$G,$K14) -> 0 | N14: =COUNTIFS(Elmarsd!$I:$I,N$5,Elmarsd!$G:$G,$K14) -> 0 | O14: =COUNTIFS(Elmarsd!$I:$I,O$5,Elmarsd!$G:$G,$K14) -> 1 | P14: =SUM(L14:O14) -> 1
D15: يونيو 2026 | E15: =COUNTIFS(Elmarsd!$D:$D,E$13,Elmarsd!$B:$B,$D15) -> 13 | F15: =COUNTIFS(Elmarsd!$D:$D,F$13,Elmarsd!$B:$B,$D15) -> 39 | G15: =COUNTIFS(Elmarsd!$D:$D,G$13,Elmarsd!$B:$B,$D15) -> 14 | H15: =SUM(E15:G15) -> 66 | K15: الاجمالي | L15: =SUM(L6:L14) -> 10 | M15: =SUM(M6:M14) -> 60 | N15: =SUM(N6:N14) -> 26 | O15: =SUM(O6:O14) -> 34 | P15: =SUM(L15:O15) -> 130
D16: الاجمالي | E16: =SUM(E14:E15) -> 27 | F16: =SUM(F14:F15) -> 77 | G16: =SUM(G14:G15) -> 26 | H16: =SUM(E16:G16) -> 130
K17: نوع الواقعة بالنسبة لتصنيف المركبات
L18: ملاكي | M18: اجرة | N18: ميكروباص/ ميني باص | O18: أتوبيس | P18: إجمالي عدد مركبات الركاب | Q18: ربع نقل | R18: نصف نقل | S18: نقل | T18: ثقيل | U18: زراعي | V18: اجمالي عدد مركبات النقل | W18: توك توك | X18: تروسيكل | Y18: دراجة بخارية | Z18: قطار | AA18: أخرى
K19: اصطدام | L19: =SUMIFS(Elmarsd!K:K,Elmarsd!$I:$I,$K19) -> 9 | M19: =SUMIFS(Elmarsd!L:L,Elmarsd!$I:$I,$K19) -> 0 | N19: =SUMIFS(Elmarsd!M:M,Elmarsd!$I:$I,$K19) -> 2 | O19: =SUMIFS(Elmarsd!N:N,Elmarsd!$I:$I,$K19) -> 0 | P19: =SUMIFS(Elmarsd!O:O,Elmarsd!$I:$I,$K19) -> 11 | Q19: =SUMIFS(Elmarsd!P:P,Elmarsd!$I:$I,$K19) -> 1 | R19: =SUMIFS(Elmarsd!Q:Q,Elmarsd!$I:$I,$K19) -> 0 | S19: =SUMIFS(Elmarsd!R:R,Elmarsd!$I:$I,$K19) -> 0 | T19: =SUMIFS(Elmarsd!S:S,Elmarsd!$I:$I,$K19) -> 0 | U19: =SUMIFS(Elmarsd!T:T,Elmarsd!$I:$I,$K19) -> 0 | V19: =SUMIFS(Elmarsd!U:U,Elmarsd!$I:$I,$K19) -> 1 | W19: =SUMIFS(Elmarsd!V:V,Elmarsd!$I:$I,$K19) -> 0 | X19: =SUMIFS(Elmarsd!W:W,Elmarsd!$I:$I,$K19) -> 1 | Y19: =SUMIFS(Elmarsd!X:X,Elmarsd!$I:$I,$K19) -> 2 | Z19: =SUMIFS(Elmarsd!Y:Y,Elmarsd!$I:$I,$K19) -> 0 | AA19: =SUMIFS(Elmarsd!Z:Z,Elmarsd!$I:$I,$K19) -> 0
K20: انقلاب | L20: =SUMIFS(Elmarsd!K:K,Elmarsd!$I:$I,$K20) -> 16 | M20: =SUMIFS(Elmarsd!L:L,Elmarsd!$I:$I,$K20) -> 0 | N20: =SUMIFS(Elmarsd!M:M,Elmarsd!$I:$I,$K20) -> 24 | O20: =SUMIFS(Elmarsd!N:N,Elmarsd!$I:$I,$K20) -> 2 | P20: =SUMIFS(Elmarsd!O:O,Elmarsd!$I:$I,$K20) -> 42 | Q20: =SUMIFS(Elmarsd!P:P,Elmarsd!$I:$I,$K20) -> 1 | R20: =SUMIFS(Elmarsd!Q:Q,Elmarsd!$I:$I,$K20) -> 0 | S20: =SUMIFS(Elmarsd!R:R,Elmarsd!$I:$I,$K20) -> 8 | T20: =SUMIFS(Elmarsd!S:S,Elmarsd!$I:$I,$K20) -> 4 | U20: =SUMIFS(Elmarsd!T:T,Elmarsd!$I:$I,$K20) -> 0 | V20: =SUMIFS(Elmarsd!U:U,Elmarsd!$I:$I,$K20) -> 13 | W20: =SUMIFS(Elmarsd!V:V,Elmarsd!$I:$I,$K20) -> 0 | X20: =SUMIFS(Elmarsd!W:W,Elmarsd!$I:$I,$K20) -> 1 | Y20: =SUMIFS(Elmarsd!X:X,Elmarsd!$I:$I,$K20) -> 6 | Z20: =SUMIFS(Elmarsd!Y:Y,Elmarsd!$I:$I,$K20) -> 0 | AA20: =SUMIFS(Elmarsd!Z:Z,Elmarsd!$I:$I,$K20) -> 1
K21: تصادم | L21: =SUMIFS(Elmarsd!K:K,Elmarsd!$I:$I,$K21) -> 31 | M21: =SUMIFS(Elmarsd!L:L,Elmarsd!$I:$I,$K21) -> 1 | N21: =SUMIFS(Elmarsd!M:M,Elmarsd!$I:$I,$K21) -> 15 | O21: =SUMIFS(Elmarsd!N:N,Elmarsd!$I:$I,$K21) -> 1 | P21: =SUMIFS(Elmarsd!O:O,Elmarsd!$I:$I,$K21) -> 48 | Q21: =SUMIFS(Elmarsd!P:P,Elmarsd!$I:$I,$K21) -> 2 | R21: =SUMIFS(Elmarsd!Q:Q,Elmarsd!$I:$I,$K21) -> 0 | S21: =SUMIFS(Elmarsd!R:R,Elmarsd!$I:$I,$K21) -> 4 | T21: =SUMIFS(Elmarsd!S:S,Elmarsd!$I:$I,$K21) -> 4 | U21: =SUMIFS(Elmarsd!T:T,Elmarsd!$I:$I,$K21) -> 0 | V21: =SUMIFS(Elmarsd!U:U,Elmarsd!$I:$I,$K21) -> 10 | W21: =SUMIFS(Elmarsd!V:V,Elmarsd!$I:$I,$K21) -> 3 | X21: =SUMIFS(Elmarsd!W:W,Elmarsd!$I:$I,$K21) -> 2 | Y21: =SUMIFS(Elmarsd!X:X,Elmarsd!$I:$I,$K21) -> 9 | Z21: =SUMIFS(Elmarsd!Y:Y,Elmarsd!$I:$I,$K21) -> 1 | AA21: =SUMIFS(Elmarsd!Z:Z,Elmarsd!$I:$I,$K21) -> 1
C22: نوع الواقعة بالنسبة للمحافظة | K22: دهس | L22: =SUMIFS(Elmarsd!K:K,Elmarsd!$I:$I,$K22) -> 14 | M22: =SUMIFS(Elmarsd!L:L,Elmarsd!$I:$I,$K22) -> 0 | N22: =SUMIFS(Elmarsd!M:M,Elmarsd!$I:$I,$K22) -> 4 | O22: =SUMIFS(Elmarsd!N:N,Elmarsd!$I:$I,$K22) -> 0 | P22: =SUMIFS(Elmarsd!O:O,Elmarsd!$I:$I,$K22) -> 18 | Q22: =SUMIFS(Elmarsd!P:P,Elmarsd!$I:$I,$K22) -> 1 | R22: =SUMIFS(Elmarsd!Q:Q,Elmarsd!$I:$I,$K22) -> 0 | S22: =SUMIFS(Elmarsd!R:R,Elmarsd!$I:$I,$K22) -> 3 | T22: =SUMIFS(Elmarsd!S:S,Elmarsd!$I:$I,$K22) -> 0 | U22: =SUMIFS(Elmarsd!T:T,Elmarsd!$I:$I,$K22) -> 1 | V22: =SUMIFS(Elmarsd!U:U,Elmarsd!$I:$I,$K22) -> 5 | W22: =SUMIFS(Elmarsd!V:V,Elmarsd!$I:$I,$K22) -> 3 | X22: =SUMIFS(Elmarsd!W:W,Elmarsd!$I:$I,$K22) -> 0 | Y22: =SUMIFS(Elmarsd!X:X,Elmarsd!$I:$I,$K22) -> 6 | Z22: =SUMIFS(Elmarsd!Y:Y,Elmarsd!$I:$I,$K22) -> 9 | AA22: =SUMIFS(Elmarsd!Z:Z,Elmarsd!$I:$I,$K22) -> 0
D23: اصطدام | E23: انقلاب | F23: تصادم | G23: دهس | H23: الاجمالي | K23: الاجمالي | L23: =SUM(L19:L22) -> 70 | M23: =SUM(M19:M22) -> 1 | N23: =SUM(N19:N22) -> 45 | O23: =SUM(O19:O22) -> 3 | P23: =SUM(P19:P22) -> 119 | Q23: =SUM(Q19:Q22) -> 5 | R23: =SUM(R19:R22) -> 0 | S23: =SUM(S19:S22) -> 15 | ... AA23: =SUM(AA19:AA22) -> 2
C24: الجيزة | D24: =COUNTIFS(Elmarsd!$I:$I,D$23,Elmarsd!$D:$D,$C24) -> 6 | E24: =COUNTIFS(Elmarsd!$I:$I,E$23,Elmarsd!$D:$D,$C24) -> 36 | F24: =COUNTIFS(Elmarsd!$I:$I,F$23,Elmarsd!$D:$D,$C24) -> 15 | G24: =COUNTIFS(Elmarsd!$I:$I,G$23,Elmarsd!$D:$D,$C24) -> 20 | H24: =SUM(D24:G24) -> 77
C25: القاهرة | D25: =COUNTIFS(Elmarsd!$I:$I,D$23,Elmarsd!$D:$D,$C25) -> 4 | E25: =COUNTIFS(Elmarsd!$I:$I,E$23,Elmarsd!$D:$D,$C25) -> 14 | F25: =COUNTIFS(Elmarsd!$I:$I,F$23,Elmarsd!$D:$D,$C25) -> 3 | G25: =COUNTIFS(Elmarsd!$I:$I,G$23,Elmarsd!$D:$D,$C25) -> 6 | H25: =SUM(D25:G25) -> 27
C26: القليوبية | D26: =COUNTIFS(Elmarsd!$I:$I,D$23,Elmarsd!$D:$D,$C26) -> 0 | E26: =COUNTIFS(Elmarsd!$I:$I,E$23,Elmarsd!$D:$D,$C26) -> 10 | F26: =COUNTIFS(Elmarsd!$I:$I,F$23,Elmarsd!$D:$D,$C26) -> 8 | G26: =COUNTIFS(Elmarsd!$I:$I,G$23,Elmarsd!$D:$D,$C26) -> 8 | H26: =SUM(D26:G26) -> 26
C27: الاجمالي | D27: =SUM(D24:D26) -> 10 | E27: =SUM(E24:E26) -> 60 | F27: =SUM(F24:F26) -> 26 | G27: =SUM(G24:G26) -> 34 | H27: =SUM(D27:G27) -> 130

Sheet Elmarsd
A1: بيانات الواقعة | J1: بيانات المركبات | AD1: بيانات المسئول عن ارتكاب الواقعة | AF1: بيانات الوفيات | AJ1: بيانات المصابين | AQ1: بيانات المصادر
A2: رقم الواقعة | B2: تقسيم زمني | C2: تاريخ الواقعة | D2: المحافظة | E2: الدائرة /قسم الشرطة | F2: مكان الواقعة كما ورد بالخبر | G2: تصنيف الطريق | H2: الواقعة كما وردت بالخبر | I2: نوع الواقعة | J2: اجمالي عدد المركبات | K2: ملاكي | L2: أجرة | M2: ميكروباص/ ميني باص | N2: أتوبيس | O2: إجمالي عدد مركبات الركاب | P2: ربع نقل | Q2: نصف نقل | R2: نقل | S2: ثقيل | T2: زراعي | U2: اجمالي عدد مركبات النقل | V2: توك توك | W2: تروسيكل | X2: دراجة بخارية | Y2: قطار | Z2: أخرى | AA2: اجمالي المركبات الاخري | AB2: ملكية المركبة | AC2: الخسائر مادية | AD2: العدد | AE2: بيانات شخصية (الاسم - السن - النوع - الوظيفة - الجنسية) | AF2: اجمالي عدد الوفيات | AG2: بيانات شخصية (الاسم - السن - النوع - الوظيفة - الجنسية) | AH2: عدد الذكور | AI2: عدد الاناث | AJ2: اجمالي عدد المصابين | AK2: بيانات شخصية (الاسم - السن - النوع - الوظيفة - الجنسية) | AL2: عدد الذكور | AM2: عدد الاناث | AN2: المستشفى | AO2: رقم المحضر/القضية | AP2: ملاحظات | AQ2: نص الخبر | AR2: مصدر 1 | AS2: مصدر 2 | AT2: مصدر 3 | AU2: مصدر 4 | AV2: مصدر 5 | AW2: مصدر 6 | AX2: مصدر 7 | AY2: مصدر 8 | AZ2: مصدر 9 | BA2: مصدر 10 | BB2: مصدر 11 | BC2: مصدر 12 | BD2: مصدر 13 | BE2: مصدر 14 | BF2: مصدر 15 | BG2: مصدر 16 | BH2: مصدر 17 | BI2: مصدر 18 | BJ2: مصدر 19 | BK2: مصدر 20 | BL2: مصدر 21
A3: 1 | B3: مايو 2026 | C3: 46143 | D3: الجيزة | E3: المنيرة الغربية بالجيزة | F3: المنيرة الغربية بالجيزة | G3: سكة حديد | H3: نجاة سائق توك توك صدمه قطار في المنيرة الغربية بالجيزة | I3: تصادم | K3: 0 | L3: 0 | M3: 0 | N3: 0 | O3: =SUM(K3:N3) -> 0 | P3: 0 | Q3: 0 | R3: 0 | S3: 0 | T3: 0 | U3: =SUM(P3:T3) -> 0 | V3: 1 | W3: 0 | X3: 0 | Y3: 1 | Z3: 0 | AA3: =SUM(V3:Z3) -> 2 | AB3: حكومية | AD3: 0 | AE3: غير متاح | AF3: 0 | AG3: غير متاح | AH3: 0 | AI3: 0 | AJ3: 1 | AK3: غير متاح | AL3: 1 | AM3: 0 | AN3: غير متاح | AO3: تم | AP3: سكة حديد في تصنيف الطريق | AQ3: نجا سائق توك توك من الموت، حيث أصيب نتيجة اصطدام قطار به، أثناء عبوره السكة الحديد، في المنيرة الغربية بالجيزة، وتم نقله إلى المستشفى، وتحرر محضر بالواقعة، لتتولى النيابة التحقيق. بلاغ بإصابة سائق توك توك اصطدم به قطار تلقى المقدم طاهر صالح رئيس مباحث قسم شرطة المنيرة الغربية، بلاغا باصطدام قطار بأحد الأشخاص، وتبين من خلال الفحص والتحريات، أن سائق توك توك تم تحديد هويته، اصطدم به قطار أثناء عبوره السكة الحديد، مما أدى إلى إصابته. الاستماع لأقوال شهود عيان تم نقل المصاب إلى المستشفى، واستمع رجال المباحث لأقوال شهود عيان، وتحرر المحضر اللازم، لتباشر النيابة المختصة التحقيق. | AR3: https://www.youm7.com/story/2026/5/1/%D9%86%D8%AC%D8%A7%D8%A9-%D8%B3%D8%A7%D8%A6%D9%82-%D8%AA%D9%88%D9%83-%D8%AA%D9%88%D9%83-%D8%B5%D8%AF%D9%85%D9%87-%D9%82%D8%B7%D8%A7%D8%B1-%D9%81%D9%8A-%D8%A7%D9%84%D9%85%D9%86%D9%8A%D8%B1%D8%A9-%D8%A7%D9%84%D8%BA%D8%B1%D8%A8%D9%8A%D8%A9-%D8%A8%D8%A7%D9%84%D8%AC%D9%8A%D8%B2%D8%A9/7397936
A4: 2 | B4: مايو 2026 | C4: 46143 | D4: الجيزة | E4: الشيخ زايد | F4: طريق الشيخ زايد | G4: طريق داخل المحافظة | H4: انقلبت به السيارة.. مصرع سائق نقل على طريق الشيخ زايد بحادث مروري | I4: انقلاب | K4: 0 | L4: 0 | M4: 0 | N4: 0 | O4: =SUM(K4:N4) -> 0 | P4: 0 | Q4: 0 | R4: 1 | S4: 0 | T4: 0 | U4: =SUM(P4:T4) -> 1 | V4: 0 | W4: 0 | X4: 0 | Y4: 0 | Z4: 0 | AA4: =SUM(V4:Z4) -> 0 | AB4: غير معلوم | AD4: 0 | AE4: غير متاح | AF4: 1 | AG4: غير متاح | AH4: 1 | AI4: 0 | AJ4: 0 | AK4: غير متاح | AL4: 0 | AM4: 0 | AN4: غير متاح | AO4: تم | AP4: طريق الشيخ زايد ده فالجيزة | AQ4: انقلبت به السيارة.. مصرع سائق نقل على طريق الشيخ زايد بحادث مروري لقي سائق مصرعه في حادث مروري بدائرة قسم شرطة الشيخ زايد، وتم نقل الجثمان إلى مشرحة المستشفى تحت تصرف النيابة العامة، وتحرر محضر بالواقعة. وتلقت الأجهزة الأمنية بمديرية أمن الجيزة إخطارًا يفيد بوقوع حادث مروري ووجود متوفى بدائرة قسم شرطة الشيخ زايد. وعلى الفور انتقلت قوة أمنية إلى محل البلاغ، وبالفحص تبين أنه أثناء سير سيارة نقل اختلت عجلة القيادة بيد قائدها، ما أدى إلى انقلاب السيارة ووفاته في الحال متأثرًا بإصابته. وتم نقل الجثمان إلى المشرحة، فيما باشرت النيابة العامة التحقيقات، وأمرت بتشريح الجثة لبيان سبب الوفاة، والتصريح بالدفن عقب الانتهاء من الإجراءات اللازم | AR4: https://www.elbalad.news/6955204
A5: 3 | B5: مايو 2026 | C5: 46144 | D5: الجيزة | E5: قسم شرطة أول الشيخ زايد | F5: الشيج زايد | G5: طريق داخل المحافظة | H5: حاول تجاوز عدد من السيارات ضمن موكب زفاف، إلا أنه فوجئ بتوقف إحدى السيارات أمامه، ما أدى إلى اصطدامه بها من الخلف وحدوث تلفيات. | I5: تصادم | K5: 2 | L5: 0 | M5: 0 | N5: 0 | O5: =SUM(K5:N5) -> 2 | P5: 0 | Q5: 0 | R5: 0 | S5: 0 | T5: 0 | U5: =SUM(P5:T5) -> 0 | V5: 0 | W5: 0 | X5: 0 | Y5: 0 | Z5: 0 | AA5: =SUM(V5:Z5) -> 0 | AB5: خاصة | AD5: 0 | AE5: غير متاح | AF5: 0 | AG5: غير متاح | AH5: 0 | AI5: 0 | AJ5: 1 | AK5: غير متاح | AL5: 1 | AM5: 0 | AN5: غير متاح | AO5: تم | AP5: لايوجد | AQ5: مشاجرة موكب زفاف في الشيخ زايد».. كشف ملابسات الواقعة والقبض على المتهمين كشفت الأجهزة الأمنية بوزارة الداخلية ملابسات مقطع فيديو متداول عبر مواقع التواصل الاجتماعى، تضمن نشوب مشاجرة بين أحد الأشخاص وآخرين، على خلفية حادث تصادم أثناء سيرهم بدائرة قسم شرطة أول الشيخ زايد بمحافظة الجيزة. البداية كانت بتلقى قسم شرطة أول الشيخ زايد، فى 2 مايو الجارى، بلاغًا من موظف مقيم بدائرة قسم شرطة أول أكتوبر، أفاد فيه بأنه أثناء قيادته سيارته بأحد الشوارع، حاول تجاوز عدد من السيارات ضمن موكب زفاف، إلا أنه فوجئ بتوقف إحدى السيارات أمامه، ما أدى إلى اصطدامه بها من الخلف وحدوث تلفيات. وأضاف المبلّغ أنه عقب الحادث، قام عدد من الأشخاص المتواجدين ضمن موكب الزفاف بالتعدى عليه بالضرب، ما أسفر عن إصابته بجرح فى الوجه وبالفحص وإجراء التحريات، تمكنت الأجهزة الأمنية من تحديد وضبط مرتكبى الواقعة، وتبين أنهم 3 أشخاص مقيمون بدائرة قسم شرطة ثان الشيخ زايد. وبمواجهتهم، أقر أحدهم بالتعدى على المبلّغ وإحداث إصابته، فيما اتهموا الأخير بالتسبب فى تلفيات بالسيارة الخاصة بهم نتيجة التصادم. وتم اتخاذ الإجراءات القانونية اللازمة حيال الواقعة، فيما باشرت النيابة العامة التحقيق للوقوف على ملابسات الحادث | AR5: https://www.almasryalyoum.com/news/details/4259793
A6: 4 | B6: مايو 2026 | C6: 46144 | D6: القليوبية | E6: مركز بنها | F6: طريق عزبة البرنس | G6: طريق داخل المحافظة | H6: حادث تصادم بدراجة بخارية على طريق عزبة البرنس بمدينة بنها، أسفر عن وفاة أحد الأشخاص فى الحال. | I6: تصادم | K6: 0 | L6: 0 | M6: 0 | N6: 0 | O6: =SUM(K6:N6) -> 0 | P6: 0 | Q6: 0 | R6: 0 | S6: 0 | T6: 0 | U6: =SUM(P6:T6) -> 0 | V6: 0 | W6: 0 | X6: 1 | Y6: 0 | Z6: 0 | AA6: =SUM(V6:Z6) -> 1 | AB6: خاصة | AD6: 0 | AE6: غير متاح | AF6: 1 | AG6: الطالب أدهم محمود محمد فتح الله بالفرقة الرابعة بكلية علوم الرياضة جامعة بنها | AH6: 1 | AI6: 0 | AJ6: 0 | AK6: غير متاح | AL6: 0 | AM6: 0 | AN6: مستشفى بنها الجامعي | AO6: تم | AP6: لايوجد | AQ6: التصريح بدفن جثمان طالب لقى مصرعه فى حادث تصادم فى القليوبية قررت النيابة العامة فى القليوبية التصريح بدفن جثمان طالب جامعى لقى مصرعه فى حادث تصادم بدائرة مركز بنها، فى محافظة القليوبية، وذلك عقب الانتهاء من أعمال الكشف الطبى الظاهرى عليه، لبيان أسباب الوفاة والتأكد من عدم وجود شبهة جنائية فى الواقعة. وتلقت الأجهزة الأمنية بمديرية أمن القليوبية إخطارًا يفيد بوقوع حادث تصادم بدراجة بخارية على طريق عزبة البرنس بمدينة بنها، أسفر عن وفاة أحد الأشخاص فى الحال. انتقلت قوة من رجال الشرطة إلى موقع الحادث، وتم الدفع بسيارة إسعاف لنقل الجثمان إلى المستشفى تحت تصرف جهات التحقيق. وبالفحص، تبين أن المتوفى يدعى « أدهم م م » طالب بالفرقة الرابعة بكلية علوم الرياضة جامعة بنها حيث لقى مصرعه إثر تعرضه لحادث أثناء استقلاله دراجة بخارية، ما أدى إلى إصابته بإصابات بالغة أودت بحياته وتم تحرير محضر بالواقعة | AR6: https://www.almasryalyoum.com/news/details/4259574 | AS6: https://www.elbalad.news/6956124
A7: 5 | B7: مايو 2026 | C7: 46144 | D7: الجيزة | E7: المنيب | F7: طريق الواحات البحرية | G7: طريق سريع | H7: صطدمت سيارة ربع نقل بأتوبيس ركاب كان في طريقه من منطقة المنيب إلى مدينة الواحات البحرية | I7: تصادم | K7: 0 | L7: 0 | M7: 0 | N7: 1 | O7: =SUM(K7:N7) -> 1 | P7: 1 | Q7: 0 | R7: 0 | S7: 0 | T7: 0 | U7: =SUM(P7:T7) -> 1 | V7: 0 | W7: 0 | X7: 0 | Y7: 0 | Z7: 0 | AA7: =SUM(V7:Z7) -> 0 | AB7: نقل ركاب/غيرمعلوم | AD7: 0 | AE7: غير متاح | AF7: 0 | AG7: غير متاح | AH7: 0 | AI7: 0 | AJ7: 2 | AK7: غير متاح | AL7: 2 | AM7: 0 | AN7: غير متاح | AO7: تم | AP7: لايوجد | AQ7: تصادم مروع بين أتوبيس ركاب وربع نقل على طريق الواحات البحرية وإصابة شخصين|صور أُصيب شخصان في حادث تصادم وقع على طريق الواحات البحرية، بعدما اصطدمت سيارة ربع نقل بأتوبيس ركاب كان في طريقه من منطقة المنيب إلى مدينة الواحات البحرية، وتم نقل المصابين إلى المستشفى لتلقي العلاج اللازم. وتلقت الأجهزة الأمنية إخطارًا بوقوع حادث مروري على الطريق، وعلى الفور انتقلت قوات الأمن مدعومة بسيارات الإسعاف إلى مكان البلاغ، حيث تبين من الفحص وقوع تصادم بين أتوبيس ركاب وسيارة ربع نقل. وأسفر الحادث عن إصابة أحد ركاب الأتوبيس بإصابات متفرقة، بالإضافة إلى إصابة سائق السيارة الربع نقل، وتم تقديم الإسعافات الأولية لهما قبل نقلهما إلى المستشفى، فيما عملت الجهات المختصة على رفع آثار الحادث وإعادة تسيير الحركة المرورية. وتم تحرير محضر بالواقعة، وأخطرت النيابة المختصة للتحقيق | AR7: https://www.elbalad.news/6957028
A8: 6 | B8: مايو 2026 | C8: 46145 | D8: الجيزة | E8: الحوامدية | F8: بأحد شوارع الحوامدية | G8: طريق داخل المحافظة | H8: قائد مركبة "توك توك" بمعاكسة فتاتين والاصطدام بهما حال سيرهما بمنطقة الحوامدية بالجيزة | I8: دهس | K8: 0 | L8: 0 | M8: 0 | N8: 0 | O8: =SUM(K8:N8) -> 0 | P8: 0 | Q8: 0 | R8: 0 | S8: 0 | T8: 0 | U8: =SUM(P8:T8) -> 0 | V8: 1 | W8: 0 | X8: 0 | Y8: 0 | Z8: 0 | AA8: =SUM(V8:Z8) -> 1 | AB8: نقل ركاب | AD8: 0 | AE8: غير متاح | AF8: 0 | AG8: غير متاح | AH8: 0 | AI8: 0 | AJ8: 2 | AK8: غير متاح | AL8: 0 | AM8: 2 | AN8: غير متاح | AO8: تم | AP8: لايوجد | AQ8: اعترافات المتهم بصدم فتاتين بتوك توك في الحوامدية عترف سائق توك توك تم ضبطه، لاتهامه بالاصطدام بفتاتين بأحد شوارع الحوامدية، بصحة الاتهام المنسوب إليه، وذكر عقب ضبطه أمام رجال المباحث، أنه خلال سيره بمحل الواقعة، نشب بيه وبين الفتاتين مشادة كلامية، لخلاف على المرور بالشارع، مما دفعه للغضب، وانتقم منهما بالاصطدام بهما، فتعرضتا للإصابة عقب سقوطهما أرضا. واستمع رجال المباحث لأقوال الفتاتين، واتهما السائق بتعمد الاصطدام بهما وإصابتهما، وطالبا باتخاذ الإجراءات القانونية اللازمة تجاهه، ولجأ رجال المباحث لفحص كاميرات المراقبة المحيطة بمكان الحادث، حيث سجلت الكاميرات مشهد الاصطدام، كما تم الاستماع لأقوال شهود عيان، وتم إحالة المتهم إلى النيابة للتحقيق. تفاصيل الواقعة في إطار كشف ملابسات مقطع فيديو تم تداوله بمواقع التواصل الاجتماعى تضمن قيام قائد مركبة "توك توك" بمعاكسة فتاتين والاصطدام بهما حال سيرهما بمنطقة الحوامدية بالجيزة . بالفحص تبين أنه بتاريخ 3 الجاري تبلغ لقسم شرطة الحوامدية من (طالبتين "بهما إصابات بكدمات وسحجات متفرقة" - مقيمتان بدائرة القسم)، بأنه حال سيرهما بدائرة القسم اصطدم بهما قائد مركبة "توك توك" مما تسبب فى حدوث إصابتهما. ضبط المتهم أمكن تحديد وضبط مركبة "التوك توك" وقائدها (سائق - مقيم بدائرة القسم)، وبمواجهته اعترف بارتكابه الواقعة على النحو المشار إليه لحدوث مشادة كلامية بينه والفتاتين لخلاف على أولوية المرور. تم التحفظ على المركبة، واتخاذ الإجراءات القانونية، وأخطرت النيابة للتحقيق. | AR8: https://www.youm7.com/story/2026/5/10/%D8%A7%D8%B9%D8%AA%D8%B1%D8%A7%D9%81%D8%A7%D8%AA-%D8%A7%D9%84%D9%85%D8%AA%D9%87%D9%85-%D8%A8%D8%B5%D8%AF%D9%85-%D9%81%D8%AA%D8%A7%D8%AA%D9%8A%D9%86-%D8%A8%D8%AA%D9%88%D9%83-%D8%AA%D9%88%D9%83-%D9%81%D9%8A-%D8%A7%D9%84%D8%AD%D9%88%D8%A7%D9%85%D8%AF%D9%8A%D8%A9/7410728 | AS8: https://www.youm7.com/story/2026/5/10/%D9%84%D8%BA%D8%B2-%D9%81%D9%8A%D8%AF%D9%8A%D9%88-%D8%A7%D9%84%D8%AD%D9%88%D8%A7%D9%85%D8%AF%D9%8A%D8%A9-%D9%83%D9%8A%D9%81-%D8%A3%D9%88%D9%82%D8%B9-%D8%A7%D9%84%D8%AA%D9%88%D9%83-%D8%AA%D9%88%D9%83-%D8%B5%D8%A7%D8%AD%D8%A8%D9%87-%D8%A8%D9%82%D8%A8%D8%B6%D8%A9-%D8%A7%D9%84%D8%A3%D9%85%D9%86/7409386 | AT8: https://www.elbalad.news/6965415
A9: 7 | B9: مايو 2026 | C9: 46146 | D9: القاهرة | E9: المرج | F9: المرج | G9: طريق داخل المحافظة | H9: قيام قائد سيارة ميكروباص بالاصطدام بعدد من الأشخاص بمنطقة المرج بمحافظة القاهرة، ما أسفر عن وقوع إصابات وحالة وفاة. | I9: دهس | K9: 0 | L9: 0 | M9: 1 | N9: 0 | O9: =SUM(K9:N9) -> 1 | P9: 0 | Q9: 0 | R9: 0 | S9: 0 | T9: 0 | U9: =SUM(P9:T9) -> 0 | V9: 0 | W9: 0 | X9: 0 | Y9: 0 | Z9: 0 | AA9: =SUM(V9:Z9) -> 0 | AB9: نقل ركاب | AD9: 0 | AE9: غير متاح | AF9: 1 | AG9: غير متاح | AH9: 0 | AI9: 1 | AJ9: 7 | AK9: غير متاح | AL9: 4 | AM9: 3 | AN9: غير متاح | AO9: تم | AP9: الواقعة دي يوم 1 فالشهر - وفي خبر احدث بيقول انهم 8 مش 7 | AQ9: اصطدام ميكروباص بأشخاص في المرج.. كشف ملابسات الواقعة والقبض على المتهم كشفت الأجهزة الأمنية ملابسات مقطع فيديو تم تداوله عبر مواقع التواصل الاجتماعي، أظهر قيام قائد سيارة ميكروباص بالاصطدام بعدد من الأشخاص بمنطقة المرج بمحافظة القاهرة، ما أسفر عن وقوع إصابات وحالة وفاة. وفي هذا السياق، قالت وزارة الداخلية في بيان، اليوم الاثنين، إن الفحص أوضح أنه بتاريخ أول الشهر الجاري تبلغت الأجهزة الأمنية بمديرية أمن القاهرة بوقوع حادث أثناء سير سيارة ميكروباص بدون تراخيص، حيث اختلت عجلة القيادة بيد السائق ما أدى إلى اصطدامه بعدد 7 أشخاص أصيبوا بكسور وجروح وكدمات متفرقة، بالإضافة إلى وفاة ربة منزل متأثرة بإصابتها، وتم نقل المصابين إلى المستشفى لتلقي العلاج. ضاف البيان أنه تم ضبط قائد السيارة في حينه، وتبين أنه مقيم بمحافظة الفيوم، كما ثبت من الفحص ارتكابه الواقعة تحت تأثير تعاطي المواد المخدرة. وأكدت الوزارة أنه تم اتخاذ الإجراءات القانونية اللازمة، وتولت النيابة العامة التحقيق | AR9: https://www.almasryalyoum.com/news/details/4261507 | AS9: https://www.elbalad.news/6958808 | AT9: https://www.youm7.com/story/2026/5/4/%D8%AF%D9%85%D8%A7%D8%A1-%D8%AA%D8%AD%D8%AA-%D8%B9%D8%AC%D9%84%D8%A7%D8%AA-%D8%A7%D9%84%D9%85%D9%8A%D9%83%D8%B1%D9%88%D8%A8%D8%A7%D8%B5-%D9%83%D9%88%D8%A7%D9%84%D9%8A%D8%B3-%D9%84%D9%8A%D9%84%D8%A9-%D9%85%D8%B1%D8%B9%D8%A8%D8%A9-%D8%B9%D8%A7%D8%B4%D9%87%D8%A7-%D8%A3%D9%87%D8%A7%D9%84%D9%8A-%D8%A7%D9%84%D9%85%D8%B1%D8%AC/7401667 | AU9: https://www.elbalad.news/6958808
A10: 8 | B10: مايو 2026 | C10: 46146 | D10: القاهرة | E10: القطامية | F10: أعلى الطريق الأوسطي فى دائرة قسم القطامية | G10: طرق محورية | H10: انقلاب سيارة أعلى الطريق الأوسطي فى دائرة قسم القطامية | I10: انقلاب | K10: 0 | L10: 0 | M10: 0 | N10: 0 | O10: =SUM(K10:N10) -> 0 | P10: 0 | Q10: 0 | R10: 0 | S10: 1 | T10: 0 | U10: =SUM(P10:T10) -> 1 | V10: 0 | W10: 0 | X10: 0 | Y10: 0 | Z10: 0 | AA10: =SUM(V10:Z10) -> 0 | AB10: غير معلوم | AD10: 0 | AE10: سائق /م.س | AF10: 0 | AG10: غير متاح | AH10: 0 | AI10: 0 | AJ10: 1 | AK10: م.س /سائق | AL10: 1 | AM10: 0 | AN10: مستشفى القاهرة الجديدة | AO10: تم | AP10: لا يوجد | AQ10: سقوط حمولة مقطورة أعلى الطريق الأوسطى بعد اصطدامها بالحاجز الخرسانى أصيب سائق إثر اصطدام سيارة مقطورة بالحاجز الخرسانى، أعلى الطريق الأوسطى مما أدى إلى ظهور بقعة زيت أعلى الطريق وانتقل رجال الإنقاذ البرى إلى مكان الحادث، وتم التعامل معه ورفع حطامه بالكامل. غرفة العمليات تلقت بلاغا بالحادث تلقت غرفة العمليات، بلاغا بانقلاب سيارة أعلى الطريق الأوسطي فى دائرة قسم القطامية، وبناء على تعليمات اللواء الدكتور محمد الشربينى مدير الإدارة العامة للحماية المدنية بالقاهرة، انتقلت سيارات الإنقاذ البرى الى مكان الحادث. تفاصيل الحادث وبالانتقال والوصول تبين اصطدام سيارة مقطورة تحمل لوحات معدنية أرقام (س ف ر 4781) بالحاجز الخرساني على جانب الطريق، مما أدى إلى سقوط الكونتر المحمل أعلاها (محمل بمادة الألومنيوم الخام) ، قيادة سائق يدعى "م. س"مصاب و تم نقله لمستشفى القاهرة الجديدة. كما كشفت المعاينة، أن الحادث أسفر عن وجود بقعة زيت، وتم التعامل معها بمعرفة القوات، وتم اتخاذ الإجراءات القانونية اللازمة تجاه الواقعة. | AR10: https://www.youm7.com/story/2026/5/4/%D8%B3%D9%82%D9%88%D8%B7-%D8%AD%D9%85%D9%88%D9%84%D8%A9-%D9%85%D9%82%D8%B7%D9%88%D8%B1%D8%A9-%D8%A3%D8%B9%D9%84%D9%89-%D8%A7%D9%84%D8%B7%D8%B1%D9%8A%D9%82-%D8%A7%D9%84%D8%A3%D9%88%D8%B3%D8%B7%D9%89-%D8%A8%D8%B9%D8%AF-%D8%A7%D8%B5%D8%B7%D8%AF%D8%A7%D9%85%D9%87%D8%A7-%D8%A8%D8%A7%D9%84%D8%AD%D8%A7%D8%AC%D8%B2-%D8%A7%D9%84%D8%AE%D8%B1%D8%B3%D8%A7%D9%86%D9%89/7401278
A11: 9 | B11: مايو 2026 | C11: 46146 | D11: الجيزة | E11: المنيب | F11: المنيب بالجيزة | G11: طريق داخل المحافظة | H11: مصرع شاب صدمته سيارة نقل فى المنيب بالجيزة | I11: دهس | K11: 0 | L11: 0 | M11: 0 | N11: 0 | O11: =SUM(K11:N11) -> 0 | P11: 0 | Q11: 0 | R11: 1 | S11: 0 | T11: 0 | U11: =SUM(P11:T11) -> 1 | V11: 0 | W11: 0 | X11: 0 | Y11: 0 | Z11: 0 | AA11: =SUM(V11:Z11) -> 0 | AB11: غير معلوم | AD11: 0 | AE11: غير متاح | AF11: 1 | AG11: غير متاح | AH11: 1 | AI11: 0 | AJ11: 0 | AK11: غير متاح | AL11: 0 | AM11: 0 | AN11: المستشفى العام | AO11: تم | AP11: احد شوارع المنيب | AQ11: مصرع شاب صدمته سيارة نقل فى المنيب بالجيزة فقد شاب حياته، إثر اصطدام سيارة نقل به، بمنطقة المنيب في الجيزة، وتم نقل الجثة إلى ثلاجة المستشفى العام، وباشرت النيابة المختصة التحقيق لاغ بمصرع شخص صدمته سيارة تلقت غرفة النجدة بمديرية أمن الجيزة، بلاغا بوقوع حادث طريق داخل المحافظة، انتقلت قوة أمنية لمحل الواقعة، وتبين من خلال الفحص والمعاينة، أن سيارة نقل صدمت شابا، تم تحديد هويته، مما أدى لمصرعه في الحال، متأثرا بالإصابات التي لحقت به. الاستماع لأقوال شهود عيان تم نقل الجثة إلى ثلاجة المستشفى العام، واستمع رجال المباحث لأقوال شهود عيان، لكشف ملابسات الحادث، والتأكد من حقيقة، ما تم تداوله بتعرض الضحية للدفع من جانب صديقه، خلال المزاح، مما أسفر عن سقوطه أمام السيارة ومصرعه، وبيان صحة ما أشيع من عدمه، وتم ضبط قائد السيارة، لتتولى النيابة التحقيق. | AR11: https://www.youm7.com/story/2026/5/4/%D9%85%D8%B5%D8%B1%D8%B9-%D8%B4%D8%A7%D8%A8-%D8%B5%D8%AF%D9%85%D8%AA%D9%87-%D8%B3%D9%8A%D8%A7%D8%B1%D8%A9-%D9%86%D9%82%D9%84-%D9%81%D9%89-%D8%A7%D9%84%D9%85%D9%86%D9%8A%D8%A8-%D8%A8%D8%A7%D9%84%D8%AC%D9%8A%D8%B2%D8%A9/7401210
A12: 10 | B12: مايو 2026 | C12: 46146 | D12: الجيزة | E12: أكتوبر | F12: الطريق الأوسطي باتجاه حدائق السادس من اكتوبر | G12: طرق محورية | H12: شهد الطريق الدائري الأوسطي في الاتجاه المؤدي إلى حدائق أكتوبر حادثًا مروريًا مروعًا إثر اصطدام سيارتين نقل، ما أسفر عن سقوط عدد من الضحايا، فيما تواصل الأجهزة المعنية حصر أعدادهم. | I12: تصادم | K12: 0 | L12: 0 | M12: 0 | N12: 0 | O12: =SUM(K12:N12) -> 0 | P12: 0 | Q12: 0 | R12: 2 | S12: 0 | T12: 0 | U12: =SUM(P12:T12) -> 2 | V12: 0 | W12: 0 | X12: 0 | Y12: 0 | Z12: 0 | AA12: =SUM(V12:Z12) -> 0 | AB12: غير معلوم | AD12: 0 | AE12: غير متاح | AF12: 1 | AG12: التباع عبد الحميد. أ. | AH12: 1 | AI12: 0 | AJ12: 1 | AK12: السائقأحمد. م. أ | AL12: 1 | AM12: 0 | AN12: مستشفى الشيخ زايد التخصصي | AO12: تم | AQ12: حادث مروع على الطريق الأوسطي باتجاه حدائق أكتوبر وسقوط ضحايا.. صور الإثنين 04/مايو/2026شهد الطريق الدائري الأوسطي في الاتجاه المؤدي إلى حدائق أكتوبر حادثًا مروريًا مروعًا إثر اصطدام سيارتين نقل، ما أسفر عن سقوط عدد من الضحايا، فيما تواصل الأجهزة المعنية حصر أعدادهم. تلقت غرفة عمليات النجدة بلاغًا يفيد بوقوع تصادم عنيف أعلى الطريق الأوسطي، وعلى الفور انتقلت سيارات الإسعاف وقوات الشرطة إلى موقع الحادث، حيث جرى فرض كردون مروري لتأمين المنطقة ونقل المصابين إلى المستشفيات القريبة. كما دفعت الإدارة العامة للمرور بأوناش ومعدات لرفع آثار الحادث وإعادة تسيير الحركة المرورية بعد تكدس السيارات بالمنطقة، فيما يواصل رجال المباحث إجراء المعاينات اللازمة للوقوف على أسباب وملابسات التصادم. | AR12: https://www.elbalad.news/6958428 | AS12: https://www.elbalad.news/6958454
A13: 11 | B13: مايو 2026 | C13: 46147 | D13: القليوبية | E13: مركز شرطة طوخ | F13: شريط السكة الحديد بمدينة طوخ / خلف وحدة المرور | G13: سكة حديد | H13: اصطدام قطار بفتاة أثناء عبورها شريط السكة الحديد من مكان غير مخصص لعبور المشاة، | I13: دهس | K13: 0 | L13: 0 | M13: 0 | N13: 0 | O13: =SUM(K13:N13) -> 0 | P13: 0 | Q13: 0 | R13: 0 | S13: 0 | T13: 0 | U13: =SUM(P13:T13) -> 0 | V13: 0 | W13: 0 | X13: 0 | Y13: 1 | Z13: 0 | AA13: =SUM(V13:Z13) -> 1 | AB13: حكومية | AD13: 0 | AE13: غير متاح | AF13: 1 | AG13: حبيبة ا ع »، تبلغ من العمر 18 عاماً طالبة ومقيمة بقرية السفاينة التابعة لمركز طوخ | AH13: 0 | AI13: 1 | AJ13: 0 | AK13: غير متاح | AL13: 0 | AM13: 0 | AN13: مستشفى طوخ المركزي | AO13: تم | AP13: لا يوجد | AQ13: أثناء عبورها السكة الحديد».. مصرع طالبة صدمها قطار بطوخ في القليوبية لقيت طالبة مصرعها إثر تعرضها لحادث اصطدام قطار أثناء عبورها شريط السكة الحديد من مكان غير مخصص لعبور المشاة، خلف وحدة المرور بمدينة طوخ فى محافظة القليوبية، تم نقل الجثة إلى مستشفى طوخ المركزى وتحرر المحضر اللازم وتولت النيابة التحقيق وصرحت بدفن الجثة. تلقى مدير أمن القليوبية، إخطاراً من مأمور مركز شرطة طوخ، يفيد بورود بلاغ بوقوع حادث تصادم قطار بسيدة خلف وحدة المرور بدائرة المركز. انتقلت الأجهزة الأمنية وسيارات الإسعاف إلى موقع الحادث، وبالفحص تبين أن المتوفاة تُدعى « حبيبة ا ع »، تبلغ من العمر 18 عاماً طالبة، ومقيمة بقرية السفاينة التابعة لمركز طوخ وتبين أنها لفظت أنفاسها الأخيرة فور وقوع الحادث نتيجة الإصابات البالغة التى تعرضت لها. وتم نقل الجثمان إلى ثلاجة الموتى بمستشفى طوخ المركزى تحت تصرف النيابة العامة، التى أُخطرت لتولى التحقيقات واتخاذ الإجراءات القانونية اللازمة، واستخراج تصريح الدفن | AR13: https://www.almasryalyoum.com/news/details/4262607
A14: 12 | B14: مايو 2026 | C14: 46147 | D14: القليوبية | E14: مركز شرطة طوخ | F14: أعلى كوبرى العريضة بطوخ | G14: كوبري | H14: حادث انقلاب دراجة نارية على كوبرى «العريضة» دائرة مركز شرطة طوخ | I14: انقلاب | K14: 0 | L14: 0 | M14: 0 | N14: 0 | O14: =SUM(K14:N14) -> 0 | P14: 0 | Q14: 0 | R14: 0 | S14: 0 | T14: 0 | U14: =SUM(P14:T14) -> 0 | V14: 0 | W14: 0 | X14: 1 | Y14: 0 | Z14: 0 | AA14: =SUM(V14:Z14) -> 1 | AB14: خاصة | AD14: 0 | AE14: غير متاح | AF14: 0 | AG14: غير متاح | AH14: 0 | AI14: 0 | AJ14: 2 | AK14: محمد ع ز 21 سنة ومحمد ع ا 19 سنة | AL14: 2 | AM14: 0 | AN14: مستشفى طوخ المركزى | AO14: تم | AP14: لا يوجد | AQ14: إصابة شابين في انقلاب دراجة نارية أعلى كوبري في القليوبية أصيب اليوم الثلاثاء، شابان فى حادث انقلاب دراجة نارية على كوبرى «العريضة» دائرة مركز شرطة طوخ فى محافظة القليوبية، وتم نقل المصابين لمستشفى طوخ المركزى وتم تحرير المحضر اللازم بواسطة رجال وزارة الداخلية وتولت النيابة العامة التحقيق. كانت الأجهزة الأمنية بمديرية أمن القليوبية التابعة لوزارة الداخلية تلقت إخطاراً يفيد بوقوع حادث سير أعلى كوبرى العريضة، وانتقلت على الفور سيارات الإسعاف وقوات الأمن إلى موقع البلاغ وتبين فقدان السائق السيطرة على الدراجة النارية مما أدى لانحرافها وانقلابها. وأسفر الحادث عن إصابة كل من "محمد ع ز 21 سنة ومحمد ع ا 19 سنة وتم نقل المصابين إلى مستشفى طوخ المركزى لتقديم الرعاية الطبية وإجراء الفحوصات اللازمة، كما تم رفع آثار الحادث من الطريق لتيسير حركة المرور، وتحرر محضر بالواقعة لتتولى النيابة التحقيق. | AR14: https://www.almasryalyoum.com/news/details/4262704 | AS14: https://www.elbalad.news/6960595#google_vignette
A15: 13 | B15: مايو 2026 | C15: 46147 | D15: القاهرة | E15: عين شمس | F15: عين شمس | G15: طريق داخل المحافظة | H15: لقى سائق مصرعه إثر انقلاب موتوسيكل طريق داخل المحافظة وتم نقله إلى المستشفى، حرر محضر بالواقعة وتولت النيابة المختصة التحقيقات. | I15: انقلاب | K15: 0 | L15: 0 | M15: 0 | N15: 0 | O15: =SUM(K15:N15) -> 0 | P15: 0 | Q15: 0 | R15: 0 | S15: 0 | T15: 0 | U15: =SUM(P15:T15) -> 0 | V15: 0 | W15: 0 | X15: 1 | Y15: 0 | Z15: 0 | AA15: =SUM(V15:Z15) -> 1 | AB15: خاصة | AD15: 0 | AE15: غير متاح | AF15: 1 | AG15: غير متاح | AH15: 1 | AI15: 0 | AJ15: 0 | AK15: غير متاح | AL15: 0 | AM15: 0 | AN15: غير متاح | AO15: تم | AP15: لا يوجد | AQ15: مصرع سائق إثر انقلاب موتوسيكل فى عين شمس لقى سائق مصرعه إثر انقلاب موتوسيكل طريق داخل المحافظة وتم نقله إلى المستشفى، حرر محضر بالواقعة وتولت النيابة المختصة التحقيقات.. وفور تلقى بلاغا بوقوع حادث مرورى ووجود متوفى فى الطريق فى عين شمس و انتقل رجال الاسعاف الي المكان وتبين من خلال الفحـــص أنه أثناء سير دراجة نارية موتوسيكل أختلت عجلة القيادة من السائق مما تسبب فى انحرافه وانقلاب الموتوسيكل ونتج عن الحادث وفاة سائقه ، وجرى نقل المتوفى الى المشرحة، وتم اتخاذ كافة الإجراءات القانونية اللازمة حيال الواقعة | AR15: https://www.youm7.com/story/2026/5/5/%D9%85%D8%B5%D8%B1%D8%B9-%D8%B3%D8%A7%D8%A6%D9%82-%D8%A5%D8%AB%D8%B1-%D8%A7%D9%86%D9%82%D9%84%D8%A7%D8%A8-%D9%85%D9%88%D8%AA%D9%88%D8%B3%D9%8A%D9%83%D9%84-%D9%81%D9%89-%D8%B9%D9%8A%D9%86-%D8%B4%D9%85%D8%B3/7402406
A16: 14 | B16: مايو 2026 | C16: 46147 | D16: القليوبية | E16: مدينة بنها | F16: منطقة مفارق المنصورة بمدينة مدينة بنها | G16: طريق داخل المحافظة | H16: بلاغ بوقوع حادث تصادم بين سيارة ملاكي وأخرى سوزوكي بمنطقة مفارق المنصورة بمدينة مدينة بنها | I16: تصادم | K16: 1 | L16: 1 | M16: 0 | N16: 0 | O16: =SUM(K16:N16) -> 2 | P16: 0 | Q16: 0 | R16: 0 | S16: 0 | T16: 0 | U16: =SUM(P16:T16) -> 0 | V16: 0 | W16: 0 | X16: 0 | Y16: 0 | Z16: 0 | AA16: =SUM(V16:Z16) -> 0 | AB16: خاصة | AD16: 0 | AE16: غير متاح | AF16: 0 | AG16: غير متاح | AH16: 0 | AI16: 0 | AJ16: 5 | AK16: “إيمان محمد، وريم سعيد عبد الغني، وسمر أحمد عبد العزيز، ومكة أحمد، ومحمد أحمد عبد العزيز | AL16: 1 | AM16: 4 | AN16: مستشفى مدينة بنها الجامعي | AO16: تم | AP16: لا يوجد | AQ16: إصابة 5 أشخاص فى حادث تصادم سيارتين بمدينة بنها شهدت منطقة مفارق المنصورة بمدينة مدينة بنها فى محافظة القليوبية، حادث تصادم سيارة ملاكي مع أخرى سوزوكي، ما أسفر عن إصابة 5 أشخاص، تم نقلهم لمستشفى مدينة بنها الجامعي لتلقي العلاج، وتم إعادة الحركة المرورية على طريق داخل المحافظة، بعد رفع آثار الحادث، وتحرر محضر بالواقعة. تلقت مديرية أمن القليوبية إخطارا من عمليات النجدة يفيد بورود بلاغ بوقوع حادث تصادم بين سيارة ملاكي وأخرى سوزوكي بمنطقة مفارق المنصورة بمدينة مدينة بنها، على طريق داخل المحافظة. انتقلت على الفور قوات الأمن ورجال المرور، وبالمعاينة والفحص تبين وقوع حادث تصادم بين سيارتين ملاكي وأخرى سوزوكي، بمنطقة مفارق المنصورة، على طريق داخل المحافظة، والذي أسفر عنه إصابة 5 أشخاص وهم: “إيمان محمد، وريم سعيد عبد الغني، وسمر أحمد عبد العزيز، ومكة أحمد، ومحمد أحمد عبد العزيز”. تم نقل المصابين لمستشفى مدينة بنها الجامعي لتلقي العلاج، وتمكن رجال مرور القليوبية من تيسير الحركة المرورية على الطريق لمنع تعطل مصالح المسافرين، وتحرر محضر بالواقعة، وتولت الجهات المعنية التحقيقات. | AR16: https://www.elbalad.news/6959950
A17: 15 | B17: مايو 2026 | C17: 46147 | D17: القليوبية | E17: شبين القناطر | F17: طريق الاحراز – شبين القناطر | G17: طريق داخل المحافظة | H17: وقوع حادث تصادم بين دراجتين بخاريتين على طريق الاحراز – شبين القناطر دائرة المركز ووجود جثة ومصاب. | I17: تصادم | K17: 0 | L17: 0 | M17: 0 | N17: 0 | O17: =SUM(K17:N17) -> 0 | P17: 0 | Q17: 0 | R17: 0 | S17: 0 | T17: 0 | U17: =SUM(P17:T17) -> 0 | V17: 0 | W17: 0 | X17: 2 | Y17: 0 | Z17: 0 | AA17: =SUM(V17:Z17) -> 2 | AB17: خاصة | AD17: 0 | AE17: غير متاح | AF17: 1 | AG17: غير متاح | AH17: 1 | AI17: 0 | AJ17: 1 | AK17: غير متاح | AL17: 1 | AM17: 0 | AN17: مستشفى شبين القناطر | AO17: تم | AP17: لا يوجد | AQ17: مصرع وإصابة شخصين فى حادث بشبين القناطر لقى شاب مصرعه وأصيب آخر فى تصادم دراجتين على طريق الاحراز – شبين القناطر بسبب السرعة وتم نقل الجثة والمصاب إلى مستشفى شبين القناطر العام وتحرر محضر بالواقعة. تلقت مديرية أمن القليوبية إخطارا من مأمور مركز شرطة شبين القناطر يفيد وقوع حادث تصادم بين دراجتين بخاريتين على طريق الاحراز – شبين القناطر دائرة المركز ووجود جثة ومصاب. وانتقلت قوة أمنية وتبين من المعاينة تصادم دراجتين من المواجهة بسبب السرعة وأسفر الحادث عن مصرع شاب مجهول الهوية وجارى التعرف عليه فيما أصيب شخص آخر وتم نقل الجثة إلى مشرحة مستشفى شبين القناطر والمصاب للمستشفى لتلقى العلاج والتحفظ على الدراجتين وتحرر محضر بالحادث وتولت النيابة التحقيق. | AR17: https://www.elbalad.news/6960578
A18: 16 | B18: مايو 2026 | C18: 46148 | D18: الجيزة | E18: اطفيح | F18: أعلى الطريق الصحراوى | G18: الطريق الصحراوي | H18: أصيب 6 اشخاص بسبب حادث انقلاب ميكروباص أعلى الطريق الصحراوى فى أطفيح | I18: انقلاب | K18: 0 | L18: 0 | M18: 1 | N18: 0 | O18: =SUM(K18:N18) -> 1 | P18: 0 | Q18: 0 | R18: 0 | S18: 0 | T18: 0 | U18: =SUM(P18:T18) -> 0 | V18: 0 | W18: 0 | X18: 0 | Y18: 0 | Z18: 0 | AA18: =SUM(V18:Z18) -> 0 | AB18: نقل ركاب | AD18: 0 | AE18: غير متاح | AF18: 6 | AG18: غير متاح | AH18: 3 | AI18: 3 | AJ18: 0 | AK18: غير متاح | AL18: 0 | AM18: 0 | AN18: مستشفى طوخ المركزي | AO18: تم | AP18: لا يوجد | AQ18: إصابة 6 أشخاص إثر انقلاب ميكروباص فى أطفيح أصيب 6 اشخاص بسبب حادث انقلاب ميكروباص أعلى الطريق الصحراوى فى أطفيح ونقلوا الى المستشفى، وحرر محضر بالواقعة. تلقت غرفة عمليات النجدة، بلاغا أعلى الطريق فى أطفيح بوقوع حادث مرورى ، وانتقلت سيارات الاسعاف لموقع الحادث بصحبتهم ونش مرورى للعمل على رفع حطام الحادث وتبين من خلال الفحص اختلال عجلة القيادة من السائق مما أدى الى انقلاب السيارة أعلى الطريق ونتج إصابة 6 اشخاص ونقلوا جميعهم الى المستشفى | AR18: https://www.youm7.com/story/2026/5/6/%D8%A5%D8%B5%D8%A7%D8%A8%D8%A9-6-%D8%A3%D8%B4%D8%AE%D8%A7%D8%B5-%D8%A5%D8%AB%D8%B1-%D8%A7%D9%86%D9%82%D9%84%D8%A7%D8%A8-%D9%85%D9%8A%D9%83%D8%B1%D9%88%D8%A8%D8%A7%D8%B5-%D9%81%D9%89-%D8%A3%D8%B7%D9%81%D9%8A%D8%AD/7403956
A19: 17 | B19: مايو 2026 | C19: 46148 | D19: الجيزة | E19: حدائق السادس من اكتوبر | F19: حدائق اكتوبر | G19: طريق داخل المحافظة | H19: اصطدام مينى باص بسور كمبوند فى حدائق أكتوبر | I19: اصطدام | K19: 0 | L19: 0 | M19: 1 | N19: 0 | O19: =SUM(K19:N19) -> 1 | P19: 0 | Q19: 0 | R19: 0 | S19: 0 | T19: 0 | U19: =SUM(P19:T19) -> 0 | V19: 0 | W19: 0 | X19: 0 | Y19: 0 | Z19: 0 | AA19: =SUM(V19:Z19) -> 0 | AB19: نقل ركاب | AD19: 0 | AE19: غير متاح | AF19: 1 | AG19: غير متاح | AH19: 0 | AI19: 1 | AJ19: 0 | AK19: غير متاح | AL19: 0 | AM19: 0 | AN19: غير متاح | AO19: تم | AP19: لا يوجد | AQ19: إصابة سائق إثر اصطدام مينى باص بسور كمبوند فى حدائق أكتوبر أصيب سائق بعدما اصطدم مينى باص بسور كمبوند فى منطقة حدائق أكتوبر، نتيجة اختلال عجلة القيادة من السائق، وتم نقل المصاب إلى المستشفى لتلقى العلاج غرفة العمليات تلقت بلاغا بالحادث كانت غرفة عمليات الإدارة العامة للنجدة، قد تلقت، بلاغا من الخدمات المعينة بمنطقة حدائق أكتوبر، بوقوع حادث مرورى، فانتقل رجال المرور لمكان الواقعة، وتم الدفع بالأوناش لرفع آثار الحادث، ونتج عن الحادث إصابة السائق، نتيجة لاصطدام مينى باص بسور كمبوند، وتم رفع حطام الحادث بالكامل. . | AR19: https://www.youm7.com/story/2026/5/6/%D8%A5%D8%B5%D8%A7%D8%A8%D8%A9-%D8%B3%D8%A7%D8%A6%D9%82-%D8%A5%D8%AB%D8%B1-%D8%A7%D8%B5%D8%B7%D8%AF%D8%A7%D9%85-%D9%85%D9%8A%D9%86%D9%89-%D8%A8%D8%A7%D8%B5-%D8%A8%D8%B3%D9%88%D8%B1-%D9%83%D9%85%D8%A8%D9%88%D9%86%D8%AF-%D9%81%D9%89-%D8%AD%D8%AF%D8%A7%D8%A6%D9%82/7404408
A20: 18 | B20: مايو 2026 | C20: 46149 | D20: الجيزة | E20: العياط | F20: العياط | G20: الطريق الصحراوي | H20: حادث انقلاب ميكروباص أعلى الطريق الصحراوى فى العياط | I20: انقلاب | K20: 0 | L20: 0 | M20: 1 | N20: 0 | O20: =SUM(K20:N20) -> 1 | P20: 0 | Q20: 0 | R20: 0 | S20: 0 | T20: 0 | U20: =SUM(P20:T20) -> 0 | V20: 0 | W20: 0 | X20: 0 | Y20: 0 | Z20: 0 | AA20: =SUM(V20:Z20) -> 0 | AB20: نقل ركاب | AD20: 0 | AE20: غير متاح | AF20: 0 | AG20: غير متاح | AH20: 0 | AI20: 0 | AJ20: 5 | AK20: غير متاح | AL20: 3 | AM20: 2 | AN20: غير متاح | AO20: تم | AP20: لا يوجد | AQ20: إصابة 5 أشخاص إثر انقلاب ميكروباص فى العياط . . أصيب 5 اشخاص بسبب حادث انقلاب ميكروباص أعلى الطريق الصحراوى فى العياط ونقلوا الى المستشفى، وحرر محضر بالواقعة. تلقت غرفة عمليات النجدة، بلاغا أعلى الطريق فى العياط بوقوع حادث مرورى ، وانتقلت سيارات الاسعاف لموقع الحادث بصحبتهم ونش مرورى للعمل على رفع حطام الحادث وتبين من خلال الفحص اختلال عجلة القيادة من السائق مما أدى الى انقلاب السيارة أعلى الطريق ونتج إصابة 5 اشخاص ونقلوا جميعهم الى المستشفى . | AR20: https://www.youm7.com/story/2026/5/7/%D8%A5%D8%B5%D8%A7%D8%A8%D8%A9-5-%D8%A3%D8%B4%D8%AE%D8%A7%D8%B5-%D8%A5%D8%AB%D8%B1-%D8%A7%D9%86%D9%82%D9%84%D8%A7%D8%A8-%D9%85%D9%8A%D9%83%D8%B1%D9%88%D8%A8%D8%A7%D8%B5-%D9%81%D9%89-%D8%A7%D9%84%D8%B9%D9%8A%D8%A7%D8%B7/7405224
A21: 19 | B21: مايو 2026 | C21: 46151 | D21: القليوبية | E21: مدينة بنها | F21: أعلى طريق مدينة بنها _ شبرا الحر | G21: طرق محورية | H21: حادث تصادم سيارتين على الطريق الحر بالقليوبية | I21: تصادم | K21: 2 | L21: 0 | M21: 0 | N21: 0 | O21: =SUM(K21:N21) -> 2 | P21: 0 | Q21: 0 | R21: 0 | S21: 0 | T21: 0 | U21: =SUM(P21:T21) -> 0 | V21: 0 | W21: 0 | X21: 0 | Y21: 0 | Z21: 0 | AA21: =SUM(V21:Z21) -> 0 | AB21: خاصة | AD21: 0 | AE21: غير متاح | AF21: 0 | AG21: غير متاح | AH21: 0 | AI21: 0 | AJ21: 4 | AK21: نورا م ع " و سعيد ا أ " واحمد م م ، ونعيمه م | AL21: 2 | AM21: 2 | AN21: مستشفى قليوب | AO21: تم | AP21: لا يوجد | AQ21: بالأسماء .. إصابة 4 أشخاص في حادث تصادم سيارتين على الطريق الحر بالقليوبية أصيب 4 أشخاص فى حادث تصادم سيارتين أعلى طريق مدينة بنها _ شبرا الحر بمحافظة القليوبية وتم نقل المصابين إلى المستشفى ورفع أنقاض الحادث وإعادة الحركة المرورية لطبيعتها مرة أخرى على الطريق. تلقت الأجهزة الأمنية بمديرية أمن القليوبية إخطارًا بوقوع حادث تصادم سيارتين ووجود مصابين ، وبالانتقال والفحص تبين وقوع حادث تصادم سيارتين أعلى الطريق الحر اتجاه شبرا. واسفر الحادث عن إصابة كل من نورا م ع " و سعيد ا أ " واحمد م م ، ونعيمه م ا" وتم نقلهم إلى مستشفى قليوب لتلقى العلاج اللازم | AR21: https://www.elbalad.news/6964513
A22: 20 | B22: مايو 2026 | C22: 46151 | D22: الجيزة | E22: قسم شرطة اول اكتوبر | F22: دائرة قسم اول اكتوبر | G22: طريق داخل المحافظة | H22: حبس مسجل خطر ضرب فتاة واصطدام بسيارة سيدة عمدا في الجيزة | I22: اصطدام | K22: 2 | L22: 0 | M22: 0 | N22: 0 | O22: =SUM(K22:N22) -> 2 | P22: 0 | Q22: 0 | R22: 0 | S22: 0 | T22: 0 | U22: =SUM(P22:T22) -> 0 | V22: 0 | W22: 0 | X22: 0 | Y22: 0 | Z22: 0 | AA22: =SUM(V22:Z22) -> 0 | AB22: خاصة | AD22: 0 | AE22: غير متاح | AF22: 0 | AG22: غير متاح | AH22: 0 | AI22: 0 | AJ22: 0 | AK22: غير متاح | AL22: 0 | AM22: 0 | AN22: غير متاح | AO22: تم | AP22: لا يوجد | AQ22: حبس مسجل خطر ضرب فتاة واصطدام بسيارة سيدة عمدا في الجيزة قررت جهات التحقيق حبس مسجل خطر تعدى بالضرب على فتاة واصطدم بسيارة سيدة، عمدا، في الجيزة، 4 أيام على ذمة التحقيقات. وكشفت الأجهزة الأمنية بوزارة الداخلية، ملابسات مقطع فيديو تم تداوله بمواقع التواصل الاجتماعي، تضمن تضرر إحدى السيدات من قائد سيارة ملاكي لاصطدامه بسيارتها عمدا عدة مرات حال سيرها بمدينة السادس من اكتوبربالجيزة. تبين بالفحص أنه بتاريخ 9 مايو الجاري تبلغ لقسم شرطة أول السادس من اكتوبرمن (موظفة مقيمة بدائرة القسم) بأنه حال سيرها بسيارتها الملاكي بدائرة القسم؛ فوجئت بأحد الأشخاص يتعدى بالضرب على فتاة داخل سيارته، وحال محاولتها تصويره، ولدى رؤيته لها؛ صدم سيارتها عمدا عدة مرات؛ مما تسبب في إحداث تلفيات بسيارتها، ولاذ بالهرب. وأمكن تحديد وضبط السيارة المشار إليها، وقائدها (عنصر جنائي)، مقيم بدائرة مركز شرطة نجع حمادي، وبحوزته بندقية خرطوش، وكمية من مخدر الحشيش. وأقر بمواجهته بحدوث مشادة كلامية بينه وبين نجلة شقيقته- مقيمة بذات الدائرة-؛ إبان استقلالها السيارة معه، حيث تعدى عليها بالضرب لخلافات عائلية، وحال ملاحظته قيام الشاكية بتصويره؛ ارتكب الواقعة على النحو المشار إليه، واعترف بحيازة المواد المخدرة بقصد الاتجار، وتم التحفظ على السيارة. | AR22: https://www.elbalad.news/6967327 | AS22: https://www.elbalad.news/6966945
A23: 21 | B23: مايو 2026 | C23: 46152 | D23: القاهرة | E23: مدينة بدر | F23: مدينة بدر، أمام منطقة صبحى حسين فى الاتجاه المؤدى إلى مدينة العاشر من رمضان. | G23: طريق داخل المحافظة | H23: حادث تصادم بين دراجة نارية وتوك توك | I23: تصادم | K23: 0 | L23: 0 | M23: 0 | N23: 0 | O23: =SUM(K23:N23) -> 0 | P23: 0 | Q23: 0 | R23: 0 | S23: 0 | T23: 0 | U23: =SUM(P23:T23) -> 0 | V23: 1 | W23: 0 | X23: 1 | Y23: 0 | Z23: 0 | AA23: =SUM(V23:Z23) -> 2 | AB23: نقل ركاب/خاصة | AD23: 0 | AE23: غير متاح | AF23: 0 | AG23: غير متاح | AH23: 0 | AI23: 0 | AJ23: 2 | AK23: محمود.ع»، 21 عامًا،و «فادى.و»، 18 عاماً | AL23: 2 | AM23: 0 | AN23: غير متاح | AO23: تم | AP23: لا يوجد | AQ23: إصابة شابين في حادث تصادم بالقاهرة تلقت مديرية أمن القاهرة إخطاراً بوقوع حادث تصادم بين دراجة نارية وتوك توك بمدينة بدر، أمام منطقة صبحى حسين فى الاتجاه المؤدى إلى مدينة العاشر من رمضان. وانتقلت الأجهزة الأمنية وسيارات الإسعاف إلى موقع البلاغ لتسيير حركة المرور ونقل المصابين وتبين من المعاينة الأولية إصابة شابين كانا يستقلان المركبتين، حيث أصيب «محمود.ع»، 21 عامًا، بكسر فى الذراع الأيمن، وكدمات وسحجات متفرقة فى أنحاء الجسده، وإصابة «فادى.و»، 18 عاماً، بجرح قطعى فى القدم اليسرى، فضلاً عن إصابته بكدمات وسحجات مختلفة. وتم نقل المصابين إلى مستشفى بدر الجامعى لتلقى الإسعافات اللازمة، وتحرر محضر بالواقعة وأخطرت النيابة العامة لتولى التحقيق. | AR23: https://www.almasryalyoum.com/news/details/4266105
A24: 22 | B24: مايو 2026 | C24: 46152 | D24: الجيزة | E24: ابو النمرس | F24: ترعة المريوطية بابو النمرس | G24: طريق داخل المحافظة | H24: انقلاب سيارة بترعة المريوطية، في أبو النمرس | I24: انقلاب | K24: 1 | L24: 0 | M24: 0 | N24: 0 | O24: =SUM(K24:N24) -> 1 | P24: 0 | Q24: 0 | R24: 0 | S24: 0 | T24: 0 | U24: =SUM(P24:T24) -> 0 | V24: 0 | W24: 0 | X24: 0 | Y24: 0 | Z24: 0 | AA24: =SUM(V24:Z24) -> 0 | AB24: خاصة | AD24: 0 | AE24: غير متاح | AF24: 0 | AG24: غير متاح | AH24: 0 | AI24: 0 | AJ24: 0 | AK24: غير متاح | AL24: 0 | AM24: 0 | AN24: غير متاح | AO24: تم | AP24: لا يوجد تصنيف لعدد الضحايا نعمل بحث مخصص | AQ24: انتشال سيارة ملاكي انقلبت في ترعة المريوطية بأبو النمرس.. صور استعان رجال المباحث بمديرية أمن الجيزة، بلودر، لانتشال سيارة ملاكي، انقلبت في ترعة المريوطية، عصر اليوم الأحد، وجاري تكثيف التحريات لكشف ملابسات الحادث، وأخطرت النيابة المختصة للتحقيق. بلاغ بانقلاب سيارة في ترعة المريوطية تلقت مديرية أمن الجيزة بلاغا يفيد انقلاب سيارة بترعة المريوطية، في أبو النمرس، انتقلت قوة أمنية لمكان البلاغ، لإجراء المعاينة والتحريات، وتبين من خلال الفحص الأولي، أن عجلة القيادة اختلت من يد قائد السيارة، مما أسفر عن انحرافها عن الطريق، وانقلابها في ترعة المريوطية. الاستماع لأقوال شهود عيان استمع رجال المباحث لأقوال شهود عيان لكشف ملابسات الحادث، وتم انتشال السيارة، وجاري إجراء جراء التحريات، تمهيدا لإخطار النيابة المختصة للتحقيق. | AR24: https://www.youm7.com/story/2026/5/10/%D8%A7%D9%86%D8%AA%D8%B4%D8%A7%D9%84-%D8%B3%D9%8A%D8%A7%D8%B1%D8%A9-%D9%85%D9%84%D8%A7%D9%83%D9%8A-%D8%A7%D9%86%D9%82%D9%84%D8%A8%D8%AA-%D9%81%D9%8A-%D8%AA%D8%B1%D8%B9%D8%A9-%D8%A7%D9%84%D9%85%D8%B1%D9%8A%D9%88%D8%B7%D9%8A%D8%A9-%D8%A8%D8%A3%D8%A8%D9%88-%D8%A7%D9%84%D9%86%D9%85%D8%B1%D8%B3-%D8%B5%D9%88%D8%B1/7411043 | AS24: https://www.youm7.com/story/2026/5/10/%D8%A7%D9%86%D9%82%D9%84%D8%A7%D8%A8-%D8%B3%D9%8A%D8%A7%D8%B1%D8%A9-%D9%85%D9%84%D8%A7%D9%83%D9%8A-%D9%81%D9%8A-%D8%AA%D8%B1%D8%B9%D8%A9-%D8%A7%D9%84%D9%85%D8%B1%D9%8A%D9%88%D8%B7%D9%8A%D8%A9-%D8%A8%D8%A3%D8%A8%D9%88-%D8%A7%D9%84%D9%86%D9%85%D8%B1%D8%B3/7411005
A25: 23 | B25: مايو 2026 | C25: 46152 | D25: القاهرة | E25: جسر السويس | F25: أعلى الطريق فى جسر السويس | G25: طريق داخل المحافظة | H25: حادث انقلاب ميكروباص أعلى الطريق فى جسر السويس | I25: انقلاب | K25: 0 | L25: 0 | M25: 1 | N25: 0 | O25: =SUM(K25:N25) -> 1 | P25: 0 | Q25: 0 | R25: 0 | S25: 0 | T25: 0 | U25: =SUM(P25:T25) -> 0 | V25: 0 | W25: 0 | X25: 0 | Y25: 0 | Z25: 0 | AA25: =SUM(V25:Z25) -> 0 | AB25: نقل ركاب | AD25: 0 | AE25: غير متاح | AF25: 0 | AG25: غير متاح | AH25: 0 | AI25: 0 | AJ25: 6 | AK25: غير متاح | AL25: 3 | AM25: 3 | AN25: غير متاح | AO25: تم | AP25: لا يوجد تصنيف لعدد الضحايا نعمل بحث مخصص | AQ25: تلقت غرفة عمليات النجدة، بلاغا أعلى الطريق فى جسر السويس بوقوع حادث مرورى، وانتقلت سيارات الإسعاف لموقع الحادث بصحبتهم ونش مرورى للعمل على رفع حطام الحادث، وتبين من خلال الفحص اختلال عجلة القيادة من السائق، مما أدى الى انقلاب السيارة أعلى الطريق، ونتج عن ذلك إصابة 6 أشخاص ونقلوا جميعهم إلى المستشفى. | AR25: https://www.youm7.com/story/2026/5/10/%D8%A5%D8%B5%D8%A7%D8%A8%D8%A9-6-%D8%A3%D8%B4%D8%AE%D8%A7%D8%B5-%D8%A5%D8%AB%D8%B1-%D8%A7%D9%86%D9%82%D9%84%D8%A7%D8%A8-%D9%85%D9%8A%D9%83%D8%B1%D9%88%D8%A8%D8%A7%D8%B5-%D9%81%D9%89-%D8%AC%D8%B3%D8%B1-%D8%A7%D9%84%D8%B3%D9%88%D9%8A%D8%B3/7409110
A26: 24 | B26: مايو 2026 | C26: 46152 | D26: القاهرة | E26: السادس من اكتوبر | F26: مدينة السادس من اكتوبر | G26: طريق داخل المحافظة | H26: حادث انقلاب سيارة ميكروباص، فى مدينة السادس من اكتوبر | I26: انقلاب | K26: 0 | L26: 0 | M26: 1 | N26: 0 | O26: =SUM(K26:N26) -> 1 | P26: 0 | Q26: 0 | R26: 0 | S26: 0 | T26: 0 | U26: =SUM(P26:T26) -> 0 | V26: 0 | W26: 0 | X26: 0 | Y26: 0 | Z26: 0 | AA26: =SUM(V26:Z26) -> 0 | AB26: نقل ركاب | AD26: 0 | AE26: غير متاح | AF26: 0 | AG26: غير متاح | AH26: 0 | AI26: 0 | AJ26: 8 | AK26: غير متاح | AL26: 4 | AM26: 4 | AN26: غير متاح | AO26: تم | AP26: لا يوجد تصنيف لعدد الضحايا نعمل بحث مخصص | AQ26: إصابة 8 أشخاص إثر انقلاب ميكروباص فى أكتوبر أصيب 8 أشخاص إثر حادث انقلاب سيارة ميكروباص، فى مدينة السادس من اكتوبر، وتم نقل المصابين إلى المستشفى، وإزالة آثار الحادث، وأخطرت النيابة للتحقيق. غرفة العمليات تلقت بلاغا بالحادث تلقت غرفة عمليات النجدة، بلاغا بوقوع حادث فى مدينة السادس من اكتوبر، انتقلت قوة أمنية لمكان الحادث، وبإجراء التحريات تبي اختلال عجلة قيادة من يد سائق سيارة ميكروباص، مما أدى لانقلابها، وإصابة 8 أشخاص. نقل المصابين للمستشفى تم نقل المصابين إلى المستشفى، وإزالة آثار الحادث، وتحرر محضر بالواقعة، لتباشر النيابة المختصة التحقيق. | AR26: https://www.youm7.com/story/2026/5/10/%D8%A5%D8%B5%D8%A7%D8%A8%D8%A9-8-%D8%A3%D8%B4%D8%AE%D8%A7%D8%B5-%D8%A5%D8%AB%D8%B1-%D8%A7%D9%86%D9%82%D9%84%D8%A7%D8%A8-%D9%85%D9%8A%D9%83%D8%B1%D9%88%D8%A8%D8%A7%D8%B5-%D9%81%D9%89-%D8%A3%D9%83%D8%AA%D9%88%D8%A8%D8%B1/7409418
A27: 25 | B27: مايو 2026 | C27: 46152 | D27: القاهرة | E27: منشأة ناصر | F27: أعلى كوبرى الاباجية بمنشأة ناصر | G27: كوبري | H27: إنقلاب أتوبيس من أعلى كوبري الأباجية القادم من منشأة ناصر إتجاه صقر قريش بدائرة قسم منشأة ناصر | I27: انقلاب | K27: 0 | L27: 0 | M27: 0 | N27: 1 | O27: =SUM(K27:N27) -> 1 | P27: 0 | Q27: 0 | R27: 0 | S27: 0 | T27: 0 | U27: =SUM(P27:T27) -> 0 | V27: 0 | W27: 0 | X27: 0 | Y27: 0 | Z27: 0 | AA27: =SUM(V27:Z27) -> 0 | AB27: نقل ركاب | AD27: 0 | AE27: غير متاح | AF27: 0 | AG27: غير متاح | AH27: 0 | AI27: 0 | AJ27: 9 | AK27: غير متاح | AL27: 5 | AM27: 4 | AN27: غير متاح | AO27: تم | AP27: لا يوجد تصنيف لعدد الضحايا نعمل بحث مخصص | AQ27: إصابة 9 أشخاص إثر انقلاب أتوبيس من أعلى كوبرى الأباجية..فيديو وصور أصيب 9 أشخاص إثر حادث انقلاب أتوبيس من أعلى كوبرى الاباجية بمنشأة ناصر، ونقلهم رجال الإسعاف إلى المستشفى، وتمكن رجال الإنقاذ من التعامل مع البلاغ واتخاذ اللازم. تلقت غرفة العمليات بلاغ يفيد بحادث إنقلاب أتوبيس من أعلى كوبري الأباجية القادم من منشأة ناصر إتجاه صقر قريش بدائرة قسم منشأة ناصر وبناء على تعليمات اللواء الدكتور محمد الشربينى مدير الإدارة العامة للحماية المدنية بالقاهرة انتقلت سيارات وفرق الإنقاذ البرى إلى مكان الحادث. بالانتقال والوصول تبين انقلاب أتوبيس نقل عام، يحمل لوحات معدنية أرقام (م ي د 614) من أعلى كوبري الأباجية بمحل البلاغ ولم ينتج عنه وجود أى محتجزين. كما أسفر الحادث عن إصابة عدد (9) أشخاص من بينهم قائد الأتوبيس، وتم نقلهم للمستشفى بمعرفة سيارات مرفق الإسعاف، كما أسفر الحادث عن وجود بقعة سولار على مساحة (2) متر تقريباً، وجاري التعامل معها بمعرفة القوات وتم اتخاذ الإجراءات القانونية اللازمة تجاه الواقعة. | AR27: https://www.youm7.com/story/2026/5/10/%D8%A5%D8%B5%D8%A7%D8%A8%D8%A9-9-%D8%A3%D8%B4%D8%AE%D8%A7%D8%B5-%D8%A5%D8%AB%D8%B1-%D8%A7%D9%86%D9%82%D9%84%D8%A7%D8%A8-%D8%A3%D8%AA%D9%88%D8%A8%D9%8A%D8%B3-%D9%85%D9%86-%D8%A3%D8%B9%D9%84%D9%89-%D9%83%D9%88%D8%A8%D8%B1%D9%89-%D8%A7%D9%84%D8%A3%D8%A8%D8%A7%D8%AC%D9%8A%D8%A9/7411276
A28: 26 | B28: مايو 2026 | C28: 46153 | D28: القاهرة | E28: السادس من اكتوبر | F28: مدينة السادس من اكتوبر | G28: طريق داخل المحافظة | H28: تضرر إحدى السيدات من قيام قائد سيارة ملاكى بالاصطدام بسيارتها عمدًا عدة مرات أثناء سيرها بمدينة السادس من السادس من اكتوبربمحافظة الجيزة. | I28: اصطدام | K28: 2 | L28: 0 | M28: 0 | N28: 0 | O28: =SUM(K28:N28) -> 2 | P28: 0 | Q28: 0 | R28: 0 | S28: 0 | T28: 0 | U28: =SUM(P28:T28) -> 0 | V28: 0 | W28: 0 | X28: 0 | Y28: 0 | Z28: 0 | AA28: =SUM(V28:Z28) -> 0 | AB28: خاصة | AD28: 0 | AE28: غير متاح | AF28: 0 | AG28: غير متاح | AH28: 0 | AI28: 0 | AJ28: 1 | AK28: غير متاح | AL28: 1 | AM28: 0 | AN28: غير متاح | AO28: تم | AP28: لا يوجد تصنيف لعدد الضحايا نعمل بحث مخصص | AQ28: اصطدام عمدي بسيارة فتاة.. كشف ملابسات الواقعة وضبط المتهم بحوزته سلاح ومخدرات شفت أجهزة وزارة الداخلية ملابسات مقطع فيديو تم تداوله عبر مواقع التواصل الاجتماعى، أظهر تضرر إحدى السيدات من قيام قائد سيارة ملاكى بالاصطدام بسيارتها عمدًا عدة مرات أثناء سيرها بمدينة السادس من السادس من اكتوبربمحافظة الجيزة. وقالت الداخلية، فى بيان اليوم الاثنين، إنه بالفحص تبين أنه بتاريخ 9 من الشهر الجارى، أُبلغ قسم شرطة أول أكتوبر، من موظفة مقيمة بدائرة القسم، بتعرضها لموقف خطير أثناء سيرها بسيارتها، حيث فوجئت بقيام قائد سيارة أخرى بالتعدى على فتاة كانت بصحبته داخل السيارة، وعند محاولتها تصويره قام بالاصطدام بسيارتها عمدًا عدة مرات، ما تسبب فى إحداث تلفيات بها، ثم لاذ بالفرار. وأضاف البيان أنه تم تحديد وضبط السيارة وقائدها، وتبين أنه عنصر جنائى مقيم بدائرة مركز شرطة نجع حمادى، وعُثر بحوزته على بندقية خرطوش وكمية من مخدر الحشيش. وأوضح البيان أنه بمواجهته أقر بحدوث مشادة كلامية بينه وبين نجلة شقيقته أثناء استقلالها السيارة معه، قام على أثرها بالتعدى عليها بالضرب لخلافات عائلية، كما اعترف بأنه ارتكب واقعة الاصطدام بسيارة الشاكية عمدًا خشية قيامها بتصويره، وأقر أيضًا بحيازة المواد المخدرة بقصد الاتجار. وأكدت الوزارة أنه تم التحفظ على السيارة، واتخاذ الإجراءات القانونية اللازمة حيال المتهم. | AR28: https://www.almasryalyoum.com/news/details/4267391
A29: 27 | B29: مايو 2026 | C29: 46153 | D29: الجيزة | E29: ابو النمرس | F29: مصرف ميت قدوس بطريق السادس من اكتوبر اتجاه شبرامنت في أبو النمرس | G29: طريق داخل المحافظة | H29: مصرع شخصين وإصابة 8 آخرين إثر حادث انقلاب ميكروباص داخل مصرف بأبو النمرس | I29: انقلاب | K29: 0 | L29: 0 | M29: 1 | N29: 0 | O29: =SUM(K29:N29) -> 1 | P29: 0 | Q29: 0 | R29: 0 | S29: 0 | T29: 0 | U29: =SUM(P29:T29) -> 0 | V29: 0 | W29: 0 | X29: 0 | Y29: 0 | Z29: 0 | AA29: =SUM(V29:Z29) -> 0 | AB29: نقل ركاب | AD29: 0 | AE29: غير متاح | AF29: 2 | AG29: "قائد السيارة "مصطفي.ر.ع" سائق 24 عاما، ومقيم ترسا أبو النمرس، وراكب آخر يدعى "محمد.ف.م" 65 عاما بدون عمل ومقيم ترسا أبو النمرس | AH29: 2 | AI29: 0 | AJ29: 8 | AK29: "مازن.ه.م" 22 عاما طالب مقيم عزبة النخل و"ياسمين.أ.ع" 19 عاما طالبة مقيمة حدائق القبة، و"ستيفن.ن.ف" 22 عاما طالب مقيم المعادي، م و"ملك .ح.م" 19 عاما طالب مقيمة الزاوية الحمراء بالقاهرة، ، و"ناجيه.ص.أ" 37 عاما ربة منزل مقيمة بشبرامنت، "داوود.ع.ر" 22 عاما طالب، مقيم بشبرامنت، و"شيماء.ث.ع" 33 عاما ربة منزل، مقيمة شبرامنت و"حسنة.أ.م" 70 عاما ربة منزل مقيمة بترسا في أبو النمرس، | AL29: 3 | AM29: 5 | AN29: غير متاح | AO29: تم | AP29: لا يوجد تصنيف لعدد الضحايا نعمل بحث مخصص | AQ29: التحقيق فى مصرع شخصين وإصابة 8 آخرين إثر حادث انقلاب ميكروباص داخل مصرف بأبو النمرس تباشر النيابة العامة في الجيزة التحقيق في حادث سقوط سيارة ميكروباص داخل مصرف مائي بمنطقة أبو النمرس، والذي أسفر عن مصرع السائق وأحد الركاب، وإصابة 8 آخرين بإصابات متفرقة، وذلك للوقوف على أسباب الحادث وملابساته. معاينة موقع الحادث والاستعلام عن المصابين وأجرت النيابة معاينة لموقع الحادث، وطلبت تحريات الأجهزة الأمنية حول الواقعة، كما قررت الاستعلام عن الحالة الصحية للمصابين لسماع أقوالهم فور استقرار حالتهم، بالإضافة إلى التصريح بدفن جثماني الضحيتين عقب الانتهاء من الإجراءات القانونية اللازمة. وكلفت النيابة الجهات المختصة بفحص السيارة الميكروباص لبيان مدى وجود شبهة عطل فني تسبب في وقوع الحادث. سقوط الميكروباص داخل مصرف مائي وكانت غرفة عمليات النجدة قد تلقت بلاغًا يفيد سقوط سيارة ميكروباص داخل مصرف مائي بمنطقة أبو النمرس، وعلى الفور انتقلت الأجهزة الأمنية مدعومة بسيارات الإسعاف إلى موقع البلاغ. وبالفحص تبين سقوط سيارة ميكروباص داخل مصرف «ميت قدوس» بطريق السادس من اكتوبر اتجاه شبرامنت بدائرة مركز أبو النمرس. مصرع السائق وراكب وإصابة 8 آخرين وأسفر الحادث عن مصرع سائق الميكروباص وأحد الركاب، بينما أُصيب 8 أشخاص آخرين بإصابات متنوعة، حيث جرى انتشالهم من المياه ونقلهم إلى المستشفى لتلقي الإسعافات والرعاية الطبية اللازمة، كما نجحت قوات الإنقاذ في استخراج السيارة من داخل المصرف، وتم اتخاذ الإجراءات القانونية حيال الواقعة. | AR29: https://www.youm7.com/story/2026/5/11/%D8%A7%D9%84%D8%AA%D8%AD%D9%82%D9%8A%D9%82-%D9%81%D9%89-%D9%85%D8%B5%D8%B1%D8%B9-%D8%B4%D8%AE%D8%B5%D9%8A%D9%86-%D9%88%D8%A5%D8%B5%D8%A7%D8%A8%D8%A9-8-%D8%A2%D8%AE%D8%B1%D9%8A%D9%86-%D8%A5%D8%AB%D8%B1-%D8%AD%D8%A7%D8%AF%D8%AB-%D8%A7%D9%86%D9%82%D9%84%D8%A7%D8%A8/7412022 | AS29: https://www.youm7.com/story/2026/5/11/%D8%A7%D9%84%D9%85%D8%B9%D8%A7%D9%8A%D9%86%D8%A9-%D8%A7%D8%AE%D8%AA%D9%84%D8%A7%D9%84-%D8%B9%D8%AC%D9%84%D8%A9-%D8%A7%D9%84%D9%82%D9%8A%D8%A7%D8%AF%D8%A9-%D9%88%D8%B1%D8%A7%D8%A1-%D8%A7%D9%86%D9%82%D9%84%D8%A7%D8%A8-%D9%85%D9%8A%D9%83%D8%B1%D9%88%D8%A8%D8%A7%D8%B5-%D9%81%D9%89-%D9%85%D8%B5%D8%B1%D9%81-%D9%85%D8%A7%D8%A6%D9%89/7412008 | AT29: https://www.youm7.com/story/2026/5/11/%D9%85%D8%B5%D8%B1%D8%B9-%D8%B4%D8%AE%D8%B5%D9%8A%D9%86-%D9%88%D8%A5%D8%B5%D8%A7%D8%A8%D8%A9-8-%D8%A2%D8%AE%D8%B1%D9%8A%D9%86-%D9%81%D9%89-%D8%AD%D8%A7%D8%AF%D8%AB-%D8%A7%D9%86%D9%82%D9%84%D8%A7%D8%A8-%D9%85%D9%8A%D9%83%D8%B1%D9%88%D8%A8%D8%A7%D8%B5-%D8%AF%D8%A7%D8%AE%D9%84/7411974 | AU29: https://www.youm7.com/story/2026/5/11/%D9%86%D9%86%D8%B4%D8%B1-%D8%A3%D8%B3%D9%85%D8%A7%D8%A1-%D8%A7%D9%84%D9%85%D8%AA%D9%88%D9%81%D9%8A%D9%86-%D9%88%D8%A7%D9%84%D9%85%D8%B5%D8%A7%D8%A8%D9%8A%D9%86-%D9%81%D9%89-%D8%AD%D8%A7%D8%AF%D8%AB-%D8%A7%D9%86%D9%82%D9%84%D8%A7%D8%A8-%D9%85%D9%8A%D9%83%D8%B1%D9%88%D8%A8%D8%A7%D8%B5-%D8%AF%D8%A7%D8%AE%D9%84-%D9%85%D8%B5%D8%B1%D9%81/7411994
