Workbook

Sheet الاحصائيات
D4: نوع الواقعة بالنسبة للتقسيم الزمني | K4: نوع الواقعة بالنسبة لتصنيف الطريق
E5: اصطدام | F5: انقلاب | G5: تصادم | H5: دهس | I5: الاجمالي | L5: اصطدام | M5: انقلاب | N5: تصادم | O5: دهس | P5: الاجمالي
D6: مايو 2026 | E6: =COUNTIFS(Elmarsd!$I:$I,E$5,Elmarsd!$B:$B,$D6) -> 7 | F6: =COUNTIFS(Elmarsd!$I:$I,F$5,Elmarsd!$B:$B,$D6) -> 25 | G6: =COUNTIFS(Elmarsd!$I:$I,G$5,Elmarsd!$B:$B,$D6) -> 16 | H6: =COUNTIFS(Elmarsd!$I:$I,H$5,Elmarsd!$B:$B,$D6) -> 16 | I6: =SUM(E6:H6) -> 64 | K6: الطريق الدائري | L6: =COUNTIFS(Elmarsd!$I:$I,L$5,Elmarsd!$G:$G,$K6) -> 0 | M6: =COUNTIFS(Elmarsd!$I:$I,M$5,Elmarsd!$G:$G,$K6) -> 0 | N6: =COUNTIFS(Elmarsd!$I:$I,N$5,Elmarsd!$G:$G,$K6) -> 1 | O6: =COUNTIFS(Elmarsd!$I:$I,O$5,Elmarsd!$G:$G,$K6) -> 0 | P6: =SUM(L6:O6) -> 1 | R6: عدد الوفيات ذكور واناث بالنسبة لنوع الواقعة | W6: عدد المصابين ذكور واناث بالنسبة لنوع الواقعة | AB6: عدد الوفيات والمصابين وفق كل محافظة
D7: يونيو 2026 | E7: =COUNTIFS(Elmarsd!$I:$I,E$5,Elmarsd!$B:$B,$D7) -> 3 | F7: =COUNTIFS(Elmarsd!$I:$I,F$5,Elmarsd!$B:$B,$D7) -> 35 | G7: =COUNTIFS(Elmarsd!$I:$I,G$5,Elmarsd!$B:$B,$D7) -> 10 | H7: =COUNTIFS(Elmarsd!$I:$I,H$5,Elmarsd!$B:$B,$D7) -> 18 | I7: =SUM(E7:H7) -> 66 | K7: الطريق الزراعي | L7: =COUNTIFS(Elmarsd!$I:$I,L$5,Elmarsd!$G:$G,$K7) -> 0 | M7: =COUNTIFS(Elmarsd!$I:$I,M$5,Elmarsd!$G:$G,$K7) -> 3 | N7: =COUNTIFS(Elmarsd!$I:$I,N$5,Elmarsd!$G:$G,$K7) -> 1 | O7: =COUNTIFS(Elmarsd!$I:$I,O$5,Elmarsd!$G:$G,$K7) -> 1 | P7: =SUM(L7:O7) -> 5 | S7: ذكور | T7: اناث | U7: الاجمالي | X7: ذكور | Y7: اناث | Z7: الاجمالي | AC7: اجمالي عدد المصابين | AD7: اجمالي عدد الوفيات | AE7: الاجمالي
D8: الاجمالي | E8: =SUM(E6:E7) -> 10 | F8: =SUM(F6:F7) -> 60 | G8: =SUM(G6:G7) -> 26 | H8: =SUM(H6:H7) -> 34 | I8: =SUM(E8:H8) -> 130 | K8: الطريق الصحراوي | L8: =COUNTIFS(Elmarsd!$I:$I,L$5,Elmarsd!$G:$G,$K8) -> 0 | M8: =COUNTIFS(Elmarsd!$I:$I,M$5,Elmarsd!$G:$G,$K8) -> 16 | N8: =COUNTIFS(Elmarsd!$I:$I,N$5,Elmarsd!$G:$G,$K8) -> 2 | O8: =COUNTIFS(Elmarsd!$I:$I,O$5,Elmarsd!$G:$G,$K8) -> 0 | P8: =SUM(L8:O8) -> 18 | R8: اصطدام | S8: =SUMIFS(Elmarsd!AH:AH,Elmarsd!$I:$I,$R8) -> 2 | T8: =SUMIFS(Elmarsd!AI:AI,Elmarsd!$I:$I,$R8) -> 1 | U8: =SUM(S8:T8) -> 3 | W8: اصطدام | X8: =SUMIFS(Elmarsd!AL:AL,Elmarsd!$I:$I,$W8) -> 4 | Y8: =SUMIFS(Elmarsd!AM:AM,Elmarsd!$I:$I,$W8) -> 1 | Z8: =SUM(X8:Y8) -> 5 | AB8: الجيزة | AC8: =SUMIFS(Elmarsd!AJ:AJ,Elmarsd!$D:$D,$AB8) -> 177 | AD8: =SUMIFS(Elmarsd!AF:AF,Elmarsd!$D:$D,$AB8) -> 62 | AE8: =SUM(AC8:AD8) -> 239
K9: سكة حديد | L9: =COUNTIFS(Elmarsd!$I:$I,L$5,Elmarsd!$G:$G,$K9) -> 0 | M9: =COUNTIFS(Elmarsd!$I:$I,M$5,Elmarsd!$G:$G,$K9) -> 0 | N9: =COUNTIFS(Elmarsd!$I:$I,N$5,Elmarsd!$G:$G,$K9) -> 2 | O9: =COUNTIFS(Elmarsd!$I:$I,O$5,Elmarsd!$G:$G,$K9) -> 8 | P9: =SUM(L9:O9) -> 10 | R9: انقلاب | S9: =SUMIFS(Elmarsd!AH:AH,Elmarsd!$I:$I,$R9) -> 26 | T9: =SUMIFS(Elmarsd!AI:AI,Elmarsd!$I:$I,$R9) -> 10 | U9: =SUM(S9:T9) -> 36 | W9: انقلاب | X9: =SUMIFS(Elmarsd!AL:AL,Elmarsd!$I:$I,$W9) -> 119 | Y9: =SUMIFS(Elmarsd!AM:AM,Elmarsd!$I:$I,$W9) -> 87 | Z9: =SUM(X9:Y9) -> 206 | AB9: القاهرة | AC9: =SUMIFS(Elmarsd!AJ:AJ,Elmarsd!$D:$D,$AB9) -> 84 | AD9: =SUMIFS(Elmarsd!AF:AF,Elmarsd!$D:$D,$AB9) -> 13 | AE9: =SUM(AC9:AD9) -> 97
K10: طرق محورية | L10: =COUNTIFS(Elmarsd!$I:$I,L$5,Elmarsd!$G:$G,$K10) -> 1 | M10: =COUNTIFS(Elmarsd!$I:$I,M$5,Elmarsd!$G:$G,$K10) -> 8 | N10: =COUNTIFS(Elmarsd!$I:$I,N$5,Elmarsd!$G:$G,$K10) -> 4 | O10: =COUNTIFS(Elmarsd!$I:$I,O$5,Elmarsd!$G:$G,$K10) -> 1 | P10: =SUM(L10:O10) -> 14 | R10: تصادم | S10: =SUMIFS(Elmarsd!AH:AH,Elmarsd!$I:$I,$R10) -> 14 | T10: =SUMIFS(Elmarsd!AI:AI,Elmarsd!$I:$I,$R10) -> 6 | U10: =SUM(S10:T10) -> 20 | W10: تصادم | X10: =SUMIFS(Elmarsd!AL:AL,Elmarsd!$I:$I,$W10) -> 48 | Y10: =SUMIFS(Elmarsd!AM:AM,Elmarsd!$I:$I,$W10) -> 36 | Z10: =SUM(X10:Y10) -> 84 | AB10: القليوبية | AC10: =SUMIFS(Elmarsd!AJ:AJ,Elmarsd!$D:$D,$AB10) -> 60 | AD10: =SUMIFS(Elmarsd!AF:AF,Elmarsd!$D:$D,$AB10) -> 16 | AE10: =SUM(AC10:AD10) -> 76
K11: طريق داخل المحافظة | L11: =COUNTIFS(Elmarsd!$I:$I,L$5,Elmarsd!$G:$G,$K11) -> 8 | M11: =COUNTIFS(Elmarsd!$I:$I,M$5,Elmarsd!$G:$G,$K11) -> 31 | N11: =COUNTIFS(Elmarsd!$I:$I,N$5,Elmarsd!$G:$G,$K11) -> 13 | O11: =COUNTIFS(Elmarsd!$I:$I,O$5,Elmarsd!$G:$G,$K11) -> 21 | P11: =SUM(L11:O11) -> 73 | R11: دهس | S11: =SUMIFS(Elmarsd!AH:AH,Elmarsd!$I:$I,$R11) -> 21 | T11: =SUMIFS(Elmarsd!AI:AI,Elmarsd!$I:$I,$R11) -> 11 | U11: =SUM(S11:T11) -> 32 | W11: دهس | X11: =SUMIFS(Elmarsd!AL:AL,Elmarsd!$I:$I,$W11) -> 8 | Y11: =SUMIFS(Elmarsd!AM:AM,Elmarsd!$I:$I,$W11) -> 18 | Z11: =SUM(X11:Y11) -> 26 | AB11: الاجمالي | AC11: =SUM(AC8:AC10) -> 321 | AD11: =SUM(AD8:AD10) -> 91 | AE11: =SUM(AC11:AD11) -> 412
D12: عدد الوقائع بالنسبة للمحافظة | K12: طريق سريع | L12: =COUNTIFS(Elmarsd!$I:$I,L$5,Elmarsd!$G:$G,$K12) -> 0 | M12: =COUNTIFS(Elmarsd!$I:$I,M$5,Elmarsd!$G:$G,$K12) -> 0 | N12: =COUNTIFS(Elmarsd!$I:$I,N$5,Elmarsd!$G:$G,$K12) -> 1 | O12: =COUNTIFS(Elmarsd!$I:$I,O$5,Elmarsd!$G:$G,$K12) -> 1 | P12: =SUM(L12:O12) -> 2 | R12: اجمالي | S12: =SUM(S8:S11) -> 63 | T12: =SUM(T8:T11) -> 28 | U12: =SUM(S12:T12) -> 91 | W12: اجمالي | X12: =SUM(X8:X11) -> 179 | Y12: =SUM(Y8:Y11) -> 142 | Z12: =SUM(X12:Y12) -> 321
E13: القاهرة | F13: الجيزة | G13: القليوبية | H13: الاجمالي | K13: كوبري | L13: =COUNTIFS(Elmarsd!$I:$I,L$5,Elmarsd!$G:$G,$K13) -> 1 | M13: =COUNTIFS(Elmarsd!$I:$I,M$5,Elmarsd!$G:$G,$K13) -> 2 | N13: =COUNTIFS(Elmarsd!$I:$I,N$5,Elmarsd!$G:$G,$K13) -> 2 | O13: =COUNTIFS(Elmarsd!$I:$I,O$5,Elmarsd!$G:$G,$K13) -> 1 | P13: =SUM(L13:O13) -> 6
D14: مايو 2026 | E14: =COUNTIFS(Elmarsd!$D:$D,E$13,Elmarsd!$B:$B,$D14) -> 14 | F14: =COUNTIFS(Elmarsd!$D:$D,F$13,Elmarsd!$B:$B,$D14) -> 38 | G14: =COUNTIFS(Elmarsd!$D:$D,G$13,Elmarsd!$B:$B,$D14) -> 12 | H14: =SUM(E14:G14) -> 64 | K14: مزلقان | L14: =COUNTIFS(Elmarsd!$I:$I,L$5,Elmarsd!$G:$G,$K14) -> 0 | M14: =COUNTIFS(Elmarsd!$I:$I,M$5,Elmarsd!$G:$G,$K14) -> 0 | N14: =COUNTIFS(Elmarsd!$I:$I,N$5,Elmarsd!$G:$G,$K14) -> 0 | O14: =COUNTIFS(Elmarsd!$I:$I,O$5,Elmarsd!$G:$G,$K14) -> 1 | P14: =SUM(L14:O14) -> 1
D15: يونيو 2026 | E15: =COUNTIFS(Elmarsd!$D:$D,E$13,Elmarsd!$B:$B,$D15) -> 13 | F15: =COUNTIFS(Elmarsd!$D:$D,F$13,Elmarsd!$B:$B,$D15) -> 39 | G15: =COUNTIFS(Elmarsd!$D:$D,G$13,Elmarsd!$B:$B,$D15) -> 14 | H15: =SUM(E15:G15) -> 66 | K15: الاجمالي | L15: =SUM(L6:L14) -> 10 | M15: =SUM(M6:M14) -> 60 | N15: =SUM(N6:N14) -> 26 | O15: =SUM(O6:O14) -> 34 | P15: =SUM(L15:O15) -> 130
D16: الاجمالي | E16: =SUM(E14:E15) -> 27 | F16: =SUM(F14:F15) -> 77 | G16: =SUM(G14:G15) -> 26 | H16: =SUM(E16:G16) -> 130
K17: نوع الواقعة بالنسبة لتصنيف المركبات
L18: ملاكي | M18: اجرة | N18: ميكروباص/ ميني باص | O18: أتوبيس | P18: إجمالي عدد مركبات الركاب | Q18: ربع نقل | R18: نصف نقل | S18: نقل | T18: ثقيل | U18: زراعي | V18: اجمالي عدد مركبات النقل | W18: توك توك | X18: تروسيكل | Y18: دراجة بخارية | Z18: قطار | AA18: أخرى
K19: اصطدام | L19: =SUMIFS(Elmarsd!K:K,Elmarsd!$I:$I,$K19) -> 9 | M19: =SUMIFS(Elmarsd!L:L,Elmarsd!$I:$I,$K19) -> 0 | N19: =SUMIFS(Elmarsd!M:M,Elmarsd!$I:$I,$K19) -> 2 | O19: =SUMIFS(Elmarsd!N:N,Elmarsd!$I:$I,$K19) -> 0 | P19: =SUMIFS(Elmarsd!O:O,Elmarsd!$I:$I,$K19) -> 11 | Q19: =SUMIFS(Elmarsd!P:P,Elmarsd!$I:$I,$K19) -> 1 | R19: =SUMIFS(Elmarsd!Q:Q,Elmarsd!$I:$I,$K19) -> 0 | S19: =SUMIFS(Elmarsd!R:R,Elmarsd!$I:$I,$K19) -> 0 | T19: =SUMIFS(Elmarsd!S:S,Elmarsd!$I:$I,$K19) -> 0 | U19: =SUMIFS(Elmarsd!T:T,Elmarsd!$I:$I,$K19) -> 0 | V19: =SUMIFS(Elmarsd!U:U,Elmarsd!$I:$I,$K19) -> 1 | W19: =SUMIFS(Elmarsd!V:V,Elmarsd!$I:$I,$K19) -> 0 | X19: =SUMIFS(Elmarsd!W:W,Elmarsd!$I:$I,$K19) -> 1 | Y19: =SUMIFS(Elmarsd!X:X,Elmarsd!$I:$I,$K19) -> 2 | Z19: =SUMIFS(Elmarsd!Y:Y,Elmarsd!$I:$I,$K19) -> 0 | AA19: =SUMIFS(Elmarsd!Z:Z,Elmarsd!$I:$I,$K19) -> 0
K20: انقلاب | L20: =SUMIFS(Elmarsd!K:K,Elmarsd!$I:$I,$K20) -> 16 | M20: =SUMIFS(Elmarsd!L:L,Elmarsd!$I:$I,$K20) -> 0 | N20: =SUMIFS(Elmarsd!M:M,Elmarsd!$I:$I,$K20) -> 24 | O20: =SUMIFS(Elmarsd!N:N,Elmarsd!$I:$I,$K20) -> 2 | P20: =SUMIFS(Elmarsd!O:O,Elmarsd!$I:$I,$K20) -> 42 | Q20: =SUMIFS(Elmarsd!P:P,Elmarsd!$I:$I,$K20) -> 1 | R20: =SUMIFS(Elmarsd!Q:Q,Elmarsd!$I:$I,$K20) -> 0 | S20: =SUMIFS(Elmarsd!R:R,Elmarsd!$I:$I,$K20) -> 8 | T20: =SUMIFS(Elmarsd!S:S,Elmarsd!$I:$I,$K20) -> 4 | U20: =SUMIFS(Elmarsd!T:T,Elmarsd!$I:$I,$K20) -> 0 | V20: =SUMIFS(Elmarsd!U:U,Elmarsd!$I:$I,$K20) -> 13 | W20: =SUMIFS(Elmarsd!V:V,Elmarsd!$I:$I,$K20) -> 0 | X20: =SUMIFS(Elmarsd!W:W,Elmarsd!$I:$I,$K20) -> 1 | Y20: =SUMIFS(Elmarsd!X:X,Elmarsd!$I:$I,$K20) -> 6 | Z20: =SUMIFS(Elmarsd!Y:Y,Elmarsd!$I:$I,$K20) -> 0 | AA20: =SUMIFS(Elmarsd!Z:Z,Elmarsd!$I:$I,$K20) -> 1
K21: تصادم | L21: =SUMIFS(Elmarsd!K:K,Elmarsd!$I:$I,$K21) -> 31 | M21: =SUMIFS(Elmarsd!L:L,Elmarsd!$I:$I,$K21) -> 1 | N21: =SUMIFS(Elmarsd!M:M,Elmarsd!$I:$I,$K21) -> 15 | O21: =SUMIFS(Elmarsd!N:N,Elmarsd!$I:$I,$K21) -> 1 | P21: =SUMIFS(Elmarsd!O:O,Elmarsd!$I:$I,$K21) -> 48 | Q21: =SUMIFS(Elmarsd!P:P,Elmarsd!$I:$I,$K21) -> 2 | R21: =SUMIFS(Elmarsd!Q:Q,Elmarsd!$I:$I,$K21) -> 0 | S21: =SUMIFS(Elmarsd!R:R,Elmarsd!$I:$I,$K21) -> 4 | T21: =SUMIFS(Elmarsd!S:S,Elmarsd!$I:$I,$K21) -> 4 | U21: =SUMIFS(Elmarsd!T:T,Elmarsd!$I:$I,$K21) -> 0 | V21: =SUMIFS(Elmarsd!U:U,Elmarsd!$I:$I,$K21) -> 10 | W21: =SUMIFS(Elmarsd!V:V,Elmarsd!$I:$I,$K21) -> 3 | X21: =SUMIFS(Elmarsd!W:W,Elmarsd!$I:$I,$K21) -> 2 | Y21: =SUMIFS(Elmarsd!X:X,Elmarsd!$I:$I,$K21) -> 9 | Z21: =SUMIFS(Elmarsd!Y:Y,Elmarsd!$I:$I,$K21) -> 1 | AA21: =SUMIFS(Elmarsd!Z:Z,Elmarsd!$I:$I,$K21) -> 1
C22: نوع الواقعة بالنسبة للمحافظة | K22: دهس | L22: =SUMIFS(Elmarsd!K:K,Elmarsd!$I:$I,$K22) -> 14 | M22: =SUMIFS(Elmarsd!L:L,Elmarsd!$I:$I,$K22) -> 0 | N22: =SUMIFS(Elmarsd!M:M,Elmarsd!$I:$I,$K22) -> 4 | O22: =SUMIFS(Elmarsd!N:N,Elmarsd!$I:$I,$K22) -> 0 | P22: =SUMIFS(Elmarsd!O:O,Elmarsd!$I:$I,$K22) -> 18 | Q22: =SUMIFS(Elmarsd!P:P,Elmarsd!$I:$I,$K22) -> 1 | R22: =SUMIFS(Elmarsd!Q:Q,Elmarsd!$I:$I,$K22) -> 0 | S22: =SUMIFS(Elmarsd!R:R,Elmarsd!$I:$I,$K22) -> 3 | T22: =SUMIFS(Elmarsd!S:S,Elmarsd!$I:$I,$K22) -> 0 | U22: =SUMIFS(Elmarsd!T:T,Elmarsd!$I:$I,$K22) -> 1 | V22: =SUMIFS(Elmarsd!U:U,Elmarsd!$I:$I,$K22) -> 5 | W22: =SUMIFS(Elmarsd!V:V,Elmarsd!$I:$I,$K22) -> 3 | X22: =SUMIFS(Elmarsd!W:W,Elmarsd!$I:$I,$K22) -> 0 | Y22: =SUMIFS(Elmarsd!X:X,Elmarsd!$I:$I,$K22) -> 6 | Z22: =SUMIFS(Elmarsd!Y:Y,Elmarsd!$I:$I,$K22) -> 9 | AA22: =SUMIFS(Elmarsd!Z:Z,Elmarsd!$I:$I,$K22) -> 0
D23: اصطدام | E23: انقلاب | F23: تصادم | G23: دهس | H23: الاجمالي | K23: الاجمالي | L23: =SUM(L19:L22) -> 70 | M23: =SUM(M19:M22) -> 1 | N23: =SUM(N19:N22) -> 45 | O23: =SUM(O19:O22) -> 3 | P23: =SUM(P19:P22) -> 119 | Q23: =SUM(Q19:Q22) -> 5 | R23: =SUM(R19:R22) -> 0 | S23: =SUM(S19:S22) -> 15 | ... AA23: =SUM(AA19:AA22) -> 2
C24: الجيزة | D24: =COUNTIFS(Elmarsd!$I:$I,D$23,Elmarsd!$D:$D,$C24) -> 6 | E24: =COUNTIFS(Elmarsd!$I:$I,E$23,Elmarsd!$D:$D,$C24) -> 36 | F24: =COUNTIFS(Elmarsd!$I:$I,F$23,Elmarsd!$D:$D,$C24) -> 15 | G24: =COUNTIFS(Elmarsd!$I:$I,G$23,Elmarsd!$D:$D,$C24) -> 20 | H24: =SUM(D24:G24) -> 77
C25: القاهرة | D25: =COUNTIFS(Elmarsd!$I:$I,D$23,Elmarsd!$D:$D,$C25) -> 4 | E25: =COUNTIFS(Elmarsd!$I:$I,E$23,Elmarsd!$D:$D,$C25) -> 14 | F25: =COUNTIFS(Elmarsd!$I:$I,F$23,Elmarsd!$D:$D,$C25) -> 3 | G25: =COUNTIFS(Elmarsd!$I:$I,G$23,Elmarsd!$D:$D,$C25) -> 6 | H25: =SUM(D25:G25) -> 27
C26: القليوبية | D26: =COUNTIFS(Elmarsd!$I:$I,D$23,Elmarsd!$D:$D,$C26) -> 0 | E26: =COUNTIFS(Elmarsd!$I:$I,E$23,Elmarsd!$D:$D,$C26) -> 10 | F26: =COUNTIFS(Elmarsd!$I:$I,F$23,Elmarsd!$D:$D,$C26) -> 8 | G26: =COUNTIFS(Elmarsd!$I:$I,G$23,Elmarsd!$D:$D,$C26) -> 8 | H26: =SUM(D26:G26) -> 26
C27: الاجمالي | D27: =SUM(D24:D26) -> 10 | E27: =SUM(E24:E26) -> 60 | F27: =SUM(F24:F26) -> 26 | G27: =SUM(G24:G26) -> 34 | H27: =SUM(D27:G27) -> 130

Sheet Elmarsd
A1: بيانات الواقعة | J1: بيانات المركبات | AD1: بيانات المسئول عن ارتكاب الواقعة | AF1: بيانات الوفيات | AJ1: بيانات المصابين | AQ1: بيانات المصادر
A2: رقم الواقعة | B2: تقسيم زمني | C2: تاريخ الواقعة | D2: المحافظة | E2: الدائرة /قسم الشرطة | F2: مكان الواقعة كما ورد بالخبر | G2: تصنيف الطريق | H2: الواقعة كما وردت بالخبر | I2: نوع الواقعة | J2: اجمالي عدد المركبات | K2: ملاكي | L2: أجرة | M2: ميكروباص/ ميني باص | N2: أتوبيس | O2: إجمالي عدد مركبات الركاب | P2: ربع نقل | Q2: نصف نقل | R2: نقل | S2: ثقيل | T2: زراعي | U2: اجمالي عدد مركبات النقل | V2: توك توك | W2: تروسيكل | X2: دراجة بخارية | Y2: قطار | Z2: أخرى | AA2: اجمالي المركبات الاخري | AB2: ملكية المركبة | AC2: الخسائر مادية | AD2: العدد | AE2: بيانات شخصية (الاسم - السن - النوع - الوظيفة - الجنسية) | AF2: اجمالي عدد الوفيات | AG2: بيانات شخصية (الاسم - السن - النوع - الوظيفة - الجنسية) | AH2: عدد الذكور | AI2: عدد الاناث | AJ2: اجمالي عدد المصابين | AK2: بيانات شخصية (الاسم - السن - النوع - الوظيفة - الجنسية) | AL2: عدد الذكور | AM2: عدد الاناث | AN2: المستشفى | AO2: رقم المحضر/القضية | AP2: ملاحظات | AQ2: نص الخبر | AR2: مصدر 1 | AS2: مصدر 2 | AT2: مصدر 3 | AU2: مصدر 4 | AV2: مصدر 5 | AW2: مصدر 6 | AX2: مصدر 7 | AY2: مصدر 8 | AZ2: مصدر 9 | BA2: مصدر 10 | BB2: مصدر 11 | BC2: مصدر 12 | BD2: مصدر 13 | BE2: مصدر 14 | BF2: مصدر 15 | BG2: مصدر 16 | BH2: مصدر 17 | BI2: مصدر 18 | BJ2: مصدر 19 | BK2: مصدر 20 | BL2: مصدر 21
A3: 1 | B3: مايو 2026 | C3: 46143 | D3: الجيزة | E3: المنيرة الغربية بالجيزة | F3: المنيرة الغربية بالجيزة | G3: سكة حديد | H3: نجاة سائق توك توك صدمه قطار في المنيرة الغربية بالجيزة | I3: تصادم | K3: 0 | L3: 0 | M3: 0 | N3: 0 | O3: =SUM(K3:N3) -> 0 | P3: 0 | Q3: 0 | R3: 0 | S3: 0 | T3: 0 | U3: =SUM(P3:T3) -> 0 | V3: 1 | W3: 0 | X3: 0 | Y3: 1 | Z3: 0 | AA3: =SUM(V3:Z3) -> 2 | AB3: حكومية | AD3: 0 | AE3: غير متاح | AF3: 0 | AG3: غير متاح | AH3: 0 | AI3: 0 | AJ3: 1 | AK3: غير متاح | AL3: 1 | AM3: 0 | AN3: غير متاح | AO3: تم | AP3: سكة حديد في تصنيف الطريق | AQ3: نجا سائق توك توك من الموت، حيث أصيب نتيجة اصطدام قطار به، أثناء عبوره السكة الحديد، في المنيرة الغربية بالجيزة، وتم نقله إلى المستشفى، وتحرر محضر بالواقعة، لتتولى النيابة التحقيق. بلاغ بإصابة سائق توك توك اصطدم به قطار تلقى المقدم طاهر صالح رئيس مباحث قسم شرطة المنيرة الغربية، بلاغا باصطدام قطار بأحد الأشخاص، وتبين من خلال الفحص والتحريات، أن سائق توك توك تم تحديد هويته، اصطدم به قطار أثناء عبوره السكة الحديد، مما أدى إلى إصابته. الاستماع لأقوال شهود عيان تم نقل المصاب إلى المستشفى، واستمع رجال المباحث لأقوال شهود عيان، وتحرر المحضر اللازم، لتباشر النيابة المختصة التحقيق. | AR3: https://www.youm7.com/story/2026/5/1/%D9%86%D8%AC%D8%A7%D8%A9-%D8%B3%D8%A7%D8%A6%D9%82-%D8%AA%D9%88%D9%83-%D8%AA%D9%88%D9%83-%D8%B5%D8%AF%D9%85%D9%87-%D9%82%D8%B7%D8%A7%D8%B1-%D9%81%D9%8A-%D8%A7%D9%84%D9%85%D9%86%D9%8A%D8%B1%D8%A9-%D8%A7%D9%84%D8%BA%D8%B1%D8%A8%D9%8A%D8%A9-%D8%A8%D8%A7%D9%84%D8%AC%D9%8A%D8%B2%D8%A9/7397936
A4: 2 | B4: مايو 2026 | C4: 46143 | D4: الجيزة | E4: الشيخ زايد | F4: طريق الشيخ زايد | G4: طريق داخل المحافظة | H4: انقلبت به السيارة.. مصرع سائق نقل على طريق الشيخ زايد بحادث مروري | I4: انقلاب | K4: 0 | L4: 0 | M4: 0 | N4: 0 | O4: =SUM(K4:N4) -> 0 | P4: 0 | Q4: 0 | R4: 1 | S4: 0 | T4: 0 | U4: =SUM(P4:T4) -> 1 | V4: 0 | W4: 0 | X4: 0 | Y4: 0 | Z4: 0 | AA4: =SUM(V4:Z4) -> 0 | AB4: غير معلوم | AD4: 0 | AE4: غير متاح | AF4: 1 | AG4: غير متاح | AH4: 1 | AI4: 0 | AJ4: 0 | AK4: غير متاح | AL4: 0 | AM4: 0 | AN4: غير متاح | AO4: تم | AP4: طريق الشيخ زايد ده فالجيزة | AQ4: انقلبت به السيارة.. مصرع سائق نقل على طريق الشيخ زايد بحادث مروري لقي سائق مصرعه في حادث مروري بدائرة قسم شرطة الشيخ زايد، وتم نقل الجثمان إلى مشرحة المستشفى تحت تصرف النيابة العامة، وتحرر محضر بالواقعة. وتلقت الأجهزة الأمنية بمديرية أمن الجيزة إخطارًا يفيد بوقوع حادث مروري ووجود متوفى بدائرة قسم شرطة الشيخ زايد. وعلى الفور انتقلت قوة أمنية إلى محل البلاغ، وبالفحص تبين أنه أثناء سير سيارة نقل اختلت عجلة القيادة بيد قائدها، ما أدى إلى انقلاب السيارة ووفاته في الحال متأثرًا بإصابته. وتم نقل الجثمان إلى المشرحة، فيما باشرت النيابة العامة التحقيقات، وأمرت بتشريح الجثة لبيان سبب الوفاة، والتصريح بالدفن عقب الانتهاء من الإجراءات اللازم | AR4: https://www.elbalad.news/6955204
A5: 3 | B5: مايو 2026 | C5: 46144 | D5: الجيزة | E5: قسم شرطة أول الشيخ زايد | F5: الشيج زايد | G5: طريق داخل المحافظة | H5: حاول تجاوز عدد من السيارات ضمن موكب زفاف، إلا أنه فوجئ بتوقف إحدى السيارات أمامه، ما أدى إلى اصطدامه بها من الخلف وحدوث تلفيات. | I5: تصادم | K5: 2 | L5: 0 | M5: 0 | N5: 0 | O5: =SUM(K5:N5) -> 2 | P5: 0 | Q5: 0 | R5: 0 | S5: 0 | T5: 0 | U5: =SUM(P5:T5) -> 0 | V5: 0 | W5: 0 | X5: 0 | Y5: 0 | Z5: 0 | AA5: =SUM(V5:Z5) -> 0 | AB5: خاصة | AD5: 0 | AE5: غير متاح | AF5: 0 | AG5: غير متاح | AH5: 0 | AI5: 0 | AJ5: 1 | AK5: غير متاح | AL5: 1 | AM5: 0 | AN5: غير متاح | AO5: تم | AP5: لايوجد | AQ5: مشاجرة موكب زفاف في الشيخ زايد».. كشف ملابسات الواقعة والقبض على المتهمين كشفت الأجهزة الأمنية بوزارة الداخلية ملابسات مقطع فيديو متداول عبر مواقع التواصل الاجتماعى، تضمن نشوب مشاجرة بين أحد الأشخاص وآخرين، على خلفية حادث تصادم أثناء سيرهم بدائرة قسم شرطة أول الشيخ زايد بمحافظة الجيزة. البداية كانت بتلقى قسم شرطة أول الشيخ زايد، فى 2 مايو الجارى، بلاغًا من موظف مقيم بدائرة قسم شرطة أول أكتوبر، أفاد فيه بأنه أثناء قيادته سيارته بأحد الشوارع، حاول تجاوز عدد من السيارات ضمن موكب زفاف، إلا أنه فوجئ بتوقف إحدى السيارات أمامه، ما أدى إلى اصطدامه بها من الخلف وحدوث تلفيات. وأضاف المبلّغ أنه عقب الحادث، قام عدد من الأشخاص المتواجدين ضمن موكب الزفاف بالتعدى عليه بالضرب، ما أسفر عن إصابته بجرح فى الوجه وبالفحص وإجراء التحريات، تمكنت الأجهزة الأمنية من تحديد وضبط مرتكبى الواقعة، وتبين أنهم 3 أشخاص مقيمون بدائرة قسم شرطة ثان الشيخ زايد. وبمواجهتهم، أقر أحدهم بالتعدى على المبلّغ وإحداث إصابته، فيما اتهموا الأخير بالتسبب فى تلفيات بالسيارة الخاصة بهم نتيجة التصادم. وتم اتخاذ الإجراءات القانونية اللازمة حيال الواقعة، فيما باشرت النيابة العامة التحقيق للوقوف على ملابسات الحادث | AR5: https://www.almasryalyoum.com/news/details/4259793
A6: 4 | B6: مايو 2026 | C6: 46144 | D6: القليوبية | E6: مركز بنها | F6: طريق عزبة البرنس | G6: طريق داخل المحافظة | H6: حادث تصادم بدراجة بخارية على طريق عزبة البرنس بمدينة بنها، أسفر عن وفاة أحد الأشخاص فى الحال. | I6: تصادم | K6: 0 | L6: 0 | M6: 0 | N6: 0 | O6: =SUM(K6:N6) -> 0 | P6: 0 | Q6: 0 | R6: 0 | S6: 0 | T6: 0 | U6: =SUM(P6:T6) -> 0 | V6: 0 | W6: 0 | X6: 1 | Y6: 0 | Z6: 0 | AA6: =SUM(V6:Z6) -> 1 | AB6: خاصة | AD6: 0 | AE6: غير متاح | AF6: 1 | AG6: الطالب أدهم محمود محمد فتح الله بالفرقة الرابعة بكلية علوم الرياضة جامعة بنها | AH6: 1 | AI6: 0 | AJ6: 0 | AK6: غير متاح | AL6: 0 | AM6: 0 | AN6: مستشفى بنها الجامعي | AO6: تم | AP6: لايوجد | AQ6: التصريح بدفن جثمان طالب لقى مصرعه فى حادث تصادم فى القليوبية قررت النيابة العامة فى القليوبية التصريح بدفن جثمان طالب جامعى لقى مصرعه فى حادث تصادم بدائرة مركز بنها، فى محافظة القليوبية، وذلك عقب الانتهاء من أعمال الكشف الطبى الظاهرى عليه، لبيان أسباب الوفاة والتأكد من عدم وجود شبهة جنائية فى الواقعة. وتلقت الأجهزة الأمنية بمديرية أمن القليوبية إخطارًا يفيد بوقوع حادث تصادم بدراجة بخارية على طريق عزبة البرنس بمدينة بنها، أسفر عن وفاة أحد الأشخاص فى الحال. انتقلت قوة من رجال الشرطة إلى موقع الحادث، وتم الدفع بسيارة إسعاف لنقل الجثمان إلى المستشفى تحت تصرف جهات التحقيق. وبالفحص، تبين أن المتوفى يدعى « أدهم م م » طالب بالفرقة الرابعة بكلية علوم الرياضة جامعة بنها حيث لقى مصرعه إثر تعرضه لحادث أثناء استقلاله دراجة بخارية، ما أدى إلى إصابته بإصابات بالغة أودت بحياته وتم تحرير محضر بالواقعة | AR6: https://www.almasryalyoum.com/news/details/4259574 | AS6: https://www.elbalad.news/6956124
A7: 5 | B7: مايو 2026 | C7: 46144 | D7: الجيزة | E7: المنيب | F7: طريق الواحات البحرية | G7: طريق سريع | H7: صطدمت سيارة ربع نقل بأتوبيس ركاب كان في طريقه من منطقة المنيب إلى مدينة الواحات البحرية | I7: تصادم | K7: 0 | L7: 0 | M7: 0 | N7: 1 | O7: =SUM(K7:N7) -> 1 | P7: 1 | Q7: 0 | R7: 0 | S7: 0 | T7: 0 | U7: =SUM(P7:T7) -> 1 | V7: 0 | W7: 0 | X7: 0 | Y7: 0 | Z7: 0 | AA7: =SUM(V7:Z7) -> 0 | AB7: نقل ركاب/غيرمعلوم | AD7: 0 | AE7: غير متاح | AF7: 0 | AG7: غير متاح | AH7: 0 | AI7: 0 | AJ7: 2 | AK7: غير متاح | AL7: 2 | AM7: 0 | AN7: غير متاح | AO7: تم | AP7: لايوجد | AQ7: تصادم مروع بين أتوبيس ركاب وربع نقل على طريق الواحات البحرية وإصابة شخصين|صور أُصيب شخصان في حادث تصادم وقع على طريق الواحات البحرية، بعدما اصطدمت سيارة ربع نقل بأتوبيس ركاب كان في طريقه من منطقة المنيب إلى مدينة الواحات البحرية، وتم نقل المصابين إلى المستشفى لتلقي العلاج اللازم. وتلقت الأجهزة الأمنية إخطارًا بوقوع حادث مروري على الطريق، وعلى الفور انتقلت قوات الأمن مدعومة بسيارات الإسعاف إلى مكان البلاغ، حيث تبين من الفحص وقوع تصادم بين أتوبيس ركاب وسيارة ربع نقل. وأسفر الحادث عن إصابة أحد ركاب الأتوبيس بإصابات متفرقة، بالإضافة إلى إصابة سائق السيارة الربع نقل، وتم تقديم الإسعافات الأولية لهما قبل نقلهما إلى المستشفى، فيما عملت الجهات المختصة على رفع آثار الحادث وإعادة تسيير الحركة المرورية. وتم تحرير محضر بالواقعة، وأخطرت النيابة المختصة للتحقيق | AR7: https://www.elbalad.news/6957028
A8: 6 | B8: مايو 2026 | C8: 46145 | D8: الجيزة | E8: الحوامدية | F8: بأحد شوارع الحوامدية | G8: طريق داخل المحافظة | H8: قائد مركبة "توك توك" بمعاكسة فتاتين والاصطدام بهما حال سيرهما بمنطقة الحوامدية بالجيزة | I8: دهس | K8: 0 | L8: 0 | M8: 0 | N8: 0 | O8: =SUM(K8:N8) -> 0 | P8: 0 | Q8: 0 | R8: 0 | S8: 0 | T8: 0 | U8: =SUM(P8:T8) -> 0 | V8: 1 | W8: 0 | X8: 0 | Y8: 0 | Z8: 0 | AA8: =SUM(V8:Z8) -> 1 | AB8: نقل ركاب | AD8: 0 | AE8: غير متاح | AF8: 0 | AG8: غير متاح | AH8: 0 | AI8: 0 | AJ8: 2 | AK8: غير متاح | AL8: 0 | AM8: 2 | AN8: غير متاح | AO8: تم | AP8: لايوجد | AQ8: اعترافات المتهم بصدم فتاتين بتوك توك في الحوامدية عترف سائق توك توك تم ضبطه، لاتهامه بالاصطدام بفتاتين بأحد شوارع الحوامدية، بصحة الاتهام المنسوب إليه، وذكر عقب ضبطه أمام رجال المباحث، أنه خلال سيره بمحل الواقعة، نشب بيه وبين الفتاتين مشادة كلامية، لخلاف على المرور بالشارع، مما دفعه للغضب، وانتقم منهما بالاصطدام بهما، فتعرضتا للإصابة عقب سقوطهما أرضا. واستمع رجال المباحث لأقوال الفتاتين، واتهما السائق بتعمد الاصطدام بهما وإصابتهما، وطالبا باتخاذ الإجراءات القانونية اللازمة تجاهه، ولجأ رجال المباحث لفحص كاميرات المراقبة المحيطة بمكان الحادث، حيث سجلت الكاميرات مشهد الاصطدام، كما تم الاستماع لأقوال شهود عيان، وتم إحالة المتهم إلى النيابة للتحقيق. تفاصيل الواقعة في إطار كشف ملابسات مقطع فيديو تم تداوله بمواقع التواصل الاجتماعى تضمن قيام قائد مركبة "توك توك" بمعاكسة فتاتين والاصطدام بهما حال سيرهما بمنطقة الحوامدية بالجيزة . بالفحص تبين أنه بتاريخ 3 الجاري تبلغ لقسم شرطة الحوامدية من (طالبتين "بهما إصابات بكدمات وسحجات متفرقة" - مقيمتان بدائرة القسم)، بأنه حال سيرهما بدائرة القسم اصطدم بهما قائد مركبة "توك توك" مما تسبب فى حدوث إصابتهما. ضبط المتهم أمكن تحديد وضبط مركبة "التوك توك" وقائدها (سائق - مقيم بدائرة القسم)، وبمواجهته اعترف بارتكابه الواقعة على النحو المشار إليه لحدوث مشادة كلامية بينه والفتاتين لخلاف على أولوية المرور. تم التحفظ على المركبة، واتخاذ الإجراءات القانونية، وأخطرت النيابة للتحقيق. | AR8: https://www.youm7.com/story/2026/5/10/%D8%A7%D8%B9%D8%AA%D8%B1%D8%A7%D9%81%D8%A7%D8%AA-%D8%A7%D9%84%D9%85%D8%AA%D9%87%D9%85-%D8%A8%D8%B5%D8%AF%D9%85-%D9%81%D8%AA%D8%A7%D8%AA%D9%8A%D9%86-%D8%A8%D8%AA%D9%88%D9%83-%D8%AA%D9%88%D9%83-%D9%81%D9%8A-%D8%A7%D9%84%D8%AD%D9%88%D8%A7%D9%85%D8%AF%D9%8A%D8%A9/7410728 | AS8: https://www.youm7.com/story/2026/5/10/%D9%84%D8%BA%D8%B2-%D9%81%D9%8A%D8%AF%D9%8A%D9%88-%D8%A7%D9%84%D8%AD%D9%88%D8%A7%D9%85%D8%AF%D9%8A%D8%A9-%D9%83%D9%8A%D9%81-%D8%A3%D9%88%D9%82%D8%B9-%D8%A7%D9%84%D8%AA%D9%88%D9%83-%D8%AA%D9%88%D9%83-%D8%B5%D8%A7%D8%AD%D8%A8%D9%87-%D8%A8%D9%82%D8%A8%D8%B6%D8%A9-%D8%A7%D9%84%D8%A3%D9%85%D9%86/7409386 | AT8: https://www.elbalad.news/6965415
A9: 7 | B9: مايو 2026 | C9: 46146 | D9: القاهرة | E9: المرج | F9: المرج | G9: طريق داخل المحافظة | H9: قيام قائد سيارة ميكروباص بالاصطدام بعدد من الأشخاص بمنطقة المرج بمحافظة القاهرة، ما أسفر عن وقوع إصابات وحالة وفاة. | I9: دهس | K9: 0 | L9: 0 | M9: 1 | N9: 0 | O9: =SUM(K9:N9) -> 1 | P9: 0 | Q9: 0 | R9: 0 | S9: 0 | T9: 0 | U9: =SUM(P9:T9) -> 0 | V9: 0 | W9: 0 | X9: 0 | Y9: 0 | Z9: 0 | AA9: =SUM(V9:Z9) -> 0 | AB9: نقل ركاب | AD9: 0 | AE9: غير متاح | AF9: 1 | AG9: غير متاح | AH9: 0 | AI9: 1 | AJ9: 7 | AK9: غير متاح | AL9: 4 | AM9: 3 | AN9: غير متاح | AO9: تم | AP9: الواقعة دي يوم 1 فالشهر - وفي خبر احدث بيقول انهم 8 مش 7 | AQ9: اصطدام ميكروباص بأشخاص في المرج.. كشف ملابسات الواقعة والقبض على المتهم كشفت الأجهزة الأمنية ملابسات مقطع فيديو تم تداوله عبر مواقع التواصل الاجتماعي، أظهر قيام قائد سيارة ميكروباص بالاصطدام بعدد من الأشخاص بمنطقة المرج بمحافظة القاهرة، ما أسفر عن وقوع إصابات وحالة وفاة. وفي هذا السياق، قالت وزارة الداخلية في بيان، اليوم الاثنين، إن الفحص أوضح أنه بتاريخ أول الشهر الجاري تبلغت الأجهزة الأمنية بمديرية أمن القاهرة بوقوع حادث أثناء سير سيارة ميكروباص بدون تراخيص، حيث اختلت عجلة القيادة بيد السائق ما أدى إلى اصطدامه بعدد 7 أشخاص أصيبوا بكسور وجروح وكدمات متفرقة، بالإضافة إلى وفاة ربة منزل متأثرة بإصابتها، وتم نقل المصابين إلى المستشفى لتلقي العلاج. ضاف البيان أنه تم ضبط قائد السيارة في حينه، وتبين أنه مقيم بمحافظة الفيوم، كما ثبت من الفحص ارتكابه الواقعة تحت تأثير تعاطي المواد المخدرة. وأكدت الوزارة أنه تم اتخاذ الإجراءات القانونية اللازمة، وتولت النيابة العامة التحقيق | AR9: https://www.almasryalyoum.com/news/details/4261507 | AS9: https://www.elbalad.news/6958808 | AT9: https://www.youm7.com/story/2026/5/4/%D8%AF%D9%85%D8%A7%D8%A1-%D8%AA%D8%AD%D8%AA-%D8%B9%D8%AC%D9%84%D8%A7%D8%AA-%D8%A7%D9%84%D9%85%D9%8A%D9%83%D8%B1%D9%88%D8%A8%D8%A7%D8%B5-%D9%83%D9%88%D8%A7%D9%84%D9%8A%D8%B3-%D9%84%D9%8A%D9%84%D8%A9-%D9%85%D8%B1%D8%B9%D8%A8%D8%A9-%D8%B9%D8%A7%D8%B4%D9%87%D8%A7-%D8%A3%D9%87%D8%A7%D9%84%D9%8A-%D8%A7%D9%84%D9%85%D8%B1%D8%AC/7401667 | AU9: https://www.elbalad.news/6958808
A10: 8 | B10: مايو 2026 | C10: 46146 | D10: القاهرة | E10: القطامية | F10: أعلى الطريق الأوسطي فى دائرة قسم القطامية | G10: طرق محورية | H10: انقلاب سيارة أعلى الطريق الأوسطي فى دائرة قسم القطامية | I10: انقلاب | K10: 0 | L10: 0 | M10: 0 | N10: 0 | O10: =SUM(K10:N10) -> 0 | P10: 0 | Q10: 0 | R10: 0 | S10: 1 | T10: 0 | U10: =SUM(P10:T10) -> 1 | V10: 0 | W10: 0 | X10: 0 | Y10: 0 | Z10: 0 | AA10: =SUM(V10:Z10) -> 0 | AB10: غير معلوم | AD10: 0 | AE10: سائق /م.س | AF10: 0 | AG10: غير متاح | AH10: 0 | AI10: 0 | AJ10: 1 | AK10: م.س /سائق | AL10: 1 | AM10: 0 | AN10: مستشفى القاهرة الجديدة | AO10: تم | AP10: لا يوجد | AQ10: سقوط حمولة مقطورة أعلى الطريق الأوسطى بعد اصطدامها بالحاجز الخرسانى أصيب سائق إثر اصطدام سيارة مقطورة بالحاجز الخرسانى، أعلى الطريق الأوسطى مما أدى إلى ظهور بقعة زيت أعلى الطريق وانتقل رجال الإنقاذ البرى إلى مكان الحادث، وتم التعامل معه ورفع حطامه بالكامل. غرفة العمليات تلقت بلاغا بالحادث تلقت غرفة العمليات، بلاغا بانقلاب سيارة أعلى الطريق الأوسطي فى دائرة قسم القطامية، وبناء على تعليمات اللواء الدكتور محمد الشربينى مدير الإدارة العامة للحماية المدنية بالقاهرة، انتقلت سيارات الإنقاذ البرى الى مكان الحادث. تفاصيل الحادث وبالانتقال والوصول تبين اصطدام سيارة مقطورة تحمل لوحات معدنية أرقام (س ف ر 4781) بالحاجز الخرساني على جانب الطريق، مما أدى إلى سقوط الكونتر المحمل أعلاها (محمل بمادة الألومنيوم الخام) ، قيادة سائق يدعى "م. س"مصاب و تم نقله لمستشفى القاهرة الجديدة. كما كشفت المعاينة، أن الحادث أسفر عن وجود بقعة زيت، وتم التعامل معها بمعرفة القوات، وتم اتخاذ الإجراءات القانونية اللازمة تجاه الواقعة. | AR10: https://www.youm7.com/story/2026/5/4/%D8%B3%D9%82%D9%88%D8%B7-%D8%AD%D9%85%D9%88%D9%84%D8%A9-%D9%85%D9%82%D8%B7%D9%88%D8%B1%D8%A9-%D8%A3%D8%B9%D9%84%D9%89-%D8%A7%D9%84%D8%B7%D8%B1%D9%8A%D9%82-%D8%A7%D9%84%D8%A3%D9%88%D8%B3%D8%B7%D9%89-%D8%A8%D8%B9%D8%AF-%D8%A7%D8%B5%D8%B7%D8%AF%D8%A7%D9%85%D9%87%D8%A7-%D8%A8%D8%A7%D9%84%D8%AD%D8%A7%D8%AC%D8%B2-%D8%A7%D9%84%D8%AE%D8%B1%D8%B3%D8%A7%D9%86%D9%89/7401278
A11: 9 | B11: مايو 2026 | C11: 46146 | D11: الجيزة | E11: المنيب | F11: المنيب بالجيزة | G11: طريق داخل المحافظة | H11: مصرع شاب صدمته سيارة نقل فى المنيب بالجيزة | I11: دهس | K11: 0 | L11: 0 | M11: 0 | N11: 0 | O11: =SUM(K11:N11) -> 0 | P11: 0 | Q11: 0 | R11: 1 | S11: 0 | T11: 0 | U11: =SUM(P11:T11) -> 1 | V11: 0 | W11: 0 | X11: 0 | Y11: 0 | Z11: 0 | AA11: =SUM(V11:Z11) -> 0 | AB11: غير معلوم | AD11: 0 | AE11: غير متاح | AF11: 1 | AG11: غير متاح | AH11: 1 | AI11: 0 | AJ11: 0 | AK11: غير متاح | AL11: 0 | AM11: 0 | AN11: المستشفى العام | AO11: تم | AP11: احد شوارع المنيب | AQ11: مصرع شاب صدمته سيارة نقل فى المنيب بالجيزة فقد شاب حياته، إثر اصطدام سيارة نقل به، بمنطقة المنيب في الجيزة، وتم نقل الجثة إلى ثلاجة المستشفى العام، وباشرت النيابة المختصة التحقيق لاغ بمصرع شخص صدمته سيارة تلقت غرفة النجدة بمديرية أمن الجيزة، بلاغا بوقوع حادث طريق داخل المحافظة، انتقلت قوة أمنية لمحل الواقعة، وتبين من خلال الفحص والمعاينة، أن سيارة نقل صدمت شابا، تم تحديد هويته، مما أدى لمصرعه في الحال، متأثرا بالإصابات التي لحقت به. الاستماع لأقوال شهود عيان تم نقل الجثة إلى ثلاجة المستشفى العام، واستمع رجال المباحث لأقوال شهود عيان، لكشف ملابسات الحادث، والتأكد من حقيقة، ما تم تداوله بتعرض الضحية للدفع من جانب صديقه، خلال المزاح، مما أسفر عن سقوطه أمام السيارة ومصرعه، وبيان صحة ما أشيع من عدمه، وتم ضبط قائد السيارة، لتتولى النيابة التحقيق. | AR11: https://www.youm7.com/story/2026/5/4/%D9%85%D8%B5%D8%B1%D8%B9-%D8%B4%D8%A7%D8%A8-%D8%B5%D8%AF%D9%85%D8%AA%D9%87-%D8%B3%D9%8A%D8%A7%D8%B1%D8%A9-%D9%86%D9%82%D9%84-%D9%81%D9%89-%D8%A7%D9%84%D9%85%D9%86%D9%8A%D8%A8-%D8%A8%D8%A7%D9%84%D8%AC%D9%8A%D8%B2%D8%A9/7401210
A12: 10 | B12: مايو 2026 | C12: 46146 | D12: الجيزة | E12: أكتوبر | F12: الطريق الأوسطي باتجاه حدائق السادس من اكتوبر | G12: طرق محورية | H12: شهد الطريق الدائري الأوسطي في الاتجاه المؤدي إلى حدائق أكتوبر حادثًا مروريًا مروعًا إثر اصطدام سيارتين نقل، ما أسفر عن سقوط عدد من الضحايا، فيما تواصل الأجهزة المعنية حصر أعدادهم. | I12: تصادم | K12: 0 | L12: 0 | M12: 0 | N12: 0 | O12: =SUM(K12:N12) -> 0 | P12: 0 | Q12: 0 | R12: 2 | S12: 0 | T12: 0 | U12: =SUM(P12:T12) -> 2 | V12: 0 | W12: 0 | X12: 0 | Y12: 0 | Z12: 0 | AA12: =SUM(V12:Z12) -> 0 | AB12: غير معلوم | AD12: 0 | AE12: غير متاح | AF12: 1 | AG12: التباع عبد الحميد. أ. | AH12: 1 | AI12: 0 | AJ12: 1 | AK12: السائقأحمد. م. أ | AL12: 1 | AM12: 0 | AN12: مستشفى الشيخ زايد التخصصي | AO12: تم | AQ12: حادث مروع على الطريق الأوسطي باتجاه حدائق أكتوبر وسقوط ضحايا.. صور الإثنين 04/مايو/2026شهد الطريق الدائري الأوسطي في الاتجاه المؤدي إلى حدائق أكتوبر حادثًا مروريًا مروعًا إثر اصطدام سيارتين نقل، ما أسفر عن سقوط عدد من الضحايا، فيما تواصل الأجهزة المعنية حصر أعدادهم. تلقت غرفة عمليات النجدة بلاغًا يفيد بوقوع تصادم عنيف أعلى الطريق الأوسطي، وعلى الفور انتقلت سيارات الإسعاف وقوات الشرطة إلى موقع الحادث، حيث جرى فرض كردون مروري لتأمين المنطقة ونقل المصابين إلى المستشفيات القريبة. كما دفعت الإدارة العامة للمرور بأوناش ومعدات لرفع آثار الحادث وإعادة تسيير الحركة المرورية بعد تكدس السيارات بالمنطقة، فيما يواصل رجال المباحث إجراء المعاينات اللازمة للوقوف على أسباب وملابسات التصادم. | AR12: https://www.elbalad.news/6958428 | AS12: https://www.elbalad.news/6958454
A13: 11 | B13: مايو 2026 | C13: 46147 | D13: القليوبية | E13: مركز شرطة طوخ | F13: شريط السكة الحديد بمدينة طوخ / خلف وحدة المرور | G13: سكة حديد | H13: اصطدام قطار بفتاة أثناء عبورها شريط السكة الحديد من مكان غير مخصص لعبور المشاة، | I13: دهس | K13: 0 | L13: 0 | M13: 0 | N13: 0 | O13: =SUM(K13:N13) -> 0 | P13: 0 | Q13: 0 | R13: 0 | S13: 0 | T13: 0 | U13: =SUM(P13:T13) -> 0 | V13: 0 | W13: 0 | X13: 0 | Y13: 1 | Z13: 0 | AA13: =SUM(V13:Z13) -> 1 | AB13: حكومية | AD13: 0 | AE13: غير متاح | AF13: 1 | AG13: حبيبة ا ع »، تبلغ من العمر 18 عاماً طالبة ومقيمة بقرية السفاينة التابعة لمركز طوخ | AH13: 0 | AI13: 1 | AJ13: 0 | AK13: غير متاح | AL13: 0 | AM13: 0 | AN13: مستشفى طوخ المركزي | AO13: تم | AP13: لا يوجد | AQ13: أثناء عبورها السكة الحديد».. مصرع طالبة صدمها قطار بطوخ في القليوبية لقيت طالبة مصرعها إثر تعرضها لحادث اصطدام قطار أثناء عبورها شريط السكة الحديد من مكان غير مخصص لعبور المشاة، خلف وحدة المرور بمدينة طوخ فى محافظة القليوبية، تم نقل الجثة إلى مستشفى طوخ المركزى وتحرر المحضر اللازم وتولت النيابة التحقيق وصرحت بدفن الجثة. تلقى مدير أمن القليوبية، إخطاراً من مأمور مركز شرطة طوخ، يفيد بورود بلاغ بوقوع حادث تصادم قطار بسيدة خلف وحدة المرور بدائرة المركز. انتقلت الأجهزة الأمنية وسيارات الإسعاف إلى موقع الحادث، وبالفحص تبين أن المتوفاة تُدعى « حبيبة ا ع »، تبلغ من العمر 18 عاماً طالبة، ومقيمة بقرية السفاينة التابعة لمركز طوخ وتبين أنها لفظت أنفاسها الأخيرة فور وقوع الحادث نتيجة الإصابات البالغة التى تعرضت لها. وتم نقل الجثمان إلى ثلاجة الموتى بمستشفى طوخ المركزى تحت تصرف النيابة العامة، التى أُخطرت لتولى التحقيقات واتخاذ الإجراءات القانونية اللازمة، واستخراج تصريح الدفن | AR13: https://www.almasryalyoum.com/news/details/4262607
A14: 12 | B14: مايو 2026 | C14: 46147 | D14: القليوبية | E14: مركز شرطة طوخ | F14: أعلى كوبرى العريضة بطوخ | G14: كوبري | H14: حادث انقلاب دراجة نارية على كوبرى «العريضة» دائرة مركز شرطة طوخ | I14: انقلاب | K14: 0 | L14: 0 | M14: 0 | N14: 0 | O14: =SUM(K14:N14) -> 0 | P14: 0 | Q14: 0 | R14: 0 | S14: 0 | T14: 0 | U14: =SUM(P14:T14) -> 0 | V14: 0 | W14: 0 | X14: 1 | Y14: 0 | Z14: 0 | AA14: =SUM(V14:Z14) -> 1 | AB14: خاصة | AD14: 0 | AE14: غير متاح | AF14: 0 | AG14: غير متاح | AH14: 0 | AI14: 0 | AJ14: 2 | AK14: محمد ع ز 21 سنة ومحمد ع ا 19 سنة | AL14: 2 | AM14: 0 | AN14: مستشفى طوخ المركزى | AO14: تم | AP14: لا يوجد | AQ14: إصابة شابين في انقلاب دراجة نارية أعلى كوبري في القليوبية أصيب اليوم الثلاثاء، شابان فى حادث انقلاب دراجة نارية على كوبرى «العريضة» دائرة مركز شرطة طوخ فى محافظة القليوبية، وتم نقل المصابين لمستشفى طوخ المركزى وتم تحرير المحضر اللازم بواسطة رجال وزارة الداخلية وتولت النيابة العامة التحقيق. كانت الأجهزة الأمنية بمديرية أمن القليوبية التابعة لوزارة الداخلية تلقت إخطاراً يفيد بوقوع حادث سير أعلى كوبرى العريضة، وانتقلت على الفور سيارات الإسعاف وقوات الأمن إلى موقع البلاغ وتبين فقدان السائق السيطرة على الدراجة النارية مما أدى لانحرافها وانقلابها. وأسفر الحادث عن إصابة كل من "محمد ع ز 21 سنة ومحمد ع ا 19 سنة وتم نقل المصابين إلى مستشفى طوخ المركزى لتقديم الرعاية الطبية وإجراء الفحوصات اللازمة، كما تم رفع آثار الحادث من الطريق لتيسير حركة المرور، وتحرر محضر بالواقعة لتتولى النيابة التحقيق. | AR14: https://www.almasryalyoum.com/news/details/4262704 | AS14: https://www.elbalad.news/6960595#google_vignette
A15: 13 | B15: مايو 2026 | C15: 46147 | D15: القاهرة | E15: عين شمس | F15: عين شمس | G15: طريق داخل المحافظة | H15: لقى سائق مصرعه إثر انقلاب موتوسيكل طريق داخل المحافظة وتم نقله إلى المستشفى، حرر محضر بالواقعة وتولت النيابة المختصة التحقيقات. | I15: انقلاب | K15: 0 | L15: 0 | M15: 0 | N15: 0 | O15: =SUM(K15:N15) -> 0 | P15: 0 | Q15: 0 | R15: 0 | S15: 0 | T15: 0 | U15: =SUM(P15:T15) -> 0 | V15: 0 | W15: 0 | X15: 1 | Y15: 0 | Z15: 0 | AA15: =SUM(V15:Z15) -> 1 | AB15: خاصة | AD15: 0 | AE15: غير متاح | AF15: 1 | AG15: غير متاح | AH15: 1 | AI15: 0 | AJ15: 0 | AK15: غير متاح | AL15: 0 | AM15: 0 | AN15: غير متاح | AO15: تم | AP15: لا يوجد | AQ15: مصرع سائق إثر انقلاب موتوسيكل فى عين شمس لقى سائق مصرعه إثر انقلاب موتوسيكل طريق داخل المحافظة وتم نقله إلى المستشفى، حرر محضر بالواقعة وتولت النيابة المختصة التحقيقات.. وفور تلقى بلاغا بوقوع حادث مرورى ووجود متوفى فى الطريق فى عين شمس و انتقل رجال الاسعاف الي المكان وتبين من خلال الفحـــص أنه أثناء سير دراجة نارية موتوسيكل أختلت عجلة القيادة من السائق مما تسبب فى انحرافه وانقلاب الموتوسيكل ونتج عن الحادث وفاة سائقه ، وجرى نقل المتوفى الى المشرحة، وتم اتخاذ كافة الإجراءات القانونية اللازمة حيال الواقعة | AR15: https://www.youm7.com/story/2026/5/5/%D9%85%D8%B5%D8%B1%D8%B9-%D8%B3%D8%A7%D8%A6%D9%82-%D8%A5%D8%AB%D8%B1-%D8%A7%D9%86%D9%82%D9%84%D8%A7%D8%A8-%D9%85%D9%88%D8%AA%D9%88%D8%B3%D9%8A%D9%83%D9%84-%D9%81%D9%89-%D8%B9%D9%8A%D9%86-%D8%B4%D9%85%D8%B3/7402406
A16: 14 | B16: مايو 2026 | C16: 46147 | D16: القليوبية | E16: مدينة بنها | F16: منطقة مفارق المنصورة بمدينة مدينة بنها | G16: طريق داخل المحافظة | H16: بلاغ بوقوع حادث تصادم بين سيارة ملاكي وأخرى سوزوكي بمنطقة مفارق المنصورة بمدينة مدينة بنها | I16: تصادم | K16: 1 | L16: 1 | M16: 0 | N16: 0 | O16: =SUM(K16:N16) -> 2 | P16: 0 | Q16: 0 | R16: 0 | S16: 0 | T16: 0 | U16: =SUM(P16:T16) -> 0 | V16: 0 | W16: 0 | X16: 0 | Y16: 0 | Z16: 0 | AA16: =SUM(V16:Z16) -> 0 | AB16: خاصة | AD16: 0 | AE16: غير متاح | AF16: 0 | AG16: غير متاح | AH16: 0 | AI16: 0 | AJ16: 5 | AK16: “إيمان محمد، وريم سعيد عبد الغني، وسمر أحمد عبد العزيز، ومكة أحمد، ومحمد أحمد عبد العزيز | AL16: 1 | AM16: 4 | AN16: مستشفى مدينة بنها الجامعي | AO16: تم | AP16: لا يوجد | AQ16: إصابة 5 أشخاص فى حادث تصادم سيارتين بمدينة بنها شهدت منطقة مفارق المنصورة بمدينة مدينة بنها فى محافظة القليوبية، حادث تصادم سيارة ملاكي مع أخرى سوزوكي، ما أسفر عن إصابة 5 أشخاص، تم نقلهم لمستشفى مدينة بنها الجامعي لتلقي العلاج، وتم إعادة الحركة المرورية على طريق داخل المحافظة، بعد رفع آثار الحادث، وتحرر محضر بالواقعة. تلقت مديرية أمن القليوبية إخطارا من عمليات النجدة يفيد بورود بلاغ بوقوع حادث تصادم بين سيارة ملاكي وأخرى سوزوكي بمنطقة مفارق المنصورة بمدينة مدينة بنها، على طريق داخل المحافظة. انتقلت على الفور قوات الأمن ورجال المرور، وبالمعاينة والفحص تبين وقوع حادث تصادم بين سيارتين ملاكي وأخرى سوزوكي، بمنطقة مفارق المنصورة، على طريق داخل المحافظة، والذي أسفر عنه إصابة 5 أشخاص وهم: “إيمان محمد، وريم سعيد عبد الغني، وسمر أحمد عبد العزيز، ومكة أحمد، ومحمد أحمد عبد العزيز”. تم نقل المصابين لمستشفى مدينة بنها الجامعي لتلقي العلاج، وتمكن رجال مرور القليوبية من تيسير الحركة المرورية على الطريق لمنع تعطل مصالح المسافرين، وتحرر محضر بالواقعة، وتولت الجهات المعنية التحقيقات. | AR16: https://www.elbalad.news/6959950
A17: 15 | B17: مايو 2026 | C17: 46147 | D17: القليوبية | E17: شبين القناطر | F17: طريق الاحراز – شبين القناطر | G17: طريق داخل المحافظة | H17: وقوع حادث تصادم بين دراجتين بخاريتين على طريق الاحراز – شبين القناطر دائرة المركز ووجود جثة ومصاب. | I17: تصادم | K17: 0 | L17: 0 | M17: 0 | N17: 0 | O17: =SUM(K17:N17) -> 0 | P17: 0 | Q17: 0 | R17: 0 | S17: 0 | T17: 0 | U17: =SUM(P17:T17) -> 0 | V17: 0 | W17: 0 | X17: 2 | Y17: 0 | Z17: 0 | AA17: =SUM(V17:Z17) -> 2 | AB17: خاصة | AD17: 0 | AE17: غير متاح | AF17: 1 | AG17: غير متاح | AH17: 1 | AI17: 0 | AJ17: 1 | AK17: غير متاح | AL17: 1 | AM17: 0 | AN17: مستشفى شبين القناطر | AO17: تم | AP17: لا يوجد | AQ17: مصرع وإصابة شخصين فى حادث بشبين القناطر لقى شاب مصرعه وأصيب آخر فى تصادم دراجتين على طريق الاحراز – شبين القناطر بسبب السرعة وتم نقل الجثة والمصاب إلى مستشفى شبين القناطر العام وتحرر محضر بالواقعة. تلقت مديرية أمن القليوبية إخطارا من مأمور مركز شرطة شبين القناطر يفيد وقوع حادث تصادم بين دراجتين بخاريتين على طريق الاحراز – شبين القناطر دائرة المركز ووجود جثة ومصاب. وانتقلت قوة أمنية وتبين من المعاينة تصادم دراجتين من المواجهة بسبب السرعة وأسفر الحادث عن مصرع شاب مجهول الهوية وجارى التعرف عليه فيما أصيب شخص آخر وتم نقل الجثة إلى مشرحة مستشفى شبين القناطر والمصاب للمستشفى لتلقى العلاج والتحفظ على الدراجتين وتحرر محضر بالحادث وتولت النيابة التحقيق. | AR17: https://www.elbalad.news/6960578
A18: 16 | B18: مايو 2026 | C18: 46148 | D18: الجيزة | E18: اطفيح | F18: أعلى الطريق الصحراوى | G18: الطريق الصحراوي | H18: أصيب 6 اشخاص بسبب حادث انقلاب ميكروباص أعلى الطريق الصحراوى فى أطفيح | I18: انقلاب | K18: 0 | L18: 0 | M18: 1 | N18: 0 | O18: =SUM(K18:N18) -> 1 | P18: 0 | Q18: 0 | R18: 0 | S18: 0 | T18: 0 | U18: =SUM(P18:T18) -> 0 | V18: 0 | W18: 0 | X18: 0 | Y18: 0 | Z18: 0 | AA18: =SUM(V18:Z18) -> 0 | AB18: نقل ركاب | AD18: 0 | AE18: غير متاح | AF18: 6 | AG18: غير متاح | AH18: 3 | AI18: 3 | AJ18: 0 | AK18: غير متاح | AL18: 0 | AM18: 0 | AN18: مستشفى طوخ المركزي | AO18: تم | AP18: لا يوجد | AQ18: إصابة 6 أشخاص إثر انقلاب ميكروباص فى أطفيح أصيب 6 اشخاص بسبب حادث انقلاب ميكروباص أعلى الطريق الصحراوى فى أطفيح ونقلوا الى المستشفى، وحرر محضر بالواقعة. تلقت غرفة عمليات النجدة، بلاغا أعلى الطريق فى أطفيح بوقوع حادث مرورى ، وانتقلت سيارات الاسعاف لموقع الحادث بصحبتهم ونش مرورى للعمل على رفع حطام الحادث وتبين من خلال الفحص اختلال عجلة القيادة من السائق مما أدى الى انقلاب السيارة أعلى الطريق ونتج إصابة 6 اشخاص ونقلوا جميعهم الى المستشفى | AR18: https://www.youm7.com/story/2026/5/6/%D8%A5%D8%B5%D8%A7%D8%A8%D8%A9-6-%D8%A3%D8%B4%D8%AE%D8%A7%D8%B5-%D8%A5%D8%AB%D8%B1-%D8%A7%D9%86%D9%82%D9%84%D8%A7%D8%A8-%D9%85%D9%8A%D9%83%D8%B1%D9%88%D8%A8%D8%A7%D8%B5-%D9%81%D9%89-%D8%A3%D8%B7%D9%81%D9%8A%D8%AD/7403956
A19: 17 | B19: مايو 2026 | C19: 46148 | D19: الجيزة | E19: حدائق السادس من اكتوبر | F19: حدائق اكتوبر | G19: طريق داخل المحافظة | H19: اصطدام مينى باص بسور كمبوند فى حدائق أكتوبر | I19: اصطدام | K19: 0 | L19: 0 | M19: 1 | N19: 0 | O19: =SUM(K19:N19) -> 1 | P19: 0 | Q19: 0 | R19: 0 | S19: 0 | T19: 0 | U19: =SUM(P19:T19) -> 0 | V19: 0 | W19: 0 | X19: 0 | Y19: 0 | Z19: 0 | AA19: =SUM(V19:Z19) -> 0 | AB19: نقل ركاب | AD19: 0 | AE19: غير متاح | AF19: 1 | AG19: غير متاح | AH19: 0 | AI19: 1 | AJ19: 0 | AK19: غير متاح | AL19: 0 | AM19: 0 | AN19: غير متاح | AO19: تم | AP19: لا يوجد | AQ19: إصابة سائق إثر اصطدام مينى باص بسور كمبوند فى حدائق أكتوبر أصيب سائق بعدما اصطدم مينى باص بسور كمبوند فى منطقة حدائق أكتوبر، نتيجة اختلال عجلة القيادة من السائق، وتم نقل المصاب إلى المستشفى لتلقى العلاج غرفة العمليات تلقت بلاغا بالحادث كانت غرفة عمليات الإدارة العامة للنجدة، قد تلقت، بلاغا من الخدمات المعينة بمنطقة حدائق أكتوبر، بوقوع حادث مرورى، فانتقل رجال المرور لمكان الواقعة، وتم الدفع بالأوناش لرفع آثار الحادث، ونتج عن الحادث إصابة السائق، نتيجة لاصطدام مينى باص بسور كمبوند، وتم رفع حطام الحادث بالكامل. . | AR19: https://www.youm7.com/story/2026/5/6/%D8%A5%D8%B5%D8%A7%D8%A8%D8%A9-%D8%B3%D8%A7%D8%A6%D9%82-%D8%A5%D8%AB%D8%B1-%D8%A7%D8%B5%D8%B7%D8%AF%D8%A7%D9%85-%D9%85%D9%8A%D9%86%D9%89-%D8%A8%D8%A7%D8%B5-%D8%A8%D8%B3%D9%88%D8%B1-%D9%83%D9%85%D8%A8%D9%88%D9%86%D8%AF-%D9%81%D9%89-%D8%AD%D8%AF%D8%A7%D8%A6%D9%82/7404408
A20: 18 | B20: مايو 2026 | C20: 46149 | D20: الجيزة | E20: العياط | F20: العياط | G20: الطريق الصحراوي | H20: حادث انقلاب ميكروباص أعلى الطريق الصحراوى فى العياط | I20: انقلاب | K20: 0 | L20: 0 | M20: 1 | N20: 0 | O20: =SUM(K20:N20) -> 1 | P20: 0 | Q20: 0 | R20: 0 | S20: 0 | T20: 0 | U20: =SUM(P20:T20) -> 0 | V20: 0 | W20: 0 | X20: 0 | Y20: 0 | Z20: 0 | AA20: =SUM(V20:Z20) -> 0 | AB20: نقل ركاب | AD20: 0 | AE20: غير متاح | AF20: 0 | AG20: غير متاح | AH20: 0 | AI20: 0 | AJ20: 5 | AK20: غير متاح | AL20: 3 | AM20: 2 | AN20: غير متاح | AO20: تم | AP20: لا يوجد | AQ20: إصابة 5 أشخاص إثر انقلاب ميكروباص فى العياط . . أصيب 5 اشخاص بسبب حادث انقلاب ميكروباص أعلى الطريق الصحراوى فى العياط ونقلوا الى المستشفى، وحرر محضر بالواقعة. تلقت غرفة عمليات النجدة، بلاغا أعلى الطريق فى العياط بوقوع حادث مرورى ، وانتقلت سيارات الاسعاف لموقع الحادث بصحبتهم ونش مرورى للعمل على رفع حطام الحادث وتبين من خلال الفحص اختلال عجلة القيادة من السائق مما أدى الى انقلاب السيارة أعلى الطريق ونتج إصابة 5 اشخاص ونقلوا جميعهم الى المستشفى . | AR20: https://www.youm7.com/story/2026/5/7/%D8%A5%D8%B5%D8%A7%D8%A8%D8%A9-5-%D8%A3%D8%B4%D8%AE%D8%A7%D8%B5-%D8%A5%D8%AB%D8%B1-%D8%A7%D9%86%D9%82%D9%84%D8%A7%D8%A8-%D9%85%D9%8A%D9%83%D8%B1%D9%88%D8%A8%D8%A7%D8%B5-%D9%81%D9%89-%D8%A7%D9%84%D8%B9%D9%8A%D8%A7%D8%B7/7405224
A21: 19 | B21: مايو 2026 | C21: 46151 | D21: القليوبية | E21: مدينة بنها | F21: أعلى طريق مدينة بنها _ شبرا الحر | G21: طرق محورية | H21: حادث تصادم سيارتين على الطريق الحر بالقليوبية | I21: تصادم | K21: 2 | L21: 0 | M21: 0 | N21: 0 | O21: =SUM(K21:N21) -> 2 | P21: 0 | Q21: 0 | R21: 0 | S21: 0 | T21: 0 | U21: =SUM(P21:T21) -> 0 | V21: 0 | W21: 0 | X21: 0 | Y21: 0 | Z21: 0 | AA21: =SUM(V21:Z21) -> 0 | AB21: خاصة | AD21: 0 | AE21: غير متاح | AF21: 0 | AG21: غير متاح | AH21: 0 | AI21: 0 | AJ21: 4 | AK21: نورا م ع " و سعيد ا أ " واحمد م م ، ونعيمه م | AL21: 2 | AM21: 2 | AN21: مستشفى قليوب | AO21: تم | AP21: لا يوجد | AQ21: بالأسماء .. إصابة 4 أشخاص في حادث تصادم سيارتين على الطريق الحر بالقليوبية أصيب 4 أشخاص فى حادث تصادم سيارتين أعلى طريق مدينة بنها _ شبرا الحر بمحافظة القليوبية وتم نقل المصابين إلى المستشفى ورفع أنقاض الحادث وإعادة الحركة المرورية لطبيعتها مرة أخرى على الطريق. تلقت الأجهزة الأمنية بمديرية أمن القليوبية إخطارًا بوقوع حادث تصادم سيارتين ووجود مصابين ، وبالانتقال والفحص تبين وقوع حادث تصادم سيارتين أعلى الطريق الحر اتجاه شبرا. واسفر الحادث عن إصابة كل من نورا م ع " و سعيد ا أ " واحمد م م ، ونعيمه م ا" وتم نقلهم إلى مستشفى قليوب لتلقى العلاج اللازم | AR21: https://www.elbalad.news/6964513
A22: 20 | B22: مايو 2026 | C22: 46151 | D22: الجيزة | E22: قسم شرطة اول اكتوبر | F22: دائرة قسم اول اكتوبر | G22: طريق داخل المحافظة | H22: حبس مسجل خطر ضرب فتاة واصطدام بسيارة سيدة عمدا في الجيزة | I22: اصطدام | K22: 2 | L22: 0 | M22: 0 | N22: 0 | O22: =SUM(K22:N22) -> 2 | P22: 0 | Q22: 0 | R22: 0 | S22: 0 | T22: 0 | U22: =SUM(P22:T22) -> 0 | V22: 0 | W22: 0 | X22: 0 | Y22: 0 | Z22: 0 | AA22: =SUM(V22:Z22) -> 0 | AB22: خاصة | AD22: 0 | AE22: غير متاح | AF22: 0 | AG22: غير متاح | AH22: 0 | AI22: 0 | AJ22: 0 | AK22: غير متاح | AL22: 0 | AM22: 0 | AN22: غير متاح | AO22: تم | AP22: لا يوجد | AQ22: حبس مسجل خطر ضرب فتاة واصطدام بسيارة سيدة عمدا في الجيزة قررت جهات التحقيق حبس مسجل خطر تعدى بالضرب على فتاة واصطدم بسيارة سيدة، عمدا، في الجيزة، 4 أيام على ذمة التحقيقات. وكشفت الأجهزة الأمنية بوزارة الداخلية، ملابسات مقطع فيديو تم تداوله بمواقع التواصل الاجتماعي، تضمن تضرر إحدى السيدات من قائد سيارة ملاكي لاصطدامه بسيارتها عمدا عدة مرات حال سيرها بمدينة السادس من اكتوبربالجيزة. تبين بالفحص أنه بتاريخ 9 مايو الجاري تبلغ لقسم شرطة أول السادس من اكتوبرمن (موظفة مقيمة بدائرة القسم) بأنه حال سيرها بسيارتها الملاكي بدائرة القسم؛ فوجئت بأحد الأشخاص يتعدى بالضرب على فتاة داخل سيارته، وحال محاولتها تصويره، ولدى رؤيته لها؛ صدم سيارتها عمدا عدة مرات؛ مما تسبب في إحداث تلفيات بسيارتها، ولاذ بالهرب. وأمكن تحديد وضبط السيارة المشار إليها، وقائدها (عنصر جنائي)، مقيم بدائرة مركز شرطة نجع حمادي، وبحوزته بندقية خرطوش، وكمية من مخدر الحشيش. وأقر بمواجهته بحدوث مشادة كلامية بينه وبين نجلة شقيقته- مقيمة بذات الدائرة-؛ إبان استقلالها السيارة معه، حيث تعدى عليها بالضرب لخلافات عائلية، وحال ملاحظته قيام الشاكية بتصويره؛ ارتكب الواقعة على النحو المشار إليه، واعترف بحيازة المواد المخدرة بقصد الاتجار، وتم التحفظ على السيارة. | AR22: https://www.elbalad.news/6967327 | AS22: https://www.elbalad.news/6966945
A23: 21 | B23: مايو 2026 | C23: 46152 | D23: القاهرة | E23: مدينة بدر | F23: مدينة بدر، أمام منطقة صبحى حسين فى الاتجاه المؤدى إلى مدينة العاشر من رمضان. | G23: طريق داخل المحافظة | H23: حادث تصادم بين دراجة نارية وتوك توك | I23: تصادم | K23: 0 | L23: 0 | M23: 0 | N23: 0 | O23: =SUM(K23:N23) -> 0 | P23: 0 | Q23: 0 | R23: 0 | S23: 0 | T23: 0 | U23: =SUM(P23:T23) -> 0 | V23: 1 | W23: 0 | X23: 1 | Y23: 0 | Z23: 0 | AA23: =SUM(V23:Z23) -> 2 | AB23: نقل ركاب/خاصة | AD23: 0 | AE23: غير متاح | AF23: 0 | AG23: غير متاح | AH23: 0 | AI23: 0 | AJ23: 2 | AK23: محمود.ع»، 21 عامًا،و «فادى.و»، 18 عاماً | AL23: 2 | AM23: 0 | AN23: غير متاح | AO23: تم | AP23: لا يوجد | AQ23: إصابة شابين في حادث تصادم بالقاهرة تلقت مديرية أمن القاهرة إخطاراً بوقوع حادث تصادم بين دراجة نارية وتوك توك بمدينة بدر، أمام منطقة صبحى حسين فى الاتجاه المؤدى إلى مدينة العاشر من رمضان. وانتقلت الأجهزة الأمنية وسيارات الإسعاف إلى موقع البلاغ لتسيير حركة المرور ونقل المصابين وتبين من المعاينة الأولية إصابة شابين كانا يستقلان المركبتين، حيث أصيب «محمود.ع»، 21 عامًا، بكسر فى الذراع الأيمن، وكدمات وسحجات متفرقة فى أنحاء الجسده، وإصابة «فادى.و»، 18 عاماً، بجرح قطعى فى القدم اليسرى، فضلاً عن إصابته بكدمات وسحجات مختلفة. وتم نقل المصابين إلى مستشفى بدر الجامعى لتلقى الإسعافات اللازمة، وتحرر محضر بالواقعة وأخطرت النيابة العامة لتولى التحقيق. | AR23: https://www.almasryalyoum.com/news/details/4266105
A24: 22 | B24: مايو 2026 | C24: 46152 | D24: الجيزة | E24: ابو النمرس | F24: ترعة المريوطية بابو النمرس | G24: طريق داخل المحافظة | H24: انقلاب سيارة بترعة المريوطية، في أبو النمرس | I24: انقلاب | K24: 1 | L24: 0 | M24: 0 | N24: 0 | O24: =SUM(K24:N24) -> 1 | P24: 0 | Q24: 0 | R24: 0 | S24: 0 | T24: 0 | U24: =SUM(P24:T24) -> 0 | V24: 0 | W24: 0 | X24: 0 | Y24: 0 | Z24: 0 | AA24: =SUM(V24:Z24) -> 0 | AB24: خاصة | AD24: 0 | AE24: غير متاح | AF24: 0 | AG24: غير متاح | AH24: 0 | AI24: 0 | AJ24: 0 | AK24: غير متاح | AL24: 0 | AM24: 0 | AN24: غير متاح | AO24: تم | AP24: لا يوجد تصنيف لعدد الضحايا نعمل بحث مخصص | AQ24: انتشال سيارة ملاكي انقلبت في ترعة المريوطية بأبو النمرس.. صور استعان رجال المباحث بمديرية أمن الجيزة، بلودر، لانتشال سيارة ملاكي، انقلبت في ترعة المريوطية، عصر اليوم الأحد، وجاري تكثيف التحريات لكشف ملابسات الحادث، وأخطرت النيابة المختصة للتحقيق. بلاغ بانقلاب سيارة في ترعة المريوطية تلقت مديرية أمن الجيزة بلاغا يفيد انقلاب سيارة بترعة المريوطية، في أبو النمرس، انتقلت قوة أمنية لمكان البلاغ، لإجراء المعاينة والتحريات، وتبين من خلال الفحص الأولي، أن عجلة القيادة اختلت من يد قائد السيارة، مما أسفر عن انحرافها عن الطريق، وانقلابها في ترعة المريوطية. الاستماع لأقوال شهود عيان استمع رجال المباحث لأقوال شهود عيان لكشف ملابسات الحادث، وتم انتشال السيارة، وجاري إجراء جراء التحريات، تمهيدا لإخطار النيابة المختصة للتحقيق. | AR24: https://www.youm7.com/story/2026/5/10/%D8%A7%D9%86%D8%AA%D8%B4%D8%A7%D9%84-%D8%B3%D9%8A%D8%A7%D8%B1%D8%A9-%D9%85%D9%84%D8%A7%D9%83%D9%8A-%D8%A7%D9%86%D9%82%D9%84%D8%A8%D8%AA-%D9%81%D9%8A-%D8%AA%D8%B1%D8%B9%D8%A9-%D8%A7%D9%84%D9%85%D8%B1%D9%8A%D9%88%D8%B7%D9%8A%D8%A9-%D8%A8%D8%A3%D8%A8%D9%88-%D8%A7%D9%84%D9%86%D9%85%D8%B1%D8%B3-%D8%B5%D9%88%D8%B1/7411043 | AS24: https://www.youm7.com/story/2026/5/10/%D8%A7%D9%86%D9%82%D9%84%D8%A7%D8%A8-%D8%B3%D9%8A%D8%A7%D8%B1%D8%A9-%D9%85%D9%84%D8%A7%D9%83%D9%8A-%D9%81%D9%8A-%D8%AA%D8%B1%D8%B9%D8%A9-%D8%A7%D9%84%D9%85%D8%B1%D9%8A%D9%88%D8%B7%D9%8A%D8%A9-%D8%A8%D8%A3%D8%A8%D9%88-%D8%A7%D9%84%D9%86%D9%85%D8%B1%D8%B3/7411005
A25: 23 | B25: مايو 2026 | C25: 46152 | D25: القاهرة | E25: جسر السويس | F25: أعلى الطريق فى جسر السويس | G25: طريق داخل المحافظة | H25: حادث انقلاب ميكروباص أعلى الطريق فى جسر السويس | I25: انقلاب | K25: 0 | L25: 0 | M25: 1 | N25: 0 | O25: =SUM(K25:N25) -> 1 | P25: 0 | Q25: 0 | R25: 0 | S25: 0 | T25: 0 | U25: =SUM(P25:T25) -> 0 | V25: 0 | W25: 0 | X25: 0 | Y25: 0 | Z25: 0 | AA25: =SUM(V25:Z25) -> 0 | AB25: نقل ركاب | AD25: 0 | AE25: غير متاح | AF25: 0 | AG25: غير متاح | AH25: 0 | AI25: 0 | AJ25: 6 | AK25: غير متاح | AL25: 3 | AM25: 3 | AN25: غير متاح | AO25: تم | AP25: لا يوجد تصنيف لعدد الضحايا نعمل بحث مخصص | AQ25: تلقت غرفة عمليات النجدة، بلاغا أعلى الطريق فى جسر السويس بوقوع حادث مرورى، وانتقلت سيارات الإسعاف لموقع الحادث بصحبتهم ونش مرورى للعمل على رفع حطام الحادث، وتبين من خلال الفحص اختلال عجلة القيادة من السائق، مما أدى الى انقلاب السيارة أعلى الطريق، ونتج عن ذلك إصابة 6 أشخاص ونقلوا جميعهم إلى المستشفى. | AR25: https://www.youm7.com/story/2026/5/10/%D8%A5%D8%B5%D8%A7%D8%A8%D8%A9-6-%D8%A3%D8%B4%D8%AE%D8%A7%D8%B5-%D8%A5%D8%AB%D8%B1-%D8%A7%D9%86%D9%82%D9%84%D8%A7%D8%A8-%D9%85%D9%8A%D9%83%D8%B1%D9%88%D8%A8%D8%A7%D8%B5-%D9%81%D9%89-%D8%AC%D8%B3%D8%B1-%D8%A7%D9%84%D8%B3%D9%88%D9%8A%D8%B3/7409110
A26: 24 | B26: مايو 2026 | C26: 46152 | D26: القاهرة | E26: السادس من اكتوبر | F26: مدينة السادس من اكتوبر | G26: طريق داخل المحافظة | H26: حادث انقلاب سيارة ميكروباص، فى مدينة السادس من اكتوبر | I26: انقلاب | K26: 0 | L26: 0 | M26: 1 | N26: 0 | O26: =SUM(K26:N26) -> 1 | P26: 0 | Q26: 0 | R26: 0 | S26: 0 | T26: 0 | U26: =SUM(P26:T26) -> 0 | V26: 0 | W26: 0 | X26: 0 | Y26: 0 | Z26: 0 | AA26: =SUM(V26:Z26) -> 0 | AB26: نقل ركاب | AD26: 0 | AE26: غير متاح | AF26: 0 | AG26: غير متاح | AH26: 0 | AI26: 0 | AJ26: 8 | AK26: غير متاح | AL26: 4 | AM26: 4 | AN26: غير متاح | AO26: تم | AP26: لا يوجد تصنيف لعدد الضحايا نعمل بحث مخصص | AQ26: إصابة 8 أشخاص إثر انقلاب ميكروباص فى أكتوبر أصيب 8 أشخاص إثر حادث انقلاب سيارة ميكروباص، فى مدينة السادس من اكتوبر، وتم نقل المصابين إلى المستشفى، وإزالة آثار الحادث، وأخطرت النيابة للتحقيق. غرفة العمليات تلقت بلاغا بالحادث تلقت غرفة عمليات النجدة، بلاغا بوقوع حادث فى مدينة السادس من اكتوبر، انتقلت قوة أمنية لمكان الحادث، وبإجراء التحريات تبي اختلال عجلة قيادة من يد سائق سيارة ميكروباص، مما أدى لانقلابها، وإصابة 8 أشخاص. نقل المصابين للمستشفى تم نقل المصابين إلى المستشفى، وإزالة آثار الحادث، وتحرر محضر بالواقعة، لتباشر النيابة المختصة التحقيق. | AR26: https://www.youm7.com/story/2026/5/10/%D8%A5%D8%B5%D8%A7%D8%A8%D8%A9-8-%D8%A3%D8%B4%D8%AE%D8%A7%D8%B5-%D8%A5%D8%AB%D8%B1-%D8%A7%D9%86%D9%82%D9%84%D8%A7%D8%A8-%D9%85%D9%8A%D9%83%D8%B1%D9%88%D8%A8%D8%A7%D8%B5-%D9%81%D9%89-%D8%A3%D9%83%D8%AA%D9%88%D8%A8%D8%B1/7409418
A27: 25 | B27: مايو 2026 | C27: 46152 | D27: القاهرة | E27: منشأة ناصر | F27: أعلى كوبرى الاباجية بمنشأة ناصر | G27: كوبري | H27: إنقلاب أتوبيس من أعلى كوبري الأباجية القادم من منشأة ناصر إتجاه صقر قريش بدائرة قسم منشأة ناصر | I27: انقلاب | K27: 0 | L27: 0 | M27: 0 | N27: 1 | O27: =SUM(K27:N27) -> 1 | P27: 0 | Q27: 0 | R27: 0 | S27: 0 | T27: 0 | U27: =SUM(P27:T27) -> 0 | V27: 0 | W27: 0 | X27: 0 | Y27: 0 | Z27: 0 | AA27: =SUM(V27:Z27) -> 0 | AB27: نقل ركاب | AD27: 0 | AE27: غير متاح | AF27: 0 | AG27: غير متاح | AH27: 0 | AI27: 0 | AJ27: 9 | AK27: غير متاح | AL27: 5 | AM27: 4 | AN27: غير متاح | AO27: تم | AP27: لا يوجد تصنيف لعدد الضحايا نعمل بحث مخصص | AQ27: إصابة 9 أشخاص إثر انقلاب أتوبيس من أعلى كوبرى الأباجية..فيديو وصور أصيب 9 أشخاص إثر حادث انقلاب أتوبيس من أعلى كوبرى الاباجية بمنشأة ناصر، ونقلهم رجال الإسعاف إلى المستشفى، وتمكن رجال الإنقاذ من التعامل مع البلاغ واتخاذ اللازم. تلقت غرفة العمليات بلاغ يفيد بحادث إنقلاب أتوبيس من أعلى كوبري الأباجية القادم من منشأة ناصر إتجاه صقر قريش بدائرة قسم منشأة ناصر وبناء على تعليمات اللواء الدكتور محمد الشربينى مدير الإدارة العامة للحماية المدنية بالقاهرة انتقلت سيارات وفرق الإنقاذ البرى إلى مكان الحادث. بالانتقال والوصول تبين انقلاب أتوبيس نقل عام، يحمل لوحات معدنية أرقام (م ي د 614) من أعلى كوبري الأباجية بمحل البلاغ ولم ينتج عنه وجود أى محتجزين. كما أسفر الحادث عن إصابة عدد (9) أشخاص من بينهم قائد الأتوبيس، وتم نقلهم للمستشفى بمعرفة سيارات مرفق الإسعاف، كما أسفر الحادث عن وجود بقعة سولار على مساحة (2) متر تقريباً، وجاري التعامل معها بمعرفة القوات وتم اتخاذ الإجراءات القانونية اللازمة تجاه الواقعة. | AR27: https://www.youm7.com/story/2026/5/10/%D8%A5%D8%B5%D8%A7%D8%A8%D8%A9-9-%D8%A3%D8%B4%D8%AE%D8%A7%D8%B5-%D8%A5%D8%AB%D8%B1-%D8%A7%D9%86%D9%82%D9%84%D8%A7%D8%A8-%D8%A3%D8%AA%D9%88%D8%A8%D9%8A%D8%B3-%D9%85%D9%86-%D8%A3%D8%B9%D9%84%D9%89-%D9%83%D9%88%D8%A8%D8%B1%D9%89-%D8%A7%D9%84%D8%A3%D8%A8%D8%A7%D8%AC%D9%8A%D8%A9/7411276
A28: 26 | B28: مايو 2026 | C28: 46153 | D28: القاهرة | E28: السادس من اكتوبر | F28: مدينة السادس من اكتوبر | G28: طريق داخل المحافظة | H28: تضرر إحدى السيدات من قيام قائد سيارة ملاكى بالاصطدام بسيارتها عمدًا عدة مرات أثناء سيرها بمدينة السادس من السادس من اكتوبربمحافظة الجيزة. | I28: اصطدام | K28: 2 | L28: 0 | M28: 0 | N28: 0 | O28: =SUM(K28:N28) -> 2 | P28: 0 | Q28: 0 | R28: 0 | S28: 0 | T28: 0 | U28: =SUM(P28:T28) -> 0 | V28: 0 | W28: 0 | X28: 0 | Y28: 0 | Z28: 0 | AA28: =SUM(V28:Z28) -> 0 | AB28: خاصة | AD28: 0 | AE28: غير متاح | AF28: 0 | AG28: غير متاح | AH28: 0 | AI28: 0 | AJ28: 1 | AK28: غير متاح | AL28: 1 | AM28: 0 | AN28: غير متاح | AO28: تم | AP28: لا يوجد تصنيف لعدد الضحايا نعمل بحث مخصص | AQ28: اصطدام عمدي بسيارة فتاة.. كشف ملابسات الواقعة وضبط المتهم بحوزته سلاح ومخدرات شفت أجهزة وزارة الداخلية ملابسات مقطع فيديو تم تداوله عبر مواقع التواصل الاجتماعى، أظهر تضرر إحدى السيدات من قيام قائد سيارة ملاكى بالاصطدام بسيارتها عمدًا عدة مرات أثناء سيرها بمدينة السادس من السادس من اكتوبربمحافظة الجيزة. وقالت الداخلية، فى بيان اليوم الاثنين، إنه بالفحص تبين أنه بتاريخ 9 من الشهر الجارى، أُبلغ قسم شرطة أول أكتوبر، من موظفة مقيمة بدائرة القسم، بتعرضها لموقف خطير أثناء سيرها بسيارتها، حيث فوجئت بقيام قائد سيارة أخرى بالتعدى على فتاة كانت بصحبته داخل السيارة، وعند محاولتها تصويره قام بالاصطدام بسيارتها عمدًا عدة مرات، ما تسبب فى إحداث تلفيات بها، ثم لاذ بالفرار. وأضاف البيان أنه تم تحديد وضبط السيارة وقائدها، وتبين أنه عنصر جنائى مقيم بدائرة مركز شرطة نجع حمادى، وعُثر بحوزته على بندقية خرطوش وكمية من مخدر الحشيش. وأوضح البيان أنه بمواجهته أقر بحدوث مشادة كلامية بينه وبين نجلة شقيقته أثناء استقلالها السيارة معه، قام على أثرها بالتعدى عليها بالضرب لخلافات عائلية، كما اعترف بأنه ارتكب واقعة الاصطدام بسيارة الشاكية عمدًا خشية قيامها بتصويره، وأقر أيضًا بحيازة المواد المخدرة بقصد الاتجار. وأكدت الوزارة أنه تم التحفظ على السيارة، واتخاذ الإجراءات القانونية اللازمة حيال المتهم. | AR28: https://www.almasryalyoum.com/news/details/4267391
A29: 27 | B29: مايو 2026 | C29: 46153 | D29: الجيزة | E29: ابو النمرس | F29: مصرف ميت قدوس بطريق السادس من اكتوبر اتجاه شبرامنت في أبو النمرس | G29: طريق داخل المحافظة | H29: مصرع شخصين وإصابة 8 آخرين إثر حادث انقلاب ميكروباص داخل مصرف بأبو النمرس | I29: انقلاب | K29: 0 | L29: 0 | M29: 1 | N29: 0 | O29: =SUM(K29:N29) -> 1 | P29: 0 | Q29: 0 | R29: 0 | S29: 0 | T29: 0 | U29: =SUM(P29:T29) -> 0 | V29: 0 | W29: 0 | X29: 0 | Y29: 0 | Z29: 0 | AA29: =SUM(V29:Z29) -> 0 | AB29: نقل ركاب | AD29: 0 | AE29: غير متاح | AF29: 2 | AG29: "قائد السيارة "مصطفي.ر.ع" سائق 24 عاما، ومقيم ترسا أبو النمرس، وراكب آخر يدعى "محمد.ف.م" 65 عاما بدون عمل ومقيم ترسا أبو النمرس | AH29: 2 | AI29: 0 | AJ29: 8 | AK29: "مازن.ه.م" 22 عاما طالب مقيم عزبة النخل و"ياسمين.أ.ع" 19 عاما طالبة مقيمة حدائق القبة، و"ستيفن.ن.ف" 22 عاما طالب مقيم المعادي، م و"ملك .ح.م" 19 عاما طالب مقيمة الزاوية الحمراء بالقاهرة، ، و"ناجيه.ص.أ" 37 عاما ربة منزل مقيمة بشبرامنت، "داوود.ع.ر" 22 عاما طالب، مقيم بشبرامنت، و"شيماء.ث.ع" 33 عاما ربة منزل، مقيمة شبرامنت و"حسنة.أ.م" 70 عاما ربة منزل مقيمة بترسا في أبو النمرس، | AL29: 3 | AM29: 5 | AN29: غير متاح | AO29: تم | AP29: لا يوجد تصنيف لعدد الضحايا نعمل بحث مخصص | AQ29: التحقيق فى مصرع شخصين وإصابة 8 آخرين إثر حادث انقلاب ميكروباص داخل مصرف بأبو النمرس تباشر النيابة العامة في الجيزة التحقيق في حادث سقوط سيارة ميكروباص داخل مصرف مائي بمنطقة أبو النمرس، والذي أسفر عن مصرع السائق وأحد الركاب، وإصابة 8 آخرين بإصابات متفرقة، وذلك للوقوف على أسباب الحادث وملابساته. معاينة موقع الحادث والاستعلام عن المصابين وأجرت النيابة معاينة لموقع الحادث، وطلبت تحريات الأجهزة الأمنية حول الواقعة، كما قررت الاستعلام عن الحالة الصحية للمصابين لسماع أقوالهم فور استقرار حالتهم، بالإضافة إلى التصريح بدفن جثماني الضحيتين عقب الانتهاء من الإجراءات القانونية اللازمة. وكلفت النيابة الجهات المختصة بفحص السيارة الميكروباص لبيان مدى وجود شبهة عطل فني تسبب في وقوع الحادث. سقوط الميكروباص داخل مصرف مائي وكانت غرفة عمليات النجدة قد تلقت بلاغًا يفيد سقوط سيارة ميكروباص داخل مصرف مائي بمنطقة أبو النمرس، وعلى الفور انتقلت الأجهزة الأمنية مدعومة بسيارات الإسعاف إلى موقع البلاغ. وبالفحص تبين سقوط سيارة ميكروباص داخل مصرف «ميت قدوس» بطريق السادس من اكتوبر اتجاه شبرامنت بدائرة مركز أبو النمرس. مصرع السائق وراكب وإصابة 8 آخرين وأسفر الحادث عن مصرع سائق الميكروباص وأحد الركاب، بينما أُصيب 8 أشخاص آخرين بإصابات متنوعة، حيث جرى انتشالهم من المياه ونقلهم إلى المستشفى لتلقي الإسعافات والرعاية الطبية اللازمة، كما نجحت قوات الإنقاذ في استخراج السيارة من داخل المصرف، وتم اتخاذ الإجراءات القانونية حيال الواقعة. | AR29: https://www.youm7.com/story/2026/5/11/%D8%A7%D9%84%D8%AA%D8%AD%D9%82%D9%8A%D9%82-%D9%81%D9%89-%D9%85%D8%B5%D8%B1%D8%B9-%D8%B4%D8%AE%D8%B5%D9%8A%D9%86-%D9%88%D8%A5%D8%B5%D8%A7%D8%A8%D8%A9-8-%D8%A2%D8%AE%D8%B1%D9%8A%D9%86-%D8%A5%D8%AB%D8%B1-%D8%AD%D8%A7%D8%AF%D8%AB-%D8%A7%D9%86%D9%82%D9%84%D8%A7%D8%A8/7412022 | AS29: https://www.youm7.com/story/2026/5/11/%D8%A7%D9%84%D9%85%D8%B9%D8%A7%D9%8A%D9%86%D8%A9-%D8%A7%D8%AE%D8%AA%D9%84%D8%A7%D9%84-%D8%B9%D8%AC%D9%84%D8%A9-%D8%A7%D9%84%D9%82%D9%8A%D8%A7%D8%AF%D8%A9-%D9%88%D8%B1%D8%A7%D8%A1-%D8%A7%D9%86%D9%82%D9%84%D8%A7%D8%A8-%D9%85%D9%8A%D9%83%D8%B1%D9%88%D8%A8%D8%A7%D8%B5-%D9%81%D9%89-%D9%85%D8%B5%D8%B1%D9%81-%D9%85%D8%A7%D8%A6%D9%89/7412008 | AT29: https://www.youm7.com/story/2026/5/11/%D9%85%D8%B5%D8%B1%D8%B9-%D8%B4%D8%AE%D8%B5%D9%8A%D9%86-%D9%88%D8%A5%D8%B5%D8%A7%D8%A8%D8%A9-8-%D8%A2%D8%AE%D8%B1%D9%8A%D9%86-%D9%81%D9%89-%D8%AD%D8%A7%D8%AF%D8%AB-%D8%A7%D9%86%D9%82%D9%84%D8%A7%D8%A8-%D9%85%D9%8A%D9%83%D8%B1%D9%88%D8%A8%D8%A7%D8%B5-%D8%AF%D8%A7%D8%AE%D9%84/7411974 | AU29: https://www.youm7.com/story/2026/5/11/%D9%86%D9%86%D8%B4%D8%B1-%D8%A3%D8%B3%D9%85%D8%A7%D8%A1-%D8%A7%D9%84%D9%85%D8%AA%D9%88%D9%81%D9%8A%D9%86-%D9%88%D8%A7%D9%84%D9%85%D8%B5%D8%A7%D8%A8%D9%8A%D9%86-%D9%81%D9%89-%D8%AD%D8%A7%D8%AF%D8%AB-%D8%A7%D9%86%D9%82%D9%84%D8%A7%D8%A8-%D9%85%D9%8A%D9%83%D8%B1%D9%88%D8%A8%D8%A7%D8%B5-%D8%AF%D8%A7%D8%AE%D9%84-%D9%85%D8%B5%D8%B1%D9%81/7411994
A30: 28 | B30: مايو 2026 | C30: 46149 | D30: القاهرة | E30: مركز شرطة عين شمس | F30: عين شمس | G30: طريق داخل المحافظة | H30: إحالة سائق سيارة ميكروباص للمحاكمة الجنائية بتهمة دهس عامل بعين شمس الإثنين 11/مايو/2026 | I30: دهس | K30: 0 | L30: 0 | M30: 1 | N30: 0 | O30: =SUM(K30:N30) -> 1 | P30: 0 | Q30: 0 | R30: 0 | S30: 0 | T30: 0 | U30: =SUM(P30:T30) -> 0 | V30: 0 | W30: 0 | X30: 1 | Y30: 0 | Z30: 0 | AA30: =SUM(V30:Z30) -> 1 | AB30: نقل ركاب | AD30: 0 | AE30: غير متاح | AF30: 1 | AG30: غير متاح | AH30: 1 | AI30: 0 | AJ30: 0 | AK30: غير متاح | AL30: 0 | AM30: 0 | AN30: غير متاح | AO30: تم | AP30: لا يوجد تصنيف لعدد الضحايا نعمل بحث مخصص | AQ30: احالة سائق سيارة ميكروباص للمحاكمة الجنائية بتهمة دهس عامل بعين شمس الإثنين 11/مايو/2026 قررت جهات التحقيق المختصة بالقاهرة، إحالة سائق سيارة ميكروباص للمحاكمة الجنائية، بتهمة دهس عامل أثناء قيادة دراجة نارية بمنطقة عين شمس. تفاصيل القضية ووجهت النيابة العامة للمتهم ، تهمة القتل الخطأ والقيادة برعونة وإهمال وعدم مراعاة لوائح وقوانين المرور. تلقى قسم شرطة عين شمس بلاغًا يفيد بوقوع حادث تصادم ووجود متوفى بأحد الطرق بدائرة القسم، وانتقل رجال المباحث لمكان الواقعة وبالفحص تبين أن العامل كان يقود دراجة نارية وأثناء سيره اصطدمت به سيارة، ما أدى إلى إصابته ووفاته في الحال، كما تمكن رجال المباحث من تحديد وضبط السيارة المتسببة في الحادث وقائدها، وبمواجهة اعترف بارتكاب الواقعة. | AR30: https://www.elbalad.news/6966890
A31: 29 | B31: مايو 2026 | C31: 46154 | D31: القليوبية | E31: دائرة مركز قليوب | F31: الطريق الزراعى السريع بقرية سنديون دائرة مركز قليوب | G31: الطريق الزراعي | H31: اصطدام سيارة نقل بهم خلال عبورهم الطريق الزراعى السريع بقرية سنديون دائرة مركز قليوب، في محافظة القليوبية. | I31: دهس | K31: 0 | L31: 0 | M31: 0 | N31: 0 | O31: =SUM(K31:N31) -> 0 | P31: 1 | Q31: 0 | S31: 0 | T31: 0 | U31: =SUM(P31:T31) -> 1 | V31: 0 | W31: 0 | X31: 0 | Y31: 0 | Z31: 0 | AA31: =SUM(V31:Z31) -> 0 | AB31: غير معلوم | AD31: 0 | AE31: غير متاح | AF31: 5 | AG31: غير متاح | AH31: 2 | AI31: 3 | AJ31: 1 | AK31: "يارا ك. ن."، 6 سنوات، و"سمر م. ن."، 6 سنوات، و"فاطمة م. س."، 6 سنوات، | AL31: 0 | AM31: 1 | AN31: مستشفي قليوب العام | AO31: تم | AP31: في الاخبار اللاحقة تم اعلان وفاة 4 | AQ31: مصرع 3 أطفال وإصابة سيدتين في حادث على الطريق الزراعي بالقليوبية لقي 3 أطفال مصرعهم، وأصيبت سيدتان، في حادث اصطدام سيارة نقل بهم خلال عبورهم الطريق الزراعى السريع بقرية سنديون دائرة مركز قليوب، في محافظة القليوبية. وتم نقل الجثث والمصابين إلى مستشفى قليوب العام، وتحرر محضر بالواقعة وتولت الجهات المعنية التحقيق، وأمرت بالدفن عقب ورورد تقرير الصفة التشريحية. تلقى مدير أمن القليوبية إخطارًا بالواقعة، حيث انتقلت الأجهزة الأمنية وسيارات الإسعاف إلى موقع الحادث، وبالفحص تبين مصرع 3 أطفال في الحال، وإصابة سيدتين بإصابات متفرقة بالجسد، إثر اصطدام سيارة نقل بهم خلال عبور الطريق. وتم نقل الجثامين والمصابتين إلى المستشفى تحت تصرف جهات التحقيق، وتم تحرير محضر بالواقعة، فيما تولت الجهات المختصة التحقيق، وأمرت باتخاذ الإجراءات اللازمة حيال الحادث. | AR31: https://www.almasryalyoum.com/news/details/4267836 | AS31: https://www.almasryalyoum.com/news/details/4267840 | AT31: https://www.almasryalyoum.com/news/details/4268016 | AU31: https://www.almasryalyoum.com/news/details/4268386 | AV31: https://www.youm7.com/story/2026/5/12/%D8%A7%D8%B1%D8%AA%D9%81%D8%A7%D8%B9-%D8%B9%D8%AF%D8%AF-%D8%B6%D8%AD%D8%A7%D9%8A%D8%A7-%D8%A7%D8%B5%D8%B7%D8%AF%D8%A7%D9%85-%D8%B3%D9%8A%D8%A7%D8%B1%D8%A9-%D8%A8%D8%A3%D8%B4%D8%AE%D8%A7%D8%B5-%D8%B9%D9%84%D9%89-%D8%A7%D9%84%D8%B7%D8%B1%D9%8A%D9%82-%D8%A7%D9%84%D8%B2%D8%B1%D8%A7%D8%B9%D9%8A-%D8%A8%D9%82%D9%84%D9%8A%D9%88%D8%A8/7413157 | AW31: https://www.youm7.com/story/2026/5/12/%D9%85%D8%B5%D8%B1%D8%B9-3-%D8%A3%D8%B7%D9%81%D8%A7%D9%84-%D8%B5%D8%AF%D9%85%D8%AA%D9%87%D9%85-%D8%B3%D9%8A%D8%A7%D8%B1%D8%A9-%D8%B1%D8%A8%D8%B9-%D9%86%D9%82%D9%84-%D8%A3%D8%AB%D9%86%D8%A7%D8%A1-%D8%B9%D8%A8%D9%88%D8%B1%D9%87%D9%85-%D8%A7%D9%84%D8%B7%D8%B1%D9%8A%D9%82/7412654 | AX31: https://www.elbalad.news/6968046
A32: 30 | B32: مايو 2026 | C32: 46154 | D32: الجيزة | E32: قسم بولاق الدكرور | F32: الطريق الدائري - بولاق الدكرور | G32: طرق محورية | H32: مصرع طفل إثر اصطدام سيارة به أعلى الطريق الدائري | I32: دهس | K32: 1 | L32: 0 | M32: 0 | N32: 0 | O32: =SUM(K32:N32) -> 1 | P32: 0 | Q32: 0 | R32: 0 | S32: 0 | T32: 0 | U32: =SUM(P32:T32) -> 0 | V32: 0 | W32: 0 | X32: 0 | Y32: 0 | Z32: 0 | AA32: =SUM(V32:Z32) -> 0 | AB32: خاصة | AD32: 0 | AE32: غير متاح | AF32: 1 | AG32: غير متاح | AH32: 0 | AI32: 1 | AJ32: 0 | AK32: غير متاح | AL32: 0 | AM32: 0 | AN32: غير متاح | AO32: تم | AP32: لا يوجد | AQ32: مصرع طفل صدمته سيارة أعلى الطريق الدائري في الجيزة لقى طفل مصرعه إثر اصطدام سيارة به، أعلى الطريق الدائري في بولاق الدكرور، وتم اتخاذ الإجراءات القانونية اللازمة، وباشرت النيابة المختصة التحقيق. بلاغ بمصرع طفل صدمته سيارة ببولاق الدكرور تلقت غرفة النجدة بمديرية أمن الجيزة، بلاغا يفيد وقوع حادث تصادم أعلى الطريق الدائري في بولاق الدكرور، انتقلت قوة أمنية لمكان البلاغ، وتبين من خلال الفحص والتحريات، أن سيارة نصف نقل حمراء اللون، صدمت طفلا، مما أسفر عن مصرعه متأثرا بالإصابات التي لحقت به. الاستماع لأقوال شهود عيان استمع رجال المباحث لأقوال شهود عيان لكشف ملابسات الحادث، وتم اتخاذ الإجراءات القانونية اللازمة تجاه السائق، وتحرر محضر بالواقعة، وأخطرت النيابة المختصة للتحقيق | AR32: https://www.youm7.com/story/2026/5/12/%D9%85%D8%B5%D8%B1%D8%B9-%D8%B7%D9%81%D9%84-%D8%B5%D8%AF%D9%85%D8%AA%D9%87-%D8%B3%D9%8A%D8%A7%D8%B1%D8%A9-%D8%A3%D8%B9%D9%84%D9%89-%D8%A7%D9%84%D8%B7%D8%B1%D9%8A%D9%82-%D8%A7%D9%84%D8%AF%D8%A7%D8%A6%D8%B1%D9%8A-%D9%81%D9%8A-%D8%A7%D9%84%D8%AC%D9%8A%D8%B2%D8%A9/7413353
A33: 31 | B33: مايو 2026 | C33: 46155 | D33: الجيزة | E33: كرداسة | F33: كرداسة بمحافظة الجيزة | G33: طريق داخل المحافظة | H33: حادث مروري تسبب في مصرع مقاول عقب اصطدامه بميكروباص يقوده مواطن سوداني، لا يحمل رخصة قيادة أو لوحات معدنية، | I33: دهس | K33: 0 | L33: 0 | M33: 1 | N33: 0 | O33: =SUM(K33:N33) -> 1 | P33: 0 | Q33: 0 | R33: 0 | S33: 0 | T33: 0 | U33: =SUM(P33:T33) -> 0 | V33: 0 | W33: 0 | X33: 0 | Y33: 0 | Z33: 0 | AA33: =SUM(V33:Z33) -> 0 | AB33: نقل ركاب | AD33: 0 | AE33: غير متاح | AF33: 0 | AG33: غير متاح | AH33: 0 | AI33: 0 | AJ33: 1 | AK33: غير متاح | AL33: 0 | AM33: 1 | AN33: غير متاح | AO33: تم | AP33: لا يوجد | AQ33: مصرع مقاول دهسه سوداني بميكروباص في كرداسة حادث مروري تسبب في مصرع مقاول عقب اصطدامه بميكروباص يقوده مواطن سوداني، لا يحمل رخصة قيادة أو لوحات معدنية، خلال سيره في كرداسة بمحافظة الجيزة.ورد بلاغ إلى الأجهزة الأمنية بوقوع حادث تصادم ووجود متوفى، وانتقلت قوات الأمن إلى مكان الواقعة، وبالفحص تبين أن ميكروباص اصطدم بالمجني عليه ما أسفر عن وفاته في الحال متأثرًا بإصاباته. كشفت التحريات الأولية أن قائد السيارة يحمل جنسية سودانية، ولا يحمل رخصة قيادة، فيما تبين أن المركبة دون لوحات معدنية، وتم التحفظ على المتهم والسيارة، ونقل الجثمان إلى المشرحة تحت تصرف الجهات المختصة، واتخاذ الإجراءات القانونية اللازمة. | AR33: https://www.elbalad.news/6969922
A34: 32 | B34: مايو 2026 | C34: 46155 | D34: الجيزة | E34: غير متاح | F34: اعلى الطريق الدائري | G34: طرق محورية | H34: أصيب سائق بسبب حادث انقلاب سيارة ملاكى أعلى الطريق الدائرى ونقل إلى المستشفى، وحرر محضر بالواقعة. | I34: انقلاب | K34: 1 | L34: 0 | M34: 0 | N34: 0 | O34: =SUM(K34:N34) -> 1 | P34: 0 | Q34: 0 | R34: 0 | S34: 0 | T34: 0 | U34: =SUM(P34:T34) -> 0 | V34: 0 | W34: 0 | X34: 0 | Y34: 0 | Z34: 0 | AA34: =SUM(V34:Z34) -> 0 | AB34: خاصة | AD34: 0 | AE34: غير متاح | AF34: 0 | AG34: غير متاح | AH34: 0 | AI34: 0 | AJ34: 1 | AK34: غير متاح | AL34: 1 | AM34: 0 | AN34: غير متاح | AO34: تم | AP34: لا يوجد | AQ34: إصابة سائق إثر انقلاب سيارة ملاكى بالطريق الدائرى أصيب سائق بسبب حادث انقلاب سيارة ملاكى أعلى الطريق الدائرى ونقل إلى المستشفى، وحرر محضر بالواقعة.غرفة العمليات تلقت بلاغا بحادث انقلاب سيارة ملاكى أعلى الطريق الدائرى تلقت غرفة عمليات النجدة بلاغا أعلى الطريق الدائرى بوقوع حادث مرورى، وانتقلت سيارات الإسعاف لموقع الحادث بصحبتهم ونش مرورى للعمل على رفع حطام الحادث، وتبين من خلال الفحص اختلال عجلة القيادة من السائق، مما أدى إلى انقلاب السيارة أعلى الطريق، ونتج إصابة السائق ونقل إلى المستشفى. | AR34: https://www.youm7.com/story/2026/5/14/%D8%A5%D8%B5%D8%A7%D8%A8%D8%A9-%D8%B3%D8%A7%D8%A6%D9%82-%D8%A5%D8%AB%D8%B1-%D8%A7%D9%86%D9%82%D9%84%D8%A7%D8%A8-%D8%B3%D9%8A%D8%A7%D8%B1%D8%A9-%D9%85%D9%84%D8%A7%D9%83%D9%89-%D8%A8%D8%A7%D9%84%D8%B7%D8%B1%D9%8A%D9%82-%D8%A7%D9%84%D8%AF%D8%A7%D8%A6%D8%B1%D9%89/7415378
A35: 33 | B35: مايو 2026 | C35: 46155 | D35: الجيزة | E35: قسم شرطة كرداسة | F35: سائق تروسيكل اصطدم بسيارة في الجيزة | G35: طريق داخل المحافظة | H35: بتضرره من قائد مركبة "تروسيكل" لقيامه بالإصطدام بالسيارة قيادته حال سيره بأحد الشوارع بدائرة المركز محدثاً تلفيات بها والتعدى عليه بالسب والضرب . | I35: اصطدام | K35: 1 | L35: 0 | M35: 0 | N35: 0 | O35: =SUM(K35:N35) -> 1 | P35: 0 | Q35: 0 | R35: 0 | S35: 0 | T35: 0 | U35: =SUM(P35:T35) -> 0 | V35: 0 | W35: 1 | X35: 0 | Y35: 0 | Z35: 0 | AA35: =SUM(V35:Z35) -> 1 | AB35: خاصة | AD35: 0 | AE35: غير متاح | AF35: 0 | AG35: غير متاح | AH35: 0 | AI35: 0 | AJ35: 0 | AK35: غير متاح | AL35: 0 | AM35: 0 | AN35: غير متاح | AO35: تم | AP35: لا يوجد | AQ35: القبض على سائق تروسيكل اصطدم بسيارة في الجيزة وتعد.ى على صاحبها بالسب والضرب كشفت الأجهزة الأمنية بوزارة الداخلية ملابسات منشور مدعوم بصور تم تداوله بمواقع التواصل الإجتماعى تضمن تضرر القائم على النشر من قائد مركبة "تروسيكل" لقيامه بالإصطدام بسيارته والتعدى عليه بالسب والضرب بالجيزة. بالفحص تبين أنه بتاريخ 13/ الجارى تبلغ لمركز شرطة كرداسة من (القائم على النشر – مقيم بدائرة قسم شرطة بولاق الدكرور) بتضرره من قائد مركبة "تروسيكل" لقيامه بالإصطدام بالسيارة قيادته حال سيره بأحد الشوارع بدائرة المركز محدثاً تلفيات بها والتعدى عليه بالسب والضرب . أمكن تحديد وضبط مركبة التروسيكل "منتهية التراخيص" وقائدها وقت إرتكاب الواقعة (عامل – مقيم بدائرة المركز) ، وبمواجهته إعترف بإرتكاب الواقعة على النحو المُشار إليه لذات الأسباب. تم اتخاذ الإجراءات القانونية. | AR35: https://www.elbalad.news/6974485
A36: 34 | B36: مايو 2026 | C36: 46156 | D36: الجيزة | E36: العياط | F36: أعلى الطريق الصحراوى فى العياط | G36: الطريق الصحراوي | H36: حادث انقلاب ميكروباص أعلى الطريق الصحراوى فى العياط | I36: انقلاب | K36: 0 | L36: 0 | M36: 1 | N36: 0 | O36: =SUM(K36:N36) -> 1 | P36: 0 | Q36: 0 | R36: 0 | S36: 0 | T36: 0 | U36: =SUM(P36:T36) -> 0 | V36: 0 | W36: 0 | X36: 0 | Y36: 0 | Z36: 0 | AA36: =SUM(V36:Z36) -> 0 | AB36: نقل ركاب | AD36: 0 | AE36: غير متاح | AF36: 0 | AG36: غير متاح | AH36: 0 | AI36: 0 | AJ36: 5 | AK36: غير متاح | AL36: 3 | AM36: 2 | AN36: غير متاح | AO36: تم | AP36: لا يوجد | AQ36: إصابة 5 أشخاص إثر انقلاب ميكروباص فى العياط أصيب 5 أشخاص بسبب حادث انقلاب ميكروباص أعلى الطريق الصحراوى فى العياط ونقلوا الى المستشفى، وحرر محضر بالواقعة. تلقت غرفة عمليات النجدة، بلاغا أعلى الطريق فى العياط بوقوع حادث مرورى، وانتقلت سيارات الاسعاف لموقع الحادث بصحبتهم ونش مرورى للعمل على رفع حطام الحادث، وتبين من خلال الفحص اختلال عجلة القيادة من السائق، مما أدى إلى انقلاب السيارة أعلى الطريق ونتج إصابة 5 اشخاص ونقلوا جميعهم الى المستشفى . | AR36: https://www.youm7.com/story/2026/5/14/%D8%A5%D8%B5%D8%A7%D8%A8%D8%A9-5-%D8%A3%D8%B4%D8%AE%D8%A7%D8%B5-%D8%A5%D8%AB%D8%B1-%D8%A7%D9%86%D9%82%D9%84%D8%A7%D8%A8-%D9%85%D9%8A%D9%83%D8%B1%D9%88%D8%A8%D8%A7%D8%B5-%D9%81%D9%89-%D8%A7%D9%84%D8%B9%D9%8A%D8%A7%D8%B7/7415365
A37: 35 | B37: مايو 2026 | C37: 46157 | D37: الجيزة | E37: مركز شرطة كفر شكر | F37: قرية المنشأة الكبرى التابعة لمدينة كفر شكر | G37: طريق داخل المحافظة | H37: اصطدام جرار زراعى بقرية المنشأة الكبرى التابعة لمدينة كفر شكر فى محافظة القليوبية ما أسفر عن وفاته متأثرًا بإصاباته، وتم نقل الجثة إلى مستشفى كفر شكر التخصصى لاتخاذ الإجراءات اللازمة، وتحرر محضر بالواقعة | I37: دهس | K37: 0 | L37: 0 | M37: 0 | N37: 0 | O37: =SUM(K37:N37) -> 0 | P37: 0 | Q37: 0 | R37: 0 | S37: 0 | T37: 1 | U37: =SUM(P37:T37) -> 1 | V37: 0 | W37: 0 | X37: 0 | Y37: 0 | Z37: 0 | AA37: =SUM(V37:Z37) -> 0 | AB37: غير معلوم | AD37: 0 | AE37: غير متاح | AF37: 1 | AG37: «يوسف. م. ز» 13 | AH37: 1 | AI37: 0 | AJ37: 0 | AK37: غير متاح | AL37: 0 | AM37: 0 | AN37: مستشفى كفر شكر التخصصي | AO37: تم | AP37: لا يوجد | AQ37: مصرع طفل صدمه جرار زراعى فى القليوبية لقى طالب مصرعه إثر اصطدام جرار زراعى بقرية المنشأة الكبرى التابعة لمدينة كفر شكر فى محافظة القليوبية ما أسفر عن وفاته متأثرًا بإصاباته، وتم نقل الجثة إلى مستشفى كفر شكر التخصصى لاتخاذ الإجراءات اللازمة، وتحرر محضر بالواقعة، وتولت النيابة العامة التحقيق لكشف ملابسات الحادث. تلقت الأجهزة الأمنية بمديرية أمن القليوبية إخطارًا من مركز شرطة كفر شكر يفيد ورود إشارة من مستشفى كفر شكر التخصصى تفيد وصول «يوسف. م. ز» 13 عام جثة متأثرا بجروح إثر حادث جرار زراعى. انتقلت على الفور الأجهزة الأمنية، إلى موقع الحادث وتبين من المعاينة الأولية والتحريات مصرع «يوسف. م. ز» 13 سنة طالب إثر حادث تصادم جرار زراعى به بقرية المنشأة الكبرى بمدينة كفر شكر وتم التحفظ على الجثمان داخل مشرحة المستشفى تحت تصرف النيابة العامة.وكلفت إدارة البحث الجنائى بمديرية أمن القليوبية بالتحرى عن الواقعة وظروفها وملابساتها وتحرر محضر بالواقعة وتولت النيابة العامة التحقيق. | AR37: https://www.almasryalyoum.com/news/details/4270937 | AS37: https://www.youm7.com/story/2026/5/16/%D8%A7%D9%84%D8%AA%D8%B5%D8%B1%D9%8A%D8%AD-%D8%A8%D8%AF%D9%81%D9%86-%D8%AC%D8%AB%D8%A9-%D8%B7%D8%A7%D9%84%D8%A8-%D8%A7%D8%B5%D8%B7%D8%AF%D9%85-%D8%A8%D9%87-%D8%AC%D8%B1%D8%A7%D8%B1-%D8%B2%D8%B1%D8%A7%D8%B9%D9%89-%D9%81%D9%89-%D9%83%D9%81%D8%B1/7417603 | AT37: https://www.elbalad.news/6972417 | AU37: https://www.elbalad.news/6972417
A38: 36 | B38: مايو 2026 | C38: 46157 | D38: الجيزة | E38: الحوامدية | F38: السكة الحديد بالحوامدية | G38: سكة حديد | H38: فقد شاب حياته نتيجة اصطدام قطار به أثناء عبوره السكة الحديد في الحوامدية، وتحرر المحضر اللازم | I38: دهس | K38: 0 | L38: 0 | M38: 0 | N38: 0 | O38: =SUM(K38:N38) -> 0 | P38: 0 | Q38: 0 | R38: 0 | S38: 0 | T38: 0 | U38: =SUM(P38:T38) -> 0 | V38: 0 | W38: 0 | X38: 0 | Y38: 1 | Z38: 0 | AA38: =SUM(V38:Z38) -> 1 | AB38: حكومية | AD38: 0 | AE38: غير متاح | AF38: 1 | AG38: غير متاح | AH38: 1 | AI38: 0 | AJ38: 0 | AK38: غير متاح | AL38: 0 | AM38: 0 | AN38: غير متاح | AO38: تم | AP38: لا يوجد | AQ38: مصرع شخص صدمه قطار أثناء عبوره السكة الحديد في الحوامدية فقد شاب حياته نتيجة اصطدام قطار به أثناء عبوره السكة الحديد في الحوامدية، وتحرر المحضر اللازم، وأخطرت النيابة المختصة للتحقيق. بلاغ بمصرع شخص في الحوامدية تلقت غرفة النجدة بمديرية أمن الجيزة بلاغا يفيد مصرع شخص إثر اصطدام قطار به في الحوامدية، توجهت قوة أمنية لمكان البلاغ، وبإجراء التحريات تبين أن الضحية أثناء عبوره السكة الحديد، صدمه قطار مما أدى إلى مصرعه في الحال، متأثرا بالإصابات التي لحقت به. الاستماع لأقوال شهود عيان استمع رجال المباحث لأقوال شهود عيان لكشف ملابسات الحادث، وتم اتخاذ الإجراءات القانونية اللازمة، لتتولى النيابة المختصة التحقيق. | AR38: https://www.youm7.com/story/2026/5/15/%D9%85%D8%B5%D8%B1%D8%B9-%D8%B4%D8%AE%D8%B5-%D8%B5%D8%AF%D9%85%D9%87-%D9%82%D8%B7%D8%A7%D8%B1-%D8%A3%D8%AB%D9%86%D8%A7%D8%A1-%D8%B9%D8%A8%D9%88%D8%B1%D9%87-%D8%A7%D9%84%D8%B3%D9%83%D8%A9-%D8%A7%D9%84%D8%AD%D8%AF%D9%8A%D8%AF-%D9%81%D9%8A-%D8%A7%D9%84%D8%AD%D9%88%D8%A7%D9%85%D8%AF%D9%8A%D8%A9/7416979
A39: 37 | B39: مايو 2026 | C39: 46158 | D39: القليوبية | E39: قها | F39: بجوار كوبرى قها فى اتجاه مدينة بنها | G39: الطريق الزراعي | H39: حادث انقلاب مقطورة محملة بالزلط، وذلك بجوار كوبرى قها فى اتجاه مدينة بنها، دون وقوع أى إصابات أو خسائر بشرية، وحرر محضر بالواقعة | I39: انقلاب | K39: 0 | L39: 0 | M39: 0 | N39: 0 | O39: =SUM(K39:N39) -> 0 | P39: 0 | Q39: 0 | R39: 0 | S39: 1 | T39: 0 | U39: =SUM(P39:T39) -> 1 | V39: 0 | W39: 0 | X39: 0 | Y39: 0 | Z39: 0 | AA39: =SUM(V39:Z39) -> 0 | AB39: غير معلوم | AD39: 0 | AE39: غير متاح | AF39: 0 | AG39: غير متاح | AH39: 0 | AI39: 0 | AJ39: 0 | AK39: غير متاح | AL39: 0 | AM39: 0 | AN39: غير متاح | AO39: تم | AP39: لا يوجد | AQ39: انقلاب مقطورة محملة بالزلط على الطريق الزراعي «بنها – شبرا الخيمة» شهد الطريق الزراعى “بنها – شبرا الخيمة ” فى محافظة القليوبية، حادث انقلاب مقطورة محملة بالزلط، وذلك بجوار كوبرى قها فى اتجاه مدينة بنها، دون وقوع أى إصابات أو خسائر بشرية، وحرر محضر بالواقعة وجارى اتخاذ الاجراءات القانونية حيث تم الدفع بالمعدات لإعادة الحركة المرورية لطبيعتها. وتلقت مديرية أمن القليوبية، إخطارا من شرطة النجدة يفيد بوقوع الحادث، وانتقلت قوات الامن والحماية المدنية إلى موقع البلاغ، وتم الدفع بالمعدات اللازمة من مجلس المدينة وإدارة المرور لرفع آثار الحادث وإعادة تسيير الحركة المرورية. وتبين من المعاينة الأولية، أن المقطورة كانت محملة بالزلط وانقلبت بالطريق، مما أدى إلى تعطيل جزئى لحركة المرور، قبل أن تتمكن الأجهزة المعنية من إزالة التلفيات وفتح الطريق أمام السيارات.وتم تحرير محضر بالواقعة، وأخطرت النيابة العامة التى تولت التحقيق، كما كُلفت إدارة البحث الجنائى بالتحرى حول ملابسات الحادث وأسبابه | AR39: https://www.almasryalyoum.com/news/details/4271285 | AS39: https://www.youm7.com/story/2026/5/16/%D8%A5%D8%B9%D8%A7%D8%AF%D8%A9-%D9%81%D8%AA%D8%AD-%D8%A7%D9%84%D8%AD%D8%B1%D9%83%D8%A9-%D8%A7%D9%84%D9%85%D8%B1%D9%88%D8%B1%D9%8A%D8%A9-%D8%B9%D9%84%D9%89-%D8%A7%D9%84%D8%B7%D8%B1%D9%8A%D9%82-%D8%A7%D9%84%D8%B2%D8%B1%D8%A7%D8%B9%D9%89-%D8%A8%D9%82%D9%87%D8%A7-%D8%A8%D8%B9%D8%AF-%D8%A7%D9%86%D9%82%D9%84%D8%A7%D8%A8/7417649 | AT39: https://www.elbalad.news/6972852
A40: 38 | B40: مايو 2026 | C40: 46158 | D40: الجيزة | E40: اطفيح | F40: بالطريق فى أطفيح | G40: طريق داخل المحافظة | H40: حادث مرورى بالطريق فى أطفيح، وعلى الفور انتقل رجال المباحث وسيارات الإسعاف إلى مكان الحادث، وتبين انقلاب سيارة نتج عنها إصابة 3 أشخاص | I40: انقلاب | K40: 1 | L40: 0 | M40: 0 | N40: 0 | O40: =SUM(K40:N40) -> 1 | P40: 0 | Q40: 0 | R40: 0 | S40: 0 | T40: 0 | U40: =SUM(P40:T40) -> 0 | V40: 0 | W40: 0 | X40: 0 | Y40: 0 | Z40: 0 | AA40: =SUM(V40:Z40) -> 0 | AB40: خاصة | AD40: 0 | AE40: غير متاح | AF40: 0 | AG40: غير متاح | AH40: 0 | AI40: 0 | AJ40: 3 | AK40: غير متاح | AL40: 2 | AM40: 1 | AN40: غير متاح | AO40: تم | AP40: لا يوجد | AQ40: إصابة 3 اشخاص إثر حادث انقلاب سيارة فى أطفيح أصيب 3 أشخاص إثر حادث انقلاب سيارة ملاكى في أطفيح، مما أدى إلى ظهور كثافات مرورية للسيارات وانتقلت أوناش المرور وتم رفع حطام الحادث، فيما تم نقل المصابين إلى المستشفى، وباشرت النيابة التحقيق. تلقت غرفة عمليات النجدة، بلاغا بوقوع حادث مرورى بالطريق فى أطفيح، وعلى الفور انتقل رجال المباحث وسيارات الإسعاف إلى مكان الحادث، وتبين انقلاب سيارة نتج عنها إصابة 3 أشخاص وتم نقلهم للمستشفى لتلقي العلاج. الاستماع لأقوال شهود عيان استمع رجال المباحث لأقوال شهود عيان، لكشف ملابسات الحادث، وتم إزالة آثاره، وتحرر محضر بالواقعة، لتتولى النيابة التحقيق. | AR40: https://www.youm7.com/story/2026/5/16/%D8%A5%D8%B5%D8%A7%D8%A8%D8%A9-3-%D8%A7%D8%B4%D8%AE%D8%A7%D8%B5-%D8%A5%D8%AB%D8%B1-%D8%AD%D8%A7%D8%AF%D8%AB-%D8%A7%D9%86%D9%82%D9%84%D8%A7%D8%A8-%D8%B3%D9%8A%D8%A7%D8%B1%D8%A9-%D9%81%D9%89-%D8%A3%D8%B7%D9%81%D9%8A%D8%AD/7417313
A41: 39 | B41: مايو 2026 | C41: 46158 | D41: الجيزة | E41: كرداسة | F41: بالطريق الأبيض فى كرداسة | G41: طريق داخل المحافظة | H41: حادث مرورى بالطريق الأبيض فى كرداسة، وعلى الفور انتقل رجال المباحث وسيارات الإسعاف إلى مكان الحادث، وتبين انقلاب سيارة ملاكي، نتج عنه إصابة 3 أشخاص. | I41: انقلاب | K41: 1 | L41: 0 | M41: 0 | N41: 0 | O41: =SUM(K41:N41) -> 1 | P41: 0 | Q41: 0 | R41: 0 | S41: 0 | T41: 0 | U41: =SUM(P41:T41) -> 0 | V41: 0 | W41: 0 | X41: 0 | Y41: 0 | Z41: 0 | AA41: =SUM(V41:Z41) -> 0 | AB41: خاصة | AD41: 0 | AE41: غير متاح | AF41: 0 | AG41: غير متاح | AH41: 0 | AI41: 0 | AJ41: 3 | AK41: غير متاح | AL41: 2 | AM41: 1 | AN41: غير متاح | AO41: تم | AP41: لا يوجد | AQ41: إصابة 3 أشخاص إثر حادث انقلاب سيارة فى كرداسة صيب 3 اشخاص إثر حادث انقلاب سيارة ملاكى بالطريق الأبيض نطاق كرداسة، مما أدى إلى ظهور كثافات مرورية للسيارات وانتقلت أوناش المرور وتم رفع حطام الحادث، فيما تم نقل المصابين الى المستشفى.تلقت غرفة عمليات النجدة، بلاغا بوقوع حادث مرورى بالطريق الأبيض فى كرداسة، وعلى الفور انتقل رجال المباحث وسيارات الإسعاف إلى مكان الحادث، وتبين انقلاب سيارة ملاكي، نتج عنه إصابة 3 أشخاص. نقل المصابين إلى المستشفى تم نقل المصابين إلى المستشفى، وإزالة آثار الحادث، وتحرر محضر بالواقعة، لتباشر النيابة المختصة التحقيق. | AR41: https://www.youm7.com/story/2026/5/16/%D8%A5%D8%B5%D8%A7%D8%A8%D8%A9-3-%D8%A3%D8%B4%D8%AE%D8%A7%D8%B5-%D8%A5%D8%AB%D8%B1-%D8%AD%D8%A7%D8%AF%D8%AB-%D8%A7%D9%86%D9%82%D9%84%D8%A7%D8%A8-%D8%B3%D9%8A%D8%A7%D8%B1%D8%A9-%D9%81%D9%89-%D9%83%D8%B1%D8%AF%D8%A7%D8%B3%D8%A9/7417485
A42: 40 | B42: مايو 2026 | C42: 46158 | D42: الجيزة | E42: العياط | F42: السكة الحديد بالعياط | G42: سكة حديد | H42: شخص سقط على قضبان السكة الحديد، مما أدى لاصطدام القطار به، ومصرعه متأثرا بالإصابات التي لحقت به. | I42: دهس | K42: 0 | L42: 0 | M42: 0 | N42: 0 | O42: =SUM(K42:N42) -> 0 | P42: 0 | Q42: 0 | R42: 0 | S42: 0 | T42: 0 | U42: =SUM(P42:T42) -> 0 | V42: 0 | W42: 0 | X42: 0 | Y42: 1 | Z42: 0 | AA42: =SUM(V42:Z42) -> 1 | AB42: حكومية | AD42: 0 | AE42: غير متاح | AF42: 1 | AG42: غير متاح | AH42: 1 | AI42: 0 | AJ42: 0 | AK42: غير متاح | AL42: 0 | AM42: 0 | AN42: غير متاح | AO42: تم | AP42: لا يوجد | AQ42: مصرع شخص سقط على قضبان السكة الحديد وصدمه قطار بالعياط لقى شخص مصرعه إثر اصطدام قطار به في العياط، وتم اتخاذ الإجراءات القانونية اللازمة، وأخطرت النيابة المختصة للتحقيق. ورد بلاغ لغرفة النجدة بالجيزة، يفيد مصرع شخص إثر حادث في العياط، وتوصلت تحريات رجال المباحث إلى أن شخص سقط على قضبان السكة الحديد، مما أدى لاصطدام القطار به، ومصرعه متأثرا بالإصابات التي لحقت به. الاستماع لأقوال شهود عيان استمع رجال المباحث لأقوال شهود عيان لكشف ملابسات الحادث، وتم نقل الجثة إلى ثلاجة المستشفى، وتحرر المحضر اللازم، لتباشر النيابة المختصة التحقيق. | AR42: https://www.youm7.com/story/2026/5/16/%D9%85%D8%B5%D8%B1%D8%B9-%D8%B4%D8%AE%D8%B5-%D8%B3%D9%82%D8%B7-%D8%B9%D9%84%D9%89-%D9%82%D8%B6%D8%A8%D8%A7%D9%86-%D8%A7%D9%84%D8%B3%D9%83%D8%A9-%D8%A7%D9%84%D8%AD%D8%AF%D9%8A%D8%AF-%D9%88%D8%B5%D8%AF%D9%85%D9%87-%D9%82%D8%B7%D8%A7%D8%B1-%D8%A8%D8%A7%D9%84%D8%B9%D9%8A%D8%A7%D8%B7/7418064
A43: 41 | B43: مايو 2026 | C43: 46158 | D43: الجيزة | E43: الهرم | F43: كفر غطاطي بالهرم | G43: طريق داخل المحافظة | H43: قي شخصان مصرعهما وأصيب آخر بعدما صدمتهم سيارة بمنطقة كفر غطاطي في الهرم | I43: دهس | K43: 1 | L43: 0 | M43: 0 | N43: 0 | O43: =SUM(K43:N43) -> 1 | P43: 0 | Q43: 0 | R43: 0 | S43: 0 | T43: 0 | U43: =SUM(P43:T43) -> 0 | V43: 0 | W43: 0 | X43: 0 | Y43: 0 | Z43: 0 | AA43: =SUM(V43:Z43) -> 0 | AB43: خاصة | AD43: 0 | AE43: غير متاح | AF43: 2 | AG43: غير متاح | AH43: 2 | AI43: 0 | AJ43: 0 | AK43: غير متاح | AL43: 0 | AM43: 0 | AN43: غير متاح | AO43: تم | AP43: لا يوجد | AQ43: مصرع شخصين وإصابة آخر فى حادث دهس بالهرم والقبض على قائد السيارة لقي شخصان مصرعهما وأصيب آخر بعدما صدمتهم سيارة بمنطقة كفر غطاطي في الهرم، وتم نقلهم إلى المستشفى، والقبض على السائق المتسبب فى الحادث، وتحرر محضر بالواقعة، لتتولى النيابة التحقيق. تلقت غرفة عمليات النجدة ، بلاغا من طواريء الصحة باصطدام سيارة بأشخاص فى الهرم؛ وعلي الفور انتقل رجال المباحث والمرور إلى مكان الحادث، وتبين أن الحادث أسفر عن مصرع شخصين، وإصابة آخر. القبض على قائد السيارة ألقى رجال المباحث القبض على قائد السيارة، وتم اتخاذ الإجراءات القانونية اللازمة تجاه الواقعة، وباشرت النيابة التحقيق. | AR43: https://www.youm7.com/story/2026/5/16/%D9%85%D8%B5%D8%B1%D8%B9-%D8%B4%D8%AE%D8%B5%D9%8A%D9%86-%D9%88%D8%A5%D8%B5%D8%A7%D8%A8%D8%A9-%D8%A2%D8%AE%D8%B1-%D9%81%D9%89-%D8%AD%D8%A7%D8%AF%D8%AB-%D8%AF%D9%87%D8%B3-%D8%A8%D8%A7%D9%84%D9%87%D8%B1%D9%85-%D9%88%D8%A7%D9%84%D9%82%D8%A8%D8%B6-%D8%B9%D9%84%D9%89/7417306
A44: 42 | B44: مايو 2026 | C44: 46159 | D44: الجيزة | E44: اطفيح | F44: الطريق الصحراوي اطفيح | G44: الطريق الصحراوي | H44: أصيب 6 أشخاص بسبب حادث انقلاب سيارة ميكروباص، بالطريق الصحراوي فى أطفيح، وتم نقلهم إلى المستشفى، وحرر محضر بالواقعة، لتباشر النيابة المختصة التحقيق. | I44: انقلاب | K44: 0 | L44: 0 | M44: 1 | N44: 0 | O44: =SUM(K44:N44) -> 1 | P44: 0 | Q44: 0 | R44: 0 | S44: 0 | T44: 0 | U44: =SUM(P44:T44) -> 0 | V44: 0 | W44: 0 | X44: 0 | Y44: 0 | Z44: 0 | AA44: =SUM(V44:Z44) -> 0 | AB44: نقل ركاب | AD44: 0 | AE44: غير متاح | AF44: 0 | AG44: غير متاح | AH44: 0 | AI44: 0 | AJ44: 6 | AK44: غير متاح | AL44: 3 | AM44: 3 | AN44: غير متاح | AO44: تم | AP44: لا يوجد | AQ44: إصابة 6 أشخاص إثر انقلاب ميكروباص في أطفيح أصيب 6 أشخاص بسبب حادث انقلاب سيارة ميكروباص، بالطريق الصحراوي فى أطفيح، وتم نقلهم إلى المستشفى، وحرر محضر بالواقعة، لتباشر النيابة المختصة التحقيق. تلقت غرفة عمليات النجدة، بلاغا بوقوع حادث مروري في أطفيح، انتقلت قوة أمنية لمكان البلاغ، وبإجراء التحريات تبين أن سيارة ميكروباص تعرضت لحادث مما أدى لانقلابها، وإصابة 6 أشخاص. إسعاف المصابين تم نقل المصابين إلى المستشفى، وإزالة آثار الحادث، وتحرر محضر بالواقعة، لتتولى النيابة المختصة التحقيق | AR44: https://www.youm7.com/story/2026/5/17/%D8%A5%D8%B5%D8%A7%D8%A8%D8%A9-6-%D8%A3%D8%B4%D8%AE%D8%A7%D8%B5-%D8%A5%D8%AB%D8%B1-%D8%A7%D9%86%D9%82%D9%84%D8%A7%D8%A8-%D9%85%D9%8A%D9%83%D8%B1%D9%88%D8%A8%D8%A7%D8%B5-%D9%81%D9%8A-%D8%A3%D8%B7%D9%81%D9%8A%D8%AD/7418472
A45: 43 | B45: مايو 2026 | C45: 46160 | D45: القليوبية | E45: غير متاح | F45: محافظة القليوبية | G45: مزلقان | H45: اصطدام سيارة «نقل» بإحدى الفتيات أثناء عبورها مزلقان قطار محدثاً إصابتها وحال محاولة الفرار اصطدم بعدد من السيارات و«توك توك» فى محافظة القليوبية. | I45: دهس | K45: 2 | L45: 0 | M45: 0 | N45: 0 | O45: =SUM(K45:N45) -> 2 | P45: 0 | Q45: 0 | R45: 1 | S45: 0 | T45: 0 | U45: =SUM(P45:T45) -> 1 | V45: 1 | W45: 0 | X45: 0 | Y45: 0 | Z45: 0 | AA45: =SUM(V45:Z45) -> 1 | AB45: غير معلوم | AD45: 0 | AE45: غير متاح | AF45: 0 | AG45: غير متاح | AH45: 0 | AI45: 0 | AJ45: 1 | AK45: غير متاح | AL45: 0 | AM45: 1 | AN45: غير متاح | AO45: تم | AP45: لا يوجد | AQ45: ضبط سائق نقل دهس فتاة وهشم عددا من السيارات بالقليوبية تمكنت مديرية أمن القليوبية من كشف غموض تداول مقطع فيديو بمواقع التواصل الاجتماعى يتضمن اصطدام سيارة «نقل» بإحدى الفتيات أثناء عبورها مزلقان قطار محدثاً إصابتها وحال محاولة الفرار اصطدم بعدد من السيارات و«توك توك» فى محافظة القليوبية. وتلقت مديرية أمن القليوبية إخطارا من مدير الإدارة العامة لمباحث القليوبية، يفيد رصد منشور مدعوم بمقطع فيديو تم تداوله بمواقع التواصل الاجتماعى تضمن اصطدام سيارة «نقل» بإحدى الفتيات حال عبورها مزلقان قطار محدثاً إصابتها وحال محاولة الفرار اصطدم ببعض سيارات المواطنين ومركبتى «توك توك». وبالفحص تم تحديد وضبط السيارة الظاهرة بمقطع الفيديو «سارية التراخيص» وقائدها وقت ارتكاب الواقعة سائق وبمواجهته اعترف بارتكابه الواقعة على النحو المشار إليه، وعلل هروبه خوفا من ضبطه ومساءلته قانونياً وتم التحفظ على السيارة واتخاذ الإجراءات القانونية وتحرير المحضر اللازم وتولت النيابة العامة التحقيق. | AR45: https://www.almasryalyoum.com/news/details/4272911 | AS45: https://www.youm7.com/story/2026/5/18/%D8%AF%D9%87%D8%B3-%D9%81%D8%AA%D8%A7%D8%A9-%D9%88%D8%AD%D8%B7%D9%85-%D8%A7%D9%84%D8%B3%D9%8A%D8%A7%D8%B1%D8%A7%D8%AA-%D9%88%D8%A7%D9%84%D8%AA%D9%88%D9%83-%D8%AA%D9%88%D9%83-%D8%B3%D9%82%D9%88%D8%B7-%D8%A7%D9%84%D8%B3%D8%A7%D8%A6%D9%82-%D8%A7%D9%84%D9%85%D8%AA%D9%87%D9%85-%D8%A8%D9%85%D8%AC%D8%B2%D8%B1%D8%A9/7419850 | AT45: https://www.elbalad.news/6975242
A46: 44 | B46: مايو 2026 | C46: 46160 | D46: الجيزة | E46: مركز شرطة البدرشين | F46: ترعة المريوطية بين قريتي أبو صير والعزيزية | G46: طريق داخل المحافظة | H46: انقلاب سيارة في ترعة المريوطية بالبدرشين، | I46: انقلاب | K46: 0 | L46: 0 | M46: 0 | N46: 0 | O46: =SUM(K46:N46) -> 0 | P46: 1 | Q46: 0 | R46: 0 | S46: 0 | T46: 0 | U46: =SUM(P46:T46) -> 1 | V46: 0 | W46: 0 | X46: 0 | Y46: 0 | Z46: 0 | AA46: =SUM(V46:Z46) -> 0 | AB46: غير معلوم | AD46: 0 | AE46: غير متاح | AF46: 1 | AG46: السائق | AH46: 1 | AI46: 0 | AJ46: 0 | AK46: غير متاح | AL46: 0 | AM46: 0 | AN46: غير متاح | AO46: تم | AP46: لا يوجد | AQ46: استخراج سيارة ربع نقل انقلبت في ترعة المريوطية.. والبحث عن سائقها استعان رجال المباحث بمركز شرطة البدرشين، بلودر لاستخراج سيارة ربع نقل، انقلبت في ترعة المريوطية اليوم الإثنين، وجاري مواصلة البحث عن سائقها. واستمع رجال المباحث لأقوال شهود عيان، لكشف ملابسات الحادث، واتخاذ الإجراءات القانونية اللازمة، لتتولى النيابة التحقيق. بلاغ بانقلاب سيارة في ترعة المريوطية تلقت غرفة النجدة بالجيزة، بلاغا يفيد انقلاب سيارة في ترعة المريوطية بالبدرشين، انتقلت قوة أمنية لمكان الحادث، وتبين من خلال الفحص والمعاينة، أن سيارة ربع نقل، اختلت عجلة القيادة من يد سائقها، مما أدى لانحرافها عن الطريق، وانقلابها بالترعة، بين قريتي أبو صير والعزيزية. البحث عن السائق تم الاستعانة برجال الإنقاذ النهري للبحث عن السائق، وجاري اتخاذ الإجراءات القانونية اللازمة، لتباشر النيابة التحقيق. | AR46: https://www.youm7.com/story/2026/5/18/%D8%A7%D8%B3%D8%AA%D8%AE%D8%B1%D8%A7%D8%AC-%D8%B3%D9%8A%D8%A7%D8%B1%D8%A9-%D8%B1%D8%A8%D8%B9-%D9%86%D9%82%D9%84-%D8%A7%D9%86%D9%82%D9%84%D8%A8%D8%AA-%D9%81%D9%8A-%D8%AA%D8%B1%D8%B9%D8%A9-%D8%A7%D9%84%D9%85%D8%B1%D9%8A%D9%88%D8%B7%D9%8A%D8%A9-%D9%88%D8%A7%D9%84%D8%A8%D8%AD%D8%AB-%D8%B9%D9%86/7420187 | AS46: https://www.youm7.com/story/2026/5/18/%D8%A7%D9%86%D8%AA%D8%B4%D8%A7%D9%84-%D8%AC%D8%AB%D8%A9-%D8%B3%D8%A7%D8%A6%D9%82-%D8%A7%D9%86%D9%82%D9%84%D8%A8%D8%AA-%D8%B3%D9%8A%D8%A7%D8%B1%D8%AA%D9%87-%D9%81%D9%89-%D8%AA%D8%B1%D8%B9%D8%A9-%D8%A7%D9%84%D9%85%D8%B1%D9%8A%D9%88%D8%B7%D9%8A%D8%A9-%D8%A8%D8%A7%D9%84%D8%A8%D8%AF%D8%B1%D8%B4%D9%8A%D9%86/7420215 | AT46: https://www.youm7.com/story/2026/5/18/%D8%A7%D9%86%D9%82%D9%84%D8%A7%D8%A8-%D8%B3%D9%8A%D8%A7%D8%B1%D8%A9-%D8%B1%D8%A8%D8%B9-%D9%86%D9%82%D9%84-%D9%81%D9%8A-%D8%AA%D8%B1%D8%B9%D8%A9-%D8%A7%D9%84%D9%85%D8%B1%D9%8A%D9%88%D8%B7%D9%8A%D8%A9-%D8%A8%D8%A7%D9%84%D8%A8%D8%AF%D8%B1%D8%B4%D9%8A%D9%86/7420072
A47: 45 | B47: مايو 2026 | C47: 46160 | D47: القاهرة | E47: مدينة نصر | F47: أعلى الطريق الأوسطى | G47: طرق محورية | H47: أصيب 15 شخصا بسبب حادث انقلاب مينى باص أعلى الطريق الأوسطى ونقلوا الى المستشفى، وحرر محضر بالواقعة. | I47: انقلاب | K47: 0 | L47: 0 | M47: 1 | N47: 0 | O47: =SUM(K47:N47) -> 1 | P47: 0 | Q47: 0 | R47: 0 | S47: 0 | T47: 0 | U47: =SUM(P47:T47) -> 0 | V47: 0 | W47: 0 | X47: 0 | Y47: 0 | Z47: 0 | AA47: =SUM(V47:Z47) -> 0 | AB47: نقل ركاب | AD47: 0 | AE47: غير متاح | AF47: 0 | AG47: غير متاح | AH47: 0 | AI47: 0 | AJ47: 15 | AK47: غير متاح | AL47: 8 | AM47: 7 | AN47: غير متاح | AO47: تم | AP47: لا يوجد | AQ47: إصابة 15 شخصا إثر انقلاب مينى باص فى الطريق الأوسطى أصيب 15 شخصا بسبب حادث انقلاب مينى باص أعلى الطريق الأوسطى ونقلوا الى المستشفى، وحرر محضر بالواقعة. حادث مرورى فى مدينة نصر وتلقى مشرف عمليات النجدة ، بلاغا أعلى الطريق الأوسطى، بوقوع حادث مرورى ، وانتقلت سيارات الاسعاف لموقع الحادث بصحبتهم ونش مرورى للعمل على رفع حطام الحادث وتبين من خلال الفحص اختلال عجلة القيادة من السائق مما أدى الى انقلاب مينى باص أعلى الطريق ونتج إصابة 15 شخصا ونقلوا جميعهم الى المستشفى. | AR47: https://www.youm7.com/story/2026/5/18/%D8%A5%D8%B5%D8%A7%D8%A8%D8%A9-15-%D8%B4%D8%AE%D8%B5%D8%A7-%D8%A5%D8%AB%D8%B1-%D8%A7%D9%86%D9%82%D9%84%D8%A7%D8%A8-%D9%85%D9%8A%D9%86%D9%89-%D8%A8%D8%A7%D8%B5-%D9%81%D9%89-%D8%A7%D9%84%D8%B7%D8%B1%D9%8A%D9%82-%D8%A7%D9%84%D8%A3%D9%88%D8%B3%D8%B7%D9%89/7420514
A48: 46 | B48: مايو 2026 | C48: 46160 | D48: الجيزة | E48: السادس من اكتوبر | F48: مدينة السادس من اكتوبر | G48: طريق داخل المحافظة | H48: أصيب 8 أشخاص بسبب حادث انقلاب ميكروباص، في مدينة السادس من اكتوبر، وتم نقل المصابين إلى المستشفى، وإزالة آثار الحادث، وحرر محضر بالواقعة، لتتولى النيابة التحقيق. | I48: انقلاب | K48: 0 | L48: 0 | M48: 1 | N48: 0 | O48: =SUM(K48:N48) -> 1 | P48: 0 | Q48: 0 | R48: 0 | S48: 0 | T48: 0 | U48: =SUM(P48:T48) -> 0 | V48: 0 | W48: 0 | X48: 0 | Y48: 0 | Z48: 0 | AA48: =SUM(V48:Z48) -> 0 | AB48: نقل ركاب | AD48: 0 | AE48: غير متاح | AF48: 0 | AG48: غير متاح | AH48: 0 | AI48: 0 | AJ48: 8 | AK48: عبدالله. س. ع»، طالب بالصف الثالث الثانوى | AL48: 4 | AM48: 4 | AN48: غير متاح | AO48: تم | AP48: لا يوجد | AQ48: إصابة 8 أشخاص إثر حادث انقلاب ميكروباص فى مدينة السادس من اكتوبرأصيب 8 أشخاص بسبب حادث انقلاب ميكروباص، في مدينة السادس من اكتوبر، وتم نقل المصابين إلى المستشفى، وإزالة آثار الحادث، وحرر محضر بالواقعة، لتتولى النيابة التحقيق. غرفة العمليات تلقت بلاغا بالحادث تلقت غرفة عمليات النجدة، بلاغا بوقوع حادث مرورى في مدينة السادس من اكتوبر، انتقلت قوة أمنية لمحل الواقعة، وتبين من خلال الفحص اختلال عجلة القيادة من يد سائق ميكروباص، مما أدى إلى انقلابها، وإصابة 8 أشخاص. إسعاف المصابين تم نقل المصابين إلى المستشفى لإسعافهم، وإزالة آثار الحادث، واتخاذ الإجراءات القانونية اللازمة، لتباشر النيابة المختصة التحقيق. | AR48: https://www.youm7.com/story/2026/5/18/%D8%A5%D8%B5%D8%A7%D8%A8%D8%A9-8-%D8%A3%D8%B4%D8%AE%D8%A7%D8%B5-%D8%A5%D8%AB%D8%B1-%D8%AD%D8%A7%D8%AF%D8%AB-%D8%A7%D9%86%D9%82%D9%84%D8%A7%D8%A8-%D9%85%D9%8A%D9%83%D8%B1%D9%88%D8%A8%D8%A7%D8%B5-%D9%81%D9%89-%D9%85%D8%AF%D9%8A%D9%86%D8%A9-6/7420132
A49: 47 | B49: مايو 2026 | C49: 46160 | D49: القاهرة | E49: غير متاح | F49: احد الشوارع | G49: طريق داخل المحافظة | H49: حبس سائق توك توك 4 أيام على ذمة التحقيقات، بتهمة التحرش بفتاتين والاصطدام بإحداهن ولاذ بالفرار بالقاهرة. | I49: دهس | K49: 0 | L49: 0 | M49: 0 | N49: 0 | O49: =SUM(K49:N49) -> 0 | P49: 0 | Q49: 0 | R49: 0 | S49: 0 | T49: 0 | U49: =SUM(P49:T49) -> 0 | V49: 1 | W49: 0 | X49: 1 | Y49: 0 | Z49: 0 | AA49: =SUM(V49:Z49) -> 2 | AB49: نقل ركاب | AD49: 0 | AE49: غير متاح | AF49: 0 | AG49: غير متاح | AH49: 0 | AI49: 0 | AJ49: 0 | AK49: غير متاح | AL49: 0 | AM49: 0 | AN49: غير متاح | AO49: تم | AP49: لا يوجد | AQ49: حبس سائق "توك توك" بتهمة التحرش بالفتيات في القاهرة قررت جهات التحقيق المختصة بالقاهرة، حبس سائق توك توك 4 أيام على ذمة التحقيقات، بتهمة التحرش بفتاتين والاصطدام بإحداهن ولاذ بالفرار بالقاهرة. شفت الأجهزة الأمنية بوزارة الداخلية ملابسات تعليق مدعوم بمقطع فيديو تم تداوله بمواقع التواصل الاجتماعى تضمن تضرر القائم على النشر من قيام قائد مركبة "توك توك" بمحاولة التحرش بالفتيات والاصطدام بإحداهن ولاذ بالفرار بالقاهرة. تفاصيل الواقعة بالفحص تبين عدم ورود بلاغات فى هذا الشأن ، وأمكن تحديد القائم على النشر (طالب – مقيم بدائرة قسم شرطة بدر) وبسؤاله قرر أنه حال سيره بأحد الشوارع شاهد قائد مركبة "توك توك" حال سيره برعونة وكاد أن يصطدم بإحدى الفتيات ، فقام باللحاق به وحال استيقافه قام بالاصطدام بدراجته النارية عمداً وإحداث تلفيات بها . أمكن تحديد وضبط مركبة "التوك توك" الظاهرة بمقطع الفيديو وقائدها(سائق – مقيم بدائرة القسم) وبمواجهته إعترف بإحداثه تلفيات بالدراجة النارية ملك القائم على النشر ونفى قيامه بالإصطدام بأحد من المارة. تم التحفظ على مركبة "التوك توك".. وإتخاذ الإجراءات القانونية. | AR49: https://www.elbalad.news/6974986
A50: 48 | B50: مايو 2026 | C50: 46160 | D50: الجيزة | E50: العمرانية | F50: العمرانية | G50: طريق داخل المحافظة | H50: لقيت سيدة مصرعها بينما أصيب 2 آخرين بسبب حادث تصادم سيارة نقل وتروسيكل فى العمرانية، وتم نقل المصابين إلى المستشفى، وتحرر محضر بالواقعة، لتتولى النيابة المختصة التحقيق. | I50: تصادم | K50: 0 | L50: 0 | M50: 0 | N50: 0 | O50: =SUM(K50:N50) -> 0 | P50: 0 | Q50: 0 | R50: 1 | S50: 0 | T50: 0 | U50: =SUM(P50:T50) -> 1 | V50: 0 | W50: 1 | X50: 0 | Y50: 0 | Z50: 0 | AA50: =SUM(V50:Z50) -> 1 | AB50: غير معلوم | AD50: 0 | AE50: غير متاح | AF50: 1 | AG50: غير متاح | AH50: 0 | AI50: 1 | AJ50: 2 | AK50: غير متاح | AL50: 1 | AM50: 1 | AN50: غير متاح | AO50: تم | AP50: لا يوجد | AQ50: مصرع سيدة وإصابة شخصين في تصادم سيارة وتروسيكل بالعمرانية لقيت سيدة مصرعها بينما أصيب 2 آخرين بسبب حادث تصادم سيارة نقل وتروسيكل فى العمرانية، وتم نقل المصابين إلى المستشفى، وتحرر محضر بالواقعة، لتتولى النيابة المختصة التحقيق. تلقت غرفة عمليات النجدة، بلاغا بوقوع حادث مرورى في العمرانية، وعلى الفور انتقل رجال المباحث إلى موقع الحادث، والخدمات المرورية، وتبين من خلال الفحص أن الحادث بين سيارة نقل وتروسيكل، مما أسفر عن مصرع سيدة، وإصابة آخرين. تم نقل المصابين إلى المستشفى لإسعافهم، واتخاذ الإجراءات القانونية اللازمة تجاه الواقعة، وباشرت النيابة التحقيق. | AR50: https://www.elbalad.news/6975107
A51: 49 | B51: مايو 2026 | C51: 46161 | D51: القليوبية | E51: مدينة بنها | F51: أسفل كوبري بمدينة مدينة بنها | G51: طريق داخل المحافظة | H51: صيب 5 أشخاص إثر وقوع حادث تصادم بين سيارة نقل ثقيل «تريلا» و5 سيارات سوزوكى أسفل كوبري بمدينة مدينة بنها محافظة القليوبية وجرى نقل مصابين للمستشفى لاتخاذ الإجراءات اللازمة. | I51: تصادم | K51: 0 | L51: 0 | M51: 5 | N51: 0 | O51: =SUM(K51:N51) -> 5 | P51: 0 | Q51: 0 | R51: 0 | S51: 1 | T51: 0 | U51: =SUM(P51:T51) -> 1 | V51: 0 | W51: 0 | X51: 0 | Y51: 0 | Z51: 1 | AA51: =SUM(V51:Z51) -> 1 | AB51: نقل ركاب/غيرمعلوم/خاصة | AD51: 0 | AE51: غير متاح | AF51: 0 | AG51: غير متاح | AH51: 0 | AI51: 0 | AJ51: 5 | AK51: غير متاح | AL51: 2 | AM51: 3 | AN51: غير متاح | AO51: تم | AP51: لم يتم ذكر عدد المصابين ذكور واناث ولذلك تم تقسيمهم | AQ51: إصابة 5 أشخاص فى حادث تصادم نقل بـ5 سيارات فى مدينة بنها بالقليوبية أُصيب 5 أشخاص إثر وقوع حادث تصادم بين سيارة نقل ثقيل «تريلا» و5 سيارات سوزوكى أسفل كوبري بمدينة مدينة بنها محافظة القليوبية وجرى نقل مصابين للمستشفى لاتخاذ الإجراءات اللازمة. كانت الأجهزة الأمنية تلقت إخطارًا بوقوع الحادث، وعلى الفور انتقلت قوات الأمن وسيارات الإسعاف إلى موقع البلاغ، حيث تبين اصطدام التريلا بعدد من سيارات السوزوكى، ما أسفر عن إصابة 5 أشخاص بإصابات متفرقة. وتم نقل المصابين إلى المستشفى لتلقى الإسعافات والرعاية الطبية اللازمة، فيما جرى رفع آثار الحادث لتسيير الحركة المرورية ومنع التكدسات. تم التحفظ على السيارة المتسببة فى الحادث، وتحرر محضر بالواقعة، وتولت الجهات المختصة التحقيق | AR51: https://www.almasryalyoum.com/news/details/4274249 | AS51: https://www.youm7.com/story/2026/5/19/%D8%A5%D8%B5%D8%A7%D8%A8%D8%A9-%D8%B4%D8%AE%D8%B5-%D8%A8%D8%AD%D8%A7%D8%AF%D8%AB-%D8%A7%D8%B5%D8%B7%D8%AF%D8%A7%D9%85-%D8%B3%D9%8A%D8%A7%D8%B1%D8%A9-%D8%AA%D8%B1%D9%8A%D9%84%D8%A7-%D8%A8%D9%805-%D8%B3%D9%8A%D8%A7%D8%B1%D8%A7%D8%AA-%D9%81%D9%89-%D8%A8%D9%86%D9%87%D8%A7/7422027 | AT51: https://www.elbalad.news/6977166 | AU51: https://www.elbalad.news/6977540
A52: 50 | B52: مايو 2026 | C52: 46161 | D52: القاهرة | E52: مدينة نصر | F52: غير متاح | G52: طريق داخل المحافظة | H52: اصطدام السيارة بالرصيف وانفجار الإطار الأمامي وحدوث تلفيات بالسيارة، مؤكدًا أنه لم يصطدم بأي شخص كما تم تداوله | I52: اصطدام | K52: 1 | L52: 0 | M52: 0 | N52: 0 | O52: =SUM(K52:N52) -> 1 | P52: 0 | Q52: 0 | R52: 0 | S52: 0 | T52: 0 | U52: =SUM(P52:T52) -> 0 | V52: 0 | W52: 0 | X52: 0 | Y52: 0 | Z52: 0 | AA52: =SUM(V52:Z52) -> 0 | AB52: خاصة | AC52: تليفيات بالسيارة | AD52: 0 | AE52: غير متاح | AF52: 0 | AG52: غير متاح | AH52: 0 | AI52: 0 | AJ52: 0 | AK52: غير متاح | AL52: 0 | AM52: 0 | AN52: غير متاح | AO52: تم | AP52: لا يوجد | AQ52: «مطاردة مدينة نصر».. كشف حقيقة دهس شخص بسيارة ملاكي في القاهرة كشفت الأجهزة الأمنية ملابسات مقطع فيديو تم تداوله عبر مواقع التواصل الاجتماعي، تضمن قيام عدد من قائدي الدراجات النارية بمطاردة قائد سيارة ملاكي بمنطقة، بزعم تسببه في دهس أحد الأشخاص وفراره من موقع الحادث. وبالفحص، تمكنت الأجهزة الأمنية من تحديد السيارة الظاهرة في الفيديو، وتبين أنها سارية التراخيص، كما جرى تحديد قائدها، وهو حاصل على بكالوريوس تجارة ومقيم بدائرة قسم شرطة . وبسؤال قائد السيارة، أفاد بأنه أثناء سيره اختلت عجلة القيادة بيده، ما أدى إلى اصطدام السيارة بالرصيف وانفجار الإطار الأمامي وحدوث تلفيات بالسيارة، مؤكدًا أنه لم يصطدم بأي شخص كما تم تداوله. وأضاف أنه فوجئ عقب الحادث بقيام عدد من قائدي الدراجات النارية بمطاردته وتصويره، الأمر الذي دفعه لعدم التوقف خشية تعرضه للاعتداء. كما استدعت الأجهزة الأمنية أحد قائدي الدراجات النارية الذين ظهروا بمقطع الفيديو، وبسؤاله أقر بأنه وباقي الأشخاص اعتقدوا في البداية أن قائد السيارة ارتكب حادثًا مروريًا وفر هاربًا، إلا أنهم اكتشفوا لاحقًا عدم صحة ذلك عقب توقفه وفحص الواقعة. وتم اتخاذ الإجراءات القانونية اللازمة حيال الواقعة. | AR52: https://www.almasryalyoum.com/news/details/4274339
A53: 51 | B53: مايو 2026 | C53: 46161 | D53: الجيزة | E53: غير متاح | F53: الطريق الاقليمي | G53: طرق محورية | H53: انقلاب سيارة ملاكى، نتيجة اختلال عجلة القيادة من يد قائدها، مما أسفر عن إصابته وتم نقله إلى المستشفى، واتخاذ الإجراءات القانونية اللازمة، تمهيدا لإخطار النيابة المختصة للتحقيق. | I53: انقلاب | K53: 1 | L53: 0 | M53: 0 | N53: 0 | O53: =SUM(K53:N53) -> 1 | P53: 0 | Q53: 0 | R53: 0 | S53: 0 | T53: 0 | U53: =SUM(P53:T53) -> 0 | V53: 0 | W53: 0 | X53: 0 | Y53: 0 | Z53: 0 | AA53: =SUM(V53:Z53) -> 0 | AB53: خاصة | AD53: 0 | AE53: غير متاح | AF53: 0 | AG53: غير متاح | AH53: 0 | AI53: 0 | AJ53: 1 | AK53: غير متاح | AL53: 1 | AM53: 0 | AN53: غير متاح | AO53: تم | AP53: لا يوجد | AQ53: إصابة شخص إثر انقلاب سيارة ملاكى بالطريق الإقليمى أصيب شخص فى حادث مرورى إثر انقلاب سيارة ملاكى بالطريق الاقليمى وتم نقله إلى المستشفى، وتحرر محضرا بالواقعة، وأخطرت النيابة المختصة للتحقيق. غرفة العمليات تلقت بلاغا بحادث انقلاب سيارة ملاكى تلقت غرفة النجدة بمديرية أمن الجيزة، بلاغا يفيد بانقلاب سيارة ملاكى بالطريق الاقليمى، وتبين من خلال المعاينة والتحريات، انقلاب سيارة ملاكى، نتيجة اختلال عجلة القيادة من يد قائدها، مما أسفر عن إصابته وتم نقله إلى المستشفى، واتخاذ الإجراءات القانونية اللازمة، تمهيدا لإخطار النيابة المختصة للتحقيق. | AR53: https://www.youm7.com/story/2026/5/19/%D8%A5%D8%B5%D8%A7%D8%A8%D8%A9-%D8%B4%D8%AE%D8%B5-%D8%A5%D8%AB%D8%B1-%D8%A7%D9%86%D9%82%D9%84%D8%A7%D8%A8-%D8%B3%D9%8A%D8%A7%D8%B1%D8%A9-%D9%85%D9%84%D8%A7%D9%83%D9%89-%D8%A8%D8%A7%D9%84%D8%B7%D8%B1%D9%8A%D9%82-%D8%A7%D9%84%D8%A5%D9%82%D9%84%D9%8A%D9%85%D9%89/7421591
A54: 52 | B54: مايو 2026 | C54: 46162 | D54: الجيزة | E54: كرداسة | F54: أعلى الطريق نطاق كرداسة | G54: طريق داخل المحافظة | H54: صيب 3 أشخاص إثر حادث انقلاب سيارة ملاكى أعلى الطريق نطاق كرداسة، مما أدى إلى ظهور كثافات مرورية للسيارات، وانتقلت أوناش المرور، وتم رفع حطام الحادث، فيما تم نقل المصابين إلى المستشفى. | I54: انقلاب | K54: 1 | L54: 0 | M54: 0 | N54: 0 | O54: =SUM(K54:N54) -> 1 | P54: 0 | Q54: 0 | R54: 0 | S54: 0 | T54: 0 | U54: =SUM(P54:T54) -> 0 | V54: 0 | W54: 0 | X54: 0 | Y54: 0 | Z54: 0 | AA54: =SUM(V54:Z54) -> 0 | AB54: خاصة | AD54: 0 | AE54: غير متاح | AF54: 0 | AG54: غير متاح | AH54: 0 | AI54: 0 | AJ54: 3 | AK54: غير متاح | AL54: 2 | AM54: 1 | AN54: غير متاح | AO54: تم | AP54: لا يوجد | AQ54: إصابة 3 أشخاص إثر حادث انقلاب سيارة فى كرداسة أصيب 3 أشخاص إثر حادث انقلاب سيارة ملاكى أعلى الطريق نطاق كرداسة، مما أدى إلى ظهور كثافات مرورية للسيارات، وانتقلت أوناش المرور، وتم رفع حطام الحادث، فيما تم نقل المصابين إلى المستشفى. غرفة العمليات تلقت بلاغا بالحادث تلقت غرفة عمليات النجدة، بلاغا بوقوع حادث مرورى بالطريق فى كرداسة، وعلى الفور انتقل رجال المباحث وسيارات الإسعاف إلي مكان الحادث، وتبين انقلاب سيارة نتج عنها إصابة 3 أشخاص، وتم نقلهم للمستشفى لتلقي العلاج. | AR54: https://www.youm7.com/story/2026/5/20/%D8%A5%D8%B5%D8%A7%D8%A8%D8%A9-3-%D8%A3%D8%B4%D8%AE%D8%A7%D8%B5-%D8%A5%D8%AB%D8%B1-%D8%AD%D8%A7%D8%AF%D8%AB-%D8%A7%D9%86%D9%82%D9%84%D8%A7%D8%A8-%D8%B3%D9%8A%D8%A7%D8%B1%D8%A9-%D9%81%D9%89-%D9%83%D8%B1%D8%AF%D8%A7%D8%B3%D8%A9/7423230
A55: 53 | B55: مايو 2026 | C55: 46162 | D55: الجيزة | E55: غير متاح | F55: اعلى طريق الواحات | G55: الطريق الصحراوي | H55: أصيب 6 اشخاص بسبب حادث انقلاب ميكروباص أعلى طريق الواحات الصحراوى ونقلوا الى المستشفى، وحرر محضر بالواقعة. | I55: انقلاب | K55: 0 | L55: 0 | M55: 1 | N55: 0 | O55: =SUM(K55:N55) -> 1 | P55: 0 | Q55: 0 | R55: 0 | S55: 0 | T55: 0 | U55: =SUM(P55:T55) -> 0 | V55: 0 | W55: 0 | X55: 0 | Y55: 0 | Z55: 0 | AA55: =SUM(V55:Z55) -> 0 | AB55: نقل ركاب | AD55: 0 | AE55: غير متاح | AF55: 0 | AG55: غير متاح | AH55: 0 | AI55: 0 | AJ55: 6 | AK55: غير متاح | AL55: 3 | AM55: 3 | AN55: غير متاح | AO55: تم | AP55: لا يوجد | AQ55: إصابة 6 أشخاص إثر انقلاب ميكروباص بطريق الواحات أصيب 6 اشخاص بسبب حادث انقلاب ميكروباص أعلى طريق الواحات الصحراوى ونقلوا الى المستشفى، وحرر محضر بالواقعة. غرفة العمليات تلقت بلاغا بالحادث تلقت غرفة عمليات النجدة، بلاغا أعلى طريق الواحات الصحراوى بوقوع حادث مرورى ، وانتقلت سيارات الاسعاف لموقع الحادث بصحبتهم ونش مرورى للعمل على رفع حطام الحادث وتبين من خلال الفحص اختلال عجلة القيادة من السائق مما أدى الى انقلاب السيارة أعلى الطريق ونتج إصابة 6 اشخاص ونقلوا جميعهم الى المستشفى . | AR55: https://www.youm7.com/story/2026/5/20/%D8%A5%D8%B5%D8%A7%D8%A8%D8%A9-6-%D8%A3%D8%B4%D8%AE%D8%A7%D8%B5-%D8%A5%D8%AB%D8%B1-%D8%A7%D9%86%D9%82%D9%84%D8%A7%D8%A8-%D9%85%D9%8A%D9%83%D8%B1%D9%88%D8%A8%D8%A7%D8%B5-%D8%A8%D8%B7%D8%B1%D9%8A%D9%82-%D8%A7%D9%84%D9%88%D8%A7%D8%AD%D8%A7%D8%AA/7422616
A56: 54 | B56: مايو 2026 | C56: 46162 | D56: الجيزة | E56: السادس من اكتوبر | F56: اعلى الطريق في مدينة السادس من اكتوبر | G56: طريق داخل المحافظة | H56: صيب شخصان إثر انقلاب موتوسيكل أعلى الطريق فى مدينة السادس من السادس من اكتوبرلتلقى العلاج، حرر محضر بالواقعة وتولت النيابة المختصة التحقيقات. | I56: انقلاب | K56: 0 | L56: 0 | M56: 0 | N56: 0 | O56: =SUM(K56:N56) -> 0 | P56: 0 | Q56: 0 | R56: 0 | S56: 0 | T56: 0 | U56: =SUM(P56:T56) -> 0 | V56: 0 | W56: 0 | X56: 1 | Y56: 0 | Z56: 0 | AA56: =SUM(V56:Z56) -> 1 | AB56: خاصة | AD56: 0 | AE56: غير متاح | AF56: 0 | AG56: غير متاح | AH56: 0 | AI56: 0 | AJ56: 2 | AK56: غير متاح | AL56: 2 | AM56: 0 | AN56: غير متاح | AO56: تم | AP56: لا يوجد | AQ56: إصابة شخصين إثر انقلاب موتوسيكل فى مدينة السادس من اكتوبر غرفة العمليات تلقت بلاغا بالحادث أصيب شخصان إثر انقلاب موتوسيكل أعلى الطريق فى مدينة السادس من السادس من اكتوبرلتلقى العلاج، حرر محضر بالواقعة وتولت النيابة المختصة التحقيقات. غرفة العمليات تلقت بلاغا بالحادث وفور تلقى بلاغا لغرفة العمليات وقوع حادث مرورى ووجود مصابين فى مدينة السادس من اكتوبر، انتقل رجال الإسعاف إلى المكان، وتبين من خلال الفحـــص أنه أثناء سير دراجة نارية موتوسيكل أختلت عجلة القيادة من السائق مما تسبب فى انحرافه وانقلاب الموتوسيكل، ونتج عن الحادث إصابة شخصين، وجرى نقل المصابين إلى مستشفى المركزى لتلقى العلاج اللازم، وتم اتخاذ كافة الإجراءات القانونية اللازمة حيال الواقعة. | AR56: https://www.youm7.com/story/2026/5/20/%D8%A5%D8%B5%D8%A7%D8%A8%D8%A9-%D8%B4%D8%AE%D8%B5%D9%8A%D9%86-%D8%A5%D8%AB%D8%B1-%D8%A7%D9%86%D9%82%D9%84%D8%A7%D8%A8-%D9%85%D9%88%D8%AA%D9%88%D8%B3%D9%8A%D9%83%D9%84-%D9%81%D9%89-%D9%85%D8%AF%D9%8A%D9%86%D8%A9-6-%D8%A3%D9%83%D8%AA%D9%88%D8%A8%D8%B1/7422612
A57: 55 | B57: مايو 2026 | C57: 46164 | D57: الجيزة | E57: قسم شرطة الجيزة | F57: حادث تصادم أمام كلية التجارة بجامعة القاهرة | G57: طريق داخل المحافظة | H57: تعرضت 4 طالبات لحادث دهس أمام بوابة الكلية أثناء خروجهن من الجامعة، إثر اصطدام دراجة نارية بهن | I57: دهس | K57: 0 | L57: 0 | M57: 0 | N57: 0 | O57: =SUM(K57:N57) -> 0 | P57: 0 | Q57: 0 | R57: 0 | S57: 0 | T57: 0 | U57: =SUM(P57:T57) -> 0 | V57: 0 | W57: 0 | X57: 1 | Y57: 0 | Z57: 0 | AA57: =SUM(V57:Z57) -> 1 | AB57: خاصة | AD57: 0 | AE57: قائد الدراجة النارية - 22 سنة - ذكر - طالب بكلية التربية الرياضية بجامعة حلوان - مقيم ببولاق الدكرور | AF57: 0 | AG57: غير متاح | AH57: 0 | AI57: 0 | AJ57: 4 | AK57: دعاء فخر الدين - 19 سنة - أنثى - طالبة؛ خلود عبد القادر - 20 سنة - أنثى؛ دعاء أشرف - 20 سنة - أنثى؛ جنى محمد - 20 سنة - أنثى | AL57: 0 | AM57: 4 | AN57: مستشفى الطلبة بجامعة القاهرة | AO57: تم | AP57: لا يوجد | AQ57: شهد محيط كلية التجارة بجامعة القاهرة حالة من الاستنفار، بعدما تعرضت 4 طالبات لحادث دهس أمام بوابة الكلية أثناء خروجهن من الجامعة، إثر اصطدام دراجة نارية بهن، ما تسبب في إصابتهن بإصابات متفرقة، قبل أن تتمكن الأجهزة الأمنية من ضبط قائدها. تلقت الأجهزة الأمنية بقسم شرطة الجيزة بلاغًا يفيد بوقوع حادث تصادم أمام كلية التجارة بجامعة القاهرة، وعلى الفور انتقلت قوات الأمن إلى موقع البلاغ لإجراء المعاينة والفحص.وتبين من التحريات أنه أثناء قيادة الطالب «ا.ع.ع»، 22 عامًا، والمقيد بكلية التربية الرياضية بجامعة حلوان، ويقيم بمنطقة بولاق الدكرور، دراجته النارية، اصطدم بـ4 طالبات أثناء خروجهن من الجامعة. وأسفر الحادث عن إصابة كل من: دعاء فخر الدين، 19 عامًا، طالبة بكلية تربية طفولة ومقيمة بالأميرية، وخلود عبد القادر، 20 عامًا، ومقيمة بالوراق، ودعاء أشرف، 20 عامًا، ومقيمة بكرداسة، وجنى محمد، 20 عامًا، ومقيمة بمصر الجديدة. وكشف التقرير الطبي المبدئي عن إصابة الطالبات بسحجات وكدمات متفرقة، فيما تعرضت إحداهن لشرخ بالقدم اليسرى، وتم نقلهن إلى مستشفى الطلبة بجامعة القاهرة لتلقي الرعاية الطبية وإجراء الفحوصات اللازمة. وتمكنت الأجهزة الأمنية من التحفظ على الدراجة النارية وقائدها، وبمواجهته أقر بارتكاب الواقعة مؤكدًا أن الحادث وقع دون قصد، فيما تم اتخاذ الإجراءات القانونية اللازمة حيال الواقعة. | AR57: https://www.elbalad.news/6980144
A58: 56 | B58: مايو 2026 | C58: 46165 | D58: الجيزة | E58: غير متاح | F58: مدينة 6 أكتوبر | G58: طريق داخل المحافظة | H58: مصرع شخصين وإصابة 8 آخرين إثر حادث تصادم ميكروباص و"ريس" بمدينة 6 أكتوبر | I58: تصادم | K58: 0 | L58: 0 | M58: 1 | N58: 0 | O58: =SUM(K58:N58) -> 1 | P58: 0 | Q58: 0 | R58: 0 | S58: 0 | T58: 0 | U58: =SUM(P58:T58) -> 0 | V58: 0 | W58: 0 | X58: 1 | Y58: 0 | Z58: 0 | AA58: =SUM(V58:Z58) -> 1 | AB58: نقل ركاب | AD58: 0 | AE58: غير متاح | AF58: 8 | AG58: غير متاح | AH58: 4 | AI58: 4 | AJ58: 2 | AK58: غير متاح | AL58: 1 | AM58: 1 | AN58: غير متاح | AO58: تم | AP58: لا يوجد | AQ58: مصرع شخصين وإصابة 8 آخرين إثر حادث تصادم ميكروباص و"ريس" بمدينة 6 أكتوبر السبت، 23 مايو 2026 12:29 ملقى شخصان مصرعهما، وأصيب 8 آخرون، إثر حادث تصادم بين ميكروباص ودراجة بخارية "ريس" فى مدينة 6 أكتوبر، وتم نقل المتوفين والمصابين إلى المستشفى، ورفع أثار الحادث بالكامل، وأخطرت النيابة للتحقيق. غرفة العمليات تلقت بلاغا بالحادث تلقت غرفة عمليات النجدة، بلاغا من الخدمات المعينة فى الطريق بمدينة 6 أكتوبر، بوجود مصادمة ومصابين، وعلى الفور انتقلت قوة أمنية لمكان البلاغ، وتبين من خلال الفحص والتحريات، أن الحادث وقع بين سيارة ميكروباص، ودراجة نارية "ريس"، مما أدى لمصرع شخصين، وإصابة 8 آخرين. الاستماع لأقوال المصابين استمع رجال المباحث لأقوال المصابين وشهود عيان، لكشف ملابسات الحادث، وتم إزالة آثاره، وحرر محضر بالواقعة، لتباشر النيابة التحقيق. | AR58: https://www.youm7.com/story/2026/5/23/%D9%85%D8%B5%D8%B1%D8%B9-%D8%B4%D8%AE%D8%B5%D9%8A%D9%86-%D9%88%D8%A5%D8%B5%D8%A7%D8%A8%D8%A9-8-%D8%A2%D8%AE%D8%B1%D9%8A%D9%86-%D8%A5%D8%AB%D8%B1-%D8%AD%D8%A7%D8%AF%D8%AB-%D8%AA%D8%B5%D8%A7%D8%AF%D9%85-%D9%85%D9%8A%D9%83%D8%B1%D9%88%D8%A8%D8%A7%D8%B5-%D9%88/7425806
A59: 57 | B59: مايو 2026 | C59: 46166 | D59: الجيزة | E59: ابو النمرس | F59: أعلى الطريق في منطقة أبو النمرس | G59: طريق داخل المحافظة | H59: بلاغا بوقوع حادث مرورى أعلى الطريق في منطقة أبو النمرس، وعلى الفور انتقل رجال المباحث إلى موقع الحادث والخدمات المرورية وبصحبتهم ونش مرورى للعمل على رفع حطام الحادث، وبصحبتهم سيارات إسعاف، وتبين من خلال الفحص اختلال عجلة القيادة أحد السائقين واصطدامه بدراجة بخارية، ونتج عنه وفاة السائق وأصيبت خطيبته ونقلا إلى المستشفى وتم اتخاذ الإجراءات القانونية اللازمة تجاه الواقعة. | I59: تصادم | K59: 1 | L59: 0 | M59: 0 | N59: 0 | O59: =SUM(K59:N59) -> 1 | P59: 0 | Q59: 0 | R59: 0 | S59: 0 | T59: 0 | U59: =SUM(P59:T59) -> 0 | V59: 0 | W59: 0 | X59: 1 | Y59: 0 | Z59: 0 | AA59: =SUM(V59:Z59) -> 1 | AB59: خاصة | AD59: 0 | AE59: غير متاح | AF59: 1 | AG59: غير متاح | AH59: 1 | AI59: 0 | AJ59: 1 | AK59: غير متاح | AL59: 0 | AM59: 1 | AN59: غير متاح | AO59: تم | AP59: لا يوجد | AQ59: مصرع سائق وإصابة فتاة إثر حادث تصادم سيارة ودراجة بأبو النمرس الأحد، 24 مايو 2026 09:08 ملقى شخص مصرعه وأصيبت فتاة بسبب حادث تصادم سيارة ودراجة بخارية أعلى الطريق بمنطقة أبو النمرس ونقلو إلى المستشفى، وحرر محضر بالواقعة. غرفة العمليات تلقت بلاغا بالحادث تلقت غرفة عمليات النجدة، بلاغا بوقوع حادث مرورى أعلى الطريق في منطقة أبو النمرس، وعلى الفور انتقل رجال المباحث إلى موقع الحادث والخدمات المرورية وبصحبتهم ونش مرورى للعمل على رفع حطام الحادث، وبصحبتهم سيارات إسعاف، وتبين من خلال الفحص اختلال عجلة القيادة أحد السائقين واصطدامه بدراجة بخارية، ونتج عنه وفاة السائق وأصيبت خطيبته ونقلا إلى المستشفى وتم اتخاذ الإجراءات القانونية اللازمة تجاه الواقعة. | AR59: https://www.youm7.com/story/2026/5/24/%D9%85%D8%B5%D8%B1%D8%B9-%D8%B3%D8%A7%D8%A6%D9%82-%D9%88%D8%A5%D8%B5%D8%A7%D8%A8%D8%A9-%D9%81%D8%AA%D8%A7%D8%A9-%D8%A5%D8%AB%D8%B1-%D8%AD%D8%A7%D8%AF%D8%AB-%D8%AA%D8%B5%D8%A7%D8%AF%D9%85-%D8%B3%D9%8A%D8%A7%D8%B1%D8%A9-%D9%88%D8%AF%D8%B1%D8%A7%D8%AC%D8%A9-%D8%A8%D8%A3%D8%A8%D9%88/7427715
A60: 58 | B60: مايو 2026 | C60: 46167 | D60: القاهرة | E60: دائرة قسم شرطة مدينة نصر ثان | F60: أعلى أحد الكبارى بدائرة قسم شرطة مدينة نصر ثان | G60: كوبري | H60: قيام قائد سيارة ملاكى بالتوقف المفاجئ أعلى أحد الكبارى بدائرة قسم شرطة مدينة نصر ثان، ما تسبب فى وقوع حادث مرورى وحدوث تلفيات بعدد من السيارات. | I60: تصادم | K60: 2 | L60: 0 | M60: 0 | N60: 0 | O60: =SUM(K60:N60) -> 2 | P60: 0 | Q60: 0 | R60: 0 | S60: 0 | T60: 0 | U60: =SUM(P60:T60) -> 0 | V60: 0 | W60: 0 | X60: 0 | Y60: 0 | Z60: 0 | AA60: =SUM(V60:Z60) -> 0 | AB60: خاصة | AC60: تليفيات بالسيارة | AD60: 0 | AE60: غير متاح | AF60: 0 | AG60: غير متاح | AH60: 0 | AI60: 0 | AJ60: 0 | AK60: غير متاح | AL60: 0 | AM60: 0 | AN60: غير متاح | AO60: تم | AP60: لا يوجد | AQ60: ضبط قائد سيارة تسبب فى حادث تصادم أعلى كوبرى بمدينة نصر كشفت الأجهزة الأمنية بالقاهرة ملابسات مقطع فيديو تم تداوله عبر مواقع التواصل الاجتماعى، تضمن قيام قائد سيارة ملاكى بالتوقف المفاجئ أعلى أحد الكبارى بدائرة قسم شرطة مدينة نصر ثان، ما تسبب فى وقوع حادث مرورى وحدوث تلفيات بعدد من السيارات. وقالت الداخلية فى بيان اليوم الاثنين، إن الفحص أظهر عدم ورود أى بلاغات رسمية بشأن الواقعة، فيما تمكنت الأجهزة الأمنية من تحديد وضبط السيارة المتسببة فى الحادث، وتبين أنها سارية التراخيص، كما جرى ضبط قائدها، ويعمل طباخًا، ومقيمًا بدائرة قسم شرطة البساتين. وأضاف البيان أن قائد السيارة أفاد بأنه أثناء سيره بمحل الواقعة فوجئ بتوقف سيارة أمامه، فاضطر إلى التوقف بشكل مفاجئ، ما أدى إلى اصطدام السيارات القادمة من الخلف ببعضها وحدوث التلفيات المشار إليها. وأكدت الوزارة أنه تم التحفظ على السيارة واتخاذ الإجراءات القانونية اللازمة حيال الواقعة. | AR60: https://www.almasryalyoum.com/news/details/4278459
A61: 59 | B61: مايو 2026 | C61: 46167 | D61: القاهرة | E61: قسم شرطة المرج | F61: أحد الكبارى بدائرة القسم | G61: كوبري | H61: كشفت الداخلية ملابسات منشور مدعوم بصورة تم تداوله بمواقع التواصل الإجتماعى تضرر خلاله القائم على النشر من قيام قائد سيارة ملاكى بالإصطدام بطفل أعلى أحد الكبارى بالقاهرة مما أدى لوفاته. | I61: دهس | K61: 1 | L61: 0 | M61: 0 | N61: 0 | O61: =SUM(K61:N61) -> 1 | P61: 0 | Q61: 0 | R61: 0 | S61: 0 | T61: 0 | U61: =SUM(P61:T61) -> 0 | V61: 0 | W61: 0 | X61: 1 | Y61: 0 | Z61: 0 | AA61: =SUM(V61:Z61) -> 1 | AB61: خاصة | AD61: 0 | AE61: أخصائى تمريض- مقيم بدائرة قسم شرطة المرج | AF61: 1 | AG61: طالب - 13 سنة - ذكر - مقيم بدائرة قسم شرطة عين شمس | AH61: 1 | AI61: 0 | AJ61: 0 | AK61: غير متاح | AL61: 0 | AM61: 0 | AN61: غير متاح | AO61: تم | AP61: لا يوجد | AQ61: كشفت الداخلية ملابسات منشور مدعوم بصورة تم تداوله بمواقع التواصل الإجتماعى تضرر خلاله القائم على النشر من قيام قائد سيارة ملاكى بالإصطدام بطفل أعلى أحد الكبارى بالقاهرة مما أدى لوفاته. بالفحص تبين أنه بتاريخ 25/ مايو المنقضى تبلغ لقسم شرطة المرج بقيام قائد سيارة ملاكى بالإصطدام بأحد الأطفال (طالب سن 13 ، مقيم بدائرة قسم شرطة عين شمس) حال قيادته الدراجة الهوائية خاصته أعلى أحد الكبارى بدائرة القسم نتج عن ذلك إصابته التى أودت بحياته ، ولاذ قائد السيارة بالهرب. أمكن تحديد وضبط السيارة المشار إليها "سارية التراخيص" ، وقائدها وقت إرتكاب الواقعة (أخصائى تمريض- مقيم بدائرة قسم شرطة المرج) .. بمواجهته إعترف بإرتكاب الواقعة على النحو المُشار اليه ، وعلل هروبه خشية تعرضه للمساءلة القانونية. | AR61: https://www.youm7.com/story/2026/6/5/%D8%B6%D8%A8%D8%B7-%D8%A7%D9%84%D9%85%D8%AA%D9%87%D9%85-%D8%A8%D8%A7%D9%84%D8%A7%D8%B5%D8%B7%D8%AF%D8%A7%D9%85-%D8%A8%D8%B7%D9%81%D9%84-%D8%A8%D8%B3%D9%8A%D8%A7%D8%B1%D8%AA%D9%87-%D9%88%D8%A7%D9%84%D8%AA%D8%B3%D8%A8%D8%A8-%D9%81%D9%8A-%D9%88%D9%81%D8%A7%D8%AA%D9%87-%D8%A8%D8%A7%D9%84%D9%82%D8%A7%D9%87%D8%B1%D8%A9/7438543 | AS61: https://www.elbalad.news/6993557
A62: 60 | B62: مايو 2026 | C62: 46168 | D62: الجيزة | E62: غير متاح | F62: بالقرب من بوابة الكريمات على الطريق الصحراوي بمحافظة الجيزة، وسط حالة من الذعر بين المارة وقائدي السيارات. | G62: الطريق الصحراوي | H62: حادث تصادم مروع بين سيارة ملاكي وأخرى ميكروباص بالقرب من بوابة الكريمات على الطريق الصحراوي بمحافظة الجيزة، وسط حالة من الذعر بين المارة وقائدي السيارات. | I62: تصادم | K62: 1 | L62: 0 | M62: 1 | N62: 0 | O62: =SUM(K62:N62) -> 2 | P62: 0 | Q62: 0 | R62: 0 | S62: 0 | T62: 0 | U62: =SUM(P62:T62) -> 0 | V62: 0 | W62: 0 | X62: 0 | Y62: 0 | Z62: 0 | AA62: =SUM(V62:Z62) -> 0 | AB62: نقل ركاب | AD62: 0 | AE62: غير متاح | AF62: 0 | AG62: غير متاح | AH62: 0 | AI62: 0 | AJ62: 0 | AK62: غير متاح | AL62: 0 | AM62: 0 | AN62: غير متاح | AO62: تم | AP62: لا يوجد | AQ62: فرحة العيد تحولت إلى مأساة.. إصابة 14 شخصًا في تصادم قرب بوابة الكريمات أُصيب 14 شخصًا، مساء الاثنين، في حادث تصادم مروع بين سيارة ملاكي وأخرى ميكروباص بالقرب من بوابة الكريمات على الطريق الصحراوي بمحافظة الجيزة، وسط حالة من الذعر بين المارة وقائدي السيارات. إصابة 14 شخصًا في تصادم ملاكي وميكروباص قرب الكريماتوكشفت التحريات الأولية أن المصابين كانوا في طريقهم لقضاء إجازة العيد وزيارة ذويهم، قبل أن تتحول رحلتهم إلى لحظات صعبة إثر وقوع التصادم المفاجئ على الطريق الصحراوي. وعلى الفور، دفعت الأجهزة المعنية بعدد من سيارات الإسعاف إلى موقع الحادث، حيث جرى نقل المصابين إلى المستشفيات القريبة لتلقي الإسعافات والرعاية الطبية اللازمة. وتواصل الجهات المختصة أعمال الفحص والمعاينة لكشف ملابسات الحادث وأسبابه، مع اتخاذ الإجراءات القانونية اللازمة حيال الواقعة. | AR62: https://www.elbalad.news/6984164
A63: 61 | B63: مايو 2026 | C63: 46172 | D63: القليوبية | E63: شبين القناطر | F63: مزلقان كفر طحا دائرة مركز شرطة شبين القناطر فى محافظة القليوبية | G63: سكة حديد | H63: شهدت منطقة مزلقان كفر طحا دائرة مركز شرطة شبين القناطر فى محافظة القليوبية، حادث تصادم دراجات نارية، أسفر عن مصرع عامل بمطعم «ديلفرى» وإصابة 2 أخرين، وتم نقل الجثة والمصابين إلى مستشفى شبين القناطر المركزى، وتحررت المحاضر اللازمة | I63: تصادم | K63: 0 | L63: 0 | M63: 0 | N63: 0 | O63: =SUM(K63:N63) -> 0 | P63: 0 | Q63: 0 | R63: 0 | S63: 0 | T63: 0 | U63: =SUM(P63:T63) -> 0 | V63: 0 | W63: 0 | X63: 2 | Y63: 0 | Z63: 0 | AA63: =SUM(V63:Z63) -> 2 | AB63: خاصة | AD63: 0 | AE63: غير متاح | AF63: 1 | AG63: غير متاح | AH63: 1 | AI63: 0 | AJ63: 3 | AK63: غير متاح | AL63: 3 | AM63: 0 | AN63: مستشفى شبين القناطر المركزي | AO63: تم | AP63: لا يوجد | AQ63: مصرع عامل دليفرى وإصابة 2 آخرين بحادث تصادم فى شبين القناطر شهدت منطقة مزلقان كفر طحا دائرة مركز شرطة شبين القناطر فى محافظة القليوبية، حادث تصادم دراجات نارية، أسفر عن مصرع عامل بمطعم «ديلفرى» وإصابة 2 أخرين، وتم نقل الجثة والمصابين إلى مستشفى شبين القناطر المركزى، وتحررت المحاضر اللازمة، وتولت النيابة التحقيق. تلقت مديرية امن القليوبية، إخطارا من غرفة عمليات النجدة يفيد بوقوع حادث طريق بدراجات نارية فى أماكن متفرقة فى منطقة مزلقان كفر طحا دائرة شبين القناطر فى القليوبية. انتقلت قوة امنية من مباحث مركز شرطة شبين القناطر وتبين من خلال الفحص والتحرى أن المتوفى يدعى «أ ص ا»، عامل دليفرى بمطعم، أما المصابين هم «و ح ش»، 35 سنة، و«أ ش س»، 20 سنة، مصاب بارتجاج بالمخ، وجارى عمل الإسعافات الأولية له، وتم نقل المتوفى والمصابين لمستشفى شبين القناطر المركزى، وتحرر محضر بالواقعة، وتولت النيابة التحقيق. | AR63: https://www.almasryalyoum.com/news/details/4281413
A64: 62 | B64: مايو 2026 | C64: 46173 | D64: الجيزة | E64: الصف | F64: أعلى كوبرى بمنطقة الصف | G64: كوبري | H64: لقى شاب مصرعه وأصيب آخر إثر سقوطهما بدراجة نارية، من أعلى كوبرى بمنطقة الصف، حيث اصطدما بحاجز خرسانى | I64: اصطدام | K64: 0 | L64: 0 | M64: 0 | N64: 0 | O64: =SUM(K64:N64) -> 0 | P64: 0 | Q64: 0 | R64: 0 | S64: 0 | T64: 0 | U64: =SUM(P64:T64) -> 0 | V64: 0 | W64: 0 | X64: 1 | Y64: 0 | Z64: 0 | AA64: =SUM(V64:Z64) -> 1 | AB64: خاصة | AD64: 0 | AE64: غير متاح | AF64: 1 | AG64: غير متاح | AH64: 1 | AI64: 0 | AJ64: 1 | AK64: غير متاح | AL64: 1 | AM64: 0 | AN64: غير متاح | AO64: تم | AP64: لا يوجد | AQ64: مصرع شخص وإصابة آخر إثر انقلاب دراجة نارية من أعلى كوبرى بالصف. لقى شاب مصرعه وأصيب آخر إثر سقوطهما بدراجة نارية، من أعلى كوبرى بمنطقة الصف، حيث اصطدما بحاجز خرسانى، وتم اتخاذ الإجراءات القانونية اللازمة، وأخطرت النيابة للتحقيق. تلقت غرفة العمليات بلاغا يفيد بوقوع حادث مرورى بمنطقة الصف، وعلى الفور انتقل رجال المباحث و المرور إلى المكان، وتبين من خلال الفحص سقوط دراجة نارية من أعلى كوبرى بمنطقة الصف، يستقلها شابين عقب اصطدامهما بحاجز خرسانى، مما أسفر عن مصرع شخص، وإصبة آخر. الاستماع لأقوال شهود عيان استمع رجال المباحث لأقوال شهود عيان لكشف ملابسات الحادث، وتحرر محضر بالوقعة، لتتولى النيابة المختصة التحقيق. | AR64: https://www.youm7.com/story/2026/5/31/%D9%85%D8%B5%D8%B1%D8%B9-%D8%B4%D8%AE%D8%B5-%D9%88%D8%A5%D8%B5%D8%A7%D8%A8%D8%A9-%D8%A2%D8%AE%D8%B1-%D8%A5%D8%AB%D8%B1-%D8%A7%D9%86%D9%82%D9%84%D8%A7%D8%A8-%D8%AF%D8%B1%D8%A7%D8%AC%D8%A9-%D9%86%D8%A7%D8%B1%D9%8A%D8%A9-%D9%85%D9%86-%D8%A3%D8%B9%D9%84%D9%89/7433674
A65: 63 | B65: مايو 2026 | C65: 46173 | D65: القليوبية | E65: مركز شرطة كفر شكر | F65: جانبى طريق داخل المحافظة دائرة مركز شرطة كفر شكر | G65: طريق داخل المحافظة | H65: حادث إنقلاب دراجة نارية فى جانبى طريق داخل المحافظة دائرة مركز شرطة كفر شكر وإصابة شخص بإصابات خطيرة وتم نقله للمستشفى. | I65: انقلاب | K65: 0 | L65: 0 | M65: 0 | N65: 0 | O65: =SUM(K65:N65) -> 0 | P65: 0 | Q65: 0 | R65: 0 | S65: 0 | T65: 0 | U65: =SUM(P65:T65) -> 0 | V65: 0 | W65: 0 | X65: 1 | Y65: 0 | Z65: 0 | AA65: =SUM(V65:Z65) -> 1 | AB65: خاصة | AD65: 0 | AE65: غير متاح | AF65: 0 | AG65: غير متاح | AH65: 0 | AI65: 0 | AJ65: 1 | AK65: عبدالله. س. ع»، طالب بالصف الثالث الثانوى | AL65: 1 | AM65: 0 | AN65: مستشفى كفر شكر التخصص | AO65: تم | AP65: لا يوجد | AQ65: إصابة شاب فى انقلاب دراجة نارية فى كفر شكرأصيب شاب إثر حادث انقلاب دراجة نارية على طريق جسر طراد النيل بقرية كفر على شرف الدين دائرة مركز شرطة كفر شكر فى محافظة القليوبية وتم نقل المصاب فى حالة خطيرة إلى مستشفى كفر شكر التخصصى بمحافظة القليوبية للعلاج واتخاذ اللازم وتحرر محضر بالواقعة وتولت النيابة العامة التحقيق. البداية بتلقى الأجهزة الأمنية بمديرية أمن القليوبية، اخطارا من شرطة النجدة، يفيد ورود بلاغا من الأهالى بوجود حادث إنقلاب دراجة نارية فى جانبى طريق داخل المحافظة دائرة مركز شرطة كفر شكر وإصابة شخص بإصابات خطيرة وتم نقله للمستشفى. وانتقلت على الفور الأجهزة الأمنية بمديرية أمن القليوبية، وتبين من المعاينة الأولية والتحريات إصابة «عبدالله. س. ع»، طالب بالصف الثالث الثانوى، أثناء انقلاب دراجة قيادته بسبب كثرة الريجات والحفر بطريق طراد النيل النيل، نظرا لوجود أعمال توصيل شبكات خطوط محطة مرشحة مياه الشرب، وتم نقل المصاب فى حالة خطيرة إلى مستشفى كفر شكر التخصصى، للعلاج واتخاذ اللازم.وكلفت إدارة البحث الجنائى بمديرية أمن القليوبية بالتحرى عن الواقعة وظروفها وملابساتها وتحرر محضر بالواقعة وتولت النيابة العامة التحقيق. | AR65: https://www.almasryalyoum.com/news/details/4281891
A66: 64 | B66: مايو 2026 | C66: 46173 | D66: الجيزة | E66: الجيزة | F66: رصيف محور 26 يوليو | G66: طرق محورية | H66: أصيبت سيدة بعدما اصطدمت سيارتها برصيف محور 26 يوليو | I66: اصطدام | K66: 1 | L66: 0 | M66: 0 | N66: 0 | O66: =SUM(K66:N66) -> 1 | P66: 0 | Q66: 0 | R66: 0 | S66: 0 | T66: 0 | U66: =SUM(P66:T66) -> 0 | V66: 0 | W66: 0 | X66: 0 | Y66: 0 | Z66: 0 | AA66: =SUM(V66:Z66) -> 0 | AB66: نقل ركاب | AD66: 0 | AE66: غير متاح | AF66: 0 | AG66: غير متاح | AH66: 0 | AI66: 0 | AJ66: 1 | AK66: غير متاح | AL66: 0 | AM66: 1 | AN66: غير متاح | AO66: تم | AP66: لا يوجد | AQ66: إصابة سيدة إثر اصطدام سيارة برصيف محور 26 يوليوأصيبت سيدة بعدما اصطدمت سيارتها برصيف محور 26 يوليو وتم نقلها إلى المستشفى وتمت إزالة آثار الحادث وإعادة حركة السير لطبيعتها، وتحرر المحضر اللازم، وأخطرت النيابة المختصة للتحقيق. غرفة العمليات تلقت بلاغا بالحادث ورد بلاغ لغرف عمليات مديرية أمن الجيزة ،يفيد وقوع حادث مروري بمحور 26 يوليو وتوجهت قوة أمنية إلى مكان البلاغ، وتبين أن عجلة اختلت عجلة القيادة من يد سيدة، مما أسفر عن انحرافها عن الطريق واصطدامها بالرصيف، ونتج عنها اصابتها ونقلت إلى المستشفى، وتم إزالة آثار الحادث وإعادة حركة السير لطبيعتها، واستمع رجال المباحث لأقوال شهود العيان، وتحرر المحضر اللازم لتباشر النيابة المختصة التحقيق. | AR66: https://www.youm7.com/story/2026/5/31/%D8%A5%D8%B5%D8%A7%D8%A8%D8%A9-%D8%B3%D9%8A%D8%AF%D8%A9-%D8%A5%D8%AB%D8%B1-%D8%A7%D8%B5%D8%B7%D8%AF%D8%A7%D9%85-%D8%B3%D9%8A%D8%A7%D8%B1%D8%A9-%D8%A8%D8%B1%D8%B5%D9%8A%D9%81-%D9%85%D8%AD%D9%88%D8%B1-26-%D9%8A%D9%88%D9%84%D9%8A%D9%88/7433787 | AS66: https://www.elbalad.news/6988401
A67: 65 | B67: يونيو 2026 | C67: 46174 | D67: الجيزة | E67: دائرة مركز البدرشين | F67: ترعة المريوطية بدائرة مركز البدرشينمحافظة الجيزة | G67: طريق داخل المحافظة | H67: تباشر النيابة العامة تحقيقاتها في حادث مصرع 7 أشخاص إثر انقلاب سيارة ملاكي وسقوطها في ترعة المريوطية بدائرة مركز البدرشينمحافظة الجيزة، | I67: انقلاب | K67: 1 | L67: 0 | M67: 0 | N67: 0 | O67: =SUM(K67:N67) -> 1 | P67: 0 | Q67: 0 | R67: 0 | S67: 0 | T67: 0 | U67: =SUM(P67:T67) -> 0 | V67: 0 | W67: 0 | X67: 0 | Y67: 0 | Z67: 0 | AA67: =SUM(V67:Z67) -> 0 | AB67: نقل ركاب | AD67: 0 | AE67: غير متاح | AF67: 7 | AG67: جويرية أبو طالب علي 30 سنة ربة منزل، مقيمة بقرية العجيزية في البدرشين، وعلي ممدوح على عطية، 42 سنة مقيم بقرية العجيزية، والطفل حذيفة محمد ممدوح 6 شهور، وطلحة محمد ممدوح، 9 سنوات، ومريم محمد ممدوح، 15 سنة، ومحمد ممدوح علي عطية، 35 سنة، مقيم بالعجيزية، وعائشة محمد ممدوح، 5 سنوات | AH67: 4 | AI67: 3 | AJ67: 0 | AK67: غير متاح | AL67: 0 | AM67: 0 | AN67: مستشفى البدرشين | AO67: تم | AP67: لا يوجد | AQ67: النيابة تعاين موقع مصرع 7 أشخاص إثر سقوط سيارة فى ترعة المريوطية بالبدرشين .. فيديو تباشر النيابة العامة تحقيقاتها في حادث مصرع 7 أشخاص إثر انقلاب سيارة ملاكي وسقوطها في ترعة المريوطية بدائرة مركز البدرشينمحافظة الجيزة، للوقوف على ملابسات الواقعة وأسبابها. وأمرت النيابة بانتداب مفتش الصحة لتوقيع الكشف الظاهري على جثامين الضحايا وبيان سبب الوفاة، وطلب تحريات الأجهزة الأمنية حول ملابسات الواقعة، وفحص السيارة لبيان وجود أي أعطال فنية قد تكون وراء وقوع الحادث، والتصريح بدفن الجثامين عقب استكمال الإجراءات القانونية اللازمة، واستدعاء وسماع أقوال الشهود وذوي المتوفين للوقوف على تفاصيل الواقعة، وتواصل النيابة العامة تحقيقاتها لكشف جميع ملابسات الحادث وتحديد أسبابه النهائية. بلاغ بانقلاب سيارة في ترعة المريوطية تلقت غرفة عمليات النجدة بالجيزة بلاغًا يفيد بانقلاب سيارة ملاكي في ترعة المريوطية بمنطقة البدرشين، وعلى الفور انتقلت الأجهزة الأمنية مدعومة بقوات الإنقاذ النهري إلى موقع الحادث لإجراء الفحص واتخاذ الإجراءات اللازمة. المعاينة تكشف تفاصيل الحادث وأظهرت المعاينة الأولية، أن السيارة كان يستقلها عدد من الأشخاص، وأثناء سيرها اختلت عجلة القيادة من يد قائدها، ما أدى إلى انحرافها عن الطريق وسقوطها داخل مياه الترعة. مصرع 7 أشخاص وانتشال الجثامين وأسفر الحادث عن مصرع 7 أشخاص من مستقلي السيارة، حيث تمكنت قوات الإنقاذ النهري من انتشال الجثامين واستخراج السيارة من المياه، وتم نقل المتوفين إلى مشرحة مستشفى البدرشين تحت تصرف الجهات المختصة. | AR67: https://www.youm7.com/story/2026/6/1/%D8%A7%D9%84%D9%86%D9%8A%D8%A7%D8%A8%D8%A9-%D8%AA%D8%B9%D8%A7%D9%8A%D9%86-%D9%85%D9%88%D9%82%D8%B9-%D9%85%D8%B5%D8%B1%D8%B9-7-%D8%A3%D8%B4%D8%AE%D8%A7%D8%B5-%D8%A5%D8%AB%D8%B1-%D8%B3%D9%82%D9%88%D8%B7-%D8%B3%D9%8A%D8%A7%D8%B1%D8%A9-%D9%81%D9%89/7434366 | AS67: https://www.youm7.com/story/2026/6/1/%D8%A7%D9%86%D9%82%D9%84%D8%A7%D8%A8-%D8%B3%D9%8A%D8%A7%D8%B1%D8%A9-%D9%85%D9%84%D8%A7%D9%83%D9%8A-%D9%8A%D8%B3%D8%AA%D9%82%D9%84%D9%87%D8%A7-%D8%B9%D8%AF%D8%AF-%D9%85%D9%86-%D8%A7%D9%84%D8%A3%D8%B4%D8%AE%D8%A7%D8%B5-%D9%81%D9%89-%D8%AA%D8%B1%D8%B9%D8%A9-%D8%A7%D9%84%D9%85%D8%B1%D9%8A%D9%88%D8%B7%D9%8A%D8%A9/7434289 | AT67: https://www.youm7.com/story/2026/6/1/%D8%A8%D8%B9%D8%AF-%D9%88%D9%81%D8%A7%D8%A9-7-%D9%85%D9%86-%D8%A3%D8%B3%D8%B1%D8%A9-%D9%88%D8%A7%D8%AD%D8%AF%D8%A9-%D8%A3%D9%87%D8%A7%D9%84%D9%89-%D8%A7%D9%84%D8%AC%D9%8A%D8%B2%D8%A9-%D9%8A%D8%B7%D8%A7%D9%84%D8%A8%D9%88%D9%86-%D8%A8%D8%AA%D8%A3%D9%85%D9%8A%D9%86/7434730 | AU67: https://www.youm7.com/story/2026/6/1/%D8%AA%D8%AD%D8%AF%D9%8A%D8%AF-%D9%87%D9%88%D9%8A%D8%A9-7-%D8%A3%D8%B4%D8%AE%D8%A7%D8%B5-%D8%B6%D8%AD%D8%A7%D9%8A%D8%A7-%D8%A7%D9%86%D9%82%D9%84%D8%A7%D8%A8-%D8%B3%D9%8A%D8%A7%D8%B1%D8%A9-%D9%81%D9%89-%D8%AA%D8%B1%D8%B9%D8%A9-%D8%A7%D9%84%D9%85%D8%B1%D9%8A%D9%88%D8%B7%D9%8A%D8%A9/7434336 | AV67: https://www.youm7.com/story/2026/6/1/%D9%81%D8%A7%D8%AC%D8%B9%D8%A9-%D9%81%D9%89-%D8%A7%D9%84%D8%A8%D8%AF%D8%B1%D8%B4%D9%8A%D9%86-%D9%85%D8%B5%D8%B1%D8%B9-7-%D8%A3%D8%B4%D8%AE%D8%A7%D8%B5-%D9%85%D9%86-%D8%A3%D8%B3%D8%B1%D8%A9-%D9%88%D8%A7%D8%AD%D8%AF%D8%A9-%D8%A5%D8%AB%D8%B1/7434647 | AW67: https://www.youm7.com/story/2026/6/1/%D9%84%D8%AD%D8%B8%D8%A9-%D8%A7%D9%86%D9%82%D9%84%D8%A7%D8%A8-%D8%B3%D9%8A%D8%A7%D8%B1%D8%A9-%D9%81%D9%89-%D8%AA%D8%B1%D8%B9%D8%A9-%D8%A7%D9%84%D9%85%D8%B1%D9%8A%D9%88%D8%B7%D9%8A%D8%A9-%D8%A8%D8%A7%D9%84%D8%A8%D8%AF%D8%B1%D8%B4%D9%8A%D9%86-%D9%88%D9%85%D8%B5%D8%B1%D8%B9-7-%D9%85%D9%86/7434460 | AX67: https://www.youm7.com/story/2026/6/1/%D9%85%D8%B5%D8%B1%D8%B9-7-%D8%A3%D8%B4%D8%AE%D8%A7%D8%B5-%D8%A5%D8%AB%D8%B1-%D8%A7%D9%86%D9%82%D9%84%D8%A7%D8%A8-%D8%B3%D9%8A%D8%A7%D8%B1%D8%A9-%D9%85%D9%84%D8%A7%D9%83%D9%89-%D9%81%D9%89-%D8%AA%D8%B1%D8%B9%D8%A9-%D8%A7%D9%84%D9%85%D8%B1%D9%8A%D9%88%D8%B7%D9%8A%D8%A9/7434324 | AY67: https://www.youm7.com/story/2026/6/1/%D9%86%D9%86%D8%B4%D8%B1-%D8%A3%D8%B3%D9%85%D8%A7%D8%A1-%D8%B6%D8%AD%D8%A7%D9%8A%D8%A7-%D8%A7%D9%86%D9%82%D9%84%D8%A7%D8%A8-%D8%B3%D9%8A%D8%A7%D8%B1%D8%A9-%D9%81%D9%89-%D8%AA%D8%B1%D8%B9%D8%A9-%D8%A7%D9%84%D9%85%D8%B1%D9%8A%D9%88%D8%B7%D9%8A%D8%A9-%D8%A8%D8%A7%D9%84%D8%A8%D8%AF%D8%B1%D8%B4%D9%8A%D9%86-%D8%B5%D9%88%D8%B1/7434369 | AZ67: https://www.youm7.com/story/2026/6/1/%D9%86%D9%86%D8%B4%D8%B1-%D8%B5%D9%88%D8%B1-%D8%B4%D9%82%D9%8A%D9%82%D9%8A%D9%86-%D9%85%D9%86-%D8%B6%D8%AD%D8%A7%D9%8A%D8%A7-%D8%AD%D8%A7%D8%AF%D8%AB-%D8%A7%D9%86%D9%82%D9%84%D8%A7%D8%A8-%D8%B3%D9%8A%D8%A7%D8%B1%D8%A9-%D9%81%D9%8A-%D8%AA%D8%B1%D8%B9%D8%A9/7434610 | BA67: https://www.elbalad.news/6991600
A68: 66 | B68: يونيو 2026 | C68: 46174 | D68: القاهرة | E68: غير متاح | F68: طريق السويس الصحراوي | G68: الطريق الصحراوي | H68: أصيب 6 أشخاص بسبب حادث انقلاب ميكروباص، بطريق السويس الصحراوي، وتم نقلهم إلى المستشفى، وإزالة آثار الحادث، وأخطرت النيابة للتحقيق. | I68: انقلاب | K68: 0 | L68: 0 | M68: 1 | N68: 0 | O68: =SUM(K68:N68) -> 1 | P68: 0 | Q68: 0 | R68: 0 | S68: 0 | T68: 0 | U68: =SUM(P68:T68) -> 0 | V68: 0 | W68: 0 | X68: 0 | Y68: 0 | Z68: 0 | AA68: =SUM(V68:Z68) -> 0 | AB68: نقل ركاب | AD68: 0 | AE68: غير متاح | AF68: 0 | AG68: غير متاح | AH68: 0 | AI68: 0 | AJ68: 0 | AK68: غير متاح | AL68: 0 | AM68: 0 | AN68: غير متاح | AO68: تم | AP68: لا يوجد | AQ68: إصابة 6 أشخاص إثر انقلاب ميكروباص بطريق السويس الصحراوى أصيب 6 أشخاص بسبب حادث انقلاب ميكروباص، بطريق السويس الصحراوي، وتم نقلهم إلى المستشفى، وإزالة آثار الحادث، وأخطرت النيابة للتحقيق.تلقت غرفة عمليات النجدة، بلاغا بوقوع حادث سير، بطريق السويس الصحراوي، انتقلت قوة أمنية لمكان البلاغ، وبإجراء التحريات تبين أن سيارة ميكروباص تعرضت لحادث مما أدى لانقلابها. أسفر الحادث عن إصابة 6 أشخاص، وتم الاستعانة بسيارات إسعاف لنقل المصابين إلى المستشفى، وإزالة آثار الحادث، وتحرر محضر بالواقعة، لتباشر النيابة التحقيق. | AR68: https://www.youm7.com/story/2026/6/1/%D8%A5%D8%B5%D8%A7%D8%A8%D8%A9-6-%D8%A3%D8%B4%D8%AE%D8%A7%D8%B5-%D8%A5%D8%AB%D8%B1-%D8%A7%D9%86%D9%82%D9%84%D8%A7%D8%A8-%D9%85%D9%8A%D9%83%D8%B1%D9%88%D8%A8%D8%A7%D8%B5-%D8%A8%D8%B7%D8%B1%D9%8A%D9%82-%D8%A7%D9%84%D8%B3%D9%88%D9%8A%D8%B3-%D8%A7%D9%84%D8%B5%D8%AD%D8%B1%D8%A7%D9%88%D9%89/7434213
A69: 67 | B69: يونيو 2026 | C69: 46175 | D69: الجيزة | E69: اوسيم | F69: أعلى محور الضبعة، بأرض زراعية مجاورة، | G69: طرق محورية | H69: وقوع حادث مروري، بمحور الضبعة في أوسيم، انتقلت قوة أمنية لمكان الحادث، وتبين من خلال الفحص والتحريات، أن سيارة ملاكي انقلبت من أعلى محور الضبعة، بأرض زراعية مجاورة، مما أسفر عن إصابة 4 أشخاص. | I69: انقلاب | K69: 1 | L69: 0 | M69: 0 | N69: 0 | O69: =SUM(K69:N69) -> 1 | P69: 0 | Q69: 0 | R69: 0 | S69: 0 | T69: 0 | U69: =SUM(P69:T69) -> 0 | V69: 0 | W69: 0 | X69: 0 | Y69: 0 | Z69: 0 | AA69: =SUM(V69:Z69) -> 0 | AB69: نقل ركاب | AD69: 0 | AE69: غير متاح | AF69: 0 | AG69: غير متاح | AH69: 0 | AI69: 0 | AJ69: 4 | AK69: غير متاح | AL69: 2 | AM69: 2 | AN69: غير متاح | AO69: تم | AP69: لا يوجد | AQ69: انقلاب سيارة ملاكى من أعلى محور الضبعة وإصابة 4 أشخاص فى أوسيم أصيب 4 أشخاص، إثر انقلاب سيارة ملاكي من أعلى محور الضبعة، بأرض زراعية في أوسيم، وتم نقلهم إلى المستشفى لإسعافهم، وتحرر محضر بالواقعة، لتتولى النيابة المختصة التحقيق. بلاغ بانقلاب سيارة من أعلى محور الضبعة تلقت مديرية أمن الجيزة بلاغا يفيد وقوع حادث مروري، بمحور الضبعة في أوسيم، انتقلت قوة أمنية لمكان الحادث، وتبين من خلال الفحص والتحريات، أن سيارة ملاكي انقلبت من أعلى محور الضبعة، بأرض زراعية مجاورة، مما أسفر عن إصابة 4 أشخاص. إسعاف المصابين فى الحادث تم الاستعانة بسيارات إسعاف، لنقل المصابين إلى المستشفى لتلقي العلاج اللازم، وتحرر محضر بالواقعة، لتباشر النيابة المختصة التحقيق. | AR69: https://www.youm7.com/story/2026/6/2/%D8%A7%D9%86%D9%82%D9%84%D8%A7%D8%A8-%D8%B3%D9%8A%D8%A7%D8%B1%D8%A9-%D9%85%D9%84%D8%A7%D9%83%D9%89-%D9%85%D9%86-%D8%A3%D8%B9%D9%84%D9%89-%D9%85%D8%AD%D9%88%D8%B1-%D8%A7%D9%84%D8%B6%D8%A8%D8%B9%D8%A9-%D9%88%D8%A5%D8%B5%D8%A7%D8%A8%D8%A9-4-%D8%A3%D8%B4%D8%AE%D8%A7%D8%B5/7436139
A70: 68 | B70: يونيو 2026 | C70: 46175 | D70: الجيزة | E70: غير متاح | F70: أعلى الطريق الأوسطى | G70: طرق محورية | H70: أصيب 6 أشخاص بسبب حادث انقلاب ميكروباص أعلى الطريق الأوسطى ونقلوا إلى المستشفى، وحرر محضر بالواقعة. | I70: انقلاب | K70: 0 | L70: 0 | M70: 1 | N70: 0 | O70: =SUM(K70:N70) -> 1 | P70: 0 | Q70: 0 | R70: 0 | S70: 0 | T70: 0 | U70: =SUM(P70:T70) -> 0 | V70: 0 | W70: 0 | X70: 0 | Y70: 0 | Z70: 0 | AA70: =SUM(V70:Z70) -> 0 | AB70: نقل ركاب | AD70: 0 | AE70: غير متاح | AF70: 0 | AG70: غير متاح | AH70: 0 | AI70: 0 | AJ70: 6 | AK70: غير متاح | AL70: 3 | AM70: 3 | AN70: غير متاح | AO70: تم | AP70: لا يوجد | AQ70: رعايتهم مسئوليتي .. محافظ الجيزة يتكفل بالطفلين ضحية وفاة والديهما كد النائب وليد المليجي، عضو مجلس النواب، أن الدكتور أحمد الأنصاري، محافظ الجيزة، تبنى قصة أطفال السيدة رضا عبد العال، التي فقدت حياتها أثناء إنقاذ نجلها من دهس سيارة بالجيزة. وأضاف عضو مج | AR70: https://www.youm7.com/story/2026/6/2/%D8%A5%D8%B5%D8%A7%D8%A8%D8%A9-6-%D8%A3%D8%B4%D8%AE%D8%A7%D8%B5-%D8%A5%D8%AB%D8%B1-%D8%A7%D9%86%D9%82%D9%84%D8%A7%D8%A8-%D9%85%D9%8A%D9%83%D8%B1%D9%88%D8%A8%D8%A7%D8%B5-%D8%A8%D8%A7%D9%84%D8%B7%D8%B1%D9%8A%D9%82-%D8%A7%D9%84%D8%A3%D9%88%D8%B3%D8%B7%D9%89/7435160
A71: 69 | B71: يونيو 2026 | C71: 46176 | D71: الجيزة | E71: اطفيح | F71: أعلى الطريق الصحراوى فى أطفيح | G71: الطريق الصحراوي | H71: أصيب 7 اشخاص بسبب حادث انقلاب ميكروباص أعلى الطريق الصحراوى فى أطفيح ونقلوا الى المستشفى، وحرر محضر بالواقعة. | I71: انقلاب | K71: 1 | L71: 0 | M71: 0 | N71: 0 | O71: =SUM(K71:N71) -> 1 | P71: 0 | Q71: 0 | R71: 0 | S71: 0 | T71: 0 | U71: =SUM(P71:T71) -> 0 | V71: 0 | W71: 0 | X71: 0 | Y71: 0 | Z71: 0 | AA71: =SUM(V71:Z71) -> 0 | AB71: خاصة | AD71: 0 | AE71: غير متاح | AF71: 0 | AG71: غير متاح | AH71: 0 | AI71: 0 | AJ71: 7 | AK71: غير متاح | AL71: 4 | AM71: 3 | AN71: غير متاح | AO71: تم | AP71: لا يوجد | AQ71: إصابة 7 أشخاص إثر انقلاب ميكروباص فى أطفيح أصيب 7 اشخاص بسبب حادث انقلاب ميكروباص أعلى الطريق الصحراوى فى أطفيح ونقلوا الى المستشفى، وحرر محضر بالواقعة. تلقت غرفة عمليات النجدة، بلاغا أعلى الطريق فى أطفيح بوقوع حادث مرورى ، وانتقلت سيارات الاسعاف لموقع الحادث بصحبتهم ونش مرورى للعمل على رفع حطام الحادث وتبين من خلال الفحص اختلال عجلة القيادة من السائق مما أدى الى انقلاب السيارة أعلى الطريق ونتج إصابة 7 اشخاص ونقلوا جميعهم الى المستشفى لتلقي العلاج. | AR71: https://www.youm7.com/story/2026/6/3/%D8%A5%D8%B5%D8%A7%D8%A8%D8%A9-7-%D8%A3%D8%B4%D8%AE%D8%A7%D8%B5-%D8%A5%D8%AB%D8%B1-%D8%A7%D9%86%D9%82%D9%84%D8%A7%D8%A8-%D9%85%D9%8A%D9%83%D8%B1%D9%88%D8%A8%D8%A7%D8%B5-%D9%81%D9%89-%D8%A3%D8%B7%D9%81%D9%8A%D8%AD/7436342
A72: 70 | B72: يونيو 2026 | C72: 46179 | D72: القليوبية | E72: مدينة بنها | F72: منطقة عزبة الزراعة بمدينة مدينة بنها | G72: طريق داخل المحافظة | H72: لقى طفل مصرعه وأصيب آخر بينما نجا ثالث، في حادث تصادم دراجة نارية بهم بمنطقة عزبة الزراعة بمدينة مدينة بنها فى محافظة القليوبية. | I72: دهس | K72: 0 | L72: 0 | M72: 0 | N72: 0 | O72: =SUM(K72:N72) -> 0 | P72: 0 | Q72: 0 | R72: 0 | S72: 0 | T72: 0 | U72: =SUM(P72:T72) -> 0 | V72: 0 | W72: 0 | X72: 1 | Y72: 0 | Z72: 0 | AA72: =SUM(V72:Z72) -> 1 | AB72: خاصة | AD72: 0 | AE72: غير متاح | AF72: 1 | AG72: غير متاح | AH72: 1 | AI72: 0 | AJ72: 1 | AK72: غير متاح | AL72: 1 | AM72: 0 | AN72: مستشفى مدينة بنها التعليمي / مستشفى مدينة بنها الجامعي | AO72: تم | AP72: لا يوجد | AQ72: لقى طفل مصرعه وأصيب آخر بينما نجا ثالث، في حادث تصادم دراجة نارية بهم بمنطقة عزبة الزراعة بمدينة مدينة بنها فى محافظة القليوبية وتم نقل الجثة والمصاب إلى المستشفى وتحرير محضر بالحادث وتولت النيابة التحقيق. تلقت مديرية أمن القليوبية، إخطارا من عمليات النجدة بالقليوبية، يفيد ورود بلاغ باصطدام دراجة نارية بـ3 أطفال، بمنطقة عزبة الزراعة بمدينة مدينة بنها. انتقلت على الفور قوات الأمن بالقليوبية، وبالمعاينة والفحص تبين اصطدام دراجة نارية بـ3 أطفال بمنطقة عزبة الزراعة بمدينة مدينة بنها، والذى أسفر عن مصرع أحدهم وإصابة آخر، وتم نقل المتوفى لمشرحة مستشفى مدينة بنها التعليمى، والتحفظ عليها تحت تصرف النيابة، ونقل المصاب لمستشفى مدينة بنها الجامعى لتلقى العلاج، وتحرر محضر بالواقعة وتولت النيابة التحقيق. | AR72: https://www.almasryalyoum.com/news/details/4286307 | AS72: https://www.elbalad.news/6994339 | AT72: https://www.youm7.com/story/2026/6/6/%D9%85%D8%B5%D8%B1%D8%B9-%D8%B7%D9%81%D9%84-%D9%88%D8%A5%D8%B5%D8%A7%D8%A8%D8%A9-%D8%A2%D8%AE%D8%B1-%D8%A8%D8%AD%D8%A7%D8%AF%D8%AB-%D8%A7%D8%B5%D8%B7%D8%AF%D8%A7%D9%85-%D8%AF%D8%B1%D8%A7%D8%AC%D8%A9-%D9%86%D8%A7%D8%B1%D9%8A%D8%A9-%D8%A8%D9%87%D9%85%D8%A7-%D8%A8%D8%B9%D8%B2%D8%A8%D8%A9/7439312
A73: 71 | B73: يونيو 2026 | C73: 46179 | D73: الجيزة | E73: غير متاح | F73: طريق الواحات الصحراوى | G73: الطريق الصحراوي | H73: لقى شخص مصرعه وأصيب 4 آخرين بسبب حادث انقلاب سيارة فى طريق الواحات الصحراوى. | I73: انقلاب | K73: 1 | L73: 0 | M73: 0 | N73: 0 | O73: =SUM(K73:N73) -> 1 | P73: 0 | Q73: 0 | R73: 0 | S73: 0 | T73: 0 | U73: =SUM(P73:T73) -> 0 | V73: 0 | W73: 0 | X73: 0 | Y73: 0 | Z73: 0 | AA73: =SUM(V73:Z73) -> 0 | AB73: نقل ركاب | AD73: 0 | AE73: غير متاح | AF73: 1 | AG73: غير متاح | AH73: 1 | AI73: 0 | AJ73: 4 | AK73: غير متاح | AL73: 2 | AM73: 2 | AN73: غير متاح | AO73: تم | AP73: لا يوجد | AQ73: مصرع شخص وإصابة 4 آخرين إثر انقلاب سيارة فى طريق الواحات لقى شخص مصرعه وأصيب 4 آخرين بسبب حادث انقلاب سيارة فى طريق الواحات الصحراوى ونقلوا الى المستشفى، وحرر محضر بالواقعة. غرفة العمليات تلقت بلاغا بالحادث تلقت غرفة عمليات النجدة، بلاغا أعلى طريق الواحات الصحراوى بوقوع حادث مرورى ، وانتقلت سيارات الاسعاف لموقع الحادث بصحبتهم ونش مرورى للعمل على رفع حطام الحادث وتبين من خلال الفحص اختلال عجلة القيادة من السائق مما أدى الى انقلاب السيارة أعلى الطريق ونتج وفاة شخص و إصابة 4 آخرين ونقلوا جميعهم الى المستشفى . | AR73: https://www.youm7.com/story/2026/6/6/%D9%85%D8%B5%D8%B1%D8%B9-%D8%B4%D8%AE%D8%B5-%D9%88%D8%A5%D8%B5%D8%A7%D8%A8%D8%A9-4-%D8%A2%D8%AE%D8%B1%D9%8A%D9%86-%D8%A5%D8%AB%D8%B1-%D8%A7%D9%86%D9%82%D9%84%D8%A7%D8%A8-%D8%B3%D9%8A%D8%A7%D8%B1%D8%A9-%D9%81%D9%89-%D8%B7%D8%B1%D9%8A%D9%82/7439409
A74: 72 | B74: يونيو 2026 | C74: 46180 | D74: القليوبية | E74: شبين القناطر | F74: الطريق بين منطقتي الدير والمنزلة في اتجاه مدينة شبين القناطر | G74: طريق داخل المحافظة | H74: أصيب 7 أشخاص في حادث انقلاب سيارة ميكروباص على طريق شبين القناطر بين منطقتي الدير والمنزلة في اتجاه مدينة شبين القناطر في محافظة القليوبية. | I74: انقلاب | K74: 0 | L74: 0 | M74: 1 | N74: 0 | O74: =SUM(K74:N74) -> 1 | P74: 0 | Q74: 0 | R74: 0 | S74: 0 | T74: 0 | U74: =SUM(P74:T74) -> 0 | V74: 0 | W74: 0 | X74: 0 | Y74: 0 | Z74: 0 | AA74: =SUM(V74:Z74) -> 0 | AB74: نقل ركاب | AD74: 0 | AE74: غير متاح | AF74: 0 | AG74: غير متاح | AH74: 0 | AI74: 0 | AJ74: 7 | AK74: غير متاح | AL74: 4 | AM74: 3 | AN74: مستشفى شبين القناطر المركزي / مستشفى قها التخصصي | AO74: تم | AP74: لا يوجد | AQ74: أصيب 7 أشخاص في حادث انقلاب سيارة ميكروباص على طريق شبين القناطر بين منطقتي الدير والمنزلة في اتجاه مدينة شبين القناطر في محافظة القليوبية، وتم الدفع بسيارات الإسعاف لنقل المصابين إلى المستشفيات لتلقي الرعاية الطبية اللازمة وحرر محضر بالواقعة وتولت النيابة التحقيق. وتلقت الأجهزة الأمنية بمديرية أمن القليوبية إخطارا بالواقعة وتم الدفع بسيارات إسعاف تابعةلهيئة الإسعاف المصرية فرع القليوبية. وتبين أن الحادث أسفر عن إصابة 7 أشخاص، حيث تم نقل 5 مصابين إلى مستشفى شبين القناطر المركزي. فيما تم نقل مصابين اثنين إلى مستشفى قها التخصصي.وتم التعامل مع المصابين ونقلهم إلى المستشفيات. تم اتخاذ الإجراءات اللازمة ورفع آثار الحادث لتسيير الحركة المرورية أمام المواطنين بسهولة ويسر. | AR74: https://www.almasryalyoum.com/news/details/4287335 | AS74: https://www.elbalad.news/6996094
A75: 73 | B75: يونيو 2026 | C75: 46180 | D75: الجيزة | E75: السادس من اكتوبر | F75: مدينة السادس من اكتوبر | G75: طريق داخل المحافظة | H75: أصيب 8 أشخاص بسبب حادث انقلاب ميكروباص في مدينة السادس من اكتوبر، وتم نقل المصابين إلى المستشفى وإزالة آثار الحادث وتحرير محضر بالواقعة. | I75: انقلاب | K75: 0 | L75: 0 | M75: 1 | N75: 0 | O75: =SUM(K75:N75) -> 1 | P75: 0 | Q75: 0 | R75: 0 | S75: 0 | T75: 0 | U75: =SUM(P75:T75) -> 0 | V75: 0 | W75: 0 | X75: 0 | Y75: 0 | Z75: 0 | AA75: =SUM(V75:Z75) -> 0 | AB75: نقل ركاب | AD75: 0 | AE75: غير متاح | AF75: 0 | AG75: غير متاح | AH75: 0 | AI75: 0 | AJ75: 8 | AK75: غير متاح | AL75: 4 | AM75: 4 | AN75: غير متاح | AO75: تم | AP75: لا يوجد | AQ75: أصيب 8 أشخاص بسبب حادث انقلاب ميكروباص ، في مدينة السادس من اكتوبر، وتم نقل المصابين إلى المستشفى، وإزالة آثار الحادث، وتحرر محضر بالواقعة، وتولت النيابة المختصة التحقيق. غرفة العمليات تلقت بلاغا بالحادث تلقت غرفة عمليات النجدة، بلاغا بوقوع حادث سير، في مدينة السادس من اكتوبر، فتوجهت قوة أمنية لمكان الحادث، وتبين من خلال الفحص، انقلاب سيارة ميكروباص، مما أدى لإصابة 8 أشخاص. إسعاف المصابين تم نقل المصابين إلى المستشفى، وإزالة آثار الحادث، واتخاذ الإجراءات القانونية اللازمة، لتباشر النيابة المختصة التحقيق. | AR75: https://www.youm7.com/story/2026/6/7/%D8%A5%D8%B5%D8%A7%D8%A8%D8%A9-8-%D8%A3%D8%B4%D8%AE%D8%A7%D8%B5-%D8%A5%D8%AB%D8%B1-%D8%A7%D9%86%D9%82%D9%84%D8%A7%D8%A8-%D9%85%D9%8A%D9%83%D8%B1%D9%88%D8%A8%D8%A7%D8%B5-%D9%81%D9%89-%D8%A3%D9%83%D8%AA%D9%88%D8%A8%D8%B1/7440421
A76: 74 | B76: يونيو 2026 | C76: 46181 | D76: القليوبية | E76: منشاة القناطر | F76: منشاة القناطر | G76: طريق داخل المحافظة | H76: القبض على متهم بمحاولة قتل زوجته عمدًا عبر دهسها بالسيارة ومحاولة تهشيم رأسها بحجر، إثر خلافات مالية وإدمانه للمواد المخدرة في منطقة منشأة القناطر. | I76: دهس | K76: 1 | L76: 0 | M76: 0 | N76: 0 | O76: =SUM(K76:N76) -> 1 | P76: 0 | Q76: 0 | R76: 0 | S76: 0 | T76: 0 | U76: =SUM(P76:T76) -> 0 | V76: 0 | W76: 0 | X76: 0 | Y76: 0 | Z76: 0 | AA76: =SUM(V76:Z76) -> 0 | AB76: خاصة | AD76: 0 | AE76: غير متاح | AF76: 0 | AG76: غير متاح | AH76: 0 | AI76: 0 | AJ76: 1 | AK76: غير متاح | AL76: 0 | AM76: 1 | AN76: غير متاح | AO76: تم | AP76: لا يوجد | AQ76: «ادعى تعرضها لحادث سير».. القبض على زوج دهس زوجته في منشأة القنألقت أجهزة الأمن في الجيزة، اليوم الاثنين، القبض على متهم بمحاولة قتل زوجته عمدًا عبر دهسها بالسيارة ومحاولة تهشيم رأسها بحجر، إثر خلافات مالية وإدمانه للمواد المخدرة في منطقة منشأة القناطر. تفاصيل القبض على زوج حاول قتل زوجته في منشأة القناطر وأفادت التحقيقات بالقضية المقيدة برقم 5153 لسنة 2026 جنايات منشأة القناطر، بأن الواقعة بدأت ببلاغ تقدم به الزوج نفسه، يدعي فيه تعرض زوجته لحادث سير في منطقة نائية، أسفر عن إصابتها بنزيف في المخ وكسور مضاعفة وجروح قطعية، مشيرًا إلى أن زوجته كانت برفقة ابنتهما البالغة من العمر 9 سنوات، والتي لم تصب بأية أذى. قصة الزوج الذي دهس زوجته بالسيارة وهشم رأسها بحجر ووفق التحقيقات الأولية، نُقلت الزوجة إلى المستشفى حيث دخلت في غيبوبة كاملة، وسط مرافقة مستمرة من الزوج وعائلتها. غير أن التحريات السرية التي أجراها رجال المباحث الجنائية بمديرية أمن الجيزة اشتبهوا في رواية الزوج وبتضييق الخناق عليه وتكثيف البحث الجنائي، تبين أن الزوج هو مرتكب الواقعة. وأظهرت تحريات الشرطة أن المتهم قاد السيارة بهدف دهس زوجته، ومر بمركبته فوق جسدها، ثم ترجل من السيارة ملتقطًا حجرًا كبيرًا وهشم به رأسها بهدف التأكد من قتلها. وبسماع أقوال الطفلة الصغيرة أمام النيابة العامة، سردت تفاصيل الواقعة بدقة ووصف السيارة، دون أن تدرك في البداية أن الجاني هو والدها. وعقب صدور قرار النيابة العامة بضبطه وإحضاره، تمكنت قوات الأمن من تحديد مكان المتهم الهارب والقبض عليه، حيث تولت النيابة العامة استكمال التحقيقات. | AR76: https://www.almasryalyoum.com/news/details/4288147
A77: 75 | B77: يونيو 2026 | C77: 46181 | D77: الجيزة | E77: البدرشين | F77: ترعة المريوطية بين قريتي العزيزية وأبو صير في البدرشين | G77: طريق داخل المحافظة | H77: سقط تروسيكل في ترعة المريوطية بالبدرشين، مساء اليوم الإثنين، ونجا قائده من الموت، وتم نقله إلى المستشفى لإسعافه، وتحرر المحضر اللازم، لتباشر النيابة المختصة التحقيق. | I77: انقلاب | K77: 0 | L77: 0 | M77: 0 | N77: 0 | O77: =SUM(K77:N77) -> 0 | P77: 0 | Q77: 0 | R77: 0 | S77: 0 | T77: 0 | U77: =SUM(P77:T77) -> 0 | V77: 0 | W77: 1 | X77: 0 | Y77: 0 | Z77: 0 | AA77: =SUM(V77:Z77) -> 1 | AB77: خاصة | AD77: 0 | AE77: غير متاح | AF77: 0 | AG77: غير متاح | AH77: 0 | AI77: 0 | AJ77: 1 | AK77: غير متاح | AL77: 1 | AM77: 0 | AN77: غير متاح | AO77: تم | AP77: لا يوجد | AQ77: انقلاب تروسيكل بترعة المريوطية في البدرشين ونجاة قائده من الموت سقط تروسيكل في ترعة المريوطية بالبدرشين، مساء اليوم الإثنين، ونجا قائده من الموت، وتم نقله إلى المستشفى لإسعافه، وتحرر المحضر اللازم، لتباشر النيابة المختصة التحقيق. تفاصيل الواقعة تلقت غرفة النجدة بمديرية أمن الجيزة بلاغا يفيد وقوع حادث سير، بين قريتي العزيزية وأبو صير في البدرشين، وتبين من خلال الفحص أن تروسيكل تعرض للانقلاب بترعة المريوطية، وتم إنقاذ قائده، ونقله إلى المستشفى. الاستماع لأقوال شهود عيان استمع رجال المباحث لأقوال شهود عيان لكشف ملابسات الحادث، وتم اتخاذ الإجراءات القانونية اللازمة، وأخطرت النيابة المختصة للتحقيق. | AR77: https://www.youm7.com/story/2026/6/8/%D8%A7%D9%86%D9%82%D9%84%D8%A7%D8%A8-%D8%AA%D8%B1%D9%88%D8%B3%D9%8A%D9%83%D9%84-%D8%A8%D8%AA%D8%B1%D8%B9%D8%A9-%D8%A7%D9%84%D9%85%D8%B1%D9%8A%D9%88%D8%B7%D9%8A%D8%A9-%D9%81%D9%8A-%D8%A7%D9%84%D8%A8%D8%AF%D8%B1%D8%B4%D9%8A%D9%86-%D9%88%D9%86%D8%AC%D8%A7%D8%A9-%D9%82%D8%A7%D8%A6%D8%AF%D9%87-%D9%85%D9%86-%D8%A7%D9%84%D9%85%D9%88%D8%AA/7442230
A78: 76 | B78: يونيو 2026 | C78: 46181 | D78: الجيزة | E78: الحوامدية | F78: السكة الحديد بالحوامدية | G78: سكة حديد | H78: فقد شاب حياته إثر اصطدام قطار به أثناء عبوره السكة الحديد في الحوامدية. | I78: دهس | K78: 0 | L78: 0 | M78: 0 | N78: 0 | O78: =SUM(K78:N78) -> 0 | P78: 0 | Q78: 0 | R78: 0 | S78: 0 | T78: 0 | U78: =SUM(P78:T78) -> 0 | V78: 0 | W78: 0 | X78: 0 | Y78: 1 | Z78: 0 | AA78: =SUM(V78:Z78) -> 1 | AB78: حكومية | AD78: 0 | AE78: غير متاح | AF78: 1 | AG78: غير متاح | AH78: 1 | AI78: 0 | AJ78: 0 | AK78: غير متاح | AL78: 0 | AM78: 0 | AN78: غير متاح | AO78: تم | AP78: لا يوجد | AQ78: رحل وبجواره مصحفه.. قطار ينهي حياة شاب فى الحوامدية فقد شاب حياته، إثر اصطدام قطار به، أثناء عبوره السكة الحديد في الحوامدية، وتحرر محضر بالواقعة، لتتولى النيابة المختصة التحقيق. بلاغ بمصرع شاب في الحوامدية تلقت غرفة النجدة بالجيزة، بلاغا بمصرع شاب في الحوامدية، وبإجراء التحريات تبين لرجال المباحث أن شابا تم تحديد هويته، صدمه قطار أثناء عبوره السكة الحديد، ليلقى مصرعه في الحال. العثور على مصحف بجوار الجثة وذكر شهود عيان، أنه تم العثور على مصحف بجوار الجثة، كان الضحية يحمله، كما عثر على هاتفه المحمول محطما، واستمع رجال المباحث لأقوال أفراد من أسرة الشاب، لكشف ملابسات الحادث، وتحرر محضر بالواقعة، لتباشر النيابة المختصة التحقيق. | AR78: https://www.youm7.com/story/2026/6/8/%D8%B1%D8%AD%D9%84-%D9%88%D8%A8%D8%AC%D9%88%D8%A7%D8%B1%D9%87-%D9%85%D8%B5%D8%AD%D9%81%D9%87-%D9%82%D8%B7%D8%A7%D8%B1-%D9%8A%D9%86%D9%87%D9%8A-%D8%AD%D9%8A%D8%A7%D8%A9-%D8%B4%D8%A7%D8%A8-%D9%81%D9%89-%D8%A7%D9%84%D8%AD%D9%88%D8%A7%D9%85%D8%AF%D9%8A%D8%A9/7441287
A79: 77 | B79: يونيو 2026 | C79: 46181 | D79: الجيزة | E79: كرداسة | F79: كرداسة | G79: طريق داخل المحافظة | H79: فقدت سيدة حياتها في حادث مروري إثر اصطدام سيارة نقل بها في كرداسة، وتم ضبط السائق. | I79: دهس | K79: 0 | L79: 0 | M79: 0 | N79: 0 | O79: =SUM(K79:N79) -> 0 | P79: 0 | Q79: 0 | R79: 1 | S79: 0 | T79: 0 | U79: =SUM(P79:T79) -> 1 | V79: 0 | W79: 0 | X79: 0 | Y79: 0 | Z79: 0 | AA79: =SUM(V79:Z79) -> 0 | AB79: غير معلوم | AD79: 0 | AE79: غير متاح | AF79: 1 | AG79: غير متاح | AH79: 0 | AI79: 1 | AJ79: 0 | AK79: غير متاح | AL79: 0 | AM79: 0 | AN79: غير متاح | AO79: تم | AP79: لا يوجد | AQ79: فقدت سيدة حياتها، فى حادث مرورى إثر اصطدام سيارة نقل بها، في كرداسة، وتم اتخاذ الإجراءات القانونية اللازمة تجاه السائق، وأخطرت النيابة المختصة للتحقيق. تفاصيل الواقعة تلقت مديرية أمن الجيزة بلاغا يفيد مصرع سيدة في كرداسة، وبإجراء التحريات تبين أن سيارة نقل، صدمت سيدة تم تحديد هويتها، مما أدى إلى مصرعها متأثرة بالإصابات التي لحقت بها. ضبط السائق استمع رجال المباحث لأقوال شهود عيان لكشف ملابسات الحادث، وتم ضبط سائق السيارة، وتحرر محضر بالواقعة، لتتولى النيابة المختصة التحقيق. | AR79: https://www.youm7.com/story/2026/6/8/%D9%85%D8%B5%D8%B1%D8%B9-%D8%B3%D9%8A%D8%AF%D8%A9-%D8%B5%D8%AF%D9%85%D8%AA%D9%87%D8%A7-%D8%B3%D9%8A%D8%A7%D8%B1%D8%A9-%D9%86%D9%82%D9%84-%D9%81%D9%89-%D9%83%D8%B1%D8%AF%D8%A7%D8%B3%D8%A9/7442334
A80: 78 | B80: يونيو 2026 | C80: 46182 | D80: الجيزة | E80: مدينة السادس من اكتوبر | F80: أعلى الطريق فى مدينة السادس من اكتوبر | G80: طريق داخل المحافظة | H80: إصيب 8 أشخاص إثر حادث تصادم 3 سيارات أعلى الطريق فى مدينة السادس من اكتوبر، وتم نقل المصابين إلى المستشفى، ورفع حطام الحادث بالكامل من أعلى الطريق ت | I80: تصادم | K80: 3 | L80: 0 | M80: 0 | N80: 0 | O80: =SUM(K80:N80) -> 3 | P80: 0 | Q80: 0 | R80: 0 | S80: 0 | T80: 0 | U80: =SUM(P80:T80) -> 0 | V80: 0 | W80: 0 | X80: 0 | Y80: 0 | Z80: 0 | AA80: =SUM(V80:Z80) -> 0 | AB80: خاصة | AD80: 0 | AE80: غير متاح | AF80: 0 | AG80: غير متاح | AH80: 0 | AI80: 0 | AJ80: 8 | AK80: غير متاح | AL80: 4 | AM80: 4 | AN80: غير متاح | AO80: تم | AP80: لا يوجد | AQ80: إصابة 8 أشخاص إثر حادث تصادم 3 سيارات فى مدينة السادس من اكتوبر أصيب 8 أشخاص إثر حادث تصادم 3 سيارات أعلى الطريق فى مدينة السادس من اكتوبر، وتم نقل المصابين إلى المستشفى، ورفع حطام الحادث بالكامل من أعلى الطريق تلقت غرفة عمليات النجدة بلاغا من الخدمات المعينة أعلى الطريق فى مدينة السادس من السادس من اكتوبربوجود حادث تصادم ومصابين، وعلى الفور انتقلت أجهزة الأمن، وتبين تصادم 3 سيارات، وأسفر الحادث عن إصابة 8 أشخاص، وتم نقلهم للمستشفى لتلقى العلاج، ويقوم رجال المباحث بمناقشة شهود العيان وتفريغ كاميرات المراقبة للوقوف على ملابسات الواقعة، وتم رفع حطام الحادث. | AR80: https://www.youm7.com/story/2026/6/9/%D8%A5%D8%B5%D8%A7%D8%A8%D8%A9-8-%D8%A3%D8%B4%D8%AE%D8%A7%D8%B5-%D8%A5%D8%AB%D8%B1-%D8%AD%D8%A7%D8%AF%D8%AB-%D8%AA%D8%B5%D8%A7%D8%AF%D9%85-3-%D8%B3%D9%8A%D8%A7%D8%B1%D8%A7%D8%AA-%D9%81%D9%89-%D9%85%D8%AF%D9%8A%D9%86%D8%A9/7443475
A81: 79 | B81: يونيو 2026 | C81: 46183 | D81: الجيزة | E81: اطفيح | F81: أعلى الطريق الصحراوي في أطفيح | G81: الطريق الصحراوي | H81: أصيب 6 أشخاص بسبب حادث انقلاب ميكروباص أعلى الطريق الصحراوي في أطفيح. | I81: انقلاب | K81: 0 | L81: 0 | M81: 1 | N81: 0 | O81: =SUM(K81:N81) -> 1 | P81: 0 | Q81: 0 | R81: 0 | S81: 0 | T81: 0 | U81: =SUM(P81:T81) -> 0 | V81: 0 | W81: 0 | X81: 0 | Y81: 0 | Z81: 0 | AA81: =SUM(V81:Z81) -> 0 | AB81: نقل ركاب | AD81: 0 | AE81: غير متاح | AF81: 0 | AG81: غير متاح | AH81: 0 | AI81: 0 | AJ81: 6 | AK81: غير متاح | AL81: 3 | AM81: 3 | AN81: غير متاح | AO81: تم | AP81: لا يوجد | AQ81: أصيب 6 أشخاص بسبب حادث انقلاب ميكروباص أعلى الطريق الصحراوى فى أطفيح ونقلوا الى المستشفى، وحرر محضر بالواقعة. غرفة العمليات تلقت بلاغا بالحادث تلقت غرفة عمليات النجدة بلاغا أعلى الطريق فى أطفيح بوقوع حادث مرورى، وانتقلت سيارات الاسعاف لموقع الحادث بصحبتهم ونش مرورى للعمل على رفع حطام الحادث وتبين من خلال الفحص اختلال عجلة القيادة من السائق مما أدى الى انقلاب السيارة أعلى الطريق ونتج إصابة 6 اشخاص نقلوا جميعًا إلى المستشفى لتلقي العلاج. | AR81: https://www.youm7.com/story/2026/6/10/%D8%A5%D8%B5%D8%A7%D8%A8%D8%A9-6-%D8%A3%D8%B4%D8%AE%D8%A7%D8%B5-%D8%A5%D8%AB%D8%B1-%D8%A7%D9%86%D9%82%D9%84%D8%A7%D8%A8-%D9%85%D9%8A%D9%83%D8%B1%D9%88%D8%A8%D8%A7%D8%B5-%D8%A8%D8%B7%D8%B1%D9%8A%D9%82-%D8%A7%D9%84%D8%A5%D8%B3%D9%83%D9%86%D8%AF%D8%B1%D9%8A%D8%A9-%D8%A7%D9%84%D8%B5%D8%AD%D8%B1%D8%A7%D9%88%D9%89/7443727
A82: 80 | B82: يونيو 2026 | C82: 46183 | D82: القاهرة | E82: التجمع | F82: منطقة التجمع | G82: طريق داخل المحافظة | H82: انقلاب سيارة نقل محملة بالسولار في منطقة التجمع دون إصابات. | I82: انقلاب | K82: 0 | L82: 0 | M82: 0 | N82: 0 | O82: =SUM(K82:N82) -> 0 | P82: 0 | Q82: 0 | R82: 1 | S82: 0 | T82: 0 | U82: =SUM(P82:T82) -> 1 | V82: 0 | W82: 0 | X82: 0 | Y82: 0 | Z82: 0 | AA82: =SUM(V82:Z82) -> 0 | AB82: غير معلوم | AD82: 0 | AE82: غير متاح | AF82: 0 | AG82: غير متاح | AH82: 0 | AI82: 0 | AJ82: 0 | AK82: غير متاح | AL82: 0 | AM82: 0 | AN82: غير متاح | AO82: تم | AP82: لا يوجد | AQ82: وقع منذ قليل حادث انقلاب سيارة نقل محملة بالسولار في منطقة التجمع دون إصابات، تحرر محضر بالواقعة وأخطرت النيابة لتولي التحقيق. البداية عندما تلقت غرفة عمليات النجدة بلاغًا يفيد بانقلاب سيارة نقل محملة بالسولار في منطقة التجمع، وعلى الفور انتقلت قوات الأمن إلى موقع البلاغ. وفرضت الجهات المختصة كردونًا أمنيًا بمحيط الحادث، كما اتخذت الإجراءات الاحترازية اللازمة للتعامل مع آثار الانقلاب وتأمين المنطقة، تحسبًا لحدوث أي تسرب للمواد البترولية أو اندلاع حرائق. | AR82: https://www.elbalad.news/6999193
A83: 81 | B83: يونيو 2026 | C83: 46183 | D83: الجيزة | E83: غير متاح | F83: الطريق الصحراوي بالجيزة | G83: الطريق الصحراوي | H83: أصيبت سيدة بإصابات بالغة إثر حادث تصادم بين سيارتين على الطريق الصحراوي بالجيزة. | I83: تصادم | K83: 2 | L83: 0 | M83: 0 | N83: 0 | O83: =SUM(K83:N83) -> 2 | P83: 0 | Q83: 0 | R83: 0 | S83: 0 | T83: 0 | U83: =SUM(P83:T83) -> 0 | V83: 0 | W83: 0 | X83: 0 | Y83: 0 | Z83: 0 | AA83: =SUM(V83:Z83) -> 0 | AB83: خاصة | AD83: 0 | AE83: غير متاح | AF83: 0 | AG83: غير متاح | AH83: 0 | AI83: 0 | AJ83: 1 | AK83: غير متاح | AL83: 0 | AM83: 1 | AN83: مستشفى الهرم التخصصي | AO83: تم | AP83: لا يوجد | AQ83: أصيبت سيدة بإصابات بالغة إثر تعرضها لحادث تصادم على الطريق الصحراوي بالجيزة، وتم نقلها إلى مستشفى الهرم التخصصي لتلقي الرعاية الطبية اللازمة. وتلقت الأجهزة الأمنية بلاغًا يفيد بوقوع حادث مروري بالطريق الصحراوي بالجيزة، وعلى الفور انتقلت قوات الأمن وسيارات الإسعاف إلى موقع البلاغ، حيث تبين إصابة سيدة تُدعى "نوره أنور جلال عبد الفتاح حسين". وجرى نقل المصابة إلى مستشفى الهرم التخصصي، حيث خضعت للتدخل الطبي العاجل وتم إيداعها غرفة العمليات نظرًا لخطورة حالتها الصحية. وتكثف الجهات المختصة جهودها للتوصل إلى ذوي المصابة وإبلاغهم بالحادث، فيما تم اتخاذ الإجراءات القانونية اللازمة حيال الواقعة، وتباشر الجهات المعنية التحقيق للوقوف على ملابسات الحادث وأسبابه. | AR83: https://www.elbalad.news/6999093
A84: 82 | B84: يونيو 2026 | C84: 46184 | D84: القاهرة | E84: غير متاح | F84: طريق سريع | G84: طريق داخل المحافظة | H84: قيام قائد سيارة «ربع نقل»، بالاصطدام بقائد دراجة نارية أثناء سيرهما بأحد الطرق السريعة بمحافظة القاهرة، ما أسفر عن إصابته، وفرار قائد السيارة من موقع الحادث. | I84: اصطدام | K84: 0 | L84: 0 | M84: 0 | N84: 0 | O84: =SUM(K84:N84) -> 0 | P84: 1 | Q84: 0 | R84: 0 | S84: 0 | T84: 0 | U84: =SUM(P84:T84) -> 1 | V84: 0 | W84: 0 | X84: 1 | Y84: 0 | Z84: 0 | AA84: =SUM(V84:Z84) -> 1 | AB84: غير معلوم/ خاصة | AD84: 0 | AE84: غير متاح | AF84: 0 | AG84: غير متاح | AH84: 0 | AI84: 0 | AJ84: 1 | AK84: غير متاح | AL84: 1 | AM84: 0 | AN84: غير متاح | AO84: تم | AP84: لا يوجد | AQ84: اصطدام «ربع نقل» بدراجة نارية وإصابة قائدها وضبط المتهم بالقاهرة كشفت الأجهزة الأمنية ملابسات منشور مدعوم بمقطع فيديو تم تداوله عبر مواقع التواصل الاجتماعى، تضمن قيام قائد سيارة «ربع نقل»، بالاصطدام بقائد دراجة نارية أثناء سيرهما بأحد الطرق السريعة بمحافظة القاهرة، ما أسفر عن إصابته، وفرار قائد السيارة من موقع الحادث. وقالت الداخلية فى بيان اليوم الخميس، إنه بالفحص تبين عدم ورود أى بلاغات بشأن الواقعة، إلا أنه أمكن تحديد قائد الدراجة النارية، وتبين أنه عامل توصيل ومقيم بدائرة قسم شرطة الساحل، حيث أقر بأنه أثناء سيره بالطريق المشار إليه اصطدمت به السيارة الظاهرة بمقطع الفيديو، ما أدى إلى إصابته بسحجات متفرقة، وفرار قائدها. وأضافت الوزارة أنه تم تحديد وضبط السيارة «سارية التراخيص» وقائدها، وهو سائق مقيم بدائرة قسم شرطة الشرابية، وبمواجهته أقر بارتكاب الواقعة دون قصد. وأكدت أنه تم التحفظ على السيارة، واتخاذ الإجراءات القانونية اللازمة حيال قائدها، وإحالته إلى جهات التحقيق المختصة. | AR84: https://www.almasryalyoum.com/news/details/4290544
A85: 83 | B85: يونيو 2026 | C85: 46184 | D85: القليوبية | E85: طوخ | F85: طريق مصر-الإسكندرية الزراعي أمام مستشفى طوخ المركزي، اتجاه بنها | G85: الطريق الزراعي | H85: انقلاب سيارة جامبو محملة بشكاير من الزجاج القديم دون وقوع خسائر بشرية أو إصابات. | I85: انقلاب | K85: 0 | L85: 0 | M85: 0 | N85: 0 | O85: =SUM(K85:N85) -> 0 | P85: 0 | Q85: 0 | R85: 1 | S85: 0 | T85: 0 | U85: =SUM(P85:T85) -> 1 | V85: 0 | W85: 0 | X85: 0 | Y85: 0 | Z85: 0 | AA85: =SUM(V85:Z85) -> 0 | AB85: غير معلوم | AD85: 0 | AE85: غير متاح | AF85: 0 | AG85: غير متاح | AH85: 0 | AI85: 0 | AJ85: 0 | AK85: غير متاح | AL85: 0 | AM85: 0 | AN85: غير متاح | AO85: تم | AP85: لا يوجد | AQ85: شهد طريق مصر - الإسكندرية الزراعي في الاتجاه القادم إلى مدينة بنها، أمام مستشفى طوخ المركزي بمحافظة القليوبية، حادث انقلاب سيارة جامبو محملة بشكاير من الزجاج القديم، دون وقوع أي خسائر في الأرواح أو إصابات بين المواطنين أو مستقلي السيارة. وتلقت الأجهزة الأمنية بالقليوبية إخطارًا يفيد بوقوع حادث انقلاب سيارة نقل "جامبو" محملة بكميات من الزجاج القديم أمام مستشفى طوخ المركزي على الطريق الزراعي، ما أدى إلى توقف جزئي في الحركة المرورية بالمنطقة. وعلى الفور انتقلت قوات الأمن ووحدات المرور إلى موقع البلاغ، حيث تبين من المعاينة الأولية انقلاب السيارة على جانب الطريق نتيجة اختلال عجلة القيادة بيد السائق، ما تسبب في تناثر جزء من الحمولة على حافة الطريق، دون أن يسفر الحادث عن وقوع إصابات أو وفيات. كما دفعت الجهات المعنية بالمعدات اللازمة لرفع آثار الحادث وإعادة تسيير الحركة المرورية بصورة طبيعية، فيما جرى التعامل مع الحمولة المتناثرة واتخاذ الإجراءات اللازمة لمنع تأثر حركة السيارات المارة بالطريق. | AR85: https://www.elbalad.news/7000828 | AS85: https://www.youm7.com/story/2026/6/11/%D8%A5%D8%B9%D8%A7%D8%AF%D8%A9-%D8%A7%D9%84%D8%AD%D8%B1%D9%83%D8%A9-%D8%A7%D9%84%D9%85%D8%B1%D9%88%D8%B1%D9%8A%D8%A9-%D8%B9%D9%84%D9%89-%D8%B7%D8%B1%D9%8A%D9%82-%D8%A7%D9%84%D9%82%D8%A7%D9%87%D8%B1%D8%A9-%D8%A7%D9%84%D8%A5%D8%B3%D9%83%D9%86%D8%AF%D8%B1%D9%8A%D8%A9-%D8%A7%D9%84%D8%B2%D8%B1%D8%A7%D8%B9%D9%8A-%D8%A8%D8%B7%D9%88%D8%AE-%D8%A8%D8%B9%D8%AF/7445479
A86: 84 | B86: يونيو 2026 | C86: 46184 | D86: الجيزة | E86: الهرم | F86: الهرم | G86: طريق داخل المحافظة | H86: فقدت سيدة حياتها إثر اصطدام سيارة بها في الهرم، وتم ضبط سائق السيارة. | I86: دهس | K86: 1 | L86: 0 | M86: 0 | N86: 0 | O86: =SUM(K86:N86) -> 1 | P86: 0 | Q86: 0 | R86: 0 | S86: 0 | T86: 0 | U86: =SUM(P86:T86) -> 0 | V86: 0 | W86: 0 | X86: 0 | Y86: 0 | Z86: 0 | AA86: =SUM(V86:Z86) -> 0 | AB86: خاصة | AD86: 0 | AE86: غير متاح | AF86: 1 | AG86: غير متاح | AH86: 0 | AI86: 1 | AJ86: 0 | AK86: غير متاح | AL86: 0 | AM86: 0 | AN86: غير متاح | AO86: تم | AP86: لا يوجد | AQ86: مصرع سيدة صدمتها سيارة فى الهرم فقدت سيدة حياتها، إثر اصطدام سيارة بها فى الهرم، وتم اتخاذ الإجراءات القانونية اللازمة تجاه السائق، وأخطرت النيابة المختصة للتحقيق. تفاصيل الواقعة تلقت مديرية أمن الجيزة بلاغا يفيد مصرع سيدة في الهرم، وبإجراء التحريات تبين أن سيارة صدمت سيدة - تم تحديد هويتها- ما أدى إلى مصرعها متأثرة بالإصابات التي لحقت بها. ضبط السائق واستمع رجال المباحث لأقوال شهود عيان لكشف ملابسات الحادث، وتم ضبط سائق السيارة، وتحرر محضر بالواقعة، لتتولى النيابة المختصة التحقيق. | AR86: https://www.youm7.com/story/2026/6/11/%D9%85%D8%B5%D8%B1%D8%B9-%D8%B3%D9%8A%D8%AF%D8%A9-%D8%B5%D8%AF%D9%85%D8%AA%D9%87%D8%A7-%D8%B3%D9%8A%D8%A7%D8%B1%D8%A9-%D9%81%D9%89-%D8%A7%D9%84%D9%87%D8%B1%D9%85/7445571
A87: 85 | B87: يونيو 2026 | C87: 46184 | D87: القليوبية | E87: شبين القناطر | F87: داخل ترعة على طريق شبين القناطر – كفر الور بمحافظة القليوبية. | G87: طريق داخل المحافظة | H87: إصابة 12 شخصا في حادث انقلاب سيارتين بالقليوبية أصيب 12 شخصًا إثر حادث انقلاب سيارتين، إحداهما ملاكي والأخرى ميكروباص، وسقوطهما داخل ترعة على طريق شبين القناطر – كفر الور بمحافظة القليوبية. | I87: انقلاب | K87: 1 | L87: 0 | M87: 1 | N87: 0 | O87: =SUM(K87:N87) -> 2 | P87: 0 | Q87: 0 | R87: 0 | S87: 0 | T87: 0 | U87: =SUM(P87:T87) -> 0 | V87: 0 | W87: 0 | X87: 0 | Y87: 0 | Z87: 0 | AA87: =SUM(V87:Z87) -> 0 | AB87: نقل ركاب | AD87: 0 | AE87: غير متاح | AF87: 0 | AG87: غير متاح | AH87: 0 | AI87: 0 | AJ87: 12 | AK87: غير متاح | AL87: 6 | AM87: 6 | AN87: غير متاح | AO87: تم | AP87: لا يوجد | AQ87: إصابة 12 شخصا في حادث انقلاب سيارتين بالقليوبية الخميس 11/يونيو/2026 - 03:00 م أصيب 12 شخصًا إثر حادث انقلاب سيارتين، إحداهما ملاكي والأخرى ميكروباص، وسقوطهما داخل ترعة على طريق شبين القناطر – كفر الور بمحافظة القليوبية. | AR87: https://www.elbalad.news/7000589
A88: 86 | B88: يونيو 2026 | C88: 46185 | D88: الجيزة | E88: مركز الحوامدية | F88: السكة الحديد بالحوامدية | G88: سكة حديد | H88: مصرع شاب إثر اصطدام قطار به أثناء عبوره السكة الحديد في الحوامدية | I88: دهس | K88: 0 | L88: 0 | M88: 0 | N88: 0 | O88: =SUM(K88:N88) -> 0 | P88: 0 | Q88: 0 | R88: 0 | S88: 0 | T88: 0 | U88: =SUM(P88:T88) -> 0 | V88: 0 | W88: 0 | X88: 0 | Y88: 1 | Z88: 0 | AA88: =SUM(V88:Z88) -> 1 | AB88: حكومية | AD88: 0 | AE88: غير متاح | AF88: 1 | AG88: غير متاح | AH88: 1 | AI88: 0 | AJ88: 0 | AK88: غير متاح | AL88: 0 | AM88: 0 | AN88: غير متاح | AO88: تم | AP88: لا يوجد | AQ88: مصرع شاب وطفل صدمهما قطار في حادثين بالحوامدية والعياط لقى شاب مصرعه إثر اصطدام قطار به في الحوامدية، وتم اتخاذ الإجراءات القانونية اللازمة، وباشرت النيابة المختصة التحقيق. تفاصيل الحادث تلقت مديرية أمن الجيزة بلاغا يفيد مصرع شاب إثر حادث بالحوامدية، وبإجراء التحريات تبين أن قطار صدم شابا أثناء عبوره السكة الحديد، مما أدى إلى مصرعه في الحال متأثرا بالإصابات التي لحقت به، وتحرر محضر بالواقعة، لتتولى النيابة المختصة التحقيق. مصرع طفل بالعياط كما فقد طفل حياته إثر اصطدام قطار به، أثناء عبوره السكة الحديد بالعياط، وأخطرت النيابة للتحقيق. تلقت غرفة النجدة بالجيزة بلاغا يفيد اصطدام قطار بأحد الأشخاص في العياط. وتوصلت تحريات رجال المباحث إلى أن طفل تم تحديد هويته، أثناء عبوره السكة الحديد، بقرية المتانيا، اصطدم قطار به، ليلقى مصرعه في الحال. تم اتخاذ الإجراءات القانونية اللازمة، ونقل الجثة إلى ثلاجة المستشفى، لتباشر النيابة المختصة التحقيق. | AR88: https://www.youm7.com/story/2026/6/12/%D9%85%D8%B5%D8%B1%D8%B9-%D8%B4%D8%A7%D8%A8-%D9%88%D8%B7%D9%81%D9%84-%D8%B5%D8%AF%D9%85%D9%87%D9%85%D8%A7-%D9%82%D8%B7%D8%A7%D8%B1-%D9%81%D9%8A-%D8%AD%D8%A7%D8%AF%D8%AB%D9%8A%D9%86-%D8%A8%D8%A7%D9%84%D8%AD%D9%88%D8%A7%D9%85%D8%AF%D9%8A%D8%A9-%D9%88%D8%A7%D9%84%D8%B9%D9%8A%D8%A7%D8%B7/7446555
A89: 87 | B89: يونيو 2026 | C89: 46185 | D89: الجيزة | E89: مركز العياط | F89: قرية المتانيا - السكة الحديد بالعياط | G89: سكة حديد | H89: مصرع طفل إثر اصطدام قطار به أثناء عبوره السكة الحديد بالعياط | I89: دهس | K89: 0 | L89: 0 | M89: 0 | N89: 0 | O89: =SUM(K89:N89) -> 0 | P89: 0 | Q89: 0 | R89: 0 | S89: 0 | T89: 0 | U89: =SUM(P89:T89) -> 0 | V89: 0 | W89: 0 | X89: 0 | Y89: 1 | Z89: 0 | AA89: =SUM(V89:Z89) -> 1 | AB89: حكومية | AD89: 0 | AE89: غير متاح | AF89: 1 | AG89: غير متاح | AH89: 1 | AI89: 0 | AJ89: 0 | AK89: غير متاح | AL89: 0 | AM89: 0 | AN89: غير متاح | AO89: تم | AP89: لا يوجد | AQ89: مصرع شاب وطفل صدمهما قطار في حادثين بالحوامدية والعياط لقى شاب مصرعه إثر اصطدام قطار به في الحوامدية، وتم اتخاذ الإجراءات القانونية اللازمة، وباشرت النيابة المختصة التحقيق. تفاصيل الحادث تلقت مديرية أمن الجيزة بلاغا يفيد مصرع شاب إثر حادث بالحوامدية، وبإجراء التحريات تبين أن قطار صدم شابا أثناء عبوره السكة الحديد، مما أدى إلى مصرعه في الحال متأثرا بالإصابات التي لحقت به، وتحرر محضر بالواقعة، لتتولى النيابة المختصة التحقيق. مصرع طفل بالعياط كما فقد طفل حياته إثر اصطدام قطار به، أثناء عبوره السكة الحديد بالعياط، وأخطرت النيابة للتحقيق. تلقت غرفة النجدة بالجيزة بلاغا يفيد اصطدام قطار بأحد الأشخاص في العياط. وتوصلت تحريات رجال المباحث إلى أن طفل تم تحديد هويته، أثناء عبوره السكة الحديد، بقرية المتانيا، اصطدم قطار به، ليلقى مصرعه في الحال. تم اتخاذ الإجراءات القانونية اللازمة، ونقل الجثة إلى ثلاجة المستشفى، لتباشر النيابة المختصة التحقيق. | AR89: https://www.youm7.com/story/2026/6/12/%D9%85%D8%B5%D8%B1%D8%B9-%D8%B4%D8%A7%D8%A8-%D9%88%D8%B7%D9%81%D9%84-%D8%B5%D8%AF%D9%85%D9%87%D9%85%D8%A7-%D9%82%D8%B7%D8%A7%D8%B1-%D9%81%D9%8A-%D8%AD%D8%A7%D8%AF%D8%AB%D9%8A%D9%86-%D8%A8%D8%A7%D9%84%D8%AD%D9%88%D8%A7%D9%85%D8%AF%D9%8A%D8%A9-%D9%88%D8%A7%D9%84%D8%B9%D9%8A%D8%A7%D8%B7/7446555
A90: 88 | B90: يونيو 2026 | C90: 46185 | D90: الجيزة | E90: مركز الصف | F90: طريق الديسمي الجديدة - الصف | G90: الطريق الصحراوي | H90: مصرع شابين إثر انقلاب سيارة نقل واشتعال النار بها في الصف | I90: انقلاب | K90: 0 | L90: 0 | M90: 0 | N90: 0 | O90: =SUM(K90:N90) -> 0 | P90: 0 | Q90: 0 | R90: 1 | S90: 0 | T90: 0 | U90: =SUM(P90:T90) -> 1 | V90: 0 | W90: 0 | X90: 0 | Y90: 0 | Z90: 0 | AA90: =SUM(V90:Z90) -> 0 | AB90: غير معلوم | AD90: 0 | AE90: غير متاح | AF90: 2 | AG90: غير متاح | AH90: 2 | AI90: 0 | AJ90: 0 | AK90: غير متاح | AL90: 0 | AM90: 0 | AN90: غير متاح | AO90: تم | AP90: لا يوجد | AQ90: مصرع شابين إثر انقلاب سيارة نقل واشتعال النار بها فى الصف لقى شابين مصرعهما، إثر انقلاب سيارة نقل، واشتعال النار بها، في الصف، وتم اتخاذ الإجراءات القانونية اللازمة، وباشرت النيابة المختصة التحقيق. تفاصيل الحادث تلقت مديرية أمن الجيزة بلاغا يفيد وقوع حادث سير بطريق الديسمي الجديدة في الصف، انتقلت قوة أمنية إلى مكان البلاغ، وتبين من خلال الفحص والتحريات، أن سيارة نقل، تعرضت لحادث انقلاب، مما أدى إلى اشتعال النيران بها، ومصرع شابين. الاستماع لأقوال شهود عيان استمع رجال المباحث لأقوال شهود عيان لكشف ملابسات الحادث، وتم إزالة آثاره، ونقل الجثتين إلى ثلاجة المستشفى، واتخاذ الإجراءات القانونية، لتتولى النيابة المختصة التحقيق. | AR90: https://www.youm7.com/story/2026/6/12/%D9%85%D8%B5%D8%B1%D8%B9-%D8%B4%D8%A7%D8%A8%D9%8A%D9%86-%D8%A5%D8%AB%D8%B1-%D8%A7%D9%86%D9%82%D9%84%D8%A7%D8%A8-%D8%B3%D9%8A%D8%A7%D8%B1%D8%A9-%D9%86%D9%82%D9%84-%D9%88%D8%A7%D8%B4%D8%AA%D8%B9%D8%A7%D9%84-%D8%A7%D9%84%D9%86%D8%A7%D8%B1-%D8%A8%D9%87%D8%A7-%D9%81%D9%89/7445838
A91: 89 | B91: يونيو 2026 | C91: 46185 | D91: القاهرة | E91: غير متاح | F91: غير متاح | G91: طريق داخل المحافظة | H91: قيام قائد سيارة "ملاكى" بالاصطدام بسيارة محاسبة من الخلف وإحداث تلفيات بها حال سيرهما بأحد الشوارع بالقاهرة. | I91: اصطدام | K91: 2 | L91: 0 | M91: 0 | N91: 0 | O91: =SUM(K91:N91) -> 2 | P91: 0 | Q91: 0 | R91: 0 | S91: 0 | T91: 0 | U91: =SUM(P91:T91) -> 0 | V91: 0 | W91: 0 | X91: 0 | Y91: 0 | Z91: 0 | AA91: =SUM(V91:Z91) -> 0 | AB91: خاصة | AC91: تليفيات بالسيارة | AD91: 0 | AE91: غير متاح | AF91: 0 | AG91: غير متاح | AH91: 0 | AI91: 0 | AJ91: 0 | AK91: غير متاح | AL91: 0 | AM91: 0 | AN91: غير متاح | AO91: تم | AP91: لا يوجد | AQ91: الداخلية تكشف حقيقة اصطدام شخص بسيارة محاسبة بالقاهرة شفت الداخلية ملابسات مقطع فيديو تم تداوله بمواقع التواصل الاجتماعى تضمن تضرر القائمة على النشر من قيام قائد سيارة "ملاكى" بالاصطدام بسيارتها من الخلف وإحداث تلفيات بها حال سيرهما بأحد الشوارع بالقاهرة. بالفحص تبين أنه بتاريخ 12 مايو المنقضى تبلغ لقسم شرطة مصر الجديدة من القائمة على النشر (محاسبة – مقيم بدائرة قسم ثان مدينة نصر) بتضررها من قائد سيارة "ملاكى" لقيامه بالإصطدام بسيارتها وإحداث تلفيات بها. تحديد وضبط السيارة المشار إليها وقائدها أمكن تحديد وضبط السيارة المشار إليها وقائدها (مقيم بدائرة قسم شرطة بدر) ، وبمواجهته إعترف بإرتكاب الواقعة على النحو المشار إليه. تم التحفظ على السيارة .. وإتخاذ الإجراءات القانونية. | AR91: https://www.youm7.com/story/2026/6/13/%D8%A7%D9%84%D8%AF%D8%A7%D8%AE%D9%84%D9%8A%D8%A9-%D8%AA%D9%83%D8%B4%D9%81-%D8%AD%D9%82%D9%8A%D9%82%D8%A9-%D8%A7%D8%B5%D8%B7%D8%AF%D8%A7%D9%85-%D8%B4%D8%AE%D8%B5-%D8%A8%D8%B3%D9%8A%D8%A7%D8%B1%D8%A9-%D9%85%D8%AD%D8%A7%D8%B3%D8%A8%D8%A9-%D8%A8%D8%A7%D9%84%D9%82%D8%A7%D9%87%D8%B1%D8%A9/7447279
A92: 90 | B92: يونيو 2026 | C92: 46186 | D92: القليوبية | E92: مركز طوخ | F92: طريق طوخ – شبين القناطر | G92: طريق داخل المحافظة | H92: مصرع شاب وإصابة آخر في تصادم ميكروباص ودراجة نارية بطوخ | I92: تصادم | K92: 0 | L92: 0 | M92: 1 | N92: 0 | O92: =SUM(K92:N92) -> 1 | P92: 0 | Q92: 0 | R92: 0 | S92: 0 | T92: 0 | U92: =SUM(P92:T92) -> 0 | V92: 0 | W92: 0 | X92: 1 | Y92: 0 | Z92: 0 | AA92: =SUM(V92:Z92) -> 1 | AB92: نقل ركاب/خاصة | AD92: 0 | AE92: غير متاح | AF92: 1 | AG92: أحمد ج.ع | AH92: 1 | AI92: 0 | AJ92: 1 | AK92: غير متاح | AL92: 1 | AM92: 0 | AN92: غير متاح | AO92: تم | AP92: لا يوجد | AQ92: التصريح بدفن شاب لقى مصرعه فى حادث ميكروباص مع دراجة نارية بطوخ قررت نيابة مركز طوخ فى محافظة القليوبية التصريح بدفن جثة شاب لقى مصرعه فى حادث تصادم ميكروباص مع دراجة نارية وطلبت النيابة تحريات المباحث حول ظروف الحادث وملابساته وسؤال شهود العيان واهلية المتوفى كما طلبت النيابة الاستعلام عن حالة مصاب اخر فى الحادث وانتداب المهندس الفنى لفحص المركبتين. وتلقت الأجهزة الأمنية بمديرية أمن القليوبية إخطارًا يفيد بوقوع حادث تصادم بين سيارة ميكروباص ودراجة نارية كان يستقلها شابان على طريق “طوخ – شبين القناطر”، وعلى الفور انتقلت قوة أمنية إلى موقع البلاغ لإجراء المعاينة والفحص. وكشفت المعاينة الأولية أن الحادث أسفر عن وفاة أحد مستقلى الدراجة النارية، ويدعى « أحمد ج.ع» متأثرًا باصابته، فيما أصيب الشاب الآخر بكسور وجروح متفرقة بالجسد. وتم نقل جثة المتوفى إلى مشرحة مستشفى شبين القناطر العام، بينما تم نقل المصاب لتلقى العلاج والرعاية الطبية اللازمة. وتحرر محضر بالواقعة، وأمرت الجهات المختصة باتخاذ الإجراءات القانونية اللازمة، كما كلفت إدارة البحث الجنائى بالتحرى عن ملابسات الحادث وبيان أسبابه. | AR92: https://www.elbalad.news/7002224 | AS92: https://www.elbalad.news/7001987
A93: 91 | B93: يونيو 2026 | C93: 46186 | D93: الجيزة | E93: قسم الهرم | F93: الهرم | G93: طريق داخل المحافظة | H93: مصرع سائق وإصابة صديقه في حادث بالهرم بسبب جرعة مخدرات زائدة | I93: اصطدام | K93: 0 | L93: 0 | M93: 1 | N93: 0 | O93: =SUM(K93:N93) -> 1 | P93: 0 | Q93: 0 | R93: 0 | S93: 0 | T93: 0 | U93: =SUM(P93:T93) -> 0 | V93: 0 | W93: 0 | X93: 0 | Y93: 0 | Z93: 0 | AA93: =SUM(V93:Z93) -> 0 | AB93: نقل ركاب | AD93: 0 | AE93: غير متاح | AF93: 1 | AG93: غير متاح | AH93: 1 | AI93: 0 | AJ93: 1 | AK93: غير متاح | AL93: 1 | AM93: 0 | AN93: غير متاح | AO93: تم | AP93: لا يوجد | AQ93: جرعة مخدرات زائدة وراء مصرع سائق وإصابة صديقه بالهرم فقد سائق حياته، إثر تعاطيه جرعة زائدة من المواد المخدرة، خلال قيادته سيارته، كما أصيب صديقه، نتيجة اصطدام السيارة بالرصيف، بمنطقة الهرم، وتحرر محضر بالواقعة، لتتولى النيابة التحقيق. بلاغ بوقوع حادث سيارة بالهرم تلقى المقدم مصطفى الدكر رئيس مباحث قسم شرطة الهرم، بلاغا يفيد وقوع حادث سير، وبإجراء التحريات تبين أن سائق ميكروباص، أثناء قيادته سيارته، تعاطى جرعة زائدة من المواد المخدرة، مما أدى لمفارقته الحياة، وانحرفت السيارة عن الطريق، واصطدمت بالرصيف، ليصاب صديقه بجروح. الاستماع لأقوال المصاب استمع رجال المباحث لأقوال المصاب، لكشف ملابسات الحادث، وتم اتخاذ الإجراءات القانونية اللازمة، لتباشر النيابة المختصة التحقيق. | AR93: https://www.youm7.com/story/2026/6/13/%D8%AC%D8%B1%D8%B9%D8%A9-%D9%85%D8%AE%D8%AF%D8%B1%D8%A7%D8%AA-%D8%B2%D8%A7%D8%A6%D8%AF%D8%A9-%D9%88%D8%B1%D8%A7%D8%A1-%D9%85%D8%B5%D8%B1%D8%B9-%D8%B3%D8%A7%D8%A6%D9%82-%D9%88%D8%A5%D8%B5%D8%A7%D8%A8%D8%A9-%D8%B5%D8%AF%D9%8A%D9%82%D9%87-%D8%A8%D8%A7%D9%84%D9%87%D8%B1%D9%85/7446647 | AV93: https://www.youm7.com/story/2026/6/15/%D8%A7%D9%84%D9%86%D9%8A%D8%A7%D8%A8%D8%A9-%D8%AA%D8%B9%D8%A7%D9%8A%D9%86-%D9%85%D9%88%D9%82%D8%B9-%D8%AD%D8%A7%D8%AF%D8%AB-%D8%A7%D9%86%D9%82%D9%84%D8%A7%D8%A8-%D8%B3%D9%8A%D8%A7%D8%B1%D8%A9-%D8%A8%D8%A7%D9%84%D9%85%D8%B1%D9%8A%D9%88%D8%B7%D9%8A%D8%A9-%D8%A8%D8%A7%D9%84%D8%A8%D8%AF%D8%B1%D8%B4%D9%8A%D9%86/7449038
A94: 92 | B94: يونيو 2026 | C94: 46186 | D94: الجيزة | E94: الحوامدية | F94: الحوامدية | G94: طريق داخل المحافظة | H94: قائد دراجة نارية بالسير برعونة والإصطدام بفتاتين حال سيرهما بأحد الشوارع بالجيزة مما أدى إلى إصابتهما | I94: دهس | K94: 0 | L94: 0 | M94: 0 | N94: 0 | O94: =SUM(K94:N94) -> 0 | P94: 0 | Q94: 0 | R94: 0 | S94: 0 | T94: 0 | U94: =SUM(P94:T94) -> 0 | V94: 0 | W94: 0 | X94: 1 | Y94: 0 | Z94: 0 | AA94: =SUM(V94:Z94) -> 1 | AB94: خاصة | AD94: 0 | AE94: غير متاح | AF94: 0 | AG94: غير متاح | AH94: 0 | AI94: 0 | AJ94: 2 | AK94: غير متاح | AL94: 0 | AM94: 2 | AN94: غير متاح | AO94: تم | AP94: لا يوجد | AQ94: ضبط سائق الدراجة النارية المتهم بالاصطدام بفتاتين بالجيزة.. فيديو كشفت الداخلية ملابسات مقطع فيديو تم تداوله بمواقع التواصل الإجتماعى تضمن قيام قائد دراجة نارية بالسير برعونة والإصطدام بفتاتين حال سيرهما بأحد الشوارع بالجيزة مما أدى إلى إصابتهما بالفحص تبين عدم ورود بلاغات فى هذا الشأن، وأمكن تحديد الفتاتان الظاهرتان بمقطع الفيديو (طالبتان – مقيمتان بدائرة قسم شرطة الحوامدية بالجيزة "مصابتان بكدمات وكسور")، وبسؤالهما قررتا أنه بتاريخ 13 / الجارى حال سيرهما بأحد الشوارع بالقرب من محل سكنهما إصطدمت بهما دراجة نارية (لاذ قائدها بالفرار) مما أدى إلى إصابتهما المشار إليها. تحديد وضبط الدراجة النارية الظاهرة بمقطع الفيديو أمكن تحديد وضبط الدراجة النارية الظاهرة بمقطع الفيديو "بدون لوحات معدنية" ، وقائدها ("لا يحمل رخصة قيادة" مصاب بكدمات وسحجات متفرقة، مقيم بدائرة القسم) ، وبمواجهته إعترف بإرتكاب الواقعة على النحو المشار إليه دون قصد وعلل هروبة خشية مساءلتة قانونياً. تم التحفظ على الدراجة النارية.. وإتخاذ الإجراءات القانونية. | AR94: https://www.youm7.com/story/2026/6/16/%D8%B6%D8%A8%D8%B7-%D8%B3%D8%A7%D8%A6%D9%82-%D8%A7%D9%84%D8%AF%D8%B1%D8%A7%D8%AC%D8%A9-%D8%A7%D9%84%D9%86%D8%A7%D8%B1%D9%8A%D8%A9-%D8%A7%D9%84%D9%85%D8%AA%D9%87%D9%85-%D8%A8%D8%A7%D9%84%D8%A7%D8%B5%D8%B7%D8%AF%D8%A7%D9%85-%D8%A8%D9%81%D8%AA%D8%A7%D8%AA%D9%8A%D9%86-%D8%A8%D8%A7%D9%84%D8%AC%D9%8A%D8%B2%D8%A9-%D9%81%D9%8A%D8%AF%D9%8A%D9%88/7451251 | AS94: https://www.elbalad.news/7006793
A95: 93 | B95: يونيو 2026 | C95: 46187 | D95: الجيزة | E95: دائرة مركز البدرشين | F95: ترعة المريوطية بدائرة مركز البدرشين | G95: طريق داخل المحافظة | H95: شهدت ترعة المريوطية بدائرة مركز البدرشينالجيزة، مساء اليوم الأحد، حادثًا جديدًا إثر انقلاب سيارة ملاكى داخل المجرى المائى، مما أسفر عن مصرع 6 أشخاص على الأقل، فيما تمكن الأهالى من إنقاذ أحد مستقلى السيارة | I95: انقلاب | K95: 1 | L95: 0 | M95: 0 | N95: 0 | O95: =SUM(K95:N95) -> 1 | P95: 0 | Q95: 0 | R95: 0 | S95: 0 | T95: 0 | U95: =SUM(P95:T95) -> 0 | V95: 0 | W95: 0 | X95: 0 | Y95: 0 | Z95: 0 | AA95: =SUM(V95:Z95) -> 0 | AB95: غير معلوم | AD95: 0 | AE95: غير متاح | AF95: 6 | AG95: غير متاح | AH95: 3 | AI95: 3 | AJ95: 0 | AK95: غير متاح | AL95: 0 | AM95: 0 | AN95: مستشفى البدرشين | AO95: تم | AP95: لا يوجد | AQ95: «ترعة المريوطية» تبتلع ضحايا جددا.. مصرع 6 أشخاص فى انقلاب سيارة بعد أسبوعين من فاجعة الـ7 ضحايا (تفاصيل كاملة) شهدت ترعة المريوطية بدائرة مركز البدرشينالجيزة، مساء اليوم الأحد، حادثًا جديدًا إثر انقلاب سيارة ملاكى داخل المجرى المائى، مما أسفر عن مصرع 6 أشخاص على الأقل، فيما تمكن الأهالى من إنقاذ أحد مستقلى السيارة، حيث قال شهود عيان إنه «طلع بين الحياة والموت». تفاصيل انقلاب سيارة فى ترعة المريوطية اليوم ويأتى هذا الحادث ليعيد إلى الأذهان «فاجعة الأول من يونيو» الجارى، حينما شهد ذات الموقع (بين قريتى أبو صير والعزيزية) سقوط سيارة ملاكى أخرى أسفرت عن مصرع أسرة كاملة مكونة من 7 أشخاص، لتتحول ترعة المريوطية فى غضون أسبوعين فقط إلى «مصيدة للموت» تحصد أرواح الأبرياء جراء اختلال عجلة القيادة وضيق الطريق. مصرع 6 أشخاص فى حادث المريوطية وفور تلقى غرفة عمليات النجدة بمديرية أمن الجيزة بلاغا بالواقعة، تم الدفع برجال الأمن والإنقاذ. انتقلت على الفور فرق الضفادع البشرية وقوات الإنقاذ النهرى مدعومة بـ 3 لانشات، وباشرت عمليات تمشيط واسعة للمجرى المائى تحت جنح الظلام لانتشال جثامين الضحايا، كما توجهت سيارات الإسعاف إلى موقع الحادث، حيث تم نقل الشخص الناجى إلى المستشفى العام لتقديم الرعاية الطبية العاجلة له وتسيير إجراءات فحص حالته. وتحرر المحضر اللازم بالواقعة، وأخطرت النيابة العامة لمباشرة التحقيقات. | AR95: https://www.almasryalyoum.com/news/details/4293031 | AS95: https://www.youm7.com/story/2026/6/14/%D8%A7%D8%B3%D8%AA%D8%AE%D8%B1%D8%A7%D8%AC-%D8%B3%D9%8A%D8%A7%D8%B1%D8%A9-%D9%85%D9%84%D8%A7%D9%83%D9%8A-%D8%A8%D8%B9%D8%AF-%D8%A7%D9%86%D9%82%D9%84%D8%A7%D8%A8%D9%87%D8%A7-%D9%81%D9%8A-%D8%AA%D8%B1%D8%B9%D8%A9-%D8%A7%D9%84%D9%85%D8%B1%D9%8A%D9%88%D8%B7%D9%8A%D8%A9-%D9%88%D9%85%D8%B5%D8%B1%D8%B9-%D9%85%D8%B3%D8%AA%D9%82%D9%84%D9%8A%D9%87%D8%A7/7448682 | AT95: https://www.youm7.com/story/2026/6/14/%D8%A7%D9%84%D8%A8%D8%AD%D8%AB-%D8%B9%D9%86-5-%D8%A3%D8%B4%D8%AE%D8%A7%D8%B5-%D9%85%D9%86-%D8%B6%D8%AD%D8%A7%D9%8A%D8%A7-%D8%A7%D9%86%D9%82%D9%84%D8%A7%D8%A8-%D8%B3%D9%8A%D8%A7%D8%B1%D8%A9-%D9%81%D9%8A-%D8%AA%D8%B1%D8%B9%D8%A9/7448647 | AU95: https://www.youm7.com/story/2026/6/14/%D8%A7%D9%84%D8%AA%D9%88%D8%B5%D9%84-%D9%84%D9%87%D9%88%D9%8A%D8%A9-%D8%B6%D8%AD%D8%A7%D9%8A%D8%A7-%D8%A7%D9%86%D9%82%D9%84%D8%A7%D8%A8-%D8%B3%D9%8A%D8%A7%D8%B1%D8%A9-%D9%85%D9%84%D8%A7%D9%83%D9%8A-%D9%81%D9%8A-%D8%AA%D8%B1%D8%B9%D8%A9-%D8%A7%D9%84%D9%85%D8%B1%D9%8A%D9%88%D8%B7%D9%8A%D8%A9-%D8%A8%D8%A7%D9%84%D8%A8%D8%AF%D8%B1%D8%B4%D9%8A%D9%86/7448676 | AV95: https://www.youm7.com/story/2026/6/14/%D8%A7%D9%86%D8%AA%D8%B4%D8%A7%D9%84-5-%D8%A3%D8%B4%D8%AE%D8%A7%D8%B5-%D9%85%D9%86-%D8%B6%D8%AD%D8%A7%D9%8A%D8%A7-%D8%A7%D9%86%D9%82%D9%84%D8%A7%D8%A8-%D8%B3%D9%8A%D8%A7%D8%B1%D8%A9-%D9%81%D9%8A-%D8%AA%D8%B1%D8%B9%D8%A9-%D8%A7%D9%84%D9%85%D8%B1%D9%8A%D9%88%D8%B7%D9%8A%D8%A9/7448658 | AW95: https://www.youm7.com/story/2026/6/14/%D8%A7%D9%86%D9%82%D9%84%D8%A7%D8%A8-%D8%B3%D9%8A%D8%A7%D8%B1%D8%A9-%D9%8A%D8%B3%D8%AA%D9%82%D9%84%D9%87%D8%A7-%D8%B9%D8%AF%D8%AF-%D9%85%D9%86-%D8%A7%D9%84%D8%A3%D8%B4%D8%AE%D8%A7%D8%B5-%D9%81%D9%8A-%D8%AA%D8%B1%D8%B9%D8%A9-%D8%A7%D9%84%D9%85%D8%B1%D9%8A%D9%88%D8%B7%D9%8A%D8%A9-%D8%A8%D8%A7%D9%84%D8%A8%D8%AF%D8%B1%D8%B4%D9%8A%D9%86/7448629 | AX95: https://www.elbalad.news/7004360 | AY95: https://www.youm7.com/story/2026/6/15/%D8%A7%D9%84%D9%86%D9%8A%D8%A7%D8%A8%D8%A9-%D8%AA%D8%B9%D8%A7%D9%8A%D9%86-%D9%85%D9%88%D9%82%D8%B9-%D8%AD%D8%A7%D8%AF%D8%AB-%D8%A7%D9%86%D9%82%D9%84%D8%A7%D8%A8-%D8%B3%D9%8A%D8%A7%D8%B1%D8%A9-%D8%A8%D8%A7%D9%84%D9%85%D8%B1%D9%8A%D9%88%D8%B7%D9%8A%D8%A9-%D8%A8%D8%A7%D9%84%D8%A8%D8%AF%D8%B1%D8%B4%D9%8A%D9%86/7449038 | AZ95: https://www.youm7.com/story/2026/6/15/%D8%A8%D8%B9%D8%AF-%D8%AD%D8%A7%D8%AF%D8%AB-%D8%A7%D9%84%D9%85%D8%B1%D9%8A%D9%88%D8%B7%D9%8A%D8%A9-%D9%83%D9%8A%D9%81-%D9%8A%D8%AD%D8%B5%D9%84-%D8%A7%D9%84%D9%85%D8%AA%D8%B6%D8%B1%D8%B1%D9%88%D9%86-%D8%B9%D9%84%D9%89-%D8%AA%D8%B9%D9%88%D9%8A%D8%B6-%D8%A8%D9%80100%D8%A3%D9%84%D9%81-%D8%AC%D9%86%D9%8A%D9%87/7449209 | BA95: https://www.elbalad.news/7004800
A96: 94 | B96: يونيو 2026 | C96: 46187 | D96: القاهرة | E96: دائرة قسم المقطم | F96: طريق صلاح سالم بمنطقة المقطم | G96: طريق داخل المحافظة | H96: أصيب سائق إثر انقلاب خلاطة بطريق صلاح سالم بمنطقة المقطم وظهرت بقعة زيت أعلى الطريق، وانتقلت فرق الإنقاذ البرى إلى المكان وتم إزالة حطام الحادث. | I96: انقلاب | K96: 0 | L96: 0 | M96: 0 | N96: 0 | O96: =SUM(K96:N96) -> 0 | P96: 0 | Q96: 0 | R96: 0 | S96: 1 | T96: 0 | U96: =SUM(P96:T96) -> 1 | V96: 0 | W96: 0 | X96: 0 | Y96: 0 | Z96: 0 | AA96: =SUM(V96:Z96) -> 0 | AB96: غير معلوم | AD96: 0 | AE96: غير متاح | AF96: 0 | AG96: غير متاح | AH96: 0 | AI96: 0 | AJ96: 1 | AK96: غير متاح | AL96: 1 | AM96: 0 | AN96: مستشفى البنك الأهلي | AO96: تم | AP96: لا يوجد | AQ96: انقلاب خلاطة أسمنت فى المقطم.. إصابة السائق وإزالة بقعة زيت ومخلفات بناء أصيب سائق إثر انقلاب خلاطة بطريق صلاح سالم بمنطقة المقطم وظهرت بقعة زيت أعلى الطريق، وانتقلت فرق الإنقاذ البرى إلى المكان وتم إزالة حطام الحادث. غرفة العمليات تلقت بلاغا بالحادث تلقت غرفة العمليات، بلاغا يفيد انقلاب سياره نقل وسقوط جزء من الحموله بطريق صلاح سالم اتجاه المقطم فى دائرة قسم المقطم وبناء على تعليمات اللواء الدكتور محمد الشربينى مدير الإدارة العامة للحماية المدنية بالقاهرة انتقلت سيارات الإنقاذ البرى وفرقها إلى المكان . تفاصيل الواقعة بالكامل بالانتقال والفحص، تبين انقلاب سيارة خلاط تابعه لإحدى الشركات، وهناك سائق مصاب، تم نقله إلى مستشفى البنك الأهلي، وأسفر الحادث عن ظهور بقعه زيت طولي، وتم إزالتها بمعرفة قوات الحماية المدنية، وكذلك سقوط جزء من حموله الأسمنت تم إزالتها مع عدم وجود إعاقة مرورية وتم اتخاذ الإجراءات القانونية اللازمة تجاه الواقعة. | AR96: https://www.youm7.com/story/2026/6/14/%D8%A7%D9%86%D9%82%D9%84%D8%A7%D8%A8-%D8%AE%D9%84%D8%A7%D8%B7%D8%A9-%D8%A3%D8%B3%D9%85%D9%86%D8%AA-%D9%81%D9%89-%D8%A7%D9%84%D9%85%D9%82%D8%B7%D9%85-%D8%A5%D8%B5%D8%A7%D8%A8%D8%A9-%D8%A7%D9%84%D8%B3%D8%A7%D8%A6%D9%82-%D9%88%D8%A5%D8%B2%D8%A7%D9%84%D8%A9-%D8%A8%D9%82%D8%B9%D8%A9-%D8%B2%D9%8A%D8%AA/7448499
A97: 95 | B97: يونيو 2026 | C97: 46187 | D97: الجيزة | E97: الصف | F97: بالطريق الصحراوي في الصف | G97: الطريق الصحراوي | H97: أصيب 6 أشخاص بسبب حادث انقلاب ميكروباص أعلى الطريق الصحراوي، فى الصف، وتم نقلهم إلى المستشفى، وحرر محضر بالواقعة، لتتولى النيابة التحقيق. | I97: انقلاب | K97: 1 | L97: 0 | M97: 0 | N97: 0 | O97: =SUM(K97:N97) -> 1 | P97: 0 | Q97: 0 | R97: 0 | S97: 0 | T97: 0 | U97: =SUM(P97:T97) -> 0 | V97: 0 | W97: 0 | X97: 0 | Y97: 0 | Z97: 0 | AA97: =SUM(V97:Z97) -> 0 | AB97: خاصة | AD97: 0 | AE97: غير متاح | AF97: 0 | AG97: غير متاح | AH97: 0 | AI97: 0 | AJ97: 6 | AK97: غير متاح | AL97: 3 | AM97: 3 | AN97: غير متاح | AO97: تم | AP97: لا يوجد | AQ97: إصابة 6 أشخاص إثر انقلاب سيارة ميكروباص في الصف أصيب 6 أشخاص بسبب حادث انقلاب ميكروباص أعلى الطريق الصحراوي، فى الصف، وتم نقلهم إلى المستشفى، وحرر محضر بالواقعة، لتتولى النيابة التحقيق.غرفة العمليات تلقت بلاغا بالحادث تلقت غرفة عمليات النجدة، بلاغا بوقوع حادث سير، بالطريق الصحراوي في الصف، انتقلت قوة أمنية لمكان البلاغ، وتبين من خلال الفحص اختلال عجلة القيادة من يد سائق سيارة ميكروباص، مما أدى إلى انقلابها، وإصابة 6 أشخاص. إسعاف المصابين تم نقل المصابين إلى المستشفى لإسعافهم، وإزالة آثار الحادث، وتحرر محضر بالواقعة، لتتولى النيابة المختصة التحقيق. | AR97: https://www.youm7.com/story/2026/6/14/%D8%A5%D8%B5%D8%A7%D8%A8%D8%A9-6-%D8%A3%D8%B4%D8%AE%D8%A7%D8%B5-%D8%A5%D8%AB%D8%B1-%D8%A7%D9%86%D9%82%D9%84%D8%A7%D8%A8-%D8%B3%D9%8A%D8%A7%D8%B1%D8%A9-%D9%85%D9%8A%D9%83%D8%B1%D9%88%D8%A8%D8%A7%D8%B5-%D9%81%D9%8A-%D8%A7%D9%84%D8%B5%D9%81/7447769
A98: 96 | B98: يونيو 2026 | C98: 46188 | D98: القليوبية | E98: شبرا الخيمة | F98: مزلقان كوبرى الثلاجة أمام قرية الشرقاوية، بمدينة شبرا الخيمة | G98: سكة حديد | H98: لقى شخصين مصرعهما، فى حادث مأساوى اليوم، بعدما صدمهما قطار أثناء عبورهما شريط السكة الحديد من مكان غير مخصص للعبور بمزلقان كوبرى الثلاجة أمام قرية الشرقاوية، بمدينة شبرا الخيمة | I98: دهس | K98: 0 | L98: 0 | M98: 0 | N98: 0 | O98: =SUM(K98:N98) -> 0 | P98: 0 | Q98: 0 | R98: 0 | S98: 0 | T98: 0 | U98: =SUM(P98:T98) -> 0 | V98: 0 | W98: 0 | X98: 0 | Y98: 1 | Z98: 0 | AA98: =SUM(V98:Z98) -> 1 | AB98: حكومية | AD98: 0 | AE98: غير متاح | AF98: 2 | AG98: غير متاح | AH98: 2 | AI98: 0 | AJ98: 0 | AK98: غير متاح | AL98: 0 | AM98: 0 | AN98: غير متاح | AO98: تم | AP98: لا يوجد | AQ98: مصرع شخصين صدمهما قطار أثناء عبورهما شريط السكة الحديد بالقليوبية لقى شخصين مصرعهما، فى حادث مأساوى اليوم، بعدما صدمهما قطار أثناء عبورهما شريط السكة الحديد من مكان غير مخصص للعبور بمزلقان كوبرى الثلاجة أمام قرية الشرقاوية، بمدينة شبرا الخيمة، فى محافظة القليوبية، وجرى نقل الجثامين إلى المستشفى، وتحرر محضر بالحادث، وتولت النيابة العامة التحقيق. وصرحت جهات التحقيق بدفن المتوفيين عقب الانتهاء من أعمال الصفة التشريحية بمعرفة الطب الشرعى، مع تكليف المباحث بسرعة إجراء التحريات اللازمة لكشف هوية المتوفين، واستكمال التحقيقات. وتلقت مديرية أمن القليوبية، بلاغًا من شرطة النجدة يفيد بوقوع حادث تصادم قطار بشخصين فى نطاق مزلقان الثلاجة، وانتقلت قوات الأمن، وسيارات الإسعاف إلى موقع البلاغ، وبالفحص والمعاينة، تبين أن الضحيتين حاولا عبور شريط السكة الحديد من منطقة غير مخصصة للمشاة، قبل أن يفاجئهما القطار ويصطدم بهما، ما أسفر عن وفاتهما فى الحال، وعُثر على الجثتين على القضبان، وتم رفع الأشلاء ونقلها إلى المستشفى. وحذرت الجهات المعنية المواطنين من خطورة عبور شريط السكة الحديد من الأماكن غير المخصصة للمشاة، مؤكدة أن الالتزام باستخدام المزلقانات والكبارى والأنفاق المخصصة للعبور يعد الوسيلة الآمنة لتجنب مثل هذه الحوادث المأساوية. | AR98: https://www.almasryalyoum.com/news/details/4293339 | AS98: https://www.youm7.com/story/2026/6/15/%D8%A7%D9%84%D8%AA%D8%B5%D8%B1%D9%8A%D8%AD-%D8%A8%D8%AF%D9%81%D9%86-%D8%AC%D8%AB%D9%85%D8%A7%D9%86%D9%89-%D8%B4%D8%AE%D8%B5%D9%8A%D9%86-%D9%84%D9%82%D9%8A%D8%A7-%D9%85%D8%B5%D8%B1%D8%B9%D9%85%D8%A7-%D8%A3%D8%AB%D9%86%D8%A7%D8%A1-%D8%B9%D8%A8%D9%88%D8%B1-%D8%A7%D9%84%D8%B3%D9%83%D8%A9-%D8%A7%D9%84%D8%AD%D8%AF%D9%8A%D8%AF/7449306
A99: 97 | B99: يونيو 2026 | C99: 46188 | D99: القليوبية | E99: طوخ | F99: طريق القاهرة - الإسكندرية الزراعي، بمنطقة المرور بمدينة طوخ فى محافظة القليوبية | G99: الطريق الزراعي | H99: أصيب شخصين فى حادث تصادم سيارة وموتوسيكل على طريق القاهرة - الإسكندرية الزراعي، بمنطقة المرور بمدينة طوخ فى محافظة القليوبية، اتجاه القاهرة، وتم نقلهم إلى مستشفى طوخ المركزي | I99: تصادم | K99: 1 | L99: 0 | M99: 0 | N99: 0 | O99: =SUM(K99:N99) -> 1 | P99: 0 | Q99: 0 | R99: 0 | S99: 0 | T99: 0 | U99: =SUM(P99:T99) -> 0 | V99: 0 | W99: 1 | X99: 0 | Y99: 0 | Z99: 0 | AA99: =SUM(V99:Z99) -> 1 | AB99: خاصة | AD99: 0 | AE99: غير متاح | AF99: 0 | AG99: غير متاح | AH99: 0 | AI99: 0 | AJ99: 2 | AK99: غير متاح | AL99: 2 | AM99: 0 | AN99: غير متاح | AO99: تم | AP99: لا يوجد | AQ99: إصابة شخصين فى حادث تصادم سيارة وموتوسيكل بطوخ أصيب شخصين فى حادث تصادم سيارة وموتوسيكل على طريق القاهرة - الإسكندرية الزراعي، بمنطقة المرور بمدينة طوخ فى محافظة القليوبية، اتجاه القاهرة، وتم نقلهم إلى مستشفى طوخ المركزي لتلقي العلاج، وتمكن رجال مرور القليوبية من إعادة الحركة المرورية على الطريق، وتحرر محضر بالواقعة، وتولت النيابة التحقيق. تلقت مديرية أمن القليوبية، إخطارا من عمليات النجدة، يفيد ورود بلاغ بوقوع حادث تصادم سيارة مع دراجة نارية «موتوسيكل» بمنطقة المرور على دائرة مركز شرطة طوخ، على طريق القاهرة الإسكندرية الزراعي. انتقلت على الفور قوات الأمن، لمكان الحادث، وبالمعاينة والفحص تبين وقوع حادث تصادم بين سيارة و موتوسيكل على طريق القاهرة الإسكندرية الزراعي، بمنطقة المرور دائرة مركز طوخ، اتجاه القاهرة، وأسفر الحادث عن إصابة كلا من «إبراهيم. ح. إ»، 30 سنة، و«صباح. ح»، 40 سنة، وتم نقل المصابين لمستشفى طوخ المركزي لتلقي العلاج. وتمكن رجال المرور من إعادة الحركة المرورية على الطريق، وتحرر محضر بالواقعة، وتولت النيابة التحقيق | AR99: https://www.almasryalyoum.com/news/details/4293579
A100: 98 | B100: يونيو 2026 | C100: 46188 | D100: القليوبية | E100: شبين القناطر | F100: ريط السكة الحديد من مكان غير مخصص للمشاة بمحطة قطارات نوى التابعة لمركز شبين القناطر فى محافظة القليوبية، | G100: سكة حديد | H100: قى شخص مصرعه صدمه قطار أثناء عبوره شريط السكة الحديد من مكان غير مخصص للمشاة بمحطة قطارات نوى التابعة لمركز شبين القناطر فى محافظة القليوبية، | I100: دهس | K100: 0 | L100: 0 | M100: 0 | N100: 0 | O100: =SUM(K100:N100) -> 0 | P100: 0 | Q100: 0 | R100: 0 | S100: 0 | T100: 0 | U100: =SUM(P100:T100) -> 0 | V100: 0 | W100: 0 | X100: 0 | Y100: 1 | Z100: 0 | AA100: =SUM(V100:Z100) -> 1 | AB100: حكومية | AD100: 0 | AE100: غير متاح | AF100: 1 | AG100: «محمد ع. ا»، 37 سنة | AH100: 1 | AI100: 0 | AJ100: 0 | AK100: غير متاح | AL100: 0 | AM100: 0 | AN100: غير متاح | AO100: تم | AP100: لا يوجد | AQ100: أثناء عبور «السكة الحديد».. مصرع شخص صدمه قطار في القليوبية لقى شخص مصرعه صدمه قطار أثناء عبوره شريط السكة الحديد من مكان غير مخصص للمشاة بمحطة قطارات نوى التابعة لمركز شبين القناطر فى محافظة القليوبية، وتم نقل الجثمان إلى المستشفى، وتحرر محضر بالحادث وتولت النيابة التحقيق وصرحت بدفن الجثة عقب استكمال الإجراءات القانونية اللازمة. تلقت مديرية أمن القليوبية إخطارا من غرفة عمليات النجدة يفيد بوقوع حادث اصطدام قطار بأحد الأشخاص أثناء عبوره شريط السكة الحديد بمحطة نوى التابعة لمركز شبين القناطر. انتقلت اجهزة الأمن وسيارة إسعاف إلى موقع البلاغ، وبالفحص تبين مصرع شخص يُدعى «محمد ع. ا»، 37 سنة، ومقيم بقرية نوى، إثر اصطدام القطار به أثناء عبوره من مكان غير مخصص للمشاة. | AR100: https://www.almasryalyoum.com/news/details/4293768
...
